Workbook

Sheet Instructions
A1: Natural England Nutrient Neutrality budget calculator for the River Avon SAC
A2: This calculator was created by Ricardo Energy and Environment.
A3: This calculator contains 6 worksheets with 9 tables in total.
A4: This is the instructions cover sheet. It tells you how to use the calculator and gives an overview of each worksheet.
A5: You can move between worksheets using the tabs at the bottom of the page.
A6: If you use screen reading software, you can use 'Ctrl' + 'Page Down' keys to move between the tabs.
A7: If you use a keyboard only, to open any link in this form first select the cell with the link and then press the 'Shift' + 'F10' keys or the 'Fn' + the 'Menu' keys, then press the letter 'O' twice to highlight 'Open Hyperlink' and press 'Enter'.
A8: If you use a keyboard only, access dropdown lists by clicking the dropdown arrow or pressing the 'Alt' + 'Down' keys when the cell is selected.
A9: Table of contents
A10: Topic of each table | B10: Link to each worksheet
A11: Worksheet 1 Nutrient loading from additional wastewater | B11: Nutrients from wastewater
A12: Worksheet 2 Nutrient loading from current land use | B12: Nutrients from current land use
A13: Worksheet 3 Nutrient loading from future land use | B13: Nutrients from future land use
A14: Worksheet 4 Nutrient loading from future land use after treatment through a sustainable urban drainage system (SuDS) | B14: SuDS
A15: Worksheet 5 Nutrient budget calculations | B15: Final_nutrient_budgets
A16: General information about the calculator
A17: This calculator helps you calculate the nutrient budget for a new residential development.
A18: The nutrient budget for a site is calculated in 4 key stages with an additional optional stage in which information about the SuDS features on the site can be entered. Each stage is implemented in worksheets 1-5 of this calculator.
A19: Each worksheet is connected through a set of formulas which calculate the nutrient budget. As such, all sheets which represent the four key stages require data inputs in order to calculate the nutrient budget.
A20: The total nutrient budget is calculated automatically by adding the values from the 'Nutrients_from_wastewater' and the outputs from the 'Nutrients_from_future_land_use' minus the 'SuDS' (if applicable), and then subtracting the values from the 'Nutrients_from_current_land_use', then adding a 20% precautionary buffer to the result. This calculation is completed in the 'Final_nutrient_budgets' worksheet.
A21: Before a nutrient budget can be completed using the methodology, certain site-specific details for the development site need to be determined.
A22: The guidance to this calculator and gives further information on the user inputs required.
A23: The instructions for completing each stage of the nutrient budget methodology are shown in cell A2 of each worksheet.
A24: This calculator uses a set of lookup tables to find relevant values in a hidden spreadsheet titled the 'Value_look_up_tables' worksheet.
A25: It is advisable to retain a blank copy of this calculator and 'Save as' a new copy each time you calculate a budget to minimise the risk of using incorrect data inputs and to ease the calculation of new nutrient budgets.
A26: The values already included have been chosen based on research to determine suitable inputs to the nutrient budget that meet the Habitat Regulations Assessment (HRA) tests of beyond reasonable scientific doubt, in perpetuity (practically speaking this is 80 to 125 years) and in accordance with the precautionary principle.
A27: If editing any values in this calculator, you must make sure there is a sufficient evidence base to justify these changes and that the new inputs are selected in accordance with the precautionary principle.
... A57: If there are 2 or 3 values due to changing permits, the calculator will show the total amount of nutrient mitigation that is needed before and after the changing permit date.

Sheet Nutrients_from_wastewater
A1: Nutrients from wastewater
A2: This sheet contains 2 tables. The tables are separated by a heading, which describes the following table. Note: You will need to fill in cells B5 to B9 in the first table 'Water infrastructure information'. Cells B10 is automatically calculated and will state '0.00' unless the user inputs have been entered. Cells A11 to A12 and B11 to B12 are automatically generated and will state 'Not applicable' depending on the inputs to cells B5 and B9. You may need to fill in cell C10 depending on the information you entered in cell B9. Cells C5 to C9 and cells C11 to C12 are intentionally blank cells. You do not need to fill in any cells in the second table 'Final calculation of nutrient load from wastewater'. Cells B16 to B18 are automatically calculated and will state '0.00' unless the user inputs have been entered to the first table 'Water infrastructure information'. Cells A19 to A22, cells B20 and B22 are automatically generated and will state 'Not applicable' depending on the user inputs to the first table 'Water infrastructure information'. Cell B15, cell B19 and cell B21 are intentionally blank cells. How to fill in the table 'Water infrastructure information' Cell B5: Enter the date of first occupancy. Cell B6: Enter the average occupancy rate of the development. The default rate is 2.4, this should not be edited without sufficient evidence. Cell B7: Enter the water usage. This value should be kept at 120 unless other efficiency measures are used. Cell B8: Enter the total number of dwellings or units that will be within the development site as of the project completion date. Cell B9: Choose the receiving wastewater treatment works (WwTW) from the dropdown list. If you select 'Package Treatment Plant user defined' or 'Septic Tank user defined', you must enter their certified value of total phosphorus (TP) in cell C10. Otherwise the default values will be used in the calculation of the nutrient load associated with wastewater. Nutrient permits may be changing for the WwTW you select, from 01/01/2025, or 01/04/2030. If the date of first occupancy is in-between changing permit dates, multiple permit limits may be automatically generated in cells B10 to B12. If applicable, up to 3 values for the nutrient loading associated with wastewater will be presented in cell B18, B20 or B22.
A3: Water infrastructure information
A4: Description of required information | B4: Data entry column - user inputs required | C4: Additional data entry column - user inputs may be required
A5: Date of first occupancy (dd/mm/yyyy): | B5: 46388
A6: Average occupancy rate (people/dwelling or people/unit): | B6: 2.4
A7: Water usage (litres/person/day): | B7: 120
A8: Development proposal (dwellings/units): | B8: 1
A9: Wastewater treatment works: | B9: Package Treatment Plant user defined
A10: Current wastewater treatment works P permit (mg TP/litre): | B10: =IFERROR(IF(OR(B9="Package Treatment Plant user defined",B9="Septic Tank user defined"),"Enter value in cell C10",IF(AND(B5<DATE(2025,1,1)),VLOOKUP(B9,Value_look_up_tables!$A$5:$J$48,2,FALSE()),IF(AND(B5<DATE(2025,1,1)),VLOOKUP(B9,Value_look_up_tables!$A$5:$J$48,2,FALSE()),IF(AND(B5<DATE(2030,4,1),B5>=DATE(2025,1,1)),VLOOKUP(B9,Value_look_up_tables!$A$5:$J$48,3,FALSE()),IF(AND(B5<DATE(2030,4,1),B5>=DATE(2025,1,1)),IF(AND(B5<DATE(2030,4,1)),VLOOKUP(B9,Value_look_up_tables!$A$5:$J$48,2,FALSE()),IF(AND(B5<DATE(2030,4,1)),VLOOKUP(B9,Value_look_up_tables!$A$5:$J$48,3,FALSE()),IF(AND(B5>=DATE(2030,4,1)),VLOOKUP(B9,Value_look_up_tables!$A$5:$J$48,4,FALSE()),IF(AND(B5>=DATE(2030,4,1)),VLOOKUP(B9,Value_look_up_tables!$A$5:$J$48,4,FALSE()),0)))),VLOOKUP(B9,Value_look_up_tables!$A$5:$J$48,4,FALSE())))))),0) -> Enter value in cell C10 | C10: 0.2
A11: =IFERROR(IF(AND($B$5<DATE(2025,1,1),(VLOOKUP($B$9,Value_look_up_tables!$A$5:$E$46,2,FALSE()))>(VLOOKUP($B$9,Value_look_up_tables!$A$5:$E$46,3,FALSE()))), "Post 2025 WwTW P permit (mg TP/litre):","Not applicable"),"Not applicable") -> Not applicable | B11: =IFERROR(IF(AND($B$5<DATE(2025,1,1),(VLOOKUP($B$9,Value_look_up_tables!$A$5:$J$46,2,FALSE()))>(VLOOKUP($B$9,Value_look_up_tables!$A$5:$J$46,3,FALSE()))),VLOOKUP(B9,Value_look_up_tables!$A$5:$J$49,3,FALSE()),"Not applicable"),"Not applicable") -> Not applicable
A12: =IFERROR(IF(AND($B$5<DATE(2030,4,1),(VLOOKUP($B$9,Value_look_up_tables!$A$5:$J$46,3,FALSE()))>(VLOOKUP($B$9,Value_look_up_tables!$A$5:$J$46,4,FALSE()))), "Post 2030 WwTW P permit (mg TP/litre):","Not applicable"),"Not applicable") -> Not applicable | B12: =IFERROR(IF(AND($B$5<DATE(2030,4,1),(VLOOKUP($B$9,Value_look_up_tables!$A$5:$J$46,3,FALSE()))>(VLOOKUP($B$9,Value_look_up_tables!$A$5:$J$46,4,FALSE()))), VLOOKUP(B9,Value_look_up_tables!$A$5:$J$49,4,FALSE()),"Not applicable"),"Not applicable") -> Not applicable
A13: Final calculation of nutrient load from wastewater
A14: Description of values generated | B14: Values generated
A15: =IFERROR(IF(AND($B$5<DATE(2030,4,1),OR((VLOOKUP($B$9,Value_look_up_tables!$A$5:$J$46,3,FALSE()))>(VLOOKUP($B$9,Value_look_up_tables!$A$5:$J$46,4,FALSE())))),"Post-2030 wastewater nutrient Loading",IF(AND($B$5<DATE(2025,1,1),OR((VLOOKUP($B$9,Value_look_up_tables!$A$5:$E$46,2,FALSE()))>(VLOOKUP($B$9,Value_look_up_tables!$A$5:$E$46,3,FALSE())))),"Post-2025 wastewater nutrient Loading","Wastewater nutrient loading")),IF(B10="Enter value in cell C10","Wastewater nutrient loading","Wastewater nutrient loading")) -> Wastewater nutrient loading
A16: Additional population (people): | B16: =IF(ISBLANK(B8),0,B6*B8) -> 2.4
A17: Wastewater by development (litres/day): | B17: =IFERROR(B16*B7,0) -> 288
A18: Annual wastewater TP load (kg TP/yr): | B18: =IFERROR(ROUND(IF(ISNUMBER(B12),B12*B17*0.9/1000000*365.25,IF(ISNUMBER(B11),B11*B17*0.9/1000000*365.25,IF(B10="Enter value in cell C10",IF(AND(B10="Enter value in cell C10",ISNUMBER(C10)),B17*(IF(C10<0,0,C10))/1000000*365.25, VLOOKUP((LEFT(B9,(LEN(B9)-13))&" default"),Value_look_up_tables!$A$45:$C$46,3,FALSE())*B17/1000000*365.25),IF(OR(B9="Package Treatment Plant default",B9="Septic Tank default"),B10*B17/1000000*365.25,IF(B10=8,B10*B17/1000000*365.25,B10*B17*0.9/1000000*365.25))))),2),0) -> 0.02
A19: =IFERROR(IF(AND($B$5<DATE(2030,4,1),OR((VLOOKUP($B$9,Value_look_up_tables!$A$5:$J$46,3,FALSE()))>(VLOOKUP($B$9,Value_look_up_tables!$A$5:$J$46,4,FALSE())))),"Pre-2030 wastewater nutrient loading",IF(AND($B$5<DATE(2025,1,1),OR((VLOOKUP($B$9,Value_look_up_tables!$A$5:$E$46,2,FALSE()))>(VLOOKUP($B$9,Value_look_up_tables!$A$5:$E$46,3,FALSE())))),IF(B18=B20,A15,"Pre-2025 wastewater nutrient loading"),"Not applicable")),"Not applicable") -> Not applicable
A20: =IFERROR(IF(AND($B$5<DATE(2030,4,1),OR((VLOOKUP($B$9,Value_look_up_tables!$A$5:$J$46,3,FALSE()))>(VLOOKUP($B$9,Value_look_up_tables!$A$5:$J$46,4,FALSE())),(VLOOKUP($B$9,Value_look_up_tables!$A$5:$J$46,2,FALSE()))>(VLOOKUP($B$9,Value_look_up_tables!$A$5:$J$46,4,FALSE())))),"Annual wastewater TP load (kg TP/yr):","Not applicable"),"Not applicable") -> Not applicable | B20: =IFERROR(ROUND(IF(AND($B$5<DATE(2030,4,1),OR((VLOOKUP($B$9,Value_look_up_tables!$A$5:$J$46,3,FALSE()))>(VLOOKUP($B$9,Value_look_up_tables!$A$5:$J$46,4,FALSE())),(VLOOKUP($B$9,Value_look_up_tables!$A$5:$J$46,2,FALSE()))>(VLOOKUP($B$9,Value_look_up_tables!$A$5:$J$46,4,FALSE())))),IF(ISNUMBER(B11),IF(B11=8,(B11*B$17)/1000000*365.25,(B11*B$17*0.9)/1000000*365.25),IF(B10=8,(B10*B$17)/1000000*365.25,(B10*B$17*0.9)/1000000*365.25)),"Not applicable"),2),"Not applicable") -> Not applicable
A21: =IFERROR(IF(AND($B$5<DATE(2025,1,1),$B$5<DATE(2030,4,1),OR((VLOOKUP($B$9,Value_look_up_tables!$A$5:$J$46,3,FALSE()))>(VLOOKUP($B$9,Value_look_up_tables!$A$5:$J$46,4,FALSE())))),IF(AND(B22="Not applicable"),"Not applicable","Pre-2025 wastewater nutrient loading"),IF(AND($B$5<DATE(2025,1,1),OR((VLOOKUP($B$9,Value_look_up_tables!$A$5:$E$46,2,FALSE()))>(VLOOKUP($B$9,Value_look_up_tables!$A$5:$E$46,3,FALSE())))),IF(LEFT(A19,9)="Post-2025","Pre-2025 wastewater nutrient loading","wastewater nutrient loading "),"Not applicable")),"Not applicable") -> Not applicable
A22: =IFERROR(IF(AND($B$5<DATE(2025,1,1),OR((VLOOKUP($B$9,Value_look_up_tables!$A$5:$E$46,2,FALSE()))>(VLOOKUP($B$9,Value_look_up_tables!$A$5:$E$46,3,FALSE())),(VLOOKUP($B$9,Value_look_up_tables!$A$5:$E$46,2,FALSE()))>(VLOOKUP($B$9,Value_look_up_tables!$A$5:$E$46,3,FALSE())))),"Annual wastewater TP load (kg TP/yr):","Not applicable"),"Not applicable") -> Not applicable | B22: =IFERROR(ROUND(IF(AND($B$5<DATE(2025,1,1),$B$5<DATE(2030,4,1),OR((VLOOKUP($B$9,Value_look_up_tables!$A$5:$J$46,3,FALSE()))>(VLOOKUP($B$9,Value_look_up_tables!$A$5:$J$46,4,FALSE())),(VLOOKUP($B$9,Value_look_up_tables!$A$5:$J$46,2,FALSE()))>(VLOOKUP($B$9,Value_look_up_tables!$A$5:$J$46,3,FALSE())))),IF(ISNUMBER(B11),IF(B10=8,(B10*B$17)/1000000*365.25,(B10*B$17*0.9)/1000000*365.25),IF(B11=8,(B11*B$17)/1000000*365.25,(B11*B$17*0.9)/1000000*365.25)),"Not applicable"),2),"Not applicable") -> Not applicable

Sheet Nutrients_from_current_land_use
A1: Nutrients from current land use
A2: This sheet contains 2 tables. The tables are separated by a heading, which describes the following table. Note: You will need to fill in cells B5 to B8 in the first table 'Current land use information'. You will need to fill in cells A11 to A27, and B11 to B27 in the second table 'Current land uses'. Cells B28, C11 to C28 are automatically calculated and will state '0.00' unless the user inputs have been entered. Cells D11 to D27 are automatically generated and will state 'Not applicable' depending on automatically generated data in cells C11 to C27. Row 28 is a Total Row. The Total Row states 'Totals:' in cell A28 and automatically calculates the total sum of cells B11 to B27 in cell B28 and C11 to C27 in cell C28. Cell D28 is intentionally blank. How to fill in the table 'Current land use information' Cell B5: Choose the operational catchment the site is located within from the dropdown list. Cell B6: Choose the soil drainage type associated with the predominant soil type within the development site from the dropdown list. Cell B7: Choose the annual average rainfall the development will receive from the dropdown list. If the rainfall volume is not on the list, select the nearest value. Cell B8: Choose whether the development is in a nitrate vulnerable zone (NVZ) from the dropdown list. How to fill in the table 'Current land uses' Cell A11-A27: Choose the existing (pre-development) land use type(s) from the dropdown list. Cells B11-B27: Enter the area in hectares of each land use type. The nutrient load from current land uses is shown in cells C11-C27 for total phosphorus (TP). The total nutrient load from current land uses is shown in cell C28 for TP.
A3: Current land use information
A4: Description of required information | B4: Data entry column - user inputs required
A5: Operational catchment: | B5: Avon Hampshire
A6: Soil drainage type: | B6: Freely draining
A7: Annual average rainfall (mm): | B7: 850.1 - 900
A8: Within nitrate vulnerable zone (NVZ): | B8: Yes
A9: Current land uses
A10: Existing land use type(s) - user inputs required | B10: Area (ha) - user inputs required | C10: Annual phosphorus export (kg TP/yr) | D10: Notes on data
A11: Residential urban land | B11: 0.05 | C11: =IF(OR(ISBLANK($A11),ISBLANK($B11),ISBLANK($B$6),ISBLANK($B$7)),0,IFERROR($B11*VLOOKUP((IF(OR($A11="Residential urban land",$A11="Commercial/industrial urban land",$A11="Open urban land",$A11="Greenspace",$A11="Community food growing",$A11="Woodland",$A11="Shrub", $A11="Water"), "|||"&$A11, (VLOOKUP(Nutrients_from_current_land_use!$B$5,Value_look_up_tables!$A$223:$B$223,2,FALSE())&"|"&$A11&"|"&VLOOKUP(Nutrients_from_current_land_use!$B$8,Value_look_up_tables!$A$236:$B$237,2,FALSE())&"|"&VLOOKUP(Nutrients_from_current_land_use!$B$7,Value_look_up_tables!$A$197:$C$219,3,FALSE())&"|"&VLOOKUP($B$6,Value_look_up_tables!$A$227:$B$232,2,FALSE())))),Value_look_up_tables!$F$52:$H$193,3,FALSE()), IFERROR(IFERROR($B11*VLOOKUP($A11&"|"&VLOOKUP(Nutrients_from_current_land_use!$B$8,Value_look_up_tables!$A$236:$B$237,2,FALSE())&"|"&VLOOKUP(Nutrients_from_current_land_use!$B$7,Value_look_up_tables!$A$197:$C$219,3,FALSE())&"|"&VLOOKUP($B$6,Value_look_up_tables!$A$227:$B$232,2,FALSE()),Value_look_up_tables!$F$52:$H$193,3,FALSE()),IFERROR($B11*VLOOKUP($A11&"|"&"TRUE"&"|"&VLOOKUP(Nutrients_from_current_land_use!$B$7,Value_look_up_tables!$A$197:$C$219,3,FALSE())&"|"&VLOOKUP($B$6,Value_look_up_tables!$A$227:$B$232,2,FALSE()),Value_look_up_tables!$F$52:$H$193,3,FALSE()),$B11*VLOOKUP($A11&"|"&VLOOKUP(Nutrients_from_current_land_use!$B$8,Value_look_up_tables!$A$236:$B$237,2,FALSE())&"|"&VLOOKUP(Nutrients_from_current_land_use!$B$7,Value_look_up_tables!$A$197:$C$219,3,FALSE())&"|"&"DrainedArGr",Value_look_up_tables!$F$52:$H$193,3,FALSE()))),IFERROR($B11*VLOOKUP($A11&"|"&VLOOKUP(Nutrients_from_current_land_use!$B$7,Value_look_up_tables!$A$197:$C$219,3,FALSE()),Value_look_up_tables!$I$52:$K$185,3,FALSE()),$B11*VLOOKUP($A11,Value_look_up_tables!$B$52:$M$185,12,FALSE()))))) -> 0.087572291 | D11: =IF( OR(ISBLANK($A11),ISBLANK($B11),ISBLANK($B$6),ISBLANK($B$5),ISBLANK($B$7),$A11="Residential urban land",$A11="Commercial/industrial urban land",$A11="Open urban land",$A11="Greenspace",$A11="Community food growing",$A11="Woodland",$A11="Shrub",$A11="Water"),"Not applicable",IF(ISNUMBER(IFERROR($B11*VLOOKUP((IF( OR($A11="Residential urban land",$A11="Commercial/industrial urban land",$A11="Open urban land",$A11="Greenspace",$A11="Community food growing",$A11="Woodland",$A11="Shrub",$A11="Water"),"|||"&$A11,(VLOOKUP(Nutrients_from_current_land_use!$B$5,Value_look_up_tables!$A$223:$B$223,2,FALSE())&"|"&$A11&"|"&VLOOKUP(Nutrients_from_current_land_use!$B$8,Value_look_up_tables!$A$236:$B$237,2,FALSE())&"|"&VLOOKUP(Nutrients_from_current_land_use!$B$7,Value_look_up_tables!$A$197:$C$219,3,FALSE())&"|"&VLOOKUP($B$6,Value_look_up_tables!$A$227:$B$232,2,FALSE())))),Value_look_up_tables!$F$52:$H$193,3,FALSE()), IFERROR($B11*VLOOKUP($A11&"|"&VLOOKUP(Nutrients_from_current_land_use!$B$8,Value_look_up_tables!$A$236:$B$237,2,FALSE())&"|"&VLOOKUP(Nutrients_from_current_land_use!$B$7,Value_look_up_tables!$A$197:$C$219,3,FALSE())&"|"&VLOOKUP($B$6,Value_look_up_tables!$A$227:$B$232,2,FALSE()),Value_look_up_tables!$F$52:$H$193,3,FALSE()),"In the absence of real world data, this figure has been generated using the most relevant average nutrient export coefficient."))),"Not applicable","In the absence of real world data, this figure has been generated using the most relevant average nutrient export coefficient.")) -> Not applicable
C12: =IF(OR(ISBLANK($A12),ISBLANK($B12),ISBLANK($B$6),ISBLANK($B$7)),0,IFERROR($B12*VLOOKUP((IF(OR($A12="Residential urban land",$A12="Commercial/industrial urban land",$A12="Open urban land",$A12="Greenspace",$A12="Community food growing",$A12="Woodland",$A12="Shrub", $A12="Water"), "|||"&$A12, (VLOOKUP(Nutrients_from_current_land_use!$B$5,Value_look_up_tables!$A$223:$B$223,2,FALSE())&"|"&$A12&"|"&VLOOKUP(Nutrients_from_current_land_use!$B$8,Value_look_up_tables!$A$236:$B$237,2,FALSE())&"|"&VLOOKUP(Nutrients_from_current_land_use!$B$7,Value_look_up_tables!$A$197:$C$219,3,FALSE())&"|"&VLOOKUP($B$6,Value_look_up_tables!$A$227:$B$232,2,FALSE())))),Value_look_up_tables!$F$52:$H$193,3,FALSE()), IFERROR(IFERROR($B12*VLOOKUP($A12&"|"&VLOOKUP(Nutrients_from_current_land_use!$B$8,Value_look_up_tables!$A$236:$B$237,2,FALSE())&"|"&VLOOKUP(Nutrients_from_current_land_use!$B$7,Value_look_up_tables!$A$197:$C$219,3,FALSE())&"|"&VLOOKUP($B$6,Value_look_up_tables!$A$227:$B$232,2,FALSE()),Value_look_up_tables!$F$52:$H$193,3,FALSE()),IFERROR($B12*VLOOKUP($A12&"|"&"TRUE"&"|"&VLOOKUP(Nutrients_from_current_land_use!$B$7,Value_look_up_tables!$A$197:$C$219,3,FALSE())&"|"&VLOOKUP($B$6,Value_look_up_tables!$A$227:$B$232,2,FALSE()),Value_look_up_tables!$F$52:$H$193,3,FALSE()),$B12*VLOOKUP($A12&"|"&VLOOKUP(Nutrients_from_current_land_use!$B$8,Value_look_up_tables!$A$236:$B$237,2,FALSE())&"|"&VLOOKUP(Nutrients_from_current_land_use!$B$7,Value_look_up_tables!$A$197:$C$219,3,FALSE())&"|"&"DrainedArGr",Value_look_up_tables!$F$52:$H$193,3,FALSE()))),IFERROR($B12*VLOOKUP($A12&"|"&VLOOKUP(Nutrients_from_current_land_use!$B$7,Value_look_up_tables!$A$197:$C$219,3,FALSE()),Value_look_up_tables!$I$52:$K$185,3,FALSE()),$B12*VLOOKUP($A12,Value_look_up_tables!$B$52:$M$185,12,FALSE()))))) -> 0 | D12: =IF( OR(ISBLANK($A12),ISBLANK($B12),ISBLANK($B$6),ISBLANK($B$5),ISBLANK($B$7),$A12="Residential urban land",$A12="Commercial/industrial urban land",$A12="Open urban land",$A12="Greenspace",$A12="Community food growing",$A12="Woodland",$A12="Shrub",$A12="Water"),"Not applicable",IF(ISNUMBER(IFERROR($B12*VLOOKUP((IF( OR($A12="Residential urban land",$A12="Commercial/industrial urban land",$A12="Open urban land",$A12="Greenspace",$A12="Community food growing",$A12="Woodland",$A12="Shrub",$A12="Water"),"|||"&$A12,(VLOOKUP(Nutrients_from_current_land_use!$B$5,Value_look_up_tables!$A$223:$B$223,2,FALSE())&"|"&$A12&"|"&VLOOKUP(Nutrients_from_current_land_use!$B$8,Value_look_up_tables!$A$236:$B$237,2,FALSE())&"|"&VLOOKUP(Nutrients_from_current_land_use!$B$7,Value_look_up_tables!$A$197:$C$219,3,FALSE())&"|"&VLOOKUP($B$6,Value_look_up_tables!$A$227:$B$232,2,FALSE())))),Value_look_up_tables!$F$52:$H$193,3,FALSE()), IFERROR($B12*VLOOKUP($A12&"|"&VLOOKUP(Nutrients_from_current_land_use!$B$8,Value_look_up_tables!$A$236:$B$237,2,FALSE())&"|"&VLOOKUP(Nutrients_from_current_land_use!$B$7,Value_look_up_tables!$A$197:$C$219,3,FALSE())&"|"&VLOOKUP($B$6,Value_look_up_tables!$A$227:$B$232,2,FALSE()),Value_look_up_tables!$F$52:$H$193,3,FALSE()),"In the absence of real world data, this figure has been generated using the most relevant average nutrient export coefficient."))),"Not applicable","In the absence of real world data, this figure has been generated using the most relevant average nutrient export coefficient.")) -> Not applicable
C13: =IF(OR(ISBLANK($A13),ISBLANK($B13),ISBLANK($B$6),ISBLANK($B$7)),0,IFERROR($B13*VLOOKUP((IF(OR($A13="Residential urban land",$A13="Commercial/industrial urban land",$A13="Open urban land",$A13="Greenspace",$A13="Community food growing",$A13="Woodland",$A13="Shrub", $A13="Water"), "|||"&$A13, (VLOOKUP(Nutrients_from_current_land_use!$B$5,Value_look_up_tables!$A$223:$B$223,2,FALSE())&"|"&$A13&"|"&VLOOKUP(Nutrients_from_current_land_use!$B$8,Value_look_up_tables!$A$236:$B$237,2,FALSE())&"|"&VLOOKUP(Nutrients_from_current_land_use!$B$7,Value_look_up_tables!$A$197:$C$219,3,FALSE())&"|"&VLOOKUP($B$6,Value_look_up_tables!$A$227:$B$232,2,FALSE())))),Value_look_up_tables!$F$52:$H$193,3,FALSE()), IFERROR(IFERROR($B13*VLOOKUP($A13&"|"&VLOOKUP(Nutrients_from_current_land_use!$B$8,Value_look_up_tables!$A$236:$B$237,2,FALSE())&"|"&VLOOKUP(Nutrients_from_current_land_use!$B$7,Value_look_up_tables!$A$197:$C$219,3,FALSE())&"|"&VLOOKUP($B$6,Value_look_up_tables!$A$227:$B$232,2,FALSE()),Value_look_up_tables!$F$52:$H$193,3,FALSE()),IFERROR($B13*VLOOKUP($A13&"|"&"TRUE"&"|"&VLOOKUP(Nutrients_from_current_land_use!$B$7,Value_look_up_tables!$A$197:$C$219,3,FALSE())&"|"&VLOOKUP($B$6,Value_look_up_tables!$A$227:$B$232,2,FALSE()),Value_look_up_tables!$F$52:$H$193,3,FALSE()),$B13*VLOOKUP($A13&"|"&VLOOKUP(Nutrients_from_current_land_use!$B$8,Value_look_up_tables!$A$236:$B$237,2,FALSE())&"|"&VLOOKUP(Nutrients_from_current_land_use!$B$7,Value_look_up_tables!$A$197:$C$219,3,FALSE())&"|"&"DrainedArGr",Value_look_up_tables!$F$52:$H$193,3,FALSE()))),IFERROR($B13*VLOOKUP($A13&"|"&VLOOKUP(Nutrients_from_current_land_use!$B$7,Value_look_up_tables!$A$197:$C$219,3,FALSE()),Value_look_up_tables!$I$52:$K$185,3,FALSE()),$B13*VLOOKUP($A13,Value_look_up_tables!$B$52:$M$185,12,FALSE()))))) -> 0 | D13: =IF( OR(ISBLANK($A13),ISBLANK($B13),ISBLANK($B$6),ISBLANK($B$5),ISBLANK($B$7),$A13="Residential urban land",$A13="Commercial/industrial urban land",$A13="Open urban land",$A13="Greenspace",$A13="Community food growing",$A13="Woodland",$A13="Shrub",$A13="Water"),"Not applicable",IF(ISNUMBER(IFERROR($B13*VLOOKUP((IF( OR($A13="Residential urban land",$A13="Commercial/industrial urban land",$A13="Open urban land",$A13="Greenspace",$A13="Community food growing",$A13="Woodland",$A13="Shrub",$A13="Water"),"|||"&$A13,(VLOOKUP(Nutrients_from_current_land_use!$B$5,Value_look_up_tables!$A$223:$B$223,2,FALSE())&"|"&$A13&"|"&VLOOKUP(Nutrients_from_current_land_use!$B$8,Value_look_up_tables!$A$236:$B$237,2,FALSE())&"|"&VLOOKUP(Nutrients_from_current_land_use!$B$7,Value_look_up_tables!$A$197:$C$219,3,FALSE())&"|"&VLOOKUP($B$6,Value_look_up_tables!$A$227:$B$232,2,FALSE())))),Value_look_up_tables!$F$52:$H$193,3,FALSE()), IFERROR($B13*VLOOKUP($A13&"|"&VLOOKUP(Nutrients_from_current_land_use!$B$8,Value_look_up_tables!$A$236:$B$237,2,FALSE())&"|"&VLOOKUP(Nutrients_from_current_land_use!$B$7,Value_look_up_tables!$A$197:$C$219,3,FALSE())&"|"&VLOOKUP($B$6,Value_look_up_tables!$A$227:$B$232,2,FALSE()),Value_look_up_tables!$F$52:$H$193,3,FALSE()),"In the absence of real world data, this figure has been generated using the most relevant average nutrient export coefficient."))),"Not applicable","In the absence of real world data, this figure has been generated using the most relevant average nutrient export coefficient.")) -> Not applicable
C14: =IF(OR(ISBLANK($A14),ISBLANK($B14),ISBLANK($B$6),ISBLANK($B$7)),0,IFERROR($B14*VLOOKUP((IF(OR($A14="Residential urban land",$A14="Commercial/industrial urban land",$A14="Open urban land",$A14="Greenspace",$A14="Community food growing",$A14="Woodland",$A14="Shrub", $A14="Water"), "|||"&$A14, (VLOOKUP(Nutrients_from_current_land_use!$B$5,Value_look_up_tables!$A$223:$B$223,2,FALSE())&"|"&$A14&"|"&VLOOKUP(Nutrients_from_current_land_use!$B$8,Value_look_up_tables!$A$236:$B$237,2,FALSE())&"|"&VLOOKUP(Nutrients_from_current_land_use!$B$7,Value_look_up_tables!$A$197:$C$219,3,FALSE())&"|"&VLOOKUP($B$6,Value_look_up_tables!$A$227:$B$232,2,FALSE())))),Value_look_up_tables!$F$52:$H$193,3,FALSE()), IFERROR(IFERROR($B14*VLOOKUP($A14&"|"&VLOOKUP(Nutrients_from_current_land_use!$B$8,Value_look_up_tables!$A$236:$B$237,2,FALSE())&"|"&VLOOKUP(Nutrients_from_current_land_use!$B$7,Value_look_up_tables!$A$197:$C$219,3,FALSE())&"|"&VLOOKUP($B$6,Value_look_up_tables!$A$227:$B$232,2,FALSE()),Value_look_up_tables!$F$52:$H$193,3,FALSE()),IFERROR($B14*VLOOKUP($A14&"|"&"TRUE"&"|"&VLOOKUP(Nutrients_from_current_land_use!$B$7,Value_look_up_tables!$A$197:$C$219,3,FALSE())&"|"&VLOOKUP($B$6,Value_look_up_tables!$A$227:$B$232,2,FALSE()),Value_look_up_tables!$F$52:$H$193,3,FALSE()),$B14*VLOOKUP($A14&"|"&VLOOKUP(Nutrients_from_current_land_use!$B$8,Value_look_up_tables!$A$236:$B$237,2,FALSE())&"|"&VLOOKUP(Nutrients_from_current_land_use!$B$7,Value_look_up_tables!$A$197:$C$219,3,FALSE())&"|"&"DrainedArGr",Value_look_up_tables!$F$52:$H$193,3,FALSE()))),IFERROR($B14*VLOOKUP($A14&"|"&VLOOKUP(Nutrients_from_current_land_use!$B$7,Value_look_up_tables!$A$197:$C$219,3,FALSE()),Value_look_up_tables!$I$52:$K$185,3,FALSE()),$B14*VLOOKUP($A14,Value_look_up_tables!$B$52:$M$185,12,FALSE()))))) -> 0 | D14: =IF( OR(ISBLANK($A14),ISBLANK($B14),ISBLANK($B$6),ISBLANK($B$5),ISBLANK($B$7),$A14="Residential urban land",$A14="Commercial/industrial urban land",$A14="Open urban land",$A14="Greenspace",$A14="Community food growing",$A14="Woodland",$A14="Shrub",$A14="Water"),"Not applicable",IF(ISNUMBER(IFERROR($B14*VLOOKUP((IF( OR($A14="Residential urban land",$A14="Commercial/industrial urban land",$A14="Open urban land",$A14="Greenspace",$A14="Community food growing",$A14="Woodland",$A14="Shrub",$A14="Water"),"|||"&$A14,(VLOOKUP(Nutrients_from_current_land_use!$B$5,Value_look_up_tables!$A$223:$B$223,2,FALSE())&"|"&$A14&"|"&VLOOKUP(Nutrients_from_current_land_use!$B$8,Value_look_up_tables!$A$236:$B$237,2,FALSE())&"|"&VLOOKUP(Nutrients_from_current_land_use!$B$7,Value_look_up_tables!$A$197:$C$219,3,FALSE())&"|"&VLOOKUP($B$6,Value_look_up_tables!$A$227:$B$232,2,FALSE())))),Value_look_up_tables!$F$52:$H$193,3,FALSE()), IFERROR($B14*VLOOKUP($A14&"|"&VLOOKUP(Nutrients_from_current_land_use!$B$8,Value_look_up_tables!$A$236:$B$237,2,FALSE())&"|"&VLOOKUP(Nutrients_from_current_land_use!$B$7,Value_look_up_tables!$A$197:$C$219,3,FALSE())&"|"&VLOOKUP($B$6,Value_look_up_tables!$A$227:$B$232,2,FALSE()),Value_look_up_tables!$F$52:$H$193,3,FALSE()),"In the absence of real world data, this figure has been generated using the most relevant average nutrient export coefficient."))),"Not applicable","In the absence of real world data, this figure has been generated using the most relevant average nutrient export coefficient.")) -> Not applicable
C15: =IF(OR(ISBLANK($A15),ISBLANK($B15),ISBLANK($B$6),ISBLANK($B$7)),0,IFERROR($B15*VLOOKUP((IF(OR($A15="Residential urban land",$A15="Commercial/industrial urban land",$A15="Open urban land",$A15="Greenspace",$A15="Community food growing",$A15="Woodland",$A15="Shrub", $A15="Water"), "|||"&$A15, (VLOOKUP(Nutrients_from_current_land_use!$B$5,Value_look_up_tables!$A$223:$B$223,2,FALSE())&"|"&$A15&"|"&VLOOKUP(Nutrients_from_current_land_use!$B$8,Value_look_up_tables!$A$236:$B$237,2,FALSE())&"|"&VLOOKUP(Nutrients_from_current_land_use!$B$7,Value_look_up_tables!$A$197:$C$219,3,FALSE())&"|"&VLOOKUP($B$6,Value_look_up_tables!$A$227:$B$232,2,FALSE())))),Value_look_up_tables!$F$52:$H$193,3,FALSE()), IFERROR(IFERROR($B15*VLOOKUP($A15&"|"&VLOOKUP(Nutrients_from_current_land_use!$B$8,Value_look_up_tables!$A$236:$B$237,2,FALSE())&"|"&VLOOKUP(Nutrients_from_current_land_use!$B$7,Value_look_up_tables!$A$197:$C$219,3,FALSE())&"|"&VLOOKUP($B$6,Value_look_up_tables!$A$227:$B$232,2,FALSE()),Value_look_up_tables!$F$52:$H$193,3,FALSE()),IFERROR($B15*VLOOKUP($A15&"|"&"TRUE"&"|"&VLOOKUP(Nutrients_from_current_land_use!$B$7,Value_look_up_tables!$A$197:$C$219,3,FALSE())&"|"&VLOOKUP($B$6,Value_look_up_tables!$A$227:$B$232,2,FALSE()),Value_look_up_tables!$F$52:$H$193,3,FALSE()),$B15*VLOOKUP($A15&"|"&VLOOKUP(Nutrients_from_current_land_use!$B$8,Value_look_up_tables!$A$236:$B$237,2,FALSE())&"|"&VLOOKUP(Nutrients_from_current_land_use!$B$7,Value_look_up_tables!$A$197:$C$219,3,FALSE())&"|"&"DrainedArGr",Value_look_up_tables!$F$52:$H$193,3,FALSE()))),IFERROR($B15*VLOOKUP($A15&"|"&VLOOKUP(Nutrients_from_current_land_use!$B$7,Value_look_up_tables!$A$197:$C$219,3,FALSE()),Value_look_up_tables!$I$52:$K$185,3,FALSE()),$B15*VLOOKUP($A15,Value_look_up_tables!$B$52:$M$185,12,FALSE()))))) -> 0 | D15: =IF( OR(ISBLANK($A15),ISBLANK($B15),ISBLANK($B$6),ISBLANK($B$5),ISBLANK($B$7),$A15="Residential urban land",$A15="Commercial/industrial urban land",$A15="Open urban land",$A15="Greenspace",$A15="Community food growing",$A15="Woodland",$A15="Shrub",$A15="Water"),"Not applicable",IF(ISNUMBER(IFERROR($B15*VLOOKUP((IF( OR($A15="Residential urban land",$A15="Commercial/industrial urban land",$A15="Open urban land",$A15="Greenspace",$A15="Community food growing",$A15="Woodland",$A15="Shrub",$A15="Water"),"|||"&$A15,(VLOOKUP(Nutrients_from_current_land_use!$B$5,Value_look_up_tables!$A$223:$B$223,2,FALSE())&"|"&$A15&"|"&VLOOKUP(Nutrients_from_current_land_use!$B$8,Value_look_up_tables!$A$236:$B$237,2,FALSE())&"|"&VLOOKUP(Nutrients_from_current_land_use!$B$7,Value_look_up_tables!$A$197:$C$219,3,FALSE())&"|"&VLOOKUP($B$6,Value_look_up_tables!$A$227:$B$232,2,FALSE())))),Value_look_up_tables!$F$52:$H$193,3,FALSE()), IFERROR($B15*VLOOKUP($A15&"|"&VLOOKUP(Nutrients_from_current_land_use!$B$8,Value_look_up_tables!$A$236:$B$237,2,FALSE())&"|"&VLOOKUP(Nutrients_from_current_land_use!$B$7,Value_look_up_tables!$A$197:$C$219,3,FALSE())&"|"&VLOOKUP($B$6,Value_look_up_tables!$A$227:$B$232,2,FALSE()),Value_look_up_tables!$F$52:$H$193,3,FALSE()),"In the absence of real world data, this figure has been generated using the most relevant average nutrient export coefficient."))),"Not applicable","In the absence of real world data, this figure has been generated using the most relevant average nutrient export coefficient.")) -> Not applicable
C16: =IF(OR(ISBLANK($A16),ISBLANK($B16),ISBLANK($B$6),ISBLANK($B$7)),0,IFERROR($B16*VLOOKUP((IF(OR($A16="Residential urban land",$A16="Commercial/industrial urban land",$A16="Open urban land",$A16="Greenspace",$A16="Community food growing",$A16="Woodland",$A16="Shrub", $A16="Water"), "|||"&$A16, (VLOOKUP(Nutrients_from_current_land_use!$B$5,Value_look_up_tables!$A$223:$B$223,2,FALSE())&"|"&$A16&"|"&VLOOKUP(Nutrients_from_current_land_use!$B$8,Value_look_up_tables!$A$236:$B$237,2,FALSE())&"|"&VLOOKUP(Nutrients_from_current_land_use!$B$7,Value_look_up_tables!$A$197:$C$219,3,FALSE())&"|"&VLOOKUP($B$6,Value_look_up_tables!$A$227:$B$232,2,FALSE())))),Value_look_up_tables!$F$52:$H$193,3,FALSE()), IFERROR(IFERROR($B16*VLOOKUP($A16&"|"&VLOOKUP(Nutrients_from_current_land_use!$B$8,Value_look_up_tables!$A$236:$B$237,2,FALSE())&"|"&VLOOKUP(Nutrients_from_current_land_use!$B$7,Value_look_up_tables!$A$197:$C$219,3,FALSE())&"|"&VLOOKUP($B$6,Value_look_up_tables!$A$227:$B$232,2,FALSE()),Value_look_up_tables!$F$52:$H$193,3,FALSE()),IFERROR($B16*VLOOKUP($A16&"|"&"TRUE"&"|"&VLOOKUP(Nutrients_from_current_land_use!$B$7,Value_look_up_tables!$A$197:$C$219,3,FALSE())&"|"&VLOOKUP($B$6,Value_look_up_tables!$A$227:$B$232,2,FALSE()),Value_look_up_tables!$F$52:$H$193,3,FALSE()),$B16*VLOOKUP($A16&"|"&VLOOKUP(Nutrients_from_current_land_use!$B$8,Value_look_up_tables!$A$236:$B$237,2,FALSE())&"|"&VLOOKUP(Nutrients_from_current_land_use!$B$7,Value_look_up_tables!$A$197:$C$219,3,FALSE())&"|"&"DrainedArGr",Value_look_up_tables!$F$52:$H$193,3,FALSE()))),IFERROR($B16*VLOOKUP($A16&"|"&VLOOKUP(Nutrients_from_current_land_use!$B$7,Value_look_up_tables!$A$197:$C$219,3,FALSE()),Value_look_up_tables!$I$52:$K$185,3,FALSE()),$B16*VLOOKUP($A16,Value_look_up_tables!$B$52:$M$185,12,FALSE()))))) -> 0 | D16: =IF( OR(ISBLANK($A16),ISBLANK($B16),ISBLANK($B$6),ISBLANK($B$5),ISBLANK($B$7),$A16="Residential urban land",$A16="Commercial/industrial urban land",$A16="Open urban land",$A16="Greenspace",$A16="Community food growing",$A16="Woodland",$A16="Shrub",$A16="Water"),"Not applicable",IF(ISNUMBER(IFERROR($B16*VLOOKUP((IF( OR($A16="Residential urban land",$A16="Commercial/industrial urban land",$A16="Open urban land",$A16="Greenspace",$A16="Community food growing",$A16="Woodland",$A16="Shrub",$A16="Water"),"|||"&$A16,(VLOOKUP(Nutrients_from_current_land_use!$B$5,Value_look_up_tables!$A$223:$B$223,2,FALSE())&"|"&$A16&"|"&VLOOKUP(Nutrients_from_current_land_use!$B$8,Value_look_up_tables!$A$236:$B$237,2,FALSE())&"|"&VLOOKUP(Nutrients_from_current_land_use!$B$7,Value_look_up_tables!$A$197:$C$219,3,FALSE())&"|"&VLOOKUP($B$6,Value_look_up_tables!$A$227:$B$232,2,FALSE())))),Value_look_up_tables!$F$52:$H$193,3,FALSE()), IFERROR($B16*VLOOKUP($A16&"|"&VLOOKUP(Nutrients_from_current_land_use!$B$8,Value_look_up_tables!$A$236:$B$237,2,FALSE())&"|"&VLOOKUP(Nutrients_from_current_land_use!$B$7,Value_look_up_tables!$A$197:$C$219,3,FALSE())&"|"&VLOOKUP($B$6,Value_look_up_tables!$A$227:$B$232,2,FALSE()),Value_look_up_tables!$F$52:$H$193,3,FALSE()),"In the absence of real world data, this figure has been generated using the most relevant average nutrient export coefficient."))),"Not applicable","In the absence of real world data, this figure has been generated using the most relevant average nutrient export coefficient.")) -> Not applicable
C17: =IF(OR(ISBLANK($A17),ISBLANK($B17),ISBLANK($B$6),ISBLANK($B$7)),0,IFERROR($B17*VLOOKUP((IF(OR($A17="Residential urban land",$A17="Commercial/industrial urban land",$A17="Open urban land",$A17="Greenspace",$A17="Community food growing",$A17="Woodland",$A17="Shrub", $A17="Water"), "|||"&$A17, (VLOOKUP(Nutrients_from_current_land_use!$B$5,Value_look_up_tables!$A$223:$B$223,2,FALSE())&"|"&$A17&"|"&VLOOKUP(Nutrients_from_current_land_use!$B$8,Value_look_up_tables!$A$236:$B$237,2,FALSE())&"|"&VLOOKUP(Nutrients_from_current_land_use!$B$7,Value_look_up_tables!$A$197:$C$219,3,FALSE())&"|"&VLOOKUP($B$6,Value_look_up_tables!$A$227:$B$232,2,FALSE())))),Value_look_up_tables!$F$52:$H$193,3,FALSE()), IFERROR(IFERROR($B17*VLOOKUP($A17&"|"&VLOOKUP(Nutrients_from_current_land_use!$B$8,Value_look_up_tables!$A$236:$B$237,2,FALSE())&"|"&VLOOKUP(Nutrients_from_current_land_use!$B$7,Value_look_up_tables!$A$197:$C$219,3,FALSE())&"|"&VLOOKUP($B$6,Value_look_up_tables!$A$227:$B$232,2,FALSE()),Value_look_up_tables!$F$52:$H$193,3,FALSE()),IFERROR($B17*VLOOKUP($A17&"|"&"TRUE"&"|"&VLOOKUP(Nutrients_from_current_land_use!$B$7,Value_look_up_tables!$A$197:$C$219,3,FALSE())&"|"&VLOOKUP($B$6,Value_look_up_tables!$A$227:$B$232,2,FALSE()),Value_look_up_tables!$F$52:$H$193,3,FALSE()),$B17*VLOOKUP($A17&"|"&VLOOKUP(Nutrients_from_current_land_use!$B$8,Value_look_up_tables!$A$236:$B$237,2,FALSE())&"|"&VLOOKUP(Nutrients_from_current_land_use!$B$7,Value_look_up_tables!$A$197:$C$219,3,FALSE())&"|"&"DrainedArGr",Value_look_up_tables!$F$52:$H$193,3,FALSE()))),IFERROR($B17*VLOOKUP($A17&"|"&VLOOKUP(Nutrients_from_current_land_use!$B$7,Value_look_up_tables!$A$197:$C$219,3,FALSE()),Value_look_up_tables!$I$52:$K$185,3,FALSE()),$B17*VLOOKUP($A17,Value_look_up_tables!$B$52:$M$185,12,FALSE()))))) -> 0 | D17: =IF( OR(ISBLANK($A17),ISBLANK($B17),ISBLANK($B$6),ISBLANK($B$5),ISBLANK($B$7),$A17="Residential urban land",$A17="Commercial/industrial urban land",$A17="Open urban land",$A17="Greenspace",$A17="Community food growing",$A17="Woodland",$A17="Shrub",$A17="Water"),"Not applicable",IF(ISNUMBER(IFERROR($B17*VLOOKUP((IF( OR($A17="Residential urban land",$A17="Commercial/industrial urban land",$A17="Open urban land",$A17="Greenspace",$A17="Community food growing",$A17="Woodland",$A17="Shrub",$A17="Water"),"|||"&$A17,(VLOOKUP(Nutrients_from_current_land_use!$B$5,Value_look_up_tables!$A$223:$B$223,2,FALSE())&"|"&$A17&"|"&VLOOKUP(Nutrients_from_current_land_use!$B$8,Value_look_up_tables!$A$236:$B$237,2,FALSE())&"|"&VLOOKUP(Nutrients_from_current_land_use!$B$7,Value_look_up_tables!$A$197:$C$219,3,FALSE())&"|"&VLOOKUP($B$6,Value_look_up_tables!$A$227:$B$232,2,FALSE())))),Value_look_up_tables!$F$52:$H$193,3,FALSE()), IFERROR($B17*VLOOKUP($A17&"|"&VLOOKUP(Nutrients_from_current_land_use!$B$8,Value_look_up_tables!$A$236:$B$237,2,FALSE())&"|"&VLOOKUP(Nutrients_from_current_land_use!$B$7,Value_look_up_tables!$A$197:$C$219,3,FALSE())&"|"&VLOOKUP($B$6,Value_look_up_tables!$A$227:$B$232,2,FALSE()),Value_look_up_tables!$F$52:$H$193,3,FALSE()),"In the absence of real world data, this figure has been generated using the most relevant average nutrient export coefficient."))),"Not applicable","In the absence of real world data, this figure has been generated using the most relevant average nutrient export coefficient.")) -> Not applicable
C18: =IF(OR(ISBLANK($A18),ISBLANK($B18),ISBLANK($B$6),ISBLANK($B$7)),0,IFERROR($B18*VLOOKUP((IF(OR($A18="Residential urban land",$A18="Commercial/industrial urban land",$A18="Open urban land",$A18="Greenspace",$A18="Community food growing",$A18="Woodland",$A18="Shrub", $A18="Water"), "|||"&$A18, (VLOOKUP(Nutrients_from_current_land_use!$B$5,Value_look_up_tables!$A$223:$B$223,2,FALSE())&"|"&$A18&"|"&VLOOKUP(Nutrients_from_current_land_use!$B$8,Value_look_up_tables!$A$236:$B$237,2,FALSE())&"|"&VLOOKUP(Nutrients_from_current_land_use!$B$7,Value_look_up_tables!$A$197:$C$219,3,FALSE())&"|"&VLOOKUP($B$6,Value_look_up_tables!$A$227:$B$232,2,FALSE())))),Value_look_up_tables!$F$52:$H$193,3,FALSE()), IFERROR(IFERROR($B18*VLOOKUP($A18&"|"&VLOOKUP(Nutrients_from_current_land_use!$B$8,Value_look_up_tables!$A$236:$B$237,2,FALSE())&"|"&VLOOKUP(Nutrients_from_current_land_use!$B$7,Value_look_up_tables!$A$197:$C$219,3,FALSE())&"|"&VLOOKUP($B$6,Value_look_up_tables!$A$227:$B$232,2,FALSE()),Value_look_up_tables!$F$52:$H$193,3,FALSE()),IFERROR($B18*VLOOKUP($A18&"|"&"TRUE"&"|"&VLOOKUP(Nutrients_from_current_land_use!$B$7,Value_look_up_tables!$A$197:$C$219,3,FALSE())&"|"&VLOOKUP($B$6,Value_look_up_tables!$A$227:$B$232,2,FALSE()),Value_look_up_tables!$F$52:$H$193,3,FALSE()),$B18*VLOOKUP($A18&"|"&VLOOKUP(Nutrients_from_current_land_use!$B$8,Value_look_up_tables!$A$236:$B$237,2,FALSE())&"|"&VLOOKUP(Nutrients_from_current_land_use!$B$7,Value_look_up_tables!$A$197:$C$219,3,FALSE())&"|"&"DrainedArGr",Value_look_up_tables!$F$52:$H$193,3,FALSE()))),IFERROR($B18*VLOOKUP($A18&"|"&VLOOKUP(Nutrients_from_current_land_use!$B$7,Value_look_up_tables!$A$197:$C$219,3,FALSE()),Value_look_up_tables!$I$52:$K$185,3,FALSE()),$B18*VLOOKUP($A18,Value_look_up_tables!$B$52:$M$185,12,FALSE()))))) -> 0 | D18: =IF( OR(ISBLANK($A18),ISBLANK($B18),ISBLANK($B$6),ISBLANK($B$5),ISBLANK($B$7),$A18="Residential urban land",$A18="Commercial/industrial urban land",$A18="Open urban land",$A18="Greenspace",$A18="Community food growing",$A18="Woodland",$A18="Shrub",$A18="Water"),"Not applicable",IF(ISNUMBER(IFERROR($B18*VLOOKUP((IF( OR($A18="Residential urban land",$A18="Commercial/industrial urban land",$A18="Open urban land",$A18="Greenspace",$A18="Community food growing",$A18="Woodland",$A18="Shrub",$A18="Water"),"|||"&$A18,(VLOOKUP(Nutrients_from_current_land_use!$B$5,Value_look_up_tables!$A$223:$B$223,2,FALSE())&"|"&$A18&"|"&VLOOKUP(Nutrients_from_current_land_use!$B$8,Value_look_up_tables!$A$236:$B$237,2,FALSE())&"|"&VLOOKUP(Nutrients_from_current_land_use!$B$7,Value_look_up_tables!$A$197:$C$219,3,FALSE())&"|"&VLOOKUP($B$6,Value_look_up_tables!$A$227:$B$232,2,FALSE())))),Value_look_up_tables!$F$52:$H$193,3,FALSE()), IFERROR($B18*VLOOKUP($A18&"|"&VLOOKUP(Nutrients_from_current_land_use!$B$8,Value_look_up_tables!$A$236:$B$237,2,FALSE())&"|"&VLOOKUP(Nutrients_from_current_land_use!$B$7,Value_look_up_tables!$A$197:$C$219,3,FALSE())&"|"&VLOOKUP($B$6,Value_look_up_tables!$A$227:$B$232,2,FALSE()),Value_look_up_tables!$F$52:$H$193,3,FALSE()),"In the absence of real world data, this figure has been generated using the most relevant average nutrient export coefficient."))),"Not applicable","In the absence of real world data, this figure has been generated using the most relevant average nutrient export coefficient.")) -> Not applicable
C19: =IF(OR(ISBLANK($A19),ISBLANK($B19),ISBLANK($B$6),ISBLANK($B$7)),0,IFERROR($B19*VLOOKUP((IF(OR($A19="Residential urban land",$A19="Commercial/industrial urban land",$A19="Open urban land",$A19="Greenspace",$A19="Community food growing",$A19="Woodland",$A19="Shrub", $A19="Water"), "|||"&$A19, (VLOOKUP(Nutrients_from_current_land_use!$B$5,Value_look_up_tables!$A$223:$B$223,2,FALSE())&"|"&$A19&"|"&VLOOKUP(Nutrients_from_current_land_use!$B$8,Value_look_up_tables!$A$236:$B$237,2,FALSE())&"|"&VLOOKUP(Nutrients_from_current_land_use!$B$7,Value_look_up_tables!$A$197:$C$219,3,FALSE())&"|"&VLOOKUP($B$6,Value_look_up_tables!$A$227:$B$232,2,FALSE())))),Value_look_up_tables!$F$52:$H$193,3,FALSE()), IFERROR(IFERROR($B19*VLOOKUP($A19&"|"&VLOOKUP(Nutrients_from_current_land_use!$B$8,Value_look_up_tables!$A$236:$B$237,2,FALSE())&"|"&VLOOKUP(Nutrients_from_current_land_use!$B$7,Value_look_up_tables!$A$197:$C$219,3,FALSE())&"|"&VLOOKUP($B$6,Value_look_up_tables!$A$227:$B$232,2,FALSE()),Value_look_up_tables!$F$52:$H$193,3,FALSE()),IFERROR($B19*VLOOKUP($A19&"|"&"TRUE"&"|"&VLOOKUP(Nutrients_from_current_land_use!$B$7,Value_look_up_tables!$A$197:$C$219,3,FALSE())&"|"&VLOOKUP($B$6,Value_look_up_tables!$A$227:$B$232,2,FALSE()),Value_look_up_tables!$F$52:$H$193,3,FALSE()),$B19*VLOOKUP($A19&"|"&VLOOKUP(Nutrients_from_current_land_use!$B$8,Value_look_up_tables!$A$236:$B$237,2,FALSE())&"|"&VLOOKUP(Nutrients_from_current_land_use!$B$7,Value_look_up_tables!$A$197:$C$219,3,FALSE())&"|"&"DrainedArGr",Value_look_up_tables!$F$52:$H$193,3,FALSE()))),IFERROR($B19*VLOOKUP($A19&"|"&VLOOKUP(Nutrients_from_current_land_use!$B$7,Value_look_up_tables!$A$197:$C$219,3,FALSE()),Value_look_up_tables!$I$52:$K$185,3,FALSE()),$B19*VLOOKUP($A19,Value_look_up_tables!$B$52:$M$185,12,FALSE()))))) -> 0 | D19: =IF( OR(ISBLANK($A19),ISBLANK($B19),ISBLANK($B$6),ISBLANK($B$5),ISBLANK($B$7),$A19="Residential urban land",$A19="Commercial/industrial urban land",$A19="Open urban land",$A19="Greenspace",$A19="Community food growing",$A19="Woodland",$A19="Shrub",$A19="Water"),"Not applicable",IF(ISNUMBER(IFERROR($B19*VLOOKUP((IF( OR($A19="Residential urban land",$A19="Commercial/industrial urban land",$A19="Open urban land",$A19="Greenspace",$A19="Community food growing",$A19="Woodland",$A19="Shrub",$A19="Water"),"|||"&$A19,(VLOOKUP(Nutrients_from_current_land_use!$B$5,Value_look_up_tables!$A$223:$B$223,2,FALSE())&"|"&$A19&"|"&VLOOKUP(Nutrients_from_current_land_use!$B$8,Value_look_up_tables!$A$236:$B$237,2,FALSE())&"|"&VLOOKUP(Nutrients_from_current_land_use!$B$7,Value_look_up_tables!$A$197:$C$219,3,FALSE())&"|"&VLOOKUP($B$6,Value_look_up_tables!$A$227:$B$232,2,FALSE())))),Value_look_up_tables!$F$52:$H$193,3,FALSE()), IFERROR($B19*VLOOKUP($A19&"|"&VLOOKUP(Nutrients_from_current_land_use!$B$8,Value_look_up_tables!$A$236:$B$237,2,FALSE())&"|"&VLOOKUP(Nutrients_from_current_land_use!$B$7,Value_look_up_tables!$A$197:$C$219,3,FALSE())&"|"&VLOOKUP($B$6,Value_look_up_tables!$A$227:$B$232,2,FALSE()),Value_look_up_tables!$F$52:$H$193,3,FALSE()),"In the absence of real world data, this figure has been generated using the most relevant average nutrient export coefficient."))),"Not applicable","In the absence of real world data, this figure has been generated using the most relevant average nutrient export coefficient.")) -> Not applicable
C20: =IF(OR(ISBLANK($A20),ISBLANK($B20),ISBLANK($B$6),ISBLANK($B$7)),0,IFERROR($B20*VLOOKUP((IF(OR($A20="Residential urban land",$A20="Commercial/industrial urban land",$A20="Open urban land",$A20="Greenspace",$A20="Community food growing",$A20="Woodland",$A20="Shrub", $A20="Water"), "|||"&$A20, (VLOOKUP(Nutrients_from_current_land_use!$B$5,Value_look_up_tables!$A$223:$B$223,2,FALSE())&"|"&$A20&"|"&VLOOKUP(Nutrients_from_current_land_use!$B$8,Value_look_up_tables!$A$236:$B$237,2,FALSE())&"|"&VLOOKUP(Nutrients_from_current_land_use!$B$7,Value_look_up_tables!$A$197:$C$219,3,FALSE())&"|"&VLOOKUP($B$6,Value_look_up_tables!$A$227:$B$232,2,FALSE())))),Value_look_up_tables!$F$52:$H$193,3,FALSE()), IFERROR(IFERROR($B20*VLOOKUP($A20&"|"&VLOOKUP(Nutrients_from_current_land_use!$B$8,Value_look_up_tables!$A$236:$B$237,2,FALSE())&"|"&VLOOKUP(Nutrients_from_current_land_use!$B$7,Value_look_up_tables!$A$197:$C$219,3,FALSE())&"|"&VLOOKUP($B$6,Value_look_up_tables!$A$227:$B$232,2,FALSE()),Value_look_up_tables!$F$52:$H$193,3,FALSE()),IFERROR($B20*VLOOKUP($A20&"|"&"TRUE"&"|"&VLOOKUP(Nutrients_from_current_land_use!$B$7,Value_look_up_tables!$A$197:$C$219,3,FALSE())&"|"&VLOOKUP($B$6,Value_look_up_tables!$A$227:$B$232,2,FALSE()),Value_look_up_tables!$F$52:$H$193,3,FALSE()),$B20*VLOOKUP($A20&"|"&VLOOKUP(Nutrients_from_current_land_use!$B$8,Value_look_up_tables!$A$236:$B$237,2,FALSE())&"|"&VLOOKUP(Nutrients_from_current_land_use!$B$7,Value_look_up_tables!$A$197:$C$219,3,FALSE())&"|"&"DrainedArGr",Value_look_up_tables!$F$52:$H$193,3,FALSE()))),IFERROR($B20*VLOOKUP($A20&"|"&VLOOKUP(Nutrients_from_current_land_use!$B$7,Value_look_up_tables!$A$197:$C$219,3,FALSE()),Value_look_up_tables!$I$52:$K$185,3,FALSE()),$B20*VLOOKUP($A20,Value_look_up_tables!$B$52:$M$185,12,FALSE()))))) -> 0 | D20: =IF( OR(ISBLANK($A20),ISBLANK($B20),ISBLANK($B$6),ISBLANK($B$5),ISBLANK($B$7),$A20="Residential urban land",$A20="Commercial/industrial urban land",$A20="Open urban land",$A20="Greenspace",$A20="Community food growing",$A20="Woodland",$A20="Shrub",$A20="Water"),"Not applicable",IF(ISNUMBER(IFERROR($B20*VLOOKUP((IF( OR($A20="Residential urban land",$A20="Commercial/industrial urban land",$A20="Open urban land",$A20="Greenspace",$A20="Community food growing",$A20="Woodland",$A20="Shrub",$A20="Water"),"|||"&$A20,(VLOOKUP(Nutrients_from_current_land_use!$B$5,Value_look_up_tables!$A$223:$B$223,2,FALSE())&"|"&$A20&"|"&VLOOKUP(Nutrients_from_current_land_use!$B$8,Value_look_up_tables!$A$236:$B$237,2,FALSE())&"|"&VLOOKUP(Nutrients_from_current_land_use!$B$7,Value_look_up_tables!$A$197:$C$219,3,FALSE())&"|"&VLOOKUP($B$6,Value_look_up_tables!$A$227:$B$232,2,FALSE())))),Value_look_up_tables!$F$52:$H$193,3,FALSE()), IFERROR($B20*VLOOKUP($A20&"|"&VLOOKUP(Nutrients_from_current_land_use!$B$8,Value_look_up_tables!$A$236:$B$237,2,FALSE())&"|"&VLOOKUP(Nutrients_from_current_land_use!$B$7,Value_look_up_tables!$A$197:$C$219,3,FALSE())&"|"&VLOOKUP($B$6,Value_look_up_tables!$A$227:$B$232,2,FALSE()),Value_look_up_tables!$F$52:$H$193,3,FALSE()),"In the absence of real world data, this figure has been generated using the most relevant average nutrient export coefficient."))),"Not applicable","In the absence of real world data, this figure has been generated using the most relevant average nutrient export coefficient.")) -> Not applicable
C21: =IF(OR(ISBLANK($A21),ISBLANK($B21),ISBLANK($B$6),ISBLANK($B$7)),0,IFERROR($B21*VLOOKUP((IF(OR($A21="Residential urban land",$A21="Commercial/industrial urban land",$A21="Open urban land",$A21="Greenspace",$A21="Community food growing",$A21="Woodland",$A21="Shrub", $A21="Water"), "|||"&$A21, (VLOOKUP(Nutrients_from_current_land_use!$B$5,Value_look_up_tables!$A$223:$B$223,2,FALSE())&"|"&$A21&"|"&VLOOKUP(Nutrients_from_current_land_use!$B$8,Value_look_up_tables!$A$236:$B$237,2,FALSE())&"|"&VLOOKUP(Nutrients_from_current_land_use!$B$7,Value_look_up_tables!$A$197:$C$219,3,FALSE())&"|"&VLOOKUP($B$6,Value_look_up_tables!$A$227:$B$232,2,FALSE())))),Value_look_up_tables!$F$52:$H$193,3,FALSE()), IFERROR(IFERROR($B21*VLOOKUP($A21&"|"&VLOOKUP(Nutrients_from_current_land_use!$B$8,Value_look_up_tables!$A$236:$B$237,2,FALSE())&"|"&VLOOKUP(Nutrients_from_current_land_use!$B$7,Value_look_up_tables!$A$197:$C$219,3,FALSE())&"|"&VLOOKUP($B$6,Value_look_up_tables!$A$227:$B$232,2,FALSE()),Value_look_up_tables!$F$52:$H$193,3,FALSE()),IFERROR($B21*VLOOKUP($A21&"|"&"TRUE"&"|"&VLOOKUP(Nutrients_from_current_land_use!$B$7,Value_look_up_tables!$A$197:$C$219,3,FALSE())&"|"&VLOOKUP($B$6,Value_look_up_tables!$A$227:$B$232,2,FALSE()),Value_look_up_tables!$F$52:$H$193,3,FALSE()),$B21*VLOOKUP($A21&"|"&VLOOKUP(Nutrients_from_current_land_use!$B$8,Value_look_up_tables!$A$236:$B$237,2,FALSE())&"|"&VLOOKUP(Nutrients_from_current_land_use!$B$7,Value_look_up_tables!$A$197:$C$219,3,FALSE())&"|"&"DrainedArGr",Value_look_up_tables!$F$52:$H$193,3,FALSE()))),IFERROR($B21*VLOOKUP($A21&"|"&VLOOKUP(Nutrients_from_current_land_use!$B$7,Value_look_up_tables!$A$197:$C$219,3,FALSE()),Value_look_up_tables!$I$52:$K$185,3,FALSE()),$B21*VLOOKUP($A21,Value_look_up_tables!$B$52:$M$185,12,FALSE()))))) -> 0 | D21: =IF( OR(ISBLANK($A21),ISBLANK($B21),ISBLANK($B$6),ISBLANK($B$5),ISBLANK($B$7),$A21="Residential urban land",$A21="Commercial/industrial urban land",$A21="Open urban land",$A21="Greenspace",$A21="Community food growing",$A21="Woodland",$A21="Shrub",$A21="Water"),"Not applicable",IF(ISNUMBER(IFERROR($B21*VLOOKUP((IF( OR($A21="Residential urban land",$A21="Commercial/industrial urban land",$A21="Open urban land",$A21="Greenspace",$A21="Community food growing",$A21="Woodland",$A21="Shrub",$A21="Water"),"|||"&$A21,(VLOOKUP(Nutrients_from_current_land_use!$B$5,Value_look_up_tables!$A$223:$B$223,2,FALSE())&"|"&$A21&"|"&VLOOKUP(Nutrients_from_current_land_use!$B$8,Value_look_up_tables!$A$236:$B$237,2,FALSE())&"|"&VLOOKUP(Nutrients_from_current_land_use!$B$7,Value_look_up_tables!$A$197:$C$219,3,FALSE())&"|"&VLOOKUP($B$6,Value_look_up_tables!$A$227:$B$232,2,FALSE())))),Value_look_up_tables!$F$52:$H$193,3,FALSE()), IFERROR($B21*VLOOKUP($A21&"|"&VLOOKUP(Nutrients_from_current_land_use!$B$8,Value_look_up_tables!$A$236:$B$237,2,FALSE())&"|"&VLOOKUP(Nutrients_from_current_land_use!$B$7,Value_look_up_tables!$A$197:$C$219,3,FALSE())&"|"&VLOOKUP($B$6,Value_look_up_tables!$A$227:$B$232,2,FALSE()),Value_look_up_tables!$F$52:$H$193,3,FALSE()),"In the absence of real world data, this figure has been generated using the most relevant average nutrient export coefficient."))),"Not applicable","In the absence of real world data, this figure has been generated using the most relevant average nutrient export coefficient.")) -> Not applicable
C22: =IF(OR(ISBLANK($A22),ISBLANK($B22),ISBLANK($B$6),ISBLANK($B$7)),0,IFERROR($B22*VLOOKUP((IF(OR($A22="Residential urban land",$A22="Commercial/industrial urban land",$A22="Open urban land",$A22="Greenspace",$A22="Community food growing",$A22="Woodland",$A22="Shrub", $A22="Water"), "|||"&$A22, (VLOOKUP(Nutrients_from_current_land_use!$B$5,Value_look_up_tables!$A$223:$B$223,2,FALSE())&"|"&$A22&"|"&VLOOKUP(Nutrients_from_current_land_use!$B$8,Value_look_up_tables!$A$236:$B$237,2,FALSE())&"|"&VLOOKUP(Nutrients_from_current_land_use!$B$7,Value_look_up_tables!$A$197:$C$219,3,FALSE())&"|"&VLOOKUP($B$6,Value_look_up_tables!$A$227:$B$232,2,FALSE())))),Value_look_up_tables!$F$52:$H$193,3,FALSE()), IFERROR(IFERROR($B22*VLOOKUP($A22&"|"&VLOOKUP(Nutrients_from_current_land_use!$B$8,Value_look_up_tables!$A$236:$B$237,2,FALSE())&"|"&VLOOKUP(Nutrients_from_current_land_use!$B$7,Value_look_up_tables!$A$197:$C$219,3,FALSE())&"|"&VLOOKUP($B$6,Value_look_up_tables!$A$227:$B$232,2,FALSE()),Value_look_up_tables!$F$52:$H$193,3,FALSE()),IFERROR($B22*VLOOKUP($A22&"|"&"TRUE"&"|"&VLOOKUP(Nutrients_from_current_land_use!$B$7,Value_look_up_tables!$A$197:$C$219,3,FALSE())&"|"&VLOOKUP($B$6,Value_look_up_tables!$A$227:$B$232,2,FALSE()),Value_look_up_tables!$F$52:$H$193,3,FALSE()),$B22*VLOOKUP($A22&"|"&VLOOKUP(Nutrients_from_current_land_use!$B$8,Value_look_up_tables!$A$236:$B$237,2,FALSE())&"|"&VLOOKUP(Nutrients_from_current_land_use!$B$7,Value_look_up_tables!$A$197:$C$219,3,FALSE())&"|"&"DrainedArGr",Value_look_up_tables!$F$52:$H$193,3,FALSE()))),IFERROR($B22*VLOOKUP($A22&"|"&VLOOKUP(Nutrients_from_current_land_use!$B$7,Value_look_up_tables!$A$197:$C$219,3,FALSE()),Value_look_up_tables!$I$52:$K$185,3,FALSE()),$B22*VLOOKUP($A22,Value_look_up_tables!$B$52:$M$185,12,FALSE()))))) -> 0 | D22: =IF( OR(ISBLANK($A22),ISBLANK($B22),ISBLANK($B$6),ISBLANK($B$5),ISBLANK($B$7),$A22="Residential urban land",$A22="Commercial/industrial urban land",$A22="Open urban land",$A22="Greenspace",$A22="Community food growing",$A22="Woodland",$A22="Shrub",$A22="Water"),"Not applicable",IF(ISNUMBER(IFERROR($B22*VLOOKUP((IF( OR($A22="Residential urban land",$A22="Commercial/industrial urban land",$A22="Open urban land",$A22="Greenspace",$A22="Community food growing",$A22="Woodland",$A22="Shrub",$A22="Water"),"|||"&$A22,(VLOOKUP(Nutrients_from_current_land_use!$B$5,Value_look_up_tables!$A$223:$B$223,2,FALSE())&"|"&$A22&"|"&VLOOKUP(Nutrients_from_current_land_use!$B$8,Value_look_up_tables!$A$236:$B$237,2,FALSE())&"|"&VLOOKUP(Nutrients_from_current_land_use!$B$7,Value_look_up_tables!$A$197:$C$219,3,FALSE())&"|"&VLOOKUP($B$6,Value_look_up_tables!$A$227:$B$232,2,FALSE())))),Value_look_up_tables!$F$52:$H$193,3,FALSE()), IFERROR($B22*VLOOKUP($A22&"|"&VLOOKUP(Nutrients_from_current_land_use!$B$8,Value_look_up_tables!$A$236:$B$237,2,FALSE())&"|"&VLOOKUP(Nutrients_from_current_land_use!$B$7,Value_look_up_tables!$A$197:$C$219,3,FALSE())&"|"&VLOOKUP($B$6,Value_look_up_tables!$A$227:$B$232,2,FALSE()),Value_look_up_tables!$F$52:$H$193,3,FALSE()),"In the absence of real world data, this figure has been generated using the most relevant average nutrient export coefficient."))),"Not applicable","In the absence of real world data, this figure has been generated using the most relevant average nutrient export coefficient.")) -> Not applicable
C23: =IF(OR(ISBLANK($A23),ISBLANK($B23),ISBLANK($B$6),ISBLANK($B$7)),0,IFERROR($B23*VLOOKUP((IF(OR($A23="Residential urban land",$A23="Commercial/industrial urban land",$A23="Open urban land",$A23="Greenspace",$A23="Community food growing",$A23="Woodland",$A23="Shrub", $A23="Water"), "|||"&$A23, (VLOOKUP(Nutrients_from_current_land_use!$B$5,Value_look_up_tables!$A$223:$B$223,2,FALSE())&"|"&$A23&"|"&VLOOKUP(Nutrients_from_current_land_use!$B$8,Value_look_up_tables!$A$236:$B$237,2,FALSE())&"|"&VLOOKUP(Nutrients_from_current_land_use!$B$7,Value_look_up_tables!$A$197:$C$219,3,FALSE())&"|"&VLOOKUP($B$6,Value_look_up_tables!$A$227:$B$232,2,FALSE())))),Value_look_up_tables!$F$52:$H$193,3,FALSE()), IFERROR(IFERROR($B23*VLOOKUP($A23&"|"&VLOOKUP(Nutrients_from_current_land_use!$B$8,Value_look_up_tables!$A$236:$B$237,2,FALSE())&"|"&VLOOKUP(Nutrients_from_current_land_use!$B$7,Value_look_up_tables!$A$197:$C$219,3,FALSE())&"|"&VLOOKUP($B$6,Value_look_up_tables!$A$227:$B$232,2,FALSE()),Value_look_up_tables!$F$52:$H$193,3,FALSE()),IFERROR($B23*VLOOKUP($A23&"|"&"TRUE"&"|"&VLOOKUP(Nutrients_from_current_land_use!$B$7,Value_look_up_tables!$A$197:$C$219,3,FALSE())&"|"&VLOOKUP($B$6,Value_look_up_tables!$A$227:$B$232,2,FALSE()),Value_look_up_tables!$F$52:$H$193,3,FALSE()),$B23*VLOOKUP($A23&"|"&VLOOKUP(Nutrients_from_current_land_use!$B$8,Value_look_up_tables!$A$236:$B$237,2,FALSE())&"|"&VLOOKUP(Nutrients_from_current_land_use!$B$7,Value_look_up_tables!$A$197:$C$219,3,FALSE())&"|"&"DrainedArGr",Value_look_up_tables!$F$52:$H$193,3,FALSE()))),IFERROR($B23*VLOOKUP($A23&"|"&VLOOKUP(Nutrients_from_current_land_use!$B$7,Value_look_up_tables!$A$197:$C$219,3,FALSE()),Value_look_up_tables!$I$52:$K$185,3,FALSE()),$B23*VLOOKUP($A23,Value_look_up_tables!$B$52:$M$185,12,FALSE()))))) -> 0 | D23: =IF( OR(ISBLANK($A23),ISBLANK($B23),ISBLANK($B$6),ISBLANK($B$5),ISBLANK($B$7),$A23="Residential urban land",$A23="Commercial/industrial urban land",$A23="Open urban land",$A23="Greenspace",$A23="Community food growing",$A23="Woodland",$A23="Shrub",$A23="Water"),"Not applicable",IF(ISNUMBER(IFERROR($B23*VLOOKUP((IF( OR($A23="Residential urban land",$A23="Commercial/industrial urban land",$A23="Open urban land",$A23="Greenspace",$A23="Community food growing",$A23="Woodland",$A23="Shrub",$A23="Water"),"|||"&$A23,(VLOOKUP(Nutrients_from_current_land_use!$B$5,Value_look_up_tables!$A$223:$B$223,2,FALSE())&"|"&$A23&"|"&VLOOKUP(Nutrients_from_current_land_use!$B$8,Value_look_up_tables!$A$236:$B$237,2,FALSE())&"|"&VLOOKUP(Nutrients_from_current_land_use!$B$7,Value_look_up_tables!$A$197:$C$219,3,FALSE())&"|"&VLOOKUP($B$6,Value_look_up_tables!$A$227:$B$232,2,FALSE())))),Value_look_up_tables!$F$52:$H$193,3,FALSE()), IFERROR($B23*VLOOKUP($A23&"|"&VLOOKUP(Nutrients_from_current_land_use!$B$8,Value_look_up_tables!$A$236:$B$237,2,FALSE())&"|"&VLOOKUP(Nutrients_from_current_land_use!$B$7,Value_look_up_tables!$A$197:$C$219,3,FALSE())&"|"&VLOOKUP($B$6,Value_look_up_tables!$A$227:$B$232,2,FALSE()),Value_look_up_tables!$F$52:$H$193,3,FALSE()),"In the absence of real world data, this figure has been generated using the most relevant average nutrient export coefficient."))),"Not applicable","In the absence of real world data, this figure has been generated using the most relevant average nutrient export coefficient.")) -> Not applicable
