Workbook

Sheet Instructions
A1: Natural England Nutrient Neutrality budget calculator for the River Avon SAC
A2: This calculator was created by Ricardo Energy and Environment.
A3: This calculator contains 6 worksheets with 9 tables in total.
A4: This is the instructions cover sheet. It tells you how to use the calculator and gives an overview of each worksheet.
A5: You can move between worksheets using the tabs at the bottom of the page.
A6: If you use screen reading software, you can use 'Ctrl' + 'Page Down' keys to move between the tabs.
A7: If you use a keyboard only, to open any link in this form first select the cell with the link and then press the 'Shift' + 'F10' keys or the 'Fn' + the 'Menu' keys, then press the letter 'O' twice to highlight 'Open Hyperlink' and press 'Enter'.
A8: If you use a keyboard only, access dropdown lists by clicking the dropdown arrow or pressing the 'Alt' + 'Down' keys when the cell is selected.
A9: Table of contents
A10: Topic of each table | B10: Link to each worksheet
A11: Worksheet 1 Nutrient loading from additional wastewater | B11: Nutrients from wastewater
A12: Worksheet 2 Nutrient loading from current land use | B12: Nutrients from current land use
A13: Worksheet 3 Nutrient loading from future land use | B13: Nutrients from future land use
A14: Worksheet 4 Nutrient loading from future land use after treatment through a sustainable urban drainage system (SuDS) | B14: SuDS
A15: Worksheet 5 Nutrient budget calculations | B15: Final_nutrient_budgets
A16: General information about the calculator
A17: This calculator helps you calculate the nutrient budget for a new residential development.
A18: The nutrient budget for a site is calculated in 4 key stages with an additional optional stage in which information about the SuDS features on the site can be entered. Each stage is implemented in worksheets 1-5 of this calculator.
A19: Each worksheet is connected through a set of formulas which calculate the nutrient budget. As such, all sheets which represent the four key stages require data inputs in order to calculate the nutrient budget.
A20: The total nutrient budget is calculated automatically by adding the values from the 'Nutrients_from_wastewater' and the outputs from the 'Nutrients_from_future_land_use' minus the 'SuDS' (if applicable), and then subtracting the values from the 'Nutrients_from_current_land_use', then adding a 20% precautionary buffer to the result. This calculation is completed in the 'Final_nutrient_budgets' worksheet.
A21: Before a nutrient budget can be completed using the methodology, certain site-specific details for the development site need to be determined.
A22: The guidance to this calculator and gives further information on the user inputs required.
A23: The instructions for completing each stage of the nutrient budget methodology are shown in cell A2 of each worksheet.
A24: This calculator uses a set of lookup tables to find relevant values in a hidden spreadsheet titled the 'Value_look_up_tables' worksheet.
A25: It is advisable to retain a blank copy of this calculator and 'Save as' a new copy each time you calculate a budget to minimise the risk of using incorrect data inputs and to ease the calculation of new nutrient budgets.
A26: The values already included have been chosen based on research to determine suitable inputs to the nutrient budget that meet the Habitat Regulations Assessment (HRA) tests of beyond reasonable scientific doubt, in perpetuity (practically speaking this is 80 to 125 years) and in accordance with the precautionary principle.
A27: If editing any values in this calculator, you must make sure there is a sufficient evidence base to justify these changes and that the new inputs are selected in accordance with the precautionary principle.
... A57: If there are 2 or 3 values due to changing permits, the calculator will show the total amount of nutrient mitigation that is needed before and after the changing permit date.

Sheet Nutrients_from_wastewater
A1: Nutrients from wastewater
A2: This sheet contains 2 tables. The tables are separated by a heading, which describes the following table. Note: You will need to fill in cells B5 to B9 in the first table 'Water infrastructure information'. Cells B10 is automatically calculated and will state '0.00' unless the user inputs have been entered. Cells A11 to A12 and B11 to B12 are automatically generated and will state 'Not applicable' depending on the inputs to cells B5 and B9. You may need to fill in cell C10 depending on the information you entered in cell B9. Cells C5 to C9 and cells C11 to C12 are intentionally blank cells. You do not need to fill in any cells in the second table 'Final calculation of nutrient load from wastewater'. Cells B16 to B18 are automatically calculated and will state '0.00' unless the user inputs have been entered to the first table 'Water infrastructure information'. Cells A19 to A22, cells B20 and B22 are automatically generated and will state 'Not applicable' depending on the user inputs to the first table 'Water infrastructure information'. Cell B15, cell B19 and cell B21 are intentionally blank cells. How to fill in the table 'Water infrastructure information' Cell B5: Enter the date of first occupancy. Cell B6: Enter the average occupancy rate of the development. The default rate is 2.4, this should not be edited without sufficient evidence. Cell B7: Enter the water usage. This value should be kept at 120 unless other efficiency measures are used. Cell B8: Enter the total number of dwellings or units that will be within the development site as of the project completion date. Cell B9: Choose the receiving wastewater treatment works (WwTW) from the dropdown list. If you select 'Package Treatment Plant user defined' or 'Septic Tank user defined', you must enter their certified value of total phosphorus (TP) in cell C10. Otherwise the default values will be used in the calculation of the nutrient load associated with wastewater. Nutrient permits may be changing for the WwTW you select, from 01/01/2025, or 01/04/2030. If the date of first occupancy is in-between changing permit dates, multiple permit limits may be automatically generated in cells B10 to B12. If applicable, up to 3 values for the nutrient loading associated with wastewater will be presented in cell B18, B20 or B22.
A3: Water infrastructure information
A4: Description of required information | B4: Data entry column - user inputs required | C4: Additional data entry column - user inputs may be required
A5: Date of first occupancy (dd/mm/yyyy): | B5: 46168
A6: Average occupancy rate (people/dwelling or people/unit): | B6: 1.8
A7: Water usage (litres/person/day): | B7: 120
A8: Development proposal (dwellings/units): | B8: 1
A9: Wastewater treatment works: | B9: Salisbury (Petersfinger)
A10: Current wastewater treatment works P permit (mg TP/litre): | B10: =IFERROR(IF(OR(B9="Package Treatment Plant user defined",B9="Septic Tank user defined"),"Enter value in cell C10",IF(AND(B5<DATE(2025,1,1)),VLOOKUP(B9,Value_look_up_tables!$A$5:$J$48,2,FALSE()),IF(AND(B5<DATE(2025,1,1)),VLOOKUP(B9,Value_look_up_tables!$A$5:$J$48,2,FALSE()),IF(AND(B5<DATE(2030,4,1),B5>=DATE(2025,1,1)),VLOOKUP(B9,Value_look_up_tables!$A$5:$J$48,3,FALSE()),IF(AND(B5<DATE(2030,4,1),B5>=DATE(2025,1,1)),IF(AND(B5<DATE(2030,4,1)),VLOOKUP(B9,Value_look_up_tables!$A$5:$J$48,2,FALSE()),IF(AND(B5<DATE(2030,4,1)),VLOOKUP(B9,Value_look_up_tables!$A$5:$J$48,3,FALSE()),IF(AND(B5>=DATE(2030,4,1)),VLOOKUP(B9,Value_look_up_tables!$A$5:$J$48,4,FALSE()),IF(AND(B5>=DATE(2030,4,1)),VLOOKUP(B9,Value_look_up_tables!$A$5:$J$48,4,FALSE()),0)))),VLOOKUP(B9,Value_look_up_tables!$A$5:$J$48,4,FALSE())))))),0) -> 1
A11: =IFERROR(IF(AND($B$5<DATE(2025,1,1),(VLOOKUP($B$9,Value_look_up_tables!$A$5:$E$46,2,FALSE()))>(VLOOKUP($B$9,Value_look_up_tables!$A$5:$E$46,3,FALSE()))), "Post 2025 WwTW P permit (mg TP/litre):","Not applicable"),"Not applicable") -> Not applicable | B11: =IFERROR(IF(AND($B$5<DATE(2025,1,1),(VLOOKUP($B$9,Value_look_up_tables!$A$5:$J$46,2,FALSE()))>(VLOOKUP($B$9,Value_look_up_tables!$A$5:$J$46,3,FALSE()))),VLOOKUP(B9,Value_look_up_tables!$A$5:$J$49,3,FALSE()),"Not applicable"),"Not applicable") -> Not applicable
A12: =IFERROR(IF(AND($B$5<DATE(2030,4,1),(VLOOKUP($B$9,Value_look_up_tables!$A$5:$J$46,3,FALSE()))>(VLOOKUP($B$9,Value_look_up_tables!$A$5:$J$46,4,FALSE()))), "Post 2030 WwTW P permit (mg TP/litre):","Not applicable"),"Not applicable") -> Post 2030 WwTW P permit (mg TP/litre): | B12: =IFERROR(IF(AND($B$5<DATE(2030,4,1),(VLOOKUP($B$9,Value_look_up_tables!$A$5:$J$46,3,FALSE()))>(VLOOKUP($B$9,Value_look_up_tables!$A$5:$J$46,4,FALSE()))), VLOOKUP(B9,Value_look_up_tables!$A$5:$J$49,4,FALSE()),"Not applicable"),"Not applicable") -> 0.25
A13: Final calculation of nutrient load from wastewater
A14: Description of values generated | B14: Values generated
A15: =IFERROR(IF(AND($B$5<DATE(2030,4,1),OR((VLOOKUP($B$9,Value_look_up_tables!$A$5:$J$46,3,FALSE()))>(VLOOKUP($B$9,Value_look_up_tables!$A$5:$J$46,4,FALSE())))),"Post-2030 wastewater nutrient Loading",IF(AND($B$5<DATE(2025,1,1),OR((VLOOKUP($B$9,Value_look_up_tables!$A$5:$E$46,2,FALSE()))>(VLOOKUP($B$9,Value_look_up_tables!$A$5:$E$46,3,FALSE())))),"Post-2025 wastewater nutrient Loading","Wastewater nutrient loading")),IF(B10="Enter value in cell C10","Wastewater nutrient loading","Wastewater nutrient loading")) -> Post-2030 wastewater nutrient Loading
A16: Additional population (people): | B16: =IF(ISBLANK(B8),0,B6*B8) -> 1.8
A17: Wastewater by development (litres/day): | B17: =IFERROR(B16*B7,0) -> 216
A18: Annual wastewater TP load (kg TP/yr): | B18: =IFERROR(ROUND(IF(ISNUMBER(B12),B12*B17*0.9/1000000*365.25,IF(ISNUMBER(B11),B11*B17*0.9/1000000*365.25,IF(B10="Enter value in cell C10",IF(AND(B10="Enter value in cell C10",ISNUMBER(C10)),B17*(IF(C10<0,0,C10))/1000000*365.25, VLOOKUP((LEFT(B9,(LEN(B9)-13))&" default"),Value_look_up_tables!$A$45:$C$46,3,FALSE())*B17/1000000*365.25),IF(OR(B9="Package Treatment Plant default",B9="Septic Tank default"),B10*B17/1000000*365.25,IF(B10=8,B10*B17/1000000*365.25,B10*B17*0.9/1000000*365.25))))),2),0) -> 0.02
A19: =IFERROR(IF(AND($B$5<DATE(2030,4,1),OR((VLOOKUP($B$9,Value_look_up_tables!$A$5:$J$46,3,FALSE()))>(VLOOKUP($B$9,Value_look_up_tables!$A$5:$J$46,4,FALSE())))),"Pre-2030 wastewater nutrient loading",IF(AND($B$5<DATE(2025,1,1),OR((VLOOKUP($B$9,Value_look_up_tables!$A$5:$E$46,2,FALSE()))>(VLOOKUP($B$9,Value_look_up_tables!$A$5:$E$46,3,FALSE())))),IF(B18=B20,A15,"Pre-2025 wastewater nutrient loading"),"Not applicable")),"Not applicable") -> Pre-2030 wastewater nutrient loading
A20: =IFERROR(IF(AND($B$5<DATE(2030,4,1),OR((VLOOKUP($B$9,Value_look_up_tables!$A$5:$J$46,3,FALSE()))>(VLOOKUP($B$9,Value_look_up_tables!$A$5:$J$46,4,FALSE())),(VLOOKUP($B$9,Value_look_up_tables!$A$5:$J$46,2,FALSE()))>(VLOOKUP($B$9,Value_look_up_tables!$A$5:$J$46,4,FALSE())))),"Annual wastewater TP load (kg TP/yr):","Not applicable"),"Not applicable") -> Annual wastewater TP load (kg TP/yr): | B20: =IFERROR(ROUND(IF(AND($B$5<DATE(2030,4,1),OR((VLOOKUP($B$9,Value_look_up_tables!$A$5:$J$46,3,FALSE()))>(VLOOKUP($B$9,Value_look_up_tables!$A$5:$J$46,4,FALSE())),(VLOOKUP($B$9,Value_look_up_tables!$A$5:$J$46,2,FALSE()))>(VLOOKUP($B$9,Value_look_up_tables!$A$5:$J$46,4,FALSE())))),IF(ISNUMBER(B11),IF(B11=8,(B11*B$17)/1000000*365.25,(B11*B$17*0.9)/1000000*365.25),IF(B10=8,(B10*B$17)/1000000*365.25,(B10*B$17*0.9)/1000000*365.25)),"Not applicable"),2),"Not applicable") -> 0.07
A21: =IFERROR(IF(AND($B$5<DATE(2025,1,1),$B$5<DATE(2030,4,1),OR((VLOOKUP($B$9,Value_look_up_tables!$A$5:$J$46,3,FALSE()))>(VLOOKUP($B$9,Value_look_up_tables!$A$5:$J$46,4,FALSE())))),IF(AND(B22="Not applicable"),"Not applicable","Pre-2025 wastewater nutrient loading"),IF(AND($B$5<DATE(2025,1,1),OR((VLOOKUP($B$9,Value_look_up_tables!$A$5:$E$46,2,FALSE()))>(VLOOKUP($B$9,Value_look_up_tables!$A$5:$E$46,3,FALSE())))),IF(LEFT(A19,9)="Post-2025","Pre-2025 wastewater nutrient loading","wastewater nutrient loading "),"Not applicable")),"Not applicable") -> Not applicable
A22: =IFERROR(IF(AND($B$5<DATE(2025,1,1),OR((VLOOKUP($B$9,Value_look_up_tables!$A$5:$E$46,2,FALSE()))>(VLOOKUP($B$9,Value_look_up_tables!$A$5:$E$46,3,FALSE())),(VLOOKUP($B$9,Value_look_up_tables!$A$5:$E$46,2,FALSE()))>(VLOOKUP($B$9,Value_look_up_tables!$A$5:$E$46,3,FALSE())))),"Annual wastewater TP load (kg TP/yr):","Not applicable"),"Not applicable") -> Not applicable | B22: =IFERROR(ROUND(IF(AND($B$5<DATE(2025,1,1),$B$5<DATE(2030,4,1),OR((VLOOKUP($B$9,Value_look_up_tables!$A$5:$J$46,3,FALSE()))>(VLOOKUP($B$9,Value_look_up_tables!$A$5:$J$46,4,FALSE())),(VLOOKUP($B$9,Value_look_up_tables!$A$5:$J$46,2,FALSE()))>(VLOOKUP($B$9,Value_look_up_tables!$A$5:$J$46,3,FALSE())))),IF(ISNUMBER(B11),IF(B10=8,(B10*B$17)/1000000*365.25,(B10*B$17*0.9)/1000000*365.25),IF(B11=8,(B11*B$17)/1000000*365.25,(B11*B$17*0.9)/1000000*365.25)),"Not applicable"),2),"Not applicable") -> Not applicable

Sheet Nutrients_from_current_land_use
A1: Nutrients from current land use
A2: This sheet contains 2 tables. The tables are separated by a heading, which describes the following table. Note: You will need to fill in cells B5 to B8 in the first table 'Current land use information'. You will need to fill in cells A11 to A27, and B11 to B27 in the second table 'Current land uses'. Cells B28, C11 to C28 are automatically calculated and will state '0.00' unless the user inputs have been entered. Cells D11 to D27 are automatically generated and will state 'Not applicable' depending on automatically generated data in cells C11 to C27. Row 28 is a Total Row. The Total Row states 'Totals:' in cell A28 and automatically calculates the total sum of cells B11 to B27 in cell B28 and C11 to C27 in cell C28. Cell D28 is intentionally blank. How to fill in the table 'Current land use information' Cell B5: Choose the operational catchment the site is located within from the dropdown list. Cell B6: Choose the soil drainage type associated with the predominant soil type within the development site from the dropdown list. Cell B7: Choose the annual average rainfall the development will receive from the dropdown list. If the rainfall volume is not on the list, select the nearest value. Cell B8: Choose whether the development is in a nitrate vulnerable zone (NVZ) from the dropdown list. How to fill in the table 'Current land uses' Cell A11-A27: Choose the existing (pre-development) land use type(s) from the dropdown list. Cells B11-B27: Enter the area in hectares of each land use type. The nutrient load from current land uses is shown in cells C11-C27 for total phosphorus (TP). The total nutrient load from current land uses is shown in cell C28 for TP.
A3: Current land use information
A4: Description of required information | B4: Data entry column - user inputs required
A5: Operational catchment: | B5: Avon Hampshire
A6: Soil drainage type: | B6: Freely draining
A7: Annual average rainfall (mm): | B7: 800.1 - 850
A8: Within nitrate vulnerable zone (NVZ): | B8: Yes
A9: Current land uses
A10: Existing land use type(s) - user inputs required | B10: Area (ha) - user inputs required | C10: Annual phosphorus export (kg TP/yr) | D10: Notes on data
A11: Residential urban land | B11: 0.02 | C11: =IF(OR(ISBLANK($A11),ISBLANK($B11),ISBLANK($B$6),ISBLANK($B$7)),0,IFERROR($B11*VLOOKUP((IF(OR($A11="Residential urban land",$A11="Commercial/industrial urban land",$A11="Open urban land",$A11="Greenspace",$A11="Community food growing",$A11="Woodland",$A11="Shrub", $A11="Water"), "|||"&$A11, (VLOOKUP(Nutrients_from_current_land_use!$B$5,Value_look_up_tables!$A$223:$B$223,2,FALSE())&"|"&$A11&"|"&VLOOKUP(Nutrients_from_current_land_use!$B$8,Value_look_up_tables!$A$236:$B$237,2,FALSE())&"|"&VLOOKUP(Nutrients_from_current_land_use!$B$7,Value_look_up_tables!$A$197:$C$219,3,FALSE())&"|"&VLOOKUP($B$6,Value_look_up_tables!$A$227:$B$232,2,FALSE())))),Value_look_up_tables!$F$52:$H$193,3,FALSE()), IFERROR(IFERROR($B11*VLOOKUP($A11&"|"&VLOOKUP(Nutrients_from_current_land_use!$B$8,Value_look_up_tables!$A$236:$B$237,2,FALSE())&"|"&VLOOKUP(Nutrients_from_current_land_use!$B$7,Value_look_up_tables!$A$197:$C$219,3,FALSE())&"|"&VLOOKUP($B$6,Value_look_up_tables!$A$227:$B$232,2,FALSE()),Value_look_up_tables!$F$52:$H$193,3,FALSE()),IFERROR($B11*VLOOKUP($A11&"|"&"TRUE"&"|"&VLOOKUP(Nutrients_from_current_land_use!$B$7,Value_look_up_tables!$A$197:$C$219,3,FALSE())&"|"&VLOOKUP($B$6,Value_look_up_tables!$A$227:$B$232,2,FALSE()),Value_look_up_tables!$F$52:$H$193,3,FALSE()),$B11*VLOOKUP($A11&"|"&VLOOKUP(Nutrients_from_current_land_use!$B$8,Value_look_up_tables!$A$236:$B$237,2,FALSE())&"|"&VLOOKUP(Nutrients_from_current_land_use!$B$7,Value_look_up_tables!$A$197:$C$219,3,FALSE())&"|"&"DrainedArGr",Value_look_up_tables!$F$52:$H$193,3,FALSE()))),IFERROR($B11*VLOOKUP($A11&"|"&VLOOKUP(Nutrients_from_current_land_use!$B$7,Value_look_up_tables!$A$197:$C$219,3,FALSE()),Value_look_up_tables!$I$52:$K$185,3,FALSE()),$B11*VLOOKUP($A11,Value_look_up_tables!$B$52:$M$185,12,FALSE()))))) -> 0.033027379 | D11: =IF( OR(ISBLANK($A11),ISBLANK($B11),ISBLANK($B$6),ISBLANK($B$5),ISBLANK($B$7),$A11="Residential urban land",$A11="Commercial/industrial urban land",$A11="Open urban land",$A11="Greenspace",$A11="Community food growing",$A11="Woodland",$A11="Shrub",$A11="Water"),"Not applicable",IF(ISNUMBER(IFERROR($B11*VLOOKUP((IF( OR($A11="Residential urban land",$A11="Commercial/industrial urban land",$A11="Open urban land",$A11="Greenspace",$A11="Community food growing",$A11="Woodland",$A11="Shrub",$A11="Water"),"|||"&$A11,(VLOOKUP(Nutrients_from_current_land_use!$B$5,Value_look_up_tables!$A$223:$B$223,2,FALSE())&"|"&$A11&"|"&VLOOKUP(Nutrients_from_current_land_use!$B$8,Value_look_up_tables!$A$236:$B$237,2,FALSE())&"|"&VLOOKUP(Nutrients_from_current_land_use!$B$7,Value_look_up_tables!$A$197:$C$219,3,FALSE())&"|"&VLOOKUP($B$6,Value_look_up_tables!$A$227:$B$232,2,FALSE())))),Value_look_up_tables!$F$52:$H$193,3,FALSE()), IFERROR($B11*VLOOKUP($A11&"|"&VLOOKUP(Nutrients_from_current_land_use!$B$8,Value_look_up_tables!$A$236:$B$237,2,FALSE())&"|"&VLOOKUP(Nutrients_from_current_land_use!$B$7,Value_look_up_tables!$A$197:$C$219,3,FALSE())&"|"&VLOOKUP($B$6,Value_look_up_tables!$A$227:$B$232,2,FALSE()),Value_look_up_tables!$F$52:$H$193,3,FALSE()),"In the absence of real world data, this figure has been generated using the most relevant average nutrient export coefficient."))),"Not applicable","In the absence of real world data, this figure has been generated using the most relevant average nutrient export coefficient.")) -> Not applicable
C12: =IF(OR(ISBLANK($A12),ISBLANK($B12),ISBLANK($B$6),ISBLANK($B$7)),0,IFERROR($B12*VLOOKUP((IF(OR($A12="Residential urban land",$A12="Commercial/industrial urban land",$A12="Open urban land",$A12="Greenspace",$A12="Community food growing",$A12="Woodland",$A12="Shrub", $A12="Water"), "|||"&$A12, (VLOOKUP(Nutrients_from_current_land_use!$B$5,Value_look_up_tables!$A$223:$B$223,2,FALSE())&"|"&$A12&"|"&VLOOKUP(Nutrients_from_current_land_use!$B$8,Value_look_up_tables!$A$236:$B$237,2,FALSE())&"|"&VLOOKUP(Nutrients_from_current_land_use!$B$7,Value_look_up_tables!$A$197:$C$219,3,FALSE())&"|"&VLOOKUP($B$6,Value_look_up_tables!$A$227:$B$232,2,FALSE())))),Value_look_up_tables!$F$52:$H$193,3,FALSE()), IFERROR(IFERROR($B12*VLOOKUP($A12&"|"&VLOOKUP(Nutrients_from_current_land_use!$B$8,Value_look_up_tables!$A$236:$B$237,2,FALSE())&"|"&VLOOKUP(Nutrients_from_current_land_use!$B$7,Value_look_up_tables!$A$197:$C$219,3,FALSE())&"|"&VLOOKUP($B$6,Value_look_up_tables!$A$227:$B$232,2,FALSE()),Value_look_up_tables!$F$52:$H$193,3,FALSE()),IFERROR($B12*VLOOKUP($A12&"|"&"TRUE"&"|"&VLOOKUP(Nutrients_from_current_land_use!$B$7,Value_look_up_tables!$A$197:$C$219,3,FALSE())&"|"&VLOOKUP($B$6,Value_look_up_tables!$A$227:$B$232,2,FALSE()),Value_look_up_tables!$F$52:$H$193,3,FALSE()),$B12*VLOOKUP($A12&"|"&VLOOKUP(Nutrients_from_current_land_use!$B$8,Value_look_up_tables!$A$236:$B$237,2,FALSE())&"|"&VLOOKUP(Nutrients_from_current_land_use!$B$7,Value_look_up_tables!$A$197:$C$219,3,FALSE())&"|"&"DrainedArGr",Value_look_up_tables!$F$52:$H$193,3,FALSE()))),IFERROR($B12*VLOOKUP($A12&"|"&VLOOKUP(Nutrients_from_current_land_use!$B$7,Value_look_up_tables!$A$197:$C$219,3,FALSE()),Value_look_up_tables!$I$52:$K$185,3,FALSE()),$B12*VLOOKUP($A12,Value_look_up_tables!$B$52:$M$185,12,FALSE()))))) -> 0 | D12: =IF( OR(ISBLANK($A12),ISBLANK($B12),ISBLANK($B$6),ISBLANK($B$5),ISBLANK($B$7),$A12="Residential urban land",$A12="Commercial/industrial urban land",$A12="Open urban land",$A12="Greenspace",$A12="Community food growing",$A12="Woodland",$A12="Shrub",$A12="Water"),"Not applicable",IF(ISNUMBER(IFERROR($B12*VLOOKUP((IF( OR($A12="Residential urban land",$A12="Commercial/industrial urban land",$A12="Open urban land",$A12="Greenspace",$A12="Community food growing",$A12="Woodland",$A12="Shrub",$A12="Water"),"|||"&$A12,(VLOOKUP(Nutrients_from_current_land_use!$B$5,Value_look_up_tables!$A$223:$B$223,2,FALSE())&"|"&$A12&"|"&VLOOKUP(Nutrients_from_current_land_use!$B$8,Value_look_up_tables!$A$236:$B$237,2,FALSE())&"|"&VLOOKUP(Nutrients_from_current_land_use!$B$7,Value_look_up_tables!$A$197:$C$219,3,FALSE())&"|"&VLOOKUP($B$6,Value_look_up_tables!$A$227:$B$232,2,FALSE())))),Value_look_up_tables!$F$52:$H$193,3,FALSE()), IFERROR($B12*VLOOKUP($A12&"|"&VLOOKUP(Nutrients_from_current_land_use!$B$8,Value_look_up_tables!$A$236:$B$237,2,FALSE())&"|"&VLOOKUP(Nutrients_from_current_land_use!$B$7,Value_look_up_tables!$A$197:$C$219,3,FALSE())&"|"&VLOOKUP($B$6,Value_look_up_tables!$A$227:$B$232,2,FALSE()),Value_look_up_tables!$F$52:$H$193,3,FALSE()),"In the absence of real world data, this figure has been generated using the most relevant average nutrient export coefficient."))),"Not applicable","In the absence of real world data, this figure has been generated using the most relevant average nutrient export coefficient.")) -> Not applicable
C13: =IF(OR(ISBLANK($A13),ISBLANK($B13),ISBLANK($B$6),ISBLANK($B$7)),0,IFERROR($B13*VLOOKUP((IF(OR($A13="Residential urban land",$A13="Commercial/industrial urban land",$A13="Open urban land",$A13="Greenspace",$A13="Community food growing",$A13="Woodland",$A13="Shrub", $A13="Water"), "|||"&$A13, (VLOOKUP(Nutrients_from_current_land_use!$B$5,Value_look_up_tables!$A$223:$B$223,2,FALSE())&"|"&$A13&"|"&VLOOKUP(Nutrients_from_current_land_use!$B$8,Value_look_up_tables!$A$236:$B$237,2,FALSE())&"|"&VLOOKUP(Nutrients_from_current_land_use!$B$7,Value_look_up_tables!$A$197:$C$219,3,FALSE())&"|"&VLOOKUP($B$6,Value_look_up_tables!$A$227:$B$232,2,FALSE())))),Value_look_up_tables!$F$52:$H$193,3,FALSE()), IFERROR(IFERROR($B13*VLOOKUP($A13&"|"&VLOOKUP(Nutrients_from_current_land_use!$B$8,Value_look_up_tables!$A$236:$B$237,2,FALSE())&"|"&VLOOKUP(Nutrients_from_current_land_use!$B$7,Value_look_up_tables!$A$197:$C$219,3,FALSE())&"|"&VLOOKUP($B$6,Value_look_up_tables!$A$227:$B$232,2,FALSE()),Value_look_up_tables!$F$52:$H$193,3,FALSE()),IFERROR($B13*VLOOKUP($A13&"|"&"TRUE"&"|"&VLOOKUP(Nutrients_from_current_land_use!$B$7,Value_look_up_tables!$A$197:$C$219,3,FALSE())&"|"&VLOOKUP($B$6,Value_look_up_tables!$A$227:$B$232,2,FALSE()),Value_look_up_tables!$F$52:$H$193,3,FALSE()),$B13*VLOOKUP($A13&"|"&VLOOKUP(Nutrients_from_current_land_use!$B$8,Value_look_up_tables!$A$236:$B$237,2,FALSE())&"|"&VLOOKUP(Nutrients_from_current_land_use!$B$7,Value_look_up_tables!$A$197:$C$219,3,FALSE())&"|"&"DrainedArGr",Value_look_up_tables!$F$52:$H$193,3,FALSE()))),IFERROR($B13*VLOOKUP($A13&"|"&VLOOKUP(Nutrients_from_current_land_use!$B$7,Value_look_up_tables!$A$197:$C$219,3,FALSE()),Value_look_up_tables!$I$52:$K$185,3,FALSE()),$B13*VLOOKUP($A13,Value_look_up_tables!$B$52:$M$185,12,FALSE()))))) -> 0 | D13: =IF( OR(ISBLANK($A13),ISBLANK($B13),ISBLANK($B$6),ISBLANK($B$5),ISBLANK($B$7),$A13="Residential urban land",$A13="Commercial/industrial urban land",$A13="Open urban land",$A13="Greenspace",$A13="Community food growing",$A13="Woodland",$A13="Shrub",$A13="Water"),"Not applicable",IF(ISNUMBER(IFERROR($B13*VLOOKUP((IF( OR($A13="Residential urban land",$A13="Commercial/industrial urban land",$A13="Open urban land",$A13="Greenspace",$A13="Community food growing",$A13="Woodland",$A13="Shrub",$A13="Water"),"|||"&$A13,(VLOOKUP(Nutrients_from_current_land_use!$B$5,Value_look_up_tables!$A$223:$B$223,2,FALSE())&"|"&$A13&"|"&VLOOKUP(Nutrients_from_current_land_use!$B$8,Value_look_up_tables!$A$236:$B$237,2,FALSE())&"|"&VLOOKUP(Nutrients_from_current_land_use!$B$7,Value_look_up_tables!$A$197:$C$219,3,FALSE())&"|"&VLOOKUP($B$6,Value_look_up_tables!$A$227:$B$232,2,FALSE())))),Value_look_up_tables!$F$52:$H$193,3,FALSE()), IFERROR($B13*VLOOKUP($A13&"|"&VLOOKUP(Nutrients_from_current_land_use!$B$8,Value_look_up_tables!$A$236:$B$237,2,FALSE())&"|"&VLOOKUP(Nutrients_from_current_land_use!$B$7,Value_look_up_tables!$A$197:$C$219,3,FALSE())&"|"&VLOOKUP($B$6,Value_look_up_tables!$A$227:$B$232,2,FALSE()),Value_look_up_tables!$F$52:$H$193,3,FALSE()),"In the absence of real world data, this figure has been generated using the most relevant average nutrient export coefficient."))),"Not applicable","In the absence of real world data, this figure has been generated using the most relevant average nutrient export coefficient.")) -> Not applicable
C14: =IF(OR(ISBLANK($A14),ISBLANK($B14),ISBLANK($B$6),ISBLANK($B$7)),0,IFERROR($B14*VLOOKUP((IF(OR($A14="Residential urban land",$A14="Commercial/industrial urban land",$A14="Open urban land",$A14="Greenspace",$A14="Community food growing",$A14="Woodland",$A14="Shrub", $A14="Water"), "|||"&$A14, (VLOOKUP(Nutrients_from_current_land_use!$B$5,Value_look_up_tables!$A$223:$B$223,2,FALSE())&"|"&$A14&"|"&VLOOKUP(Nutrients_from_current_land_use!$B$8,Value_look_up_tables!$A$236:$B$237,2,FALSE())&"|"&VLOOKUP(Nutrients_from_current_land_use!$B$7,Value_look_up_tables!$A$197:$C$219,3,FALSE())&"|"&VLOOKUP($B$6,Value_look_up_tables!$A$227:$B$232,2,FALSE())))),Value_look_up_tables!$F$52:$H$193,3,FALSE()), IFERROR(IFERROR($B14*VLOOKUP($A14&"|"&VLOOKUP(Nutrients_from_current_land_use!$B$8,Value_look_up_tables!$A$236:$B$237,2,FALSE())&"|"&VLOOKUP(Nutrients_from_current_land_use!$B$7,Value_look_up_tables!$A$197:$C$219,3,FALSE())&"|"&VLOOKUP($B$6,Value_look_up_tables!$A$227:$B$232,2,FALSE()),Value_look_up_tables!$F$52:$H$193,3,FALSE()),IFERROR($B14*VLOOKUP($A14&"|"&"TRUE"&"|"&VLOOKUP(Nutrients_from_current_land_use!$B$7,Value_look_up_tables!$A$197:$C$219,3,FALSE())&"|"&VLOOKUP($B$6,Value_look_up_tables!$A$227:$B$232,2,FALSE()),Value_look_up_tables!$F$52:$H$193,3,FALSE()),$B14*VLOOKUP($A14&"|"&VLOOKUP(Nutrients_from_current_land_use!$B$8,Value_look_up_tables!$A$236:$B$237,2,FALSE())&"|"&VLOOKUP(Nutrients_from_current_land_use!$B$7,Value_look_up_tables!$A$197:$C$219,3,FALSE())&"|"&"DrainedArGr",Value_look_up_tables!$F$52:$H$193,3,FALSE()))),IFERROR($B14*VLOOKUP($A14&"|"&VLOOKUP(Nutrients_from_current_land_use!$B$7,Value_look_up_tables!$A$197:$C$219,3,FALSE()),Value_look_up_tables!$I$52:$K$185,3,FALSE()),$B14*VLOOKUP($A14,Value_look_up_tables!$B$52:$M$185,12,FALSE()))))) -> 0 | D14: =IF( OR(ISBLANK($A14),ISBLANK($B14),ISBLANK($B$6),ISBLANK($B$5),ISBLANK($B$7),$A14="Residential urban land",$A14="Commercial/industrial urban land",$A14="Open urban land",$A14="Greenspace",$A14="Community food growing",$A14="Woodland",$A14="Shrub",$A14="Water"),"Not applicable",IF(ISNUMBER(IFERROR($B14*VLOOKUP((IF( OR($A14="Residential urban land",$A14="Commercial/industrial urban land",$A14="Open urban land",$A14="Greenspace",$A14="Community food growing",$A14="Woodland",$A14="Shrub",$A14="Water"),"|||"&$A14,(VLOOKUP(Nutrients_from_current_land_use!$B$5,Value_look_up_tables!$A$223:$B$223,2,FALSE())&"|"&$A14&"|"&VLOOKUP(Nutrients_from_current_land_use!$B$8,Value_look_up_tables!$A$236:$B$237,2,FALSE())&"|"&VLOOKUP(Nutrients_from_current_land_use!$B$7,Value_look_up_tables!$A$197:$C$219,3,FALSE())&"|"&VLOOKUP($B$6,Value_look_up_tables!$A$227:$B$232,2,FALSE())))),Value_look_up_tables!$F$52:$H$193,3,FALSE()), IFERROR($B14*VLOOKUP($A14&"|"&VLOOKUP(Nutrients_from_current_land_use!$B$8,Value_look_up_tables!$A$236:$B$237,2,FALSE())&"|"&VLOOKUP(Nutrients_from_current_land_use!$B$7,Value_look_up_tables!$A$197:$C$219,3,FALSE())&"|"&VLOOKUP($B$6,Value_look_up_tables!$A$227:$B$232,2,FALSE()),Value_look_up_tables!$F$52:$H$193,3,FALSE()),"In the absence of real world data, this figure has been generated using the most relevant average nutrient export coefficient."))),"Not applicable","In the absence of real world data, this figure has been generated using the most relevant average nutrient export coefficient.")) -> Not applicable
C15: =IF(OR(ISBLANK($A15),ISBLANK($B15),ISBLANK($B$6),ISBLANK($B$7)),0,IFERROR($B15*VLOOKUP((IF(OR($A15="Residential urban land",$A15="Commercial/industrial urban land",$A15="Open urban land",$A15="Greenspace",$A15="Community food growing",$A15="Woodland",$A15="Shrub", $A15="Water"), "|||"&$A15, (VLOOKUP(Nutrients_from_current_land_use!$B$5,Value_look_up_tables!$A$223:$B$223,2,FALSE())&"|"&$A15&"|"&VLOOKUP(Nutrients_from_current_land_use!$B$8,Value_look_up_tables!$A$236:$B$237,2,FALSE())&"|"&VLOOKUP(Nutrients_from_current_land_use!$B$7,Value_look_up_tables!$A$197:$C$219,3,FALSE())&"|"&VLOOKUP($B$6,Value_look_up_tables!$A$227:$B$232,2,FALSE())))),Value_look_up_tables!$F$52:$H$193,3,FALSE()), IFERROR(IFERROR($B15*VLOOKUP($A15&"|"&VLOOKUP(Nutrients_from_current_land_use!$B$8,Value_look_up_tables!$A$236:$B$237,2,FALSE())&"|"&VLOOKUP(Nutrients_from_current_land_use!$B$7,Value_look_up_tables!$A$197:$C$219,3,FALSE())&"|"&VLOOKUP($B$6,Value_look_up_tables!$A$227:$B$232,2,FALSE()),Value_look_up_tables!$F$52:$H$193,3,FALSE()),IFERROR($B15*VLOOKUP($A15&"|"&"TRUE"&"|"&VLOOKUP(Nutrients_from_current_land_use!$B$7,Value_look_up_tables!$A$197:$C$219,3,FALSE())&"|"&VLOOKUP($B$6,Value_look_up_tables!$A$227:$B$232,2,FALSE()),Value_look_up_tables!$F$52:$H$193,3,FALSE()),$B15*VLOOKUP($A15&"|"&VLOOKUP(Nutrients_from_current_land_use!$B$8,Value_look_up_tables!$A$236:$B$237,2,FALSE())&"|"&VLOOKUP(Nutrients_from_current_land_use!$B$7,Value_look_up_tables!$A$197:$C$219,3,FALSE())&"|"&"DrainedArGr",Value_look_up_tables!$F$52:$H$193,3,FALSE()))),IFERROR($B15*VLOOKUP($A15&"|"&VLOOKUP(Nutrients_from_current_land_use!$B$7,Value_look_up_tables!$A$197:$C$219,3,FALSE()),Value_look_up_tables!$I$52:$K$185,3,FALSE()),$B15*VLOOKUP($A15,Value_look_up_tables!$B$52:$M$185,12,FALSE()))))) -> 0 | D15: =IF( OR(ISBLANK($A15),ISBLANK($B15),ISBLANK($B$6),ISBLANK($B$5),ISBLANK($B$7),$A15="Residential urban land",$A15="Commercial/industrial urban land",$A15="Open urban land",$A15="Greenspace",$A15="Community food growing",$A15="Woodland",$A15="Shrub",$A15="Water"),"Not applicable",IF(ISNUMBER(IFERROR($B15*VLOOKUP((IF( OR($A15="Residential urban land",$A15="Commercial/industrial urban land",$A15="Open urban land",$A15="Greenspace",$A15="Community food growing",$A15="Woodland",$A15="Shrub",$A15="Water"),"|||"&$A15,(VLOOKUP(Nutrients_from_current_land_use!$B$5,Value_look_up_tables!$A$223:$B$223,2,FALSE())&"|"&$A15&"|"&VLOOKUP(Nutrients_from_current_land_use!$B$8,Value_look_up_tables!$A$236:$B$237,2,FALSE())&"|"&VLOOKUP(Nutrients_from_current_land_use!$B$7,Value_look_up_tables!$A$197:$C$219,3,FALSE())&"|"&VLOOKUP($B$6,Value_look_up_tables!$A$227:$B$232,2,FALSE())))),Value_look_up_tables!$F$52:$H$193,3,FALSE()), IFERROR($B15*VLOOKUP($A15&"|"&VLOOKUP(Nutrients_from_current_land_use!$B$8,Value_look_up_tables!$A$236:$B$237,2,FALSE())&"|"&VLOOKUP(Nutrients_from_current_land_use!$B$7,Value_look_up_tables!$A$197:$C$219,3,FALSE())&"|"&VLOOKUP($B$6,Value_look_up_tables!$A$227:$B$232,2,FALSE()),Value_look_up_tables!$F$52:$H$193,3,FALSE()),"In the absence of real world data, this figure has been generated using the most relevant average nutrient export coefficient."))),"Not applicable","In the absence of real world data, this figure has been generated using the most relevant average nutrient export coefficient.")) -> Not applicable
C16: =IF(OR(ISBLANK($A16),ISBLANK($B16),ISBLANK($B$6),ISBLANK($B$7)),0,IFERROR($B16*VLOOKUP((IF(OR($A16="Residential urban land",$A16="Commercial/industrial urban land",$A16="Open urban land",$A16="Greenspace",$A16="Community food growing",$A16="Woodland",$A16="Shrub", $A16="Water"), "|||"&$A16, (VLOOKUP(Nutrients_from_current_land_use!$B$5,Value_look_up_tables!$A$223:$B$223,2,FALSE())&"|"&$A16&"|"&VLOOKUP(Nutrients_from_current_land_use!$B$8,Value_look_up_tables!$A$236:$B$237,2,FALSE())&"|"&VLOOKUP(Nutrients_from_current_land_use!$B$7,Value_look_up_tables!$A$197:$C$219,3,FALSE())&"|"&VLOOKUP($B$6,Value_look_up_tables!$A$227:$B$232,2,FALSE())))),Value_look_up_tables!$F$52:$H$193,3,FALSE()), IFERROR(IFERROR($B16*VLOOKUP($A16&"|"&VLOOKUP(Nutrients_from_current_land_use!$B$8,Value_look_up_tables!$A$236:$B$237,2,FALSE())&"|"&VLOOKUP(Nutrients_from_current_land_use!$B$7,Value_look_up_tables!$A$197:$C$219,3,FALSE())&"|"&VLOOKUP($B$6,Value_look_up_tables!$A$227:$B$232,2,FALSE()),Value_look_up_tables!$F$52:$H$193,3,FALSE()),IFERROR($B16*VLOOKUP($A16&"|"&"TRUE"&"|"&VLOOKUP(Nutrients_from_current_land_use!$B$7,Value_look_up_tables!$A$197:$C$219,3,FALSE())&"|"&VLOOKUP($B$6,Value_look_up_tables!$A$227:$B$232,2,FALSE()),Value_look_up_tables!$F$52:$H$193,3,FALSE()),$B16*VLOOKUP($A16&"|"&VLOOKUP(Nutrients_from_current_land_use!$B$8,Value_look_up_tables!$A$236:$B$237,2,FALSE())&"|"&VLOOKUP(Nutrients_from_current_land_use!$B$7,Value_look_up_tables!$A$197:$C$219,3,FALSE())&"|"&"DrainedArGr",Value_look_up_tables!$F$52:$H$193,3,FALSE()))),IFERROR($B16*VLOOKUP($A16&"|"&VLOOKUP(Nutrients_from_current_land_use!$B$7,Value_look_up_tables!$A$197:$C$219,3,FALSE()),Value_look_up_tables!$I$52:$K$185,3,FALSE()),$B16*VLOOKUP($A16,Value_look_up_tables!$B$52:$M$185,12,FALSE()))))) -> 0 | D16: =IF( OR(ISBLANK($A16),ISBLANK($B16),ISBLANK($B$6),ISBLANK($B$5),ISBLANK($B$7),$A16="Residential urban land",$A16="Commercial/industrial urban land",$A16="Open urban land",$A16="Greenspace",$A16="Community food growing",$A16="Woodland",$A16="Shrub",$A16="Water"),"Not applicable",IF(ISNUMBER(IFERROR($B16*VLOOKUP((IF( OR($A16="Residential urban land",$A16="Commercial/industrial urban land",$A16="Open urban land",$A16="Greenspace",$A16="Community food growing",$A16="Woodland",$A16="Shrub",$A16="Water"),"|||"&$A16,(VLOOKUP(Nutrients_from_current_land_use!$B$5,Value_look_up_tables!$A$223:$B$223,2,FALSE())&"|"&$A16&"|"&VLOOKUP(Nutrients_from_current_land_use!$B$8,Value_look_up_tables!$A$236:$B$237,2,FALSE())&"|"&VLOOKUP(Nutrients_from_current_land_use!$B$7,Value_look_up_tables!$A$197:$C$219,3,FALSE())&"|"&VLOOKUP($B$6,Value_look_up_tables!$A$227:$B$232,2,FALSE())))),Value_look_up_tables!$F$52:$H$193,3,FALSE()), IFERROR($B16*VLOOKUP($A16&"|"&VLOOKUP(Nutrients_from_current_land_use!$B$8,Value_look_up_tables!$A$236:$B$237,2,FALSE())&"|"&VLOOKUP(Nutrients_from_current_land_use!$B$7,Value_look_up_tables!$A$197:$C$219,3,FALSE())&"|"&VLOOKUP($B$6,Value_look_up_tables!$A$227:$B$232,2,FALSE()),Value_look_up_tables!$F$52:$H$193,3,FALSE()),"In the absence of real world data, this figure has been generated using the most relevant average nutrient export coefficient."))),"Not applicable","In the absence of real world data, this figure has been generated using the most relevant average nutrient export coefficient.")) -> Not applicable
C17: =IF(OR(ISBLANK($A17),ISBLANK($B17),ISBLANK($B$6),ISBLANK($B$7)),0,IFERROR($B17*VLOOKUP((IF(OR($A17="Residential urban land",$A17="Commercial/industrial urban land",$A17="Open urban land",$A17="Greenspace",$A17="Community food growing",$A17="Woodland",$A17="Shrub", $A17="Water"), "|||"&$A17, (VLOOKUP(Nutrients_from_current_land_use!$B$5,Value_look_up_tables!$A$223:$B$223,2,FALSE())&"|"&$A17&"|"&VLOOKUP(Nutrients_from_current_land_use!$B$8,Value_look_up_tables!$A$236:$B$237,2,FALSE())&"|"&VLOOKUP(Nutrients_from_current_land_use!$B$7,Value_look_up_tables!$A$197:$C$219,3,FALSE())&"|"&VLOOKUP($B$6,Value_look_up_tables!$A$227:$B$232,2,FALSE())))),Value_look_up_tables!$F$52:$H$193,3,FALSE()), IFERROR(IFERROR($B17*VLOOKUP($A17&"|"&VLOOKUP(Nutrients_from_current_land_use!$B$8,Value_look_up_tables!$A$236:$B$237,2,FALSE())&"|"&VLOOKUP(Nutrients_from_current_land_use!$B$7,Value_look_up_tables!$A$197:$C$219,3,FALSE())&"|"&VLOOKUP($B$6,Value_look_up_tables!$A$227:$B$232,2,FALSE()),Value_look_up_tables!$F$52:$H$193,3,FALSE()),IFERROR($B17*VLOOKUP($A17&"|"&"TRUE"&"|"&VLOOKUP(Nutrients_from_current_land_use!$B$7,Value_look_up_tables!$A$197:$C$219,3,FALSE())&"|"&VLOOKUP($B$6,Value_look_up_tables!$A$227:$B$232,2,FALSE()),Value_look_up_tables!$F$52:$H$193,3,FALSE()),$B17*VLOOKUP($A17&"|"&VLOOKUP(Nutrients_from_current_land_use!$B$8,Value_look_up_tables!$A$236:$B$237,2,FALSE())&"|"&VLOOKUP(Nutrients_from_current_land_use!$B$7,Value_look_up_tables!$A$197:$C$219,3,FALSE())&"|"&"DrainedArGr",Value_look_up_tables!$F$52:$H$193,3,FALSE()))),IFERROR($B17*VLOOKUP($A17&"|"&VLOOKUP(Nutrients_from_current_land_use!$B$7,Value_look_up_tables!$A$197:$C$219,3,FALSE()),Value_look_up_tables!$I$52:$K$185,3,FALSE()),$B17*VLOOKUP($A17,Value_look_up_tables!$B$52:$M$185,12,FALSE()))))) -> 0 | D17: =IF( OR(ISBLANK($A17),ISBLANK($B17),ISBLANK($B$6),ISBLANK($B$5),ISBLANK($B$7),$A17="Residential urban land",$A17="Commercial/industrial urban land",$A17="Open urban land",$A17="Greenspace",$A17="Community food growing",$A17="Woodland",$A17="Shrub",$A17="Water"),"Not applicable",IF(ISNUMBER(IFERROR($B17*VLOOKUP((IF( OR($A17="Residential urban land",$A17="Commercial/industrial urban land",$A17="Open urban land",$A17="Greenspace",$A17="Community food growing",$A17="Woodland",$A17="Shrub",$A17="Water"),"|||"&$A17,(VLOOKUP(Nutrients_from_current_land_use!$B$5,Value_look_up_tables!$A$223:$B$223,2,FALSE())&"|"&$A17&"|"&VLOOKUP(Nutrients_from_current_land_use!$B$8,Value_look_up_tables!$A$236:$B$237,2,FALSE())&"|"&VLOOKUP(Nutrients_from_current_land_use!$B$7,Value_look_up_tables!$A$197:$C$219,3,FALSE())&"|"&VLOOKUP($B$6,Value_look_up_tables!$A$227:$B$232,2,FALSE())))),Value_look_up_tables!$F$52:$H$193,3,FALSE()), IFERROR($B17*VLOOKUP($A17&"|"&VLOOKUP(Nutrients_from_current_land_use!$B$8,Value_look_up_tables!$A$236:$B$237,2,FALSE())&"|"&VLOOKUP(Nutrients_from_current_land_use!$B$7,Value_look_up_tables!$A$197:$C$219,3,FALSE())&"|"&VLOOKUP($B$6,Value_look_up_tables!$A$227:$B$232,2,FALSE()),Value_look_up_tables!$F$52:$H$193,3,FALSE()),"In the absence of real world data, this figure has been generated using the most relevant average nutrient export coefficient."))),"Not applicable","In the absence of real world data, this figure has been generated using the most relevant average nutrient export coefficient.")) -> Not applicable
C18: =IF(OR(ISBLANK($A18),ISBLANK($B18),ISBLANK($B$6),ISBLANK($B$7)),0,IFERROR($B18*VLOOKUP((IF(OR($A18="Residential urban land",$A18="Commercial/industrial urban land",$A18="Open urban land",$A18="Greenspace",$A18="Community food growing",$A18="Woodland",$A18="Shrub", $A18="Water"), "|||"&$A18, (VLOOKUP(Nutrients_from_current_land_use!$B$5,Value_look_up_tables!$A$223:$B$223,2,FALSE())&"|"&$A18&"|"&VLOOKUP(Nutrients_from_current_land_use!$B$8,Value_look_up_tables!$A$236:$B$237,2,FALSE())&"|"&VLOOKUP(Nutrients_from_current_land_use!$B$7,Value_look_up_tables!$A$197:$C$219,3,FALSE())&"|"&VLOOKUP($B$6,Value_look_up_tables!$A$227:$B$232,2,FALSE())))),Value_look_up_tables!$F$52:$H$193,3,FALSE()), IFERROR(IFERROR($B18*VLOOKUP($A18&"|"&VLOOKUP(Nutrients_from_current_land_use!$B$8,Value_look_up_tables!$A$236:$B$237,2,FALSE())&"|"&VLOOKUP(Nutrients_from_current_land_use!$B$7,Value_look_up_tables!$A$197:$C$219,3,FALSE())&"|"&VLOOKUP($B$6,Value_look_up_tables!$A$227:$B$232,2,FALSE()),Value_look_up_tables!$F$52:$H$193,3,FALSE()),IFERROR($B18*VLOOKUP($A18&"|"&"TRUE"&"|"&VLOOKUP(Nutrients_from_current_land_use!$B$7,Value_look_up_tables!$A$197:$C$219,3,FALSE())&"|"&VLOOKUP($B$6,Value_look_up_tables!$A$227:$B$232,2,FALSE()),Value_look_up_tables!$F$52:$H$193,3,FALSE()),$B18*VLOOKUP($A18&"|"&VLOOKUP(Nutrients_from_current_land_use!$B$8,Value_look_up_tables!$A$236:$B$237,2,FALSE())&"|"&VLOOKUP(Nutrients_from_current_land_use!$B$7,Value_look_up_tables!$A$197:$C$219,3,FALSE())&"|"&"DrainedArGr",Value_look_up_tables!$F$52:$H$193,3,FALSE()))),IFERROR($B18*VLOOKUP($A18&"|"&VLOOKUP(Nutrients_from_current_land_use!$B$7,Value_look_up_tables!$A$197:$C$219,3,FALSE()),Value_look_up_tables!$I$52:$K$185,3,FALSE()),$B18*VLOOKUP($A18,Value_look_up_tables!$B$52:$M$185,12,FALSE()))))) -> 0 | D18: =IF( OR(ISBLANK($A18),ISBLANK($B18),ISBLANK($B$6),ISBLANK($B$5),ISBLANK($B$7),$A18="Residential urban land",$A18="Commercial/industrial urban land",$A18="Open urban land",$A18="Greenspace",$A18="Community food growing",$A18="Woodland",$A18="Shrub",$A18="Water"),"Not applicable",IF(ISNUMBER(IFERROR($B18*VLOOKUP((IF( OR($A18="Residential urban land",$A18="Commercial/industrial urban land",$A18="Open urban land",$A18="Greenspace",$A18="Community food growing",$A18="Woodland",$A18="Shrub",$A18="Water"),"|||"&$A18,(VLOOKUP(Nutrients_from_current_land_use!$B$5,Value_look_up_tables!$A$223:$B$223,2,FALSE())&"|"&$A18&"|"&VLOOKUP(Nutrients_from_current_land_use!$B$8,Value_look_up_tables!$A$236:$B$237,2,FALSE())&"|"&VLOOKUP(Nutrients_from_current_land_use!$B$7,Value_look_up_tables!$A$197:$C$219,3,FALSE())&"|"&VLOOKUP($B$6,Value_look_up_tables!$A$227:$B$232,2,FALSE())))),Value_look_up_tables!$F$52:$H$193,3,FALSE()), IFERROR($B18*VLOOKUP($A18&"|"&VLOOKUP(Nutrients_from_current_land_use!$B$8,Value_look_up_tables!$A$236:$B$237,2,FALSE())&"|"&VLOOKUP(Nutrients_from_current_land_use!$B$7,Value_look_up_tables!$A$197:$C$219,3,FALSE())&"|"&VLOOKUP($B$6,Value_look_up_tables!$A$227:$B$232,2,FALSE()),Value_look_up_tables!$F$52:$H$193,3,FALSE()),"In the absence of real world data, this figure has been generated using the most relevant average nutrient export coefficient."))),"Not applicable","In the absence of real world data, this figure has been generated using the most relevant average nutrient export coefficient.")) -> Not applicable
C19: =IF(OR(ISBLANK($A19),ISBLANK($B19),ISBLANK($B$6),ISBLANK($B$7)),0,IFERROR($B19*VLOOKUP((IF(OR($A19="Residential urban land",$A19="Commercial/industrial urban land",$A19="Open urban land",$A19="Greenspace",$A19="Community food growing",$A19="Woodland",$A19="Shrub", $A19="Water"), "|||"&$A19, (VLOOKUP(Nutrients_from_current_land_use!$B$5,Value_look_up_tables!$A$223:$B$223,2,FALSE())&"|"&$A19&"|"&VLOOKUP(Nutrients_from_current_land_use!$B$8,Value_look_up_tables!$A$236:$B$237,2,FALSE())&"|"&VLOOKUP(Nutrients_from_current_land_use!$B$7,Value_look_up_tables!$A$197:$C$219,3,FALSE())&"|"&VLOOKUP($B$6,Value_look_up_tables!$A$227:$B$232,2,FALSE())))),Value_look_up_tables!$F$52:$H$193,3,FALSE()), IFERROR(IFERROR($B19*VLOOKUP($A19&"|"&VLOOKUP(Nutrients_from_current_land_use!$B$8,Value_look_up_tables!$A$236:$B$237,2,FALSE())&"|"&VLOOKUP(Nutrients_from_current_land_use!$B$7,Value_look_up_tables!$A$197:$C$219,3,FALSE())&"|"&VLOOKUP($B$6,Value_look_up_tables!$A$227:$B$232,2,FALSE()),Value_look_up_tables!$F$52:$H$193,3,FALSE()),IFERROR($B19*VLOOKUP($A19&"|"&"TRUE"&"|"&VLOOKUP(Nutrients_from_current_land_use!$B$7,Value_look_up_tables!$A$197:$C$219,3,FALSE())&"|"&VLOOKUP($B$6,Value_look_up_tables!$A$227:$B$232,2,FALSE()),Value_look_up_tables!$F$52:$H$193,3,FALSE()),$B19*VLOOKUP($A19&"|"&VLOOKUP(Nutrients_from_current_land_use!$B$8,Value_look_up_tables!$A$236:$B$237,2,FALSE())&"|"&VLOOKUP(Nutrients_from_current_land_use!$B$7,Value_look_up_tables!$A$197:$C$219,3,FALSE())&"|"&"DrainedArGr",Value_look_up_tables!$F$52:$H$193,3,FALSE()))),IFERROR($B19*VLOOKUP($A19&"|"&VLOOKUP(Nutrients_from_current_land_use!$B$7,Value_look_up_tables!$A$197:$C$219,3,FALSE()),Value_look_up_tables!$I$52:$K$185,3,FALSE()),$B19*VLOOKUP($A19,Value_look_up_tables!$B$52:$M$185,12,FALSE()))))) -> 0 | D19: =IF( OR(ISBLANK($A19),ISBLANK($B19),ISBLANK($B$6),ISBLANK($B$5),ISBLANK($B$7),$A19="Residential urban land",$A19="Commercial/industrial urban land",$A19="Open urban land",$A19="Greenspace",$A19="Community food growing",$A19="Woodland",$A19="Shrub",$A19="Water"),"Not applicable",IF(ISNUMBER(IFERROR($B19*VLOOKUP((IF( OR($A19="Residential urban land",$A19="Commercial/industrial urban land",$A19="Open urban land",$A19="Greenspace",$A19="Community food growing",$A19="Woodland",$A19="Shrub",$A19="Water"),"|||"&$A19,(VLOOKUP(Nutrients_from_current_land_use!$B$5,Value_look_up_tables!$A$223:$B$223,2,FALSE())&"|"&$A19&"|"&VLOOKUP(Nutrients_from_current_land_use!$B$8,Value_look_up_tables!$A$236:$B$237,2,FALSE())&"|"&VLOOKUP(Nutrients_from_current_land_use!$B$7,Value_look_up_tables!$A$197:$C$219,3,FALSE())&"|"&VLOOKUP($B$6,Value_look_up_tables!$A$227:$B$232,2,FALSE())))),Value_look_up_tables!$F$52:$H$193,3,FALSE()), IFERROR($B19*VLOOKUP($A19&"|"&VLOOKUP(Nutrients_from_current_land_use!$B$8,Value_look_up_tables!$A$236:$B$237,2,FALSE())&"|"&VLOOKUP(Nutrients_from_current_land_use!$B$7,Value_look_up_tables!$A$197:$C$219,3,FALSE())&"|"&VLOOKUP($B$6,Value_look_up_tables!$A$227:$B$232,2,FALSE()),Value_look_up_tables!$F$52:$H$193,3,FALSE()),"In the absence of real world data, this figure has been generated using the most relevant average nutrient export coefficient."))),"Not applicable","In the absence of real world data, this figure has been generated using the most relevant average nutrient export coefficient.")) -> Not applicable
C20: =IF(OR(ISBLANK($A20),ISBLANK($B20),ISBLANK($B$6),ISBLANK($B$7)),0,IFERROR($B20*VLOOKUP((IF(OR($A20="Residential urban land",$A20="Commercial/industrial urban land",$A20="Open urban land",$A20="Greenspace",$A20="Community food growing",$A20="Woodland",$A20="Shrub", $A20="Water"), "|||"&$A20, (VLOOKUP(Nutrients_from_current_land_use!$B$5,Value_look_up_tables!$A$223:$B$223,2,FALSE())&"|"&$A20&"|"&VLOOKUP(Nutrients_from_current_land_use!$B$8,Value_look_up_tables!$A$236:$B$237,2,FALSE())&"|"&VLOOKUP(Nutrients_from_current_land_use!$B$7,Value_look_up_tables!$A$197:$C$219,3,FALSE())&"|"&VLOOKUP($B$6,Value_look_up_tables!$A$227:$B$232,2,FALSE())))),Value_look_up_tables!$F$52:$H$193,3,FALSE()), IFERROR(IFERROR($B20*VLOOKUP($A20&"|"&VLOOKUP(Nutrients_from_current_land_use!$B$8,Value_look_up_tables!$A$236:$B$237,2,FALSE())&"|"&VLOOKUP(Nutrients_from_current_land_use!$B$7,Value_look_up_tables!$A$197:$C$219,3,FALSE())&"|"&VLOOKUP($B$6,Value_look_up_tables!$A$227:$B$232,2,FALSE()),Value_look_up_tables!$F$52:$H$193,3,FALSE()),IFERROR($B20*VLOOKUP($A20&"|"&"TRUE"&"|"&VLOOKUP(Nutrients_from_current_land_use!$B$7,Value_look_up_tables!$A$197:$C$219,3,FALSE())&"|"&VLOOKUP($B$6,Value_look_up_tables!$A$227:$B$232,2,FALSE()),Value_look_up_tables!$F$52:$H$193,3,FALSE()),$B20*VLOOKUP($A20&"|"&VLOOKUP(Nutrients_from_current_land_use!$B$8,Value_look_up_tables!$A$236:$B$237,2,FALSE())&"|"&VLOOKUP(Nutrients_from_current_land_use!$B$7,Value_look_up_tables!$A$197:$C$219,3,FALSE())&"|"&"DrainedArGr",Value_look_up_tables!$F$52:$H$193,3,FALSE()))),IFERROR($B20*VLOOKUP($A20&"|"&VLOOKUP(Nutrients_from_current_land_use!$B$7,Value_look_up_tables!$A$197:$C$219,3,FALSE()),Value_look_up_tables!$I$52:$K$185,3,FALSE()),$B20*VLOOKUP($A20,Value_look_up_tables!$B$52:$M$185,12,FALSE()))))) -> 0 | D20: =IF( OR(ISBLANK($A20),ISBLANK($B20),ISBLANK($B$6),ISBLANK($B$5),ISBLANK($B$7),$A20="Residential urban land",$A20="Commercial/industrial urban land",$A20="Open urban land",$A20="Greenspace",$A20="Community food growing",$A20="Woodland",$A20="Shrub",$A20="Water"),"Not applicable",IF(ISNUMBER(IFERROR($B20*VLOOKUP((IF( OR($A20="Residential urban land",$A20="Commercial/industrial urban land",$A20="Open urban land",$A20="Greenspace",$A20="Community food growing",$A20="Woodland",$A20="Shrub",$A20="Water"),"|||"&$A20,(VLOOKUP(Nutrients_from_current_land_use!$B$5,Value_look_up_tables!$A$223:$B$223,2,FALSE())&"|"&$A20&"|"&VLOOKUP(Nutrients_from_current_land_use!$B$8,Value_look_up_tables!$A$236:$B$237,2,FALSE())&"|"&VLOOKUP(Nutrients_from_current_land_use!$B$7,Value_look_up_tables!$A$197:$C$219,3,FALSE())&"|"&VLOOKUP($B$6,Value_look_up_tables!$A$227:$B$232,2,FALSE())))),Value_look_up_tables!$F$52:$H$193,3,FALSE()), IFERROR($B20*VLOOKUP($A20&"|"&VLOOKUP(Nutrients_from_current_land_use!$B$8,Value_look_up_tables!$A$236:$B$237,2,FALSE())&"|"&VLOOKUP(Nutrients_from_current_land_use!$B$7,Value_look_up_tables!$A$197:$C$219,3,FALSE())&"|"&VLOOKUP($B$6,Value_look_up_tables!$A$227:$B$232,2,FALSE()),Value_look_up_tables!$F$52:$H$193,3,FALSE()),"In the absence of real world data, this figure has been generated using the most relevant average nutrient export coefficient."))),"Not applicable","In the absence of real world data, this figure has been generated using the most relevant average nutrient export coefficient.")) -> Not applicable
C21: =IF(OR(ISBLANK($A21),ISBLANK($B21),ISBLANK($B$6),ISBLANK($B$7)),0,IFERROR($B21*VLOOKUP((IF(OR($A21="Residential urban land",$A21="Commercial/industrial urban land",$A21="Open urban land",$A21="Greenspace",$A21="Community food growing",$A21="Woodland",$A21="Shrub", $A21="Water"), "|||"&$A21, (VLOOKUP(Nutrients_from_current_land_use!$B$5,Value_look_up_tables!$A$223:$B$223,2,FALSE())&"|"&$A21&"|"&VLOOKUP(Nutrients_from_current_land_use!$B$8,Value_look_up_tables!$A$236:$B$237,2,FALSE())&"|"&VLOOKUP(Nutrients_from_current_land_use!$B$7,Value_look_up_tables!$A$197:$C$219,3,FALSE())&"|"&VLOOKUP($B$6,Value_look_up_tables!$A$227:$B$232,2,FALSE())))),Value_look_up_tables!$F$52:$H$193,3,FALSE()), IFERROR(IFERROR($B21*VLOOKUP($A21&"|"&VLOOKUP(Nutrients_from_current_land_use!$B$8,Value_look_up_tables!$A$236:$B$237,2,FALSE())&"|"&VLOOKUP(Nutrients_from_current_land_use!$B$7,Value_look_up_tables!$A$197:$C$219,3,FALSE())&"|"&VLOOKUP($B$6,Value_look_up_tables!$A$227:$B$232,2,FALSE()),Value_look_up_tables!$F$52:$H$193,3,FALSE()),IFERROR($B21*VLOOKUP($A21&"|"&"TRUE"&"|"&VLOOKUP(Nutrients_from_current_land_use!$B$7,Value_look_up_tables!$A$197:$C$219,3,FALSE())&"|"&VLOOKUP($B$6,Value_look_up_tables!$A$227:$B$232,2,FALSE()),Value_look_up_tables!$F$52:$H$193,3,FALSE()),$B21*VLOOKUP($A21&"|"&VLOOKUP(Nutrients_from_current_land_use!$B$8,Value_look_up_tables!$A$236:$B$237,2,FALSE())&"|"&VLOOKUP(Nutrients_from_current_land_use!$B$7,Value_look_up_tables!$A$197:$C$219,3,FALSE())&"|"&"DrainedArGr",Value_look_up_tables!$F$52:$H$193,3,FALSE()))),IFERROR($B21*VLOOKUP($A21&"|"&VLOOKUP(Nutrients_from_current_land_use!$B$7,Value_look_up_tables!$A$197:$C$219,3,FALSE()),Value_look_up_tables!$I$52:$K$185,3,FALSE()),$B21*VLOOKUP($A21,Value_look_up_tables!$B$52:$M$185,12,FALSE()))))) -> 0 | D21: =IF( OR(ISBLANK($A21),ISBLANK($B21),ISBLANK($B$6),ISBLANK($B$5),ISBLANK($B$7),$A21="Residential urban land",$A21="Commercial/industrial urban land",$A21="Open urban land",$A21="Greenspace",$A21="Community food growing",$A21="Woodland",$A21="Shrub",$A21="Water"),"Not applicable",IF(ISNUMBER(IFERROR($B21*VLOOKUP((IF( OR($A21="Residential urban land",$A21="Commercial/industrial urban land",$A21="Open urban land",$A21="Greenspace",$A21="Community food growing",$A21="Woodland",$A21="Shrub",$A21="Water"),"|||"&$A21,(VLOOKUP(Nutrients_from_current_land_use!$B$5,Value_look_up_tables!$A$223:$B$223,2,FALSE())&"|"&$A21&"|"&VLOOKUP(Nutrients_from_current_land_use!$B$8,Value_look_up_tables!$A$236:$B$237,2,FALSE())&"|"&VLOOKUP(Nutrients_from_current_land_use!$B$7,Value_look_up_tables!$A$197:$C$219,3,FALSE())&"|"&VLOOKUP($B$6,Value_look_up_tables!$A$227:$B$232,2,FALSE())))),Value_look_up_tables!$F$52:$H$193,3,FALSE()), IFERROR($B21*VLOOKUP($A21&"|"&VLOOKUP(Nutrients_from_current_land_use!$B$8,Value_look_up_tables!$A$236:$B$237,2,FALSE())&"|"&VLOOKUP(Nutrients_from_current_land_use!$B$7,Value_look_up_tables!$A$197:$C$219,3,FALSE())&"|"&VLOOKUP($B$6,Value_look_up_tables!$A$227:$B$232,2,FALSE()),Value_look_up_tables!$F$52:$H$193,3,FALSE()),"In the absence of real world data, this figure has been generated using the most relevant average nutrient export coefficient."))),"Not applicable","In the absence of real world data, this figure has been generated using the most relevant average nutrient export coefficient.")) -> Not applicable
C22: =IF(OR(ISBLANK($A22),ISBLANK($B22),ISBLANK($B$6),ISBLANK($B$7)),0,IFERROR($B22*VLOOKUP((IF(OR($A22="Residential urban land",$A22="Commercial/industrial urban land",$A22="Open urban land",$A22="Greenspace",$A22="Community food growing",$A22="Woodland",$A22="Shrub", $A22="Water"), "|||"&$A22, (VLOOKUP(Nutrients_from_current_land_use!$B$5,Value_look_up_tables!$A$223:$B$223,2,FALSE())&"|"&$A22&"|"&VLOOKUP(Nutrients_from_current_land_use!$B$8,Value_look_up_tables!$A$236:$B$237,2,FALSE())&"|"&VLOOKUP(Nutrients_from_current_land_use!$B$7,Value_look_up_tables!$A$197:$C$219,3,FALSE())&"|"&VLOOKUP($B$6,Value_look_up_tables!$A$227:$B$232,2,FALSE())))),Value_look_up_tables!$F$52:$H$193,3,FALSE()), IFERROR(IFERROR($B22*VLOOKUP($A22&"|"&VLOOKUP(Nutrients_from_current_land_use!$B$8,Value_look_up_tables!$A$236:$B$237,2,FALSE())&"|"&VLOOKUP(Nutrients_from_current_land_use!$B$7,Value_look_up_tables!$A$197:$C$219,3,FALSE())&"|"&VLOOKUP($B$6,Value_look_up_tables!$A$227:$B$232,2,FALSE()),Value_look_up_tables!$F$52:$H$193,3,FALSE()),IFERROR($B22*VLOOKUP($A22&"|"&"TRUE"&"|"&VLOOKUP(Nutrients_from_current_land_use!$B$7,Value_look_up_tables!$A$197:$C$219,3,FALSE())&"|"&VLOOKUP($B$6,Value_look_up_tables!$A$227:$B$232,2,FALSE()),Value_look_up_tables!$F$52:$H$193,3,FALSE()),$B22*VLOOKUP($A22&"|"&VLOOKUP(Nutrients_from_current_land_use!$B$8,Value_look_up_tables!$A$236:$B$237,2,FALSE())&"|"&VLOOKUP(Nutrients_from_current_land_use!$B$7,Value_look_up_tables!$A$197:$C$219,3,FALSE())&"|"&"DrainedArGr",Value_look_up_tables!$F$52:$H$193,3,FALSE()))),IFERROR($B22*VLOOKUP($A22&"|"&VLOOKUP(Nutrients_from_current_land_use!$B$7,Value_look_up_tables!$A$197:$C$219,3,FALSE()),Value_look_up_tables!$I$52:$K$185,3,FALSE()),$B22*VLOOKUP($A22,Value_look_up_tables!$B$52:$M$185,12,FALSE()))))) -> 0 | D22: =IF( OR(ISBLANK($A22),ISBLANK($B22),ISBLANK($B$6),ISBLANK($B$5),ISBLANK($B$7),$A22="Residential urban land",$A22="Commercial/industrial urban land",$A22="Open urban land",$A22="Greenspace",$A22="Community food growing",$A22="Woodland",$A22="Shrub",$A22="Water"),"Not applicable",IF(ISNUMBER(IFERROR($B22*VLOOKUP((IF( OR($A22="Residential urban land",$A22="Commercial/industrial urban land",$A22="Open urban land",$A22="Greenspace",$A22="Community food growing",$A22="Woodland",$A22="Shrub",$A22="Water"),"|||"&$A22,(VLOOKUP(Nutrients_from_current_land_use!$B$5,Value_look_up_tables!$A$223:$B$223,2,FALSE())&"|"&$A22&"|"&VLOOKUP(Nutrients_from_current_land_use!$B$8,Value_look_up_tables!$A$236:$B$237,2,FALSE())&"|"&VLOOKUP(Nutrients_from_current_land_use!$B$7,Value_look_up_tables!$A$197:$C$219,3,FALSE())&"|"&VLOOKUP($B$6,Value_look_up_tables!$A$227:$B$232,2,FALSE())))),Value_look_up_tables!$F$52:$H$193,3,FALSE()), IFERROR($B22*VLOOKUP($A22&"|"&VLOOKUP(Nutrients_from_current_land_use!$B$8,Value_look_up_tables!$A$236:$B$237,2,FALSE())&"|"&VLOOKUP(Nutrients_from_current_land_use!$B$7,Value_look_up_tables!$A$197:$C$219,3,FALSE())&"|"&VLOOKUP($B$6,Value_look_up_tables!$A$227:$B$232,2,FALSE()),Value_look_up_tables!$F$52:$H$193,3,FALSE()),"In the absence of real world data, this figure has been generated using the most relevant average nutrient export coefficient."))),"Not applicable","In the absence of real world data, this figure has been generated using the most relevant average nutrient export coefficient.")) -> Not applicable
C23: =IF(OR(ISBLANK($A23),ISBLANK($B23),ISBLANK($B$6),ISBLANK($B$7)),0,IFERROR($B23*VLOOKUP((IF(OR($A23="Residential urban land",$A23="Commercial/industrial urban land",$A23="Open urban land",$A23="Greenspace",$A23="Community food growing",$A23="Woodland",$A23="Shrub", $A23="Water"), "|||"&$A23, (VLOOKUP(Nutrients_from_current_land_use!$B$5,Value_look_up_tables!$A$223:$B$223,2,FALSE())&"|"&$A23&"|"&VLOOKUP(Nutrients_from_current_land_use!$B$8,Value_look_up_tables!$A$236:$B$237,2,FALSE())&"|"&VLOOKUP(Nutrients_from_current_land_use!$B$7,Value_look_up_tables!$A$197:$C$219,3,FALSE())&"|"&VLOOKUP($B$6,Value_look_up_tables!$A$227:$B$232,2,FALSE())))),Value_look_up_tables!$F$52:$H$193,3,FALSE()), IFERROR(IFERROR($B23*VLOOKUP($A23&"|"&VLOOKUP(Nutrients_from_current_land_use!$B$8,Value_look_up_tables!$A$236:$B$237,2,FALSE())&"|"&VLOOKUP(Nutrients_from_current_land_use!$B$7,Value_look_up_tables!$A$197:$C$219,3,FALSE())&"|"&VLOOKUP($B$6,Value_look_up_tables!$A$227:$B$232,2,FALSE()),Value_look_up_tables!$F$52:$H$193,3,FALSE()),IFERROR($B23*VLOOKUP($A23&"|"&"TRUE"&"|"&VLOOKUP(Nutrients_from_current_land_use!$B$7,Value_look_up_tables!$A$197:$C$219,3,FALSE())&"|"&VLOOKUP($B$6,Value_look_up_tables!$A$227:$B$232,2,FALSE()),Value_look_up_tables!$F$52:$H$193,3,FALSE()),$B23*VLOOKUP($A23&"|"&VLOOKUP(Nutrients_from_current_land_use!$B$8,Value_look_up_tables!$A$236:$B$237,2,FALSE())&"|"&VLOOKUP(Nutrients_from_current_land_use!$B$7,Value_look_up_tables!$A$197:$C$219,3,FALSE())&"|"&"DrainedArGr",Value_look_up_tables!$F$52:$H$193,3,FALSE()))),IFERROR($B23*VLOOKUP($A23&"|"&VLOOKUP(Nutrients_from_current_land_use!$B$7,Value_look_up_tables!$A$197:$C$219,3,FALSE()),Value_look_up_tables!$I$52:$K$185,3,FALSE()),$B23*VLOOKUP($A23,Value_look_up_tables!$B$52:$M$185,12,FALSE()))))) -> 0 | D23: =IF( OR(ISBLANK($A23),ISBLANK($B23),ISBLANK($B$6),ISBLANK($B$5),ISBLANK($B$7),$A23="Residential urban land",$A23="Commercial/industrial urban land",$A23="Open urban land",$A23="Greenspace",$A23="Community food growing",$A23="Woodland",$A23="Shrub",$A23="Water"),"Not applicable",IF(ISNUMBER(IFERROR($B23*VLOOKUP((IF( OR($A23="Residential urban land",$A23="Commercial/industrial urban land",$A23="Open urban land",$A23="Greenspace",$A23="Community food growing",$A23="Woodland",$A23="Shrub",$A23="Water"),"|||"&$A23,(VLOOKUP(Nutrients_from_current_land_use!$B$5,Value_look_up_tables!$A$223:$B$223,2,FALSE())&"|"&$A23&"|"&VLOOKUP(Nutrients_from_current_land_use!$B$8,Value_look_up_tables!$A$236:$B$237,2,FALSE())&"|"&VLOOKUP(Nutrients_from_current_land_use!$B$7,Value_look_up_tables!$A$197:$C$219,3,FALSE())&"|"&VLOOKUP($B$6,Value_look_up_tables!$A$227:$B$232,2,FALSE())))),Value_look_up_tables!$F$52:$H$193,3,FALSE()), IFERROR($B23*VLOOKUP($A23&"|"&VLOOKUP(Nutrients_from_current_land_use!$B$8,Value_look_up_tables!$A$236:$B$237,2,FALSE())&"|"&VLOOKUP(Nutrients_from_current_land_use!$B$7,Value_look_up_tables!$A$197:$C$219,3,FALSE())&"|"&VLOOKUP($B$6,Value_look_up_tables!$A$227:$B$232,2,FALSE()),Value_look_up_tables!$F$52:$H$193,3,FALSE()),"In the absence of real world data, this figure has been generated using the most relevant average nutrient export coefficient."))),"Not applicable","In the absence of real world data, this figure has been generated using the most relevant average nutrient export coefficient.")) -> Not applicable
... C27: =IF(OR(ISBLANK($A27),ISBLANK($B27),ISBLANK($B$6),ISBLANK($B$7)),0,IFERROR($B27*VLOOKUP((IF(OR($A27="Residential urban land",$A27="Commercial/industrial urban land",$A27="Open urban land",$A27="Greenspace",$A27="Community food growing",$A27="Woodland",$A27="Shrub", $A27="Water"), "|||"&$A27, (VLOOKUP(Nutrients_from_current_land_use!$B$5,Value_look_up_tables!$A$223:$B$223,2,FALSE())&"|"&$A27&"|"&VLOOKUP(Nutrients_from_current_land_use!$B$8,Value_look_up_tables!$A$236:$B$237,2,FALSE())&"|"&VLOOKUP(Nutrients_from_current_land_use!$B$7,Value_look_up_tables!$A$197:$C$219,3,FALSE())&"|"&VLOOKUP($B$6,Value_look_up_tables!$A$227:$B$232,2,FALSE())))),Value_look_up_tables!$F$52:$H$193,3,FALSE()), IFERROR(IFERROR($B27*VLOOKUP($A27&"|"&VLOOKUP(Nutrients_from_current_land_use!$B$8,Value_look_up_tables!$A$236:$B$237,2,FALSE())&"|"&VLOOKUP(Nutrients_from_current_land_use!$B$7,Value_look_up_tables!$A$197:$C$219,3,FALSE())&"|"&VLOOKUP($B$6,Value_look_up_tables!$A$227:$B$232,2,FALSE()),Value_look_up_tables!$F$52:$H$193,3,FALSE()),IFERROR($B27*VLOOKUP($A27&"|"&"TRUE"&"|"&VLOOKUP(Nutrients_from_current_land_use!$B$7,Value_look_up_tables!$A$197:$C$219,3,FALSE())&"|"&VLOOKUP($B$6,Value_look_up_tables!$A$227:$B$232,2,FALSE()),Value_look_up_tables!$F$52:$H$193,3,FALSE()),$B27*VLOOKUP($A27&"|"&VLOOKUP(Nutrients_from_current_land_use!$B$8,Value_look_up_tables!$A$236:$B$237,2,FALSE())&"|"&VLOOKUP(Nutrients_from_current_land_use!$B$7,Value_look_up_tables!$A$197:$C$219,3,FALSE())&"|"&"DrainedArGr",Value_look_up_tables!$F$52:$H$193,3,FALSE()))),IFERROR($B27*VLOOKUP($A27&"|"&VLOOKUP(Nutrients_from_current_land_use!$B$7,Value_look_up_tables!$A$197:$C$219,3,FALSE()),Value_look_up_tables!$I$52:$K$185,3,FALSE()),$B27*VLOOKUP($A27,Value_look_up_tables!$B$52:$M$185,12,FALSE()))))) -> 0 | D27: =IF( OR(ISBLANK($A27),ISBLANK($B27),ISBLANK($B$6),ISBLANK($B$5),ISBLANK($B$7),$A27="Residential urban land",$A27="Commercial/industrial urban land",$A27="Open urban land",$A27="Greenspace",$A27="Community food growing",$A27="Woodland",$A27="Shrub",$A27="Water"),"Not applicable",IF(ISNUMBER(IFERROR($B27*VLOOKUP((IF( OR($A27="Residential urban land",$A27="Commercial/industrial urban land",$A27="Open urban land",$A27="Greenspace",$A27="Community food growing",$A27="Woodland",$A27="Shrub",$A27="Water"),"|||"&$A27,(VLOOKUP(Nutrients_from_current_land_use!$B$5,Value_look_up_tables!$A$223:$B$223,2,FALSE())&"|"&$A27&"|"&VLOOKUP(Nutrients_from_current_land_use!$B$8,Value_look_up_tables!$A$236:$B$237,2,FALSE())&"|"&VLOOKUP(Nutrients_from_current_land_use!$B$7,Value_look_up_tables!$A$197:$C$219,3,FALSE())&"|"&VLOOKUP($B$6,Value_look_up_tables!$A$227:$B$232,2,FALSE())))),Value_look_up_tables!$F$52:$H$193,3,FALSE()), IFERROR($B27*VLOOKUP($A27&"|"&VLOOKUP(Nutrients_from_current_land_use!$B$8,Value_look_up_tables!$A$236:$B$237,2,FALSE())&"|"&VLOOKUP(Nutrients_from_current_land_use!$B$7,Value_look_up_tables!$A$197:$C$219,3,FALSE())&"|"&VLOOKUP($B$6,Value_look_up_tables!$A$227:$B$232,2,FALSE()),Value_look_up_tables!$F$52:$H$193,3,FALSE()),"In the absence of real world data, this figure has been generated using the most relevant average nutrient export coefficient."))),"Not applicable","In the absence of real world data, this figure has been generated using the most relevant average nutrient export coefficient.")) -> Not applicable
A28: Totals: | B28: =SUM(B11:B27) -> 0.02 | C28: =SUM(C11:C27) -> 0.033027379

Sheet Nutrients_from_future_land_use
A1: Nutrients from future land use
A2: This sheet contains one table. Note: You will need to fill in cells A5 to A21 and B5 to B21. Cells B22 and C5 to C22 are automatically generated calculations and will state '0.00' unless the user inputs have been entered. Row 22 is a Total Row. The Total Row states 'Totals:' in cell A22 and automatically calculates the total sum of cells B5 to B21 in cell B22 and C5 to C21 in cell C22. How to fill in the table 'Future land uses' Cells A5-A21: Choose the future (post-development) land use type(s) of landcover present on the new site from the dropdown list Cells B5-B21: Enter the area in hectares of each land use type. The nutrient load from future land uses is shown in cells C5 to C21 for total phosphorus (TP). The total nutrient load from future land uses is shown in cell C22 for TP.
A3: Future land uses
A4: New land use type(s) - user inputs required | B4: Area (ha) - user inputs required | C4: Annual phosphorus export (kg TP/yr)
A5: Residential urban land | B5: 0.02 | C5: =IFERROR(IF(OR(ISBLANK(A5),ISBLANK(B5)),0,B5*VLOOKUP((IF(OR(A5="Residential urban land",A5="Commercial/industrial urban land",A5="Open urban land",A5="Greenspace",A5="Community food growing",A5="Woodland",A5="Shrub", A5="Water"), "|||"&A5, (VLOOKUP(Nutrients_from_current_land_use!$B$5,Value_look_up_tables!$A$223:$B$223,2,FALSE())&"|"&A5&"|"&VLOOKUP(Nutrients_from_current_land_use!$B$8,Value_look_up_tables!$A$236:$B$237,2,FALSE())&"|"&VLOOKUP(Nutrients_from_current_land_use!$B$7,Value_look_up_tables!$A$197:$C$219,3,FALSE())&"|"&VLOOKUP(Nutrients_from_current_land_use!$B$6,Value_look_up_tables!$A$227:$B$232,2,FALSE())))),Value_look_up_tables!$F$52:$H$193,3,FALSE())),0) -> 0.033027379
C6: =IFERROR(IF(OR(ISBLANK(A6),ISBLANK(B6)),0,B6*VLOOKUP((IF(OR(A6="Residential urban land",A6="Commercial/industrial urban land",A6="Open urban land",A6="Greenspace",A6="Community food growing",A6="Woodland",A6="Shrub", A6="Water"), "|||"&A6, (VLOOKUP(Nutrients_from_current_land_use!$B$5,Value_look_up_tables!$A$223:$B$223,2,FALSE())&"|"&A6&"|"&VLOOKUP(Nutrients_from_current_land_use!$B$8,Value_look_up_tables!$A$236:$B$237,2,FALSE())&"|"&VLOOKUP(Nutrients_from_current_land_use!$B$7,Value_look_up_tables!$A$197:$C$219,3,FALSE())&"|"&VLOOKUP(Nutrients_from_current_land_use!$B$6,Value_look_up_tables!$A$227:$B$232,2,FALSE())))),Value_look_up_tables!$F$52:$H$193,3,FALSE())),0) -> 0
C7: =IFERROR(IF(OR(ISBLANK(A7),ISBLANK(B7)),0,B7*VLOOKUP((IF(OR(A7="Residential urban land",A7="Commercial/industrial urban land",A7="Open urban land",A7="Greenspace",A7="Community food growing",A7="Woodland",A7="Shrub", A7="Water"), "|||"&A7, (VLOOKUP(Nutrients_from_current_land_use!$B$5,Value_look_up_tables!$A$223:$B$223,2,FALSE())&"|"&A7&"|"&VLOOKUP(Nutrients_from_current_land_use!$B$8,Value_look_up_tables!$A$236:$B$237,2,FALSE())&"|"&VLOOKUP(Nutrients_from_current_land_use!$B$7,Value_look_up_tables!$A$197:$C$219,3,FALSE())&"|"&VLOOKUP(Nutrients_from_current_land_use!$B$6,Value_look_up_tables!$A$227:$B$232,2,FALSE())))),Value_look_up_tables!$F$52:$H$193,3,FALSE())),0) -> 0
C8: =IFERROR(IF(OR(ISBLANK(A8),ISBLANK(B8)),0,B8*VLOOKUP((IF(OR(A8="Residential urban land",A8="Commercial/industrial urban land",A8="Open urban land",A8="Greenspace",A8="Community food growing",A8="Woodland",A8="Shrub", A8="Water"), "|||"&A8, (VLOOKUP(Nutrients_from_current_land_use!$B$5,Value_look_up_tables!$A$223:$B$223,2,FALSE())&"|"&A8&"|"&VLOOKUP(Nutrients_from_current_land_use!$B$8,Value_look_up_tables!$A$236:$B$237,2,FALSE())&"|"&VLOOKUP(Nutrients_from_current_land_use!$B$7,Value_look_up_tables!$A$197:$C$219,3,FALSE())&"|"&VLOOKUP(Nutrients_from_current_land_use!$B$6,Value_look_up_tables!$A$227:$B$232,2,FALSE())))),Value_look_up_tables!$F$52:$H$193,3,FALSE())),0) -> 0
C9: =IFERROR(IF(OR(ISBLANK(A9),ISBLANK(B9)),0,B9*VLOOKUP((IF(OR(A9="Residential urban land",A9="Commercial/industrial urban land",A9="Open urban land",A9="Greenspace",A9="Community food growing",A9="Woodland",A9="Shrub", A9="Water"), "|||"&A9, (VLOOKUP(Nutrients_from_current_land_use!$B$5,Value_look_up_tables!$A$223:$B$223,2,FALSE())&"|"&A9&"|"&VLOOKUP(Nutrients_from_current_land_use!$B$8,Value_look_up_tables!$A$236:$B$237,2,FALSE())&"|"&VLOOKUP(Nutrients_from_current_land_use!$B$7,Value_look_up_tables!$A$197:$C$219,3,FALSE())&"|"&VLOOKUP(Nutrients_from_current_land_use!$B$6,Value_look_up_tables!$A$227:$B$232,2,FALSE())))),Value_look_up_tables!$F$52:$H$193,3,FALSE())),0) -> 0
C10: =IFERROR(IF(OR(ISBLANK(A10),ISBLANK(B10)),0,B10*VLOOKUP((IF(OR(A10="Residential urban land",A10="Commercial/industrial urban land",A10="Open urban land",A10="Greenspace",A10="Community food growing",A10="Woodland",A10="Shrub", A10="Water"), "|||"&A10, (VLOOKUP(Nutrients_from_current_land_use!$B$5,Value_look_up_tables!$A$223:$B$223,2,FALSE())&"|"&A10&"|"&VLOOKUP(Nutrients_from_current_land_use!$B$8,Value_look_up_tables!$A$236:$B$237,2,FALSE())&"|"&VLOOKUP(Nutrients_from_current_land_use!$B$7,Value_look_up_tables!$A$197:$C$219,3,FALSE())&"|"&VLOOKUP(Nutrients_from_current_land_use!$B$6,Value_look_up_tables!$A$227:$B$232,2,FALSE())))),Value_look_up_tables!$F$52:$H$193,3,FALSE())),0) -> 0
C11: =IFERROR(IF(OR(ISBLANK(A11),ISBLANK(B11)),0,B11*VLOOKUP((IF(OR(A11="Residential urban land",A11="Commercial/industrial urban land",A11="Open urban land",A11="Greenspace",A11="Community food growing",A11="Woodland",A11="Shrub", A11="Water"), "|||"&A11, (VLOOKUP(Nutrients_from_current_land_use!$B$5,Value_look_up_tables!$A$223:$B$223,2,FALSE())&"|"&A11&"|"&VLOOKUP(Nutrients_from_current_land_use!$B$8,Value_look_up_tables!$A$236:$B$237,2,FALSE())&"|"&VLOOKUP(Nutrients_from_current_land_use!$B$7,Value_look_up_tables!$A$197:$C$219,3,FALSE())&"|"&VLOOKUP(Nutrients_from_current_land_use!$B$6,Value_look_up_tables!$A$227:$B$232,2,FALSE())))),Value_look_up_tables!$F$52:$H$193,3,FALSE())),0) -> 0
C12: =IFERROR(IF(OR(ISBLANK(A12),ISBLANK(B12)),0,B12*VLOOKUP((IF(OR(A12="Residential urban land",A12="Commercial/industrial urban land",A12="Open urban land",A12="Greenspace",A12="Community food growing",A12="Woodland",A12="Shrub", A12="Water"), "|||"&A12, (VLOOKUP(Nutrients_from_current_land_use!$B$5,Value_look_up_tables!$A$223:$B$223,2,FALSE())&"|"&A12&"|"&VLOOKUP(Nutrients_from_current_land_use!$B$8,Value_look_up_tables!$A$236:$B$237,2,FALSE())&"|"&VLOOKUP(Nutrients_from_current_land_use!$B$7,Value_look_up_tables!$A$197:$C$219,3,FALSE())&"|"&VLOOKUP(Nutrients_from_current_land_use!$B$6,Value_look_up_tables!$A$227:$B$232,2,FALSE())))),Value_look_up_tables!$F$52:$H$193,3,FALSE())),0) -> 0
C13: =IFERROR(IF(OR(ISBLANK(A13),ISBLANK(B13)),0,B13*VLOOKUP((IF(OR(A13="Residential urban land",A13="Commercial/industrial urban land",A13="Open urban land",A13="Greenspace",A13="Community food growing",A13="Woodland",A13="Shrub", A13="Water"), "|||"&A13, (VLOOKUP(Nutrients_from_current_land_use!$B$5,Value_look_up_tables!$A$223:$B$223,2,FALSE())&"|"&A13&"|"&VLOOKUP(Nutrients_from_current_land_use!$B$8,Value_look_up_tables!$A$236:$B$237,2,FALSE())&"|"&VLOOKUP(Nutrients_from_current_land_use!$B$7,Value_look_up_tables!$A$197:$C$219,3,FALSE())&"|"&VLOOKUP(Nutrients_from_current_land_use!$B$6,Value_look_up_tables!$A$227:$B$232,2,FALSE())))),Value_look_up_tables!$F$52:$H$193,3,FALSE())),0) -> 0
C14: =IFERROR(IF(OR(ISBLANK(A14),ISBLANK(B14)),0,B14*VLOOKUP((IF(OR(A14="Residential urban land",A14="Commercial/industrial urban land",A14="Open urban land",A14="Greenspace",A14="Community food growing",A14="Woodland",A14="Shrub", A14="Water"), "|||"&A14, (VLOOKUP(Nutrients_from_current_land_use!$B$5,Value_look_up_tables!$A$223:$B$223,2,FALSE())&"|"&A14&"|"&VLOOKUP(Nutrients_from_current_land_use!$B$8,Value_look_up_tables!$A$236:$B$237,2,FALSE())&"|"&VLOOKUP(Nutrients_from_current_land_use!$B$7,Value_look_up_tables!$A$197:$C$219,3,FALSE())&"|"&VLOOKUP(Nutrients_from_current_land_use!$B$6,Value_look_up_tables!$A$227:$B$232,2,FALSE())))),Value_look_up_tables!$F$52:$H$193,3,FALSE())),0) -> 0
C15: =IFERROR(IF(OR(ISBLANK(A15),ISBLANK(B15)),0,B15*VLOOKUP((IF(OR(A15="Residential urban land",A15="Commercial/industrial urban land",A15="Open urban land",A15="Greenspace",A15="Community food growing",A15="Woodland",A15="Shrub", A15="Water"), "|||"&A15, (VLOOKUP(Nutrients_from_current_land_use!$B$5,Value_look_up_tables!$A$223:$B$223,2,FALSE())&"|"&A15&"|"&VLOOKUP(Nutrients_from_current_land_use!$B$8,Value_look_up_tables!$A$236:$B$237,2,FALSE())&"|"&VLOOKUP(Nutrients_from_current_land_use!$B$7,Value_look_up_tables!$A$197:$C$219,3,FALSE())&"|"&VLOOKUP(Nutrients_from_current_land_use!$B$6,Value_look_up_tables!$A$227:$B$232,2,FALSE())))),Value_look_up_tables!$F$52:$H$193,3,FALSE())),0) -> 0
C16: =IFERROR(IF(OR(ISBLANK(A16),ISBLANK(B16)),0,B16*VLOOKUP((IF(OR(A16="Residential urban land",A16="Commercial/industrial urban land",A16="Open urban land",A16="Greenspace",A16="Community food growing",A16="Woodland",A16="Shrub", A16="Water"), "|||"&A16, (VLOOKUP(Nutrients_from_current_land_use!$B$5,Value_look_up_tables!$A$223:$B$223,2,FALSE())&"|"&A16&"|"&VLOOKUP(Nutrients_from_current_land_use!$B$8,Value_look_up_tables!$A$236:$B$237,2,FALSE())&"|"&VLOOKUP(Nutrients_from_current_land_use!$B$7,Value_look_up_tables!$A$197:$C$219,3,FALSE())&"|"&VLOOKUP(Nutrients_from_current_land_use!$B$6,Value_look_up_tables!$A$227:$B$232,2,FALSE())))),Value_look_up_tables!$F$52:$H$193,3,FALSE())),0) -> 0
C17: =IFERROR(IF(OR(ISBLANK(A17),ISBLANK(B17)),0,B17*VLOOKUP((IF(OR(A17="Residential urban land",A17="Commercial/industrial urban land",A17="Open urban land",A17="Greenspace",A17="Community food growing",A17="Woodland",A17="Shrub", A17="Water"), "|||"&A17, (VLOOKUP(Nutrients_from_current_land_use!$B$5,Value_look_up_tables!$A$223:$B$223,2,FALSE())&"|"&A17&"|"&VLOOKUP(Nutrients_from_current_land_use!$B$8,Value_look_up_tables!$A$236:$B$237,2,FALSE())&"|"&VLOOKUP(Nutrients_from_current_land_use!$B$7,Value_look_up_tables!$A$197:$C$219,3,FALSE())&"|"&VLOOKUP(Nutrients_from_current_land_use!$B$6,Value_look_up_tables!$A$227:$B$232,2,FALSE())))),Value_look_up_tables!$F$52:$H$193,3,FALSE())),0) -> 0
... C21: =IFERROR(IF(OR(ISBLANK(A21),ISBLANK(B21)),0,B21*VLOOKUP((IF(OR(A21="Residential urban land",A21="Commercial/industrial urban land",A21="Open urban land",A21="Greenspace",A21="Community food growing",A21="Woodland",A21="Shrub", A21="Water"), "|||"&A21, (VLOOKUP(Nutrients_from_current_land_use!$B$5,Value_look_up_tables!$A$223:$B$223,2,FALSE())&"|"&A21&"|"&VLOOKUP(Nutrients_from_current_land_use!$B$8,Value_look_up_tables!$A$236:$B$237,2,FALSE())&"|"&VLOOKUP(Nutrients_from_current_land_use!$B$7,Value_look_up_tables!$A$197:$C$219,3,FALSE())&"|"&VLOOKUP(Nutrients_from_current_land_use!$B$6,Value_look_up_tables!$A$227:$B$232,2,FALSE())))),Value_look_up_tables!$F$52:$H$193,3,FALSE())),0) -> 0
A22: Totals: | B22: =SUM(B5:B21) -> 0.02 | C22: =SUM(C5:C21) -> 0.033027379

Sheet SuDS
A1: Nutrients from future land use after sustainable urban drainage system (SuDS) treatment
A2: This sheet contains one table. Note: You will need to fill in cells A5 to A29, cells B5 to B29, cells C5 to C29, cells E5 to E29 and cells F5 to F29 if you are including SuDS to remove nutrients from the surface runoff. Cells B30, D5 to D30 and cells G5 to G30 are automatically calculated and will state '0.00' unless the user inputs have been entered. Cells H5 to H29 are automatically generated and will state 'Not applicable' unless the total area of the landcover entered is larger than the total area of the landcover entered into the worksheet 'Nutrients_from_future_land_use'. Row 30 is a Total Row. The Total Row states 'Totals:' in cell A30 and automatically calculates the total sum of cells B5 to B29 in cell B30, cells D5 to D29 in cell D30 and cells G5 to G29 in cell G30. Cell C30, cell E30, cell F30 and cell H30 are intentionally blank. How to fill in the table 'SuDS information' Cells A5 to A29: Choose the future (post-development) land use type(s) of landcover present on the new site within the SuDS catchment area from the dropdown list. Only landcovers entered into the worksheet titled 'Nutrients_from_future_land_use' can be entered. Cells B5 to B29: Enter the area in hectares of each new land use type within the SuDS catchment area. Cells C5 to C29: Enter the percentage of the flow entering the SuDS feature. If all flow is being diverted to the SuDS feature then this value should be set to 100%. The annual total phosphorus (TP) loads associated with the landcovers in the SuDS catchment area are automatically calculated in cells D5 to D29. Cells E5 to E29: Enter the name of the SuDS features used to intercept surface flows can be entered in. Any text can be entered into these cells. Cells F5 to F29: Enter the nutrient removal rates associated with the SuDS features for TP. Values for column F must be identified by the user and must be specific to the SuDS features being implemented. The annual TP load removed by the SuDS features are automatically calculated in cells G5 to G29. These values are subtracted from the nutrient budget. You do not need to fill in column H 'Notes on data'. It will state "Not applicable" unless the total area of each landcover within the SuDS catchment area exceeds the area of the landcovers entered into the worksheet titled 'Nutrients_from_future_land_use'. The total nutrient load removed through the SuDS features is shown in cell G30 for TP.
A3: SuDS information
A4: New land use type(s) within SuDS catchment area - user inputs required | B4: SuDS catchment area (ha) - user inputs required | C4: Percentage of flow entering the SuDS (%) - user inputs required | D4: Annual phosphorus inputs to SuDS feature(s) (kg T/yr) | E4: Name of SuDS feature(s) - user inputs required | F4: TP removal rate for features - user specified (%) - user inputs required | G4: Annual phosphorus load removed by SuDS (kg TP/yr) | H4: Notes on data
A5: Residential urban land | B5: 0.005 | C5: 100 | D5: =IFERROR(IF(ISBLANK(A5),0,IF(ISBLANK(B5),0,VLOOKUP(A5,Nutrients_from_future_land_use!$A$5:$C$21,3,FALSE())*(B5/VLOOKUP(A5,Nutrients_from_future_land_use!$A$5:$C$21,2,FALSE())))),0) -> 0.0082568446 | E5: Roof drainage ~50 sq.m | F5: 100 | G5: =IFERROR(IF(OR(ISBLANK($A5),ISBLANK($B5),ISBLANK($F5)),0,$C5/100*D5*F5/100),0) -> 0.0082568446 | H5: =IF(SUMIFS($B$5:$B$29,$A$5:$A$29,A5)>SUMIFS(Nutrients_from_future_land_use!$B$5:$B$21,Nutrients_from_future_land_use!$A$5:$A$21,A5),"Area of new land covers within SuDS catchment area exceeds the area of new land covers proposed","Not applicable") -> Not applicable
A6: Residential urban land | B6: 0.003 | C6: 100 | D6: =IFERROR(IF(ISBLANK(A6),0,IF(ISBLANK(B6),0,VLOOKUP(A6,Nutrients_from_future_land_use!$A$5:$C$21,3,FALSE())*(B6/VLOOKUP(A6,Nutrients_from_future_land_use!$A$5:$C$21,2,FALSE())))),0) -> 0.0049541068 | E6: Paving and paths draining to soakaway ~30 sq.m | F6: 100 | G6: =IFERROR(IF(OR(ISBLANK($A6),ISBLANK($B6),ISBLANK($F6)),0,$C6/100*D6*F6/100),0) -> 0.0049541068 | H6: =IF(SUMIFS($B$5:$B$29,$A$5:$A$29,A6)>SUMIFS(Nutrients_from_future_land_use!$B$5:$B$21,Nutrients_from_future_land_use!$A$5:$A$21,A6),"Area of new land covers within SuDS catchment area exceeds the area of new land covers proposed","Not applicable") -> Not applicable
D7: =IFERROR(IF(ISBLANK(A7),0,IF(ISBLANK(B7),0,VLOOKUP(A7,Nutrients_from_future_land_use!$A$5:$C$21,3,FALSE())*(B7/VLOOKUP(A7,Nutrients_from_future_land_use!$A$5:$C$21,2,FALSE())))),0) -> 0 | G7: =IFERROR(IF(OR(ISBLANK($A7),ISBLANK($B7),ISBLANK($F7)),0,$C7/100*D7*F7/100),0) -> 0 | H7: =IF(SUMIFS($B$5:$B$29,$A$5:$A$29,A7)>SUMIFS(Nutrients_from_future_land_use!$B$5:$B$21,Nutrients_from_future_land_use!$A$5:$A$21,A7),"Area of new land covers within SuDS catchment area exceeds the area of new land covers proposed","Not applicable") -> Not applicable
D8: =IFERROR(IF(ISBLANK(A8),0,IF(ISBLANK(B8),0,VLOOKUP(A8,Nutrients_from_future_land_use!$A$5:$C$21,3,FALSE())*(B8/VLOOKUP(A8,Nutrients_from_future_land_use!$A$5:$C$21,2,FALSE())))),0) -> 0 | G8: =IFERROR(IF(OR(ISBLANK($A8),ISBLANK($B8),ISBLANK($F8)),0,$C8/100*D8*F8/100),0) -> 0 | H8: =IF(SUMIFS($B$5:$B$29,$A$5:$A$29,A8)>SUMIFS(Nutrients_from_future_land_use!$B$5:$B$21,Nutrients_from_future_land_use!$A$5:$A$21,A8),"Area of new land covers within SuDS catchment area exceeds the area of new land covers proposed","Not applicable") -> Not applicable
D9: =IFERROR(IF(ISBLANK(A9),0,IF(ISBLANK(B9),0,VLOOKUP(A9,Nutrients_from_future_land_use!$A$5:$C$21,3,FALSE())*(B9/VLOOKUP(A9,Nutrients_from_future_land_use!$A$5:$C$21,2,FALSE())))),0) -> 0 | G9: =IFERROR(IF(OR(ISBLANK($A9),ISBLANK($B9),ISBLANK($F9)),0,$C9/100*D9*F9/100),0) -> 0 | H9: =IF(SUMIFS($B$5:$B$29,$A$5:$A$29,A9)>SUMIFS(Nutrients_from_future_land_use!$B$5:$B$21,Nutrients_from_future_land_use!$A$5:$A$21,A9),"Area of new land covers within SuDS catchment area exceeds the area of new land covers proposed","Not applicable") -> Not applicable
D10: =IFERROR(IF(ISBLANK(A10),0,IF(ISBLANK(B10),0,VLOOKUP(A10,Nutrients_from_future_land_use!$A$5:$C$21,3,FALSE())*(B10/VLOOKUP(A10,Nutrients_from_future_land_use!$A$5:$C$21,2,FALSE())))),0) -> 0 | G10: =IFERROR(IF(OR(ISBLANK($A10),ISBLANK($B10),ISBLANK($F10)),0,$C10/100*D10*F10/100),0) -> 0 | H10: =IF(SUMIFS($B$5:$B$29,$A$5:$A$29,A10)>SUMIFS(Nutrients_from_future_land_use!$B$5:$B$21,Nutrients_from_future_land_use!$A$5:$A$21,A10),"Area of new land covers within SuDS catchment area exceeds the area of new land covers proposed","Not applicable") -> Not applicable
D11: =IFERROR(IF(ISBLANK(A11),0,IF(ISBLANK(B11),0,VLOOKUP(A11,Nutrients_from_future_land_use!$A$5:$C$21,3,FALSE())*(B11/VLOOKUP(A11,Nutrients_from_future_land_use!$A$5:$C$21,2,FALSE())))),0) -> 0 | G11: =IFERROR(IF(OR(ISBLANK($A11),ISBLANK($B11),ISBLANK($F11)),0,$C11/100*D11*F11/100),0) -> 0 | H11: =IF(SUMIFS($B$5:$B$29,$A$5:$A$29,A11)>SUMIFS(Nutrients_from_future_land_use!$B$5:$B$21,Nutrients_from_future_land_use!$A$5:$A$21,A11),"Area of new land covers within SuDS catchment area exceeds the area of new land covers proposed","Not applicable") -> Not applicable
D12: =IFERROR(IF(ISBLANK(A12),0,IF(ISBLANK(B12),0,VLOOKUP(A12,Nutrients_from_future_land_use!$A$5:$C$21,3,FALSE())*(B12/VLOOKUP(A12,Nutrients_from_future_land_use!$A$5:$C$21,2,FALSE())))),0) -> 0 | G12: =IFERROR(IF(OR(ISBLANK($A12),ISBLANK($B12),ISBLANK($F12)),0,$C12/100*D12*F12/100),0) -> 0 | H12: =IF(SUMIFS($B$5:$B$29,$A$5:$A$29,A12)>SUMIFS(Nutrients_from_future_land_use!$B$5:$B$21,Nutrients_from_future_land_use!$A$5:$A$21,A12),"Area of new land covers within SuDS catchment area exceeds the area of new land covers proposed","Not applicable") -> Not applicable
D13: =IFERROR(IF(ISBLANK(A13),0,IF(ISBLANK(B13),0,VLOOKUP(A13,Nutrients_from_future_land_use!$A$5:$C$21,3,FALSE())*(B13/VLOOKUP(A13,Nutrients_from_future_land_use!$A$5:$C$21,2,FALSE())))),0) -> 0 | G13: =IFERROR(IF(OR(ISBLANK($A13),ISBLANK($B13),ISBLANK($F13)),0,$C13/100*D13*F13/100),0) -> 0 | H13: =IF(SUMIFS($B$5:$B$29,$A$5:$A$29,A13)>SUMIFS(Nutrients_from_future_land_use!$B$5:$B$21,Nutrients_from_future_land_use!$A$5:$A$21,A13),"Area of new land covers within SuDS catchment area exceeds the area of new land covers proposed","Not applicable") -> Not applicable
D14: =IFERROR(IF(ISBLANK(A14),0,IF(ISBLANK(B14),0,VLOOKUP(A14,Nutrients_from_future_land_use!$A$5:$C$21,3,FALSE())*(B14/VLOOKUP(A14,Nutrients_from_future_land_use!$A$5:$C$21,2,FALSE())))),0) -> 0 | G14: =IFERROR(IF(OR(ISBLANK($A14),ISBLANK($B14),ISBLANK($F14)),0,$C14/100*D14*F14/100),0) -> 0 | H14: =IF(SUMIFS($B$5:$B$29,$A$5:$A$29,A14)>SUMIFS(Nutrients_from_future_land_use!$B$5:$B$21,Nutrients_from_future_land_use!$A$5:$A$21,A14),"Area of new land covers within SuDS catchment area exceeds the area of new land covers proposed","Not applicable") -> Not applicable
D15: =IFERROR(IF(ISBLANK(A15),0,IF(ISBLANK(B15),0,VLOOKUP(A15,Nutrients_from_future_land_use!$A$5:$C$21,3,FALSE())*(B15/VLOOKUP(A15,Nutrients_from_future_land_use!$A$5:$C$21,2,FALSE())))),0) -> 0 | G15: =IFERROR(IF(OR(ISBLANK($A15),ISBLANK($B15),ISBLANK($F15)),0,$C15/100*D15*F15/100),0) -> 0 | H15: =IF(SUMIFS($B$5:$B$29,$A$5:$A$29,A15)>SUMIFS(Nutrients_from_future_land_use!$B$5:$B$21,Nutrients_from_future_land_use!$A$5:$A$21,A15),"Area of new land covers within SuDS catchment area exceeds the area of new land covers proposed","Not applicable") -> Not applicable
D16: =IFERROR(IF(ISBLANK(A16),0,IF(ISBLANK(B16),0,VLOOKUP(A16,Nutrients_from_future_land_use!$A$5:$C$21,3,FALSE())*(B16/VLOOKUP(A16,Nutrients_from_future_land_use!$A$5:$C$21,2,FALSE())))),0) -> 0 | G16: =IFERROR(IF(OR(ISBLANK($A16),ISBLANK($B16),ISBLANK($F16)),0,$C16/100*D16*F16/100),0) -> 0 | H16: =IF(SUMIFS($B$5:$B$29,$A$5:$A$29,A16)>SUMIFS(Nutrients_from_future_land_use!$B$5:$B$21,Nutrients_from_future_land_use!$A$5:$A$21,A16),"Area of new land covers within SuDS catchment area exceeds the area of new land covers proposed","Not applicable") -> Not applicable
D17: =IFERROR(IF(ISBLANK(A17),0,IF(ISBLANK(B17),0,VLOOKUP(A17,Nutrients_from_future_land_use!$A$5:$C$21,3,FALSE())*(B17/VLOOKUP(A17,Nutrients_from_future_land_use!$A$5:$C$21,2,FALSE())))),0) -> 0 | G17: =IFERROR(IF(OR(ISBLANK($A17),ISBLANK($B17),ISBLANK($F17)),0,$C17/100*D17*F17/100),0) -> 0 | H17: =IF(SUMIFS($B$5:$B$29,$A$5:$A$29,A17)>SUMIFS(Nutrients_from_future_land_use!$B$5:$B$21,Nutrients_from_future_land_use!$A$5:$A$21,A17),"Area of new land covers within SuDS catchment area exceeds the area of new land covers proposed","Not applicable") -> Not applicable
D18: =IFERROR(IF(ISBLANK(A18),0,IF(ISBLANK(B18),0,VLOOKUP(A18,Nutrients_from_future_land_use!$A$5:$C$21,3,FALSE())*(B18/VLOOKUP(A18,Nutrients_from_future_land_use!$A$5:$C$21,2,FALSE())))),0) -> 0 | G18: =IFERROR(IF(OR(ISBLANK($A18),ISBLANK($B18),ISBLANK($F18)),0,$C18/100*D18*F18/100),0) -> 0 | H18: =IF(SUMIFS($B$5:$B$29,$A$5:$A$29,A18)>SUMIFS(Nutrients_from_future_land_use!$B$5:$B$21,Nutrients_from_future_land_use!$A$5:$A$21,A18),"Area of new land covers within SuDS catchment area exceeds the area of new land covers proposed","Not applicable") -> Not applicable
... D29: =IFERROR(IF(ISBLANK(A29),0,IF(ISBLANK(B29),0,VLOOKUP(A29,Nutrients_from_future_land_use!$A$5:$C$21,3,FALSE())*(B29/VLOOKUP(A29,Nutrients_from_future_land_use!$A$5:$C$21,2,FALSE())))),0) -> 0 | G29: =IFERROR(IF(OR(ISBLANK($A29),ISBLANK($B29),ISBLANK($F29)),0,$C29/100*D29*F29/100),0) -> 0 | H29: =IF(SUMIFS($B$5:$B$29,$A$5:$A$29,A29)>SUMIFS(Nutrients_from_future_land_use!$B$5:$B$21,Nutrients_from_future_land_use!$A$5:$A$21,A29),"Area of new land covers within SuDS catchment area exceeds the area of new land covers proposed","Not applicable") -> Not applicable
A30: Totals: | B30: =SUM(B5:B29) -> 0.008 | D30: =SUM(D5:D29) -> 0.013210951 | G30: =SUM(G5:G29) -> 0.013210951

Sheet Final_nutrient_budgets
A1: Final nutrient budgets
A2: This worksheet contains one table. This table is automatically populated using the outputs from the previous worksheets. Note: You do not need to fill in any cells in the table. Cells B5 to B8 and cells B10 are automatically calculated and will state '0.00' unless the user inputs have been entered to all of the required worksheets. Cells A11 to A14, cell B12 and cell B14 are automatically generated and will state 'Not applicable' depending on the user inputs to the worksheet 'Nutrients_from_wastewater'. Cell B9, B11 and B13 are intentionally blank. This table presents calculations that underpin the final annual nutrient budget for the development site. Up to 3 values for the nutrient budget may be presented in cells B10, B12 and B24 for total phosphorus (TP).
A3: Total nutrient budget calculations
A4: Description of values generated | B4: Values generated
A5: Wastewater TP load (kg TP/year): | B5: =Nutrients_from_wastewater!B18 -> 0.02
A6: Net land use TP change (kg TP/year): | B6: =IFERROR(Nutrients_from_future_land_use!C22-SuDS!G30-Nutrients_from_current_land_use!C28,0) -> -0.013210951
A7: TP budget: | B7: =IFERROR(B5+B6,0) -> 0.0067890486
A8: TP budget + 20% buffer: | B8: =IFERROR(IF(B7<0,B7,B7*1.2),0) -> 0.0081468583
A9: =IFERROR(IF(AND(Nutrients_from_wastewater!$B$5<DATE(2025,1,1),OR((VLOOKUP(Nutrients_from_wastewater!$B$9,Value_look_up_tables!$A$5:$E$46,2,FALSE()))>(VLOOKUP(Nutrients_from_wastewater!$B$9,Value_look_up_tables!$A$5:$E$46,3,FALSE())),(VLOOKUP(Nutrients_from_wastewater!$B$9,Value_look_up_tables!$A$5:$E$46,2,FALSE()))>(VLOOKUP(Nutrients_from_wastewater!$B$9,Value_look_up_tables!$A$5:$E$46,3,FALSE())))),"Post-2030 annual nutrient budget","Annual nutrient budget"),"Annual nutrient budget") -> Annual nutrient budget
A10: The total annual phosphorus load to mitigate is (kg TP/yr): | B10: =IFERROR(IF(ROUND(B8,2)<0,0,ROUND(B8,2)),0) -> 0.01
A11: =IF(Nutrients_from_wastewater!A19="Not applicable","Not applicable",IF(LEFT(Nutrients_from_wastewater!A19,9)="Pre-2030 ",LEFT(Nutrients_from_wastewater!A19,9),LEFT(Nutrients_from_wastewater!A19,10))&"nutrient budget") -> Pre-2030 nutrient budget
A12: =IF(A11<>"Not applicable","The total annual phosphorus load to mitigate is (kg TP/yr):","Not applicable") -> The total annual phosphorus load to mitigate is (kg TP/yr): | B12: =IF(IFERROR(ROUND((Nutrients_from_wastewater!B20+$B$6)*1.2,2),"Not applicable")<0,0,IFERROR(ROUND((Nutrients_from_wastewater!B20+$B$6)*1.2,2),"Not applicable")) -> 0.07
A13: =IF(Nutrients_from_wastewater!A21="Not applicable","Not applicable",LEFT(Nutrients_from_wastewater!A21,9)&"nutrient budget") -> Not applicable
A14: =IF(A13<>"Not applicable","The total annual phosphorus load to mitigate is (kg TP/yr):","Not applicable") -> Not applicable | B14: =IF(IFERROR(IF(Nutrients_from_wastewater!$A$21="Not applicable","Not applicable",ROUND((Nutrients_from_wastewater!B22+$B$6)*1.2,2)),IFERROR(B12,"Not applicable"))<0,0,IFERROR(IF(Nutrients_from_wastewater!$A$21="Not applicable","Not applicable",ROUND((Nutrients_from_wastewater!B22+$B$6)*1.2,2)),IFERROR(B12,"Not applicable"))) -> Not applicable

Sheet Value_look_up_tables
A1: Nutrients from wastewater
A2: This sheet contains nine tables. A blank row seperates the end of each table from the header for the next table.
A3: Table 1: Stage 1 WwTW lookup
A4: Discharge Site Name | B4: Phosphorus, Total as P (mg/l) | C4: Phosphorus, Total as P (mg/l), permit post 2025 | D4: Phosphorus, Total as P (mg/l), permit post 2030
A5: All Cannings WRC | B5: 1 | C5: 1 | D5: 1
A6: Amesbury STW | B6: 1 | C6: 1 | D6: 0.25
A7: Barford St Martin WRC | B7: 2 | C7: 2 | D7: 2
A8: Berwick St.James | B8: 8 | C8: 8 | D8: 8
A9: Bishopstone | B9: 8 | C9: 8 | D9: 8
A10: Chitterne WwTW | B10: 8 | C10: 8 | D10: 8
A11: Christchurch STW | B11: 5.1 | C11: 5.1 | D11: 0.25
A12: Collingbourne Ducis | B12: 8 | C12: 8 | D12: 8
A13: Crockerton STW | B13: 8 | C13: 8 | D13: 8
A14: Downton STW | B14: 1 | C14: 1 | D14: 0.25
A15: East Knoyle WRC | B15: 1 | C15: 1 | D15: 1
A16: Etchilhampton | B16: 8 | C16: 8 | D16: 8
... A46: Septic Tank default | B46: 11.6 | C46: 11.6 | D46: 11.6
A47: Package Treatment Plant user defined
A48: Septic Tank user defined
A50: Table 2: Stage 2 and 3 Landcover lookup
A51: Catchment | B51: Farmscoper Farm Term | C51: NVZ | D51: Climate | E51: Farmscoper Soil Drainage Term | F51: Lookup | G51: Column3 | H51: Phosphorus export coefficient | I51: Farm Lookup | J51: Column1 | K51: Mean P export of farm type and climate combination | L51: Column2 | M51: Mean P export of farm type
A52: Avon Hampshire | B52: Cereals | C52: =FALSE() -> FALSE | D52: 700to900 | E52: FreeDrain | F52: Avon Hampshire|Cereals|FALSE|700to900|FreeDrain | H52: 0.12119333 | I52: Cereals|700to900 | K52: 0.56723595 | M52: 0.65795815
A53: Avon Hampshire | B53: Cereals | C53: =TRUE() -> TRUE | D53: 700to900 | E53: FreeDrain | F53: Avon Hampshire|Cereals|TRUE|700to900|FreeDrain | H53: 0.1211859 | I53: Cereals|700to900
A54: Avon Hampshire | B54: Cereals | C54: =FALSE() -> FALSE | D54: 700to900 | E54: DrainedAr | F54: Avon Hampshire|Cereals|FALSE|700to900|DrainedAr | H54: 0.66046425 | I54: Cereals|700to900
A55: Avon Hampshire | B55: Cereals | C55: =TRUE() -> TRUE | D55: 700to900 | E55: DrainedAr | F55: Avon Hampshire|Cereals|TRUE|700to900|DrainedAr | H55: 0.66040738 | I55: Cereals|700to900
A56: Avon Hampshire | B56: Cereals | C56: =FALSE() -> FALSE | D56: 700to900 | E56: DrainedArGr | F56: Avon Hampshire|Cereals|FALSE|700to900|DrainedArGr | H56: 0.92005029 | I56: Cereals|700to900
A57: Avon Hampshire | B57: Cereals | C57: =TRUE() -> TRUE | D57: 700to900 | E57: DrainedArGr | F57: Avon Hampshire|Cereals|TRUE|700to900|DrainedArGr | H57: 0.91992435 | I57: Cereals|700to900
A58: Avon Hampshire | B58: Cereals | C58: =FALSE() -> FALSE | D58: 900to1200 | E58: FreeDrain | F58: Avon Hampshire|Cereals|FALSE|900to1200|FreeDrain | H58: 0.21237202 | I58: Cereals|900to1200 | K58: 0.98799465
A59: Avon Hampshire | B59: Cereals | C59: =TRUE() -> TRUE | D59: 900to1200 | E59: FreeDrain | F59: Avon Hampshire|Cereals|TRUE|900to1200|FreeDrain | H59: 0.21236306 | I59: Cereals|900to1200
A60: Avon Hampshire | B60: Cereals | C60: =TRUE() -> TRUE | D60: 900to1200 | E60: DrainedAr | F60: Avon Hampshire|Cereals|TRUE|900to1200|DrainedAr | H60: 1.2480364 | I60: Cereals|900to1200
A61: Avon Hampshire | B61: Cereals | C61: =FALSE() -> FALSE | D61: 900to1200 | E61: DrainedArGr | F61: Avon Hampshire|Cereals|FALSE|900to1200|DrainedArGr | H61: 1.5035845 | I61: Cereals|900to1200
A62: Avon Hampshire | B62: General | C62: =FALSE() -> FALSE | D62: 700to900 | E62: FreeDrain | F62: Avon Hampshire|General|FALSE|700to900|FreeDrain | H62: 0.092074888 | I62: General|700to900 | K62: 0.38998986 | M62: 0.5203874
A63: Avon Hampshire | B63: General | C63: =TRUE() -> TRUE | D63: 700to900 | E63: FreeDrain | F63: Avon Hampshire|General|TRUE|700to900|FreeDrain | H63: 0.092074888 | I63: General|700to900
A64: Avon Hampshire | B64: General | C64: =FALSE() -> FALSE | D64: 700to900 | E64: DrainedAr | F64: Avon Hampshire|General|FALSE|700to900|DrainedAr | H64: 0.4072911 | I64: General|700to900
A65: Avon Hampshire | B65: General | C65: =TRUE() -> TRUE | D65: 700to900 | E65: DrainedAr | F65: Avon Hampshire|General|TRUE|700to900|DrainedAr | H65: 0.4072911 | I65: General|700to900
A66: Avon Hampshire | B66: General | C66: =FALSE() -> FALSE | D66: 700to900 | E66: DrainedArGr | F66: Avon Hampshire|General|FALSE|700to900|DrainedArGr | H66: 0.67060359 | I66: General|700to900
A67: Avon Hampshire | B67: General | C67: =TRUE() -> TRUE | D67: 700to900 | E67: DrainedArGr | F67: Avon Hampshire|General|TRUE|700to900|DrainedArGr | H67: 0.67060359 | I67: General|700to900
A68: Avon Hampshire | B68: General | C68: =FALSE() -> FALSE | D68: 900to1200 | E68: FreeDrain | F68: Avon Hampshire|General|FALSE|900to1200|FreeDrain | H68: 0.16363478 | I68: General|900to1200 | K68: 0.69368928
A69: Avon Hampshire | B69: General | C69: =TRUE() -> TRUE | D69: 900to1200 | E69: FreeDrain | F69: Avon Hampshire|General|TRUE|900to1200|FreeDrain | H69: 0.16363478 | I69: General|900to1200
A70: Avon Hampshire | B70: General | C70: =TRUE() -> TRUE | D70: 900to1200 | E70: DrainedAr | F70: Avon Hampshire|General|TRUE|900to1200|DrainedAr | H70: 0.77781343 | I70: General|900to1200
A71: Avon Hampshire | B71: General | C71: =FALSE() -> FALSE | D71: 900to1200 | E71: DrainedArGr | F71: Avon Hampshire|General|FALSE|900to1200|DrainedArGr | H71: 1.1396196 | I71: General|900to1200
A72: Avon Hampshire | B72: General | C72: =TRUE() -> TRUE | D72: 900to1200 | E72: DrainedArGr | F72: Avon Hampshire|General|TRUE|900to1200|DrainedArGr | H72: 1.1396196 | I72: General|900to1200
A73: Avon Hampshire | B73: Horticulture | C73: =FALSE() -> FALSE | D73: 700to900 | E73: FreeDrain | F73: Avon Hampshire|Horticulture|FALSE|700to900|FreeDrain | H73: 0.10375838 | I73: Horticulture|700to900 | K73: 0.47701209 | M73: 0.37519224
A74: Avon Hampshire | B74: Horticulture | C74: =TRUE() -> TRUE | D74: 700to900 | E74: FreeDrain | F74: Avon Hampshire|Horticulture|TRUE|700to900|FreeDrain | H74: 0.10375838 | I74: Horticulture|700to900
A75: Avon Hampshire | B75: Horticulture | C75: =FALSE() -> FALSE | D75: 700to900 | E75: DrainedAr | F75: Avon Hampshire|Horticulture|FALSE|700to900|DrainedAr | H75: 0.5300309 | I75: Horticulture|700to900
A76: Avon Hampshire | B76: Horticulture | C76: =TRUE() -> TRUE | D76: 700to900 | E76: DrainedAr | F76: Avon Hampshire|Horticulture|TRUE|700to900|DrainedAr | H76: 0.5300309 | I76: Horticulture|700to900
A77: Avon Hampshire | B77: Horticulture | C77: =FALSE() -> FALSE | D77: 700to900 | E77: DrainedArGr | F77: Avon Hampshire|Horticulture|FALSE|700to900|DrainedArGr | H77: 0.79724699 | I77: Horticulture|700to900
A78: Avon Hampshire | B78: Horticulture | C78: =TRUE() -> TRUE | D78: 900to1200 | E78: FreeDrain | F78: Avon Hampshire|Horticulture|TRUE|900to1200|FreeDrain | H78: 0.18632791 | I78: Horticulture|900to1200 | K78: 0.18632791
A79: Avon Hampshire | B79: Pig | C79: =FALSE() -> FALSE | D79: 700to900 | E79: FreeDrain | F79: Avon Hampshire|Pig|FALSE|700to900|FreeDrain | H79: 0.1224121 | I79: Pig|700to900 | K79: 0.51360242 | M79: 0.24483246
A80: Avon Hampshire | B80: Pig | C80: =TRUE() -> TRUE | D80: 700to900 | E80: FreeDrain | F80: Avon Hampshire|Pig|TRUE|700to900|FreeDrain | H80: 0.12012206 | I80: Pig|700to900
A81: Avon Hampshire | B81: Pig | C81: =FALSE() -> FALSE | D81: 700to900 | E81: DrainedAr | F81: Avon Hampshire|Pig|FALSE|700to900|DrainedAr | H81: 0.57013222 | I81: Pig|700to900
A82: Avon Hampshire | B82: Pig | C82: =FALSE() -> FALSE | D82: 900to1200 | E82: FreeDrain | F82: Avon Hampshire|Pig|FALSE|900to1200|FreeDrain | H82: 0.2070974 | I82: Pig|900to1200 | K82: 0.2070974
A83: Avon Hampshire | B83: Pig | C83: =TRUE() -> TRUE | D83: 900to1200 | E83: FreeDrain | F83: Avon Hampshire|Pig|TRUE|900to1200|FreeDrain | H83: 0.20439852 | I83: Pig|900to1200
A84: Avon Hampshire | B84: Poultry | C84: =FALSE() -> FALSE | D84: 700to900 | E84: FreeDrain | F84: Avon Hampshire|Poultry|FALSE|700to900|FreeDrain | H84: 0.13657995 | I84: Poultry|700to900 | K84: 0.47097512 | M84: 0.50719372
A85: Avon Hampshire | B85: Poultry | C85: =TRUE() -> TRUE | D85: 700to900 | E85: FreeDrain | F85: Avon Hampshire|Poultry|TRUE|700to900|FreeDrain | H85: 0.13367123 | I85: Poultry|700to900
A86: Avon Hampshire | B86: Poultry | C86: =FALSE() -> FALSE | D86: 700to900 | E86: DrainedAr | F86: Avon Hampshire|Poultry|FALSE|700to900|DrainedAr | H86: 0.42810575 | I86: Poultry|700to900
A87: Avon Hampshire | B87: Poultry | C87: =TRUE() -> TRUE | D87: 700to900 | E87: DrainedAr | F87: Avon Hampshire|Poultry|TRUE|700to900|DrainedAr | H87: 0.40888959 | I87: Poultry|700to900
A88: Avon Hampshire | B88: Poultry | C88: =TRUE() -> TRUE | D88: 700to900 | E88: DrainedArGr | F88: Avon Hampshire|Poultry|TRUE|700to900|DrainedArGr | H88: 0.85114836 | I88: Poultry|700to900
A89: Avon Hampshire | B89: Poultry | C89: =TRUE() -> TRUE | D89: 900to1200 | E89: FreeDrain | F89: Avon Hampshire|Poultry|TRUE|900to1200|FreeDrain | H89: 0.21136924 | I89: Poultry|900to1200 | K89: 0.79598057
A90: Avon Hampshire | B90: Poultry | C90: =TRUE() -> TRUE | D90: 900to1200 | E90: DrainedArGr | F90: Avon Hampshire|Poultry|TRUE|900to1200|DrainedArGr | H90: 1.3805919 | I90: Poultry|900to1200
A91: Avon Hampshire | B91: Dairy | C91: =FALSE() -> FALSE | D91: 700to900 | E91: FreeDrain | F91: Avon Hampshire|Dairy|FALSE|700to900|FreeDrain | H91: 0.11393039 | I91: Dairy|700to900 | K91: 0.42897977 | M91: 0.43468154
A92: Avon Hampshire | B92: Dairy | C92: =TRUE() -> TRUE | D92: 700to900 | E92: FreeDrain | F92: Avon Hampshire|Dairy|TRUE|700to900|FreeDrain | H92: 0.11305258 | I92: Dairy|700to900
A93: Avon Hampshire | B93: Dairy | C93: =FALSE() -> FALSE | D93: 700to900 | E93: DrainedAr | F93: Avon Hampshire|Dairy|FALSE|700to900|DrainedAr | H93: 0.26077853 | I93: Dairy|700to900
A94: Avon Hampshire | B94: Dairy | C94: =TRUE() -> TRUE | D94: 700to900 | E94: DrainedAr | F94: Avon Hampshire|Dairy|TRUE|700to900|DrainedAr | H94: 0.25953093 | I94: Dairy|700to900
A95: Avon Hampshire | B95: Dairy | C95: =FALSE() -> FALSE | D95: 700to900 | E95: DrainedArGr | F95: Avon Hampshire|Dairy|FALSE|700to900|DrainedArGr | H95: 0.91347797 | I95: Dairy|700to900
A96: Avon Hampshire | B96: Dairy | C96: =FALSE() -> FALSE | D96: 900to1200 | E96: FreeDrain | F96: Avon Hampshire|Dairy|FALSE|900to1200|FreeDrain | H96: 0.17511186 | I96: Dairy|900to1200 | K96: 0.82078502
A97: Avon Hampshire | B97: Dairy | C97: =TRUE() -> TRUE | D97: 900to1200 | E97: FreeDrain | F97: Avon Hampshire|Dairy|TRUE|900to1200|FreeDrain | H97: 0.1739931 | I97: Dairy|900to1200
A98: Avon Hampshire | B98: Dairy | C98: =FALSE() -> FALSE | D98: 900to1200 | E98: DrainedArGr | F98: Avon Hampshire|Dairy|FALSE|900to1200|DrainedArGr | H98: 1.4675769 | I98: Dairy|900to1200
A99: Avon Hampshire | B99: Lowland | C99: =FALSE() -> FALSE | D99: 700to900 | E99: FreeDrain | F99: Avon Hampshire|Lowland|FALSE|700to900|FreeDrain | H99: 0.071896929 | I99: Lowland|700to900 | K99: 0.22284713 | M99: 0.25662107
A100: Avon Hampshire | B100: Lowland | C100: =TRUE() -> TRUE | D100: 700to900 | E100: FreeDrain | F100: Avon Hampshire|Lowland|TRUE|700to900|FreeDrain | H100: 0.071896771 | I100: Lowland|700to900
A101: Avon Hampshire | B101: Lowland | C101: =FALSE() -> FALSE | D101: 700to900 | E101: DrainedAr | F101: Avon Hampshire|Lowland|FALSE|700to900|DrainedAr | H101: 0.12145487 | I101: Lowland|700to900
A102: Avon Hampshire | B102: Lowland | C102: =TRUE() -> TRUE | D102: 700to900 | E102: DrainedAr | F102: Avon Hampshire|Lowland|TRUE|700to900|DrainedAr | H102: 0.12145467 | I102: Lowland|700to900
A103: Avon Hampshire | B103: Lowland | C103: =FALSE() -> FALSE | D103: 700to900 | E103: DrainedArGr | F103: Avon Hampshire|Lowland|FALSE|700to900|DrainedArGr | H103: 0.4751898 | I103: Lowland|700to900
A104: Avon Hampshire | B104: Lowland | C104: =TRUE() -> TRUE | D104: 700to900 | E104: DrainedArGr | F104: Avon Hampshire|Lowland|TRUE|700to900|DrainedArGr | H104: 0.47516359 | I104: Lowland|700to900
A105: Avon Hampshire | B105: Lowland | C105: =FALSE() -> FALSE | D105: 900to1200 | E105: FreeDrain | F105: Avon Hampshire|Lowland|FALSE|900to1200|FreeDrain | H105: 0.11777783 | I105: Lowland|900to1200 | K105: 0.38420491
A106: Avon Hampshire | B106: Lowland | C106: =TRUE() -> TRUE | D106: 900to1200 | E106: FreeDrain | F106: Avon Hampshire|Lowland|TRUE|900to1200|FreeDrain | H106: 0.11777763 | I106: Lowland|900to1200
A107: Avon Hampshire | B107: Lowland | C107: =FALSE() -> FALSE | D107: 900to1200 | E107: DrainedAr | F107: Avon Hampshire|Lowland|FALSE|900to1200|DrainedAr | H107: 0.21538281 | I107: Lowland|900to1200
A108: Avon Hampshire | B108: Lowland | C108: =TRUE() -> TRUE | D108: 900to1200 | E108: DrainedAr | F108: Avon Hampshire|Lowland|TRUE|900to1200|DrainedAr | H108: 0.21538255 | I108: Lowland|900to1200
A109: Avon Hampshire | B109: Lowland | C109: =FALSE() -> FALSE | D109: 900to1200 | E109: DrainedArGr | F109: Avon Hampshire|Lowland|FALSE|900to1200|DrainedArGr | H109: 0.81945435 | I109: Lowland|900to1200
A110: Avon Hampshire | B110: Mixed | C110: =FALSE() -> FALSE | D110: 700to900 | E110: FreeDrain | F110: Avon Hampshire|Mixed|FALSE|700to900|FreeDrain | H110: 0.10246251 | I110: Mixed|700to900 | K110: 0.42240315 | M110: 0.52510455
A111: Avon Hampshire | B111: Mixed | C111: =TRUE() -> TRUE | D111: 700to900 | E111: FreeDrain | F111: Avon Hampshire|Mixed|TRUE|700to900|FreeDrain | H111: 0.10225131 | I111: Mixed|700to900
A112: Avon Hampshire | B112: Mixed | C112: =FALSE() -> FALSE | D112: 700to900 | E112: DrainedAr | F112: Avon Hampshire|Mixed|FALSE|700to900|DrainedAr | H112: 0.40659408 | I112: Mixed|700to900
A113: Avon Hampshire | B113: Mixed | C113: =TRUE() -> TRUE | D113: 700to900 | E113: DrainedAr | F113: Avon Hampshire|Mixed|TRUE|700to900|DrainedAr | H113: 0.40507899 | I113: Mixed|700to900
A114: Avon Hampshire | B114: Mixed | C114: =FALSE() -> FALSE | D114: 700to900 | E114: DrainedArGr | F114: Avon Hampshire|Mixed|FALSE|700to900|DrainedArGr | H114: 0.75966796 | I114: Mixed|700to900
A115: Avon Hampshire | B115: Mixed | C115: =TRUE() -> TRUE | D115: 700to900 | E115: DrainedArGr | F115: Avon Hampshire|Mixed|TRUE|700to900|DrainedArGr | H115: 0.75645327 | I115: Mixed|700to900
A116: Avon Hampshire | B116: Mixed | C116: =TRUE() -> TRUE | D116: 900to1200 | E116: FreeDrain | F116: Avon Hampshire|Mixed|TRUE|900to1200|FreeDrain | H116: 0.17432621 | I116: Mixed|900to1200 | K116: 0.73114427
A117: Avon Hampshire | B117: Mixed | C117: =TRUE() -> TRUE | D117: 900to1200 | E117: DrainedAr | F117: Avon Hampshire|Mixed|TRUE|900to1200|DrainedAr | H117: 0.76140399 | I117: Mixed|900to1200
A118: Avon Hampshire | B118: Mixed | C118: =FALSE() -> FALSE | D118: 900to1200 | E118: DrainedArGr | F118: Avon Hampshire|Mixed|FALSE|900to1200|DrainedArGr | H118: 1.2577026 | I118: Mixed|900to1200
A119: Avon Hampshire | B119: Cereals | C119: =FALSE() -> FALSE | D119: 700to900 | E119: FreeDrain | F119: Cereals|FALSE|700to900|FreeDrain | H119: 0.12117136
A120: Avon Hampshire | B120: Cereals | C120: =TRUE() -> TRUE | D120: 700to900 | E120: FreeDrain | F120: Cereals|TRUE|700to900|FreeDrain | H120: 0.12116398
A121: Avon Hampshire | B121: Cereals | C121: =FALSE() -> FALSE | D121: 700to900 | E121: DrainedAr | F121: Cereals|FALSE|700to900|DrainedAr | H121: 0.66037169
A122: Avon Hampshire | B122: Cereals | C122: =TRUE() -> TRUE | D122: 700to900 | E122: DrainedAr | F122: Cereals|TRUE|700to900|DrainedAr | H122: 0.66031509
A123: Avon Hampshire | B123: Cereals | C123: =FALSE() -> FALSE | D123: 700to900 | E123: DrainedArGr | F123: Cereals|FALSE|700to900|DrainedArGr | H123: 0.91992209
A124: Avon Hampshire | B124: Cereals | C124: =TRUE() -> TRUE | D124: 700to900 | E124: DrainedArGr | F124: Cereals|TRUE|700to900|DrainedArGr | H124: 0.91979676
A125: Avon Hampshire | B125: Cereals | C125: =FALSE() -> FALSE | D125: 900to1200 | E125: FreeDrain | F125: Cereals|FALSE|900to1200|FreeDrain | H125: 0.2123336
A126: Avon Hampshire | B126: Cereals | C126: =TRUE() -> TRUE | D126: 900to1200 | E126: FreeDrain | F126: Cereals|TRUE|900to1200|FreeDrain | H126: 0.21232468
A127: Avon Hampshire | B127: Cereals | C127: =TRUE() -> TRUE | D127: 900to1200 | E127: DrainedAr | F127: Cereals|TRUE|900to1200|DrainedAr | H127: 1.2478306
A128: Avon Hampshire | B128: Cereals | C128: =FALSE() -> FALSE | D128: 900to1200 | E128: DrainedArGr | F128: Cereals|FALSE|900to1200|DrainedArGr | H128: 1.5033302
A129: Avon Hampshire | B129: General | C129: =FALSE() -> FALSE | D129: 700to900 | E129: FreeDrain | F129: General|FALSE|700to900|FreeDrain | H129: 0.092053423
A130: Avon Hampshire | B130: General | C130: =TRUE() -> TRUE | D130: 700to900 | E130: FreeDrain | F130: General|TRUE|700to900|FreeDrain | H130: 0.092053423
...
