Workbook
Name AA: 'G-7 WaterC'' Data'!$B$4
Name AllHabsSummaryData: 'G-2 Habitat groups'!$A$3:$AF$135
Name AllHabsSummaryData: 'G-2 Habitat groups'!$A$3:$AF$135
Name BaselineHabOffsite: 'D-1 Off-Site Habitat Baseline'!$D$11:$AA$258
Name BaselineHabOffsite: 'D-1 Off-Site Habitat Baseline'!$D$11:$AA$258
Name BaselineHabSite: 'A-1 On-Site Habitat Baseline'!$D$11:$X$258
Name BaselineHabSite: 'A-1 On-Site Habitat Baseline'!$D$11:$X$258
Name baselineimage: Start!$D$39:$G$53
Name baselineimageOS: Start!$D$60:$G$65
Name Coastal_lagoons: 'G-1 All Habitats'!$A$104
Name Coastal_saltmarsh: 'G-1 All Habitats'!$A$113:$A$114
Name Cond1: 'G-8 Condition Look up'!$J$5
Name Cond2: 'G-8 Condition Look up'!$K$5
Name Cond3: 'G-8 Condition Look up'!$L$5
Name Cond4: 'G-8 Condition Look up'!$M$5:$M$9
Name Cond5: 'G-8 Condition Look up'!$N$5
Name Condition: 'G-8 Condition Look up'!$B$3:$H$3
Name ConditionData: 'G-8 Condition Look up'!$A$4:$H$102
Name ConditionHabitats: 'G-8 Condition Look up'!$A$4:$A$128
Name Cropland: 'G-1 All Habitats'!$A$3:$A$12
Name Difficulty: 'G-3 Multipliers'!$P$3:$Q$6
Name Difficulty: 'G-3 Multipliers'!$P$3:$Q$6
Name Encroachment1: 'G-7 WaterC'' Data'!$AD$4:$AD$13
Name Encroachment1: 'G-7 WaterC'' Data'!$AD$4:$AD$13
Name Encroachment2: 'G-7 WaterC'' Data'!$AD$14
Name Encroachment2: 'G-7 WaterC'' Data'!$AD$14
Name EnhanceCondition: 'G-5 Enhancement Temporal'!$C$4:$X$4
Name EnhanceCondition: 'G-5 Enhancement Temporal'!$C$4:$X$4
Name EnhanceHabitat: 'G-5 Enhancement Temporal'!$C$4:$C$136
Name EnhanceHabitat: 'G-5 Enhancement Temporal'!$C$4:$C$136
Name EnhanceTemporal: 'G-5 Enhancement Temporal'!$C$4:$X$136
Name EnhanceTemporal: 'G-5 Enhancement Temporal'!$C$4:$X$136
Name Grassland: 'G-1 All Habitats'!$A$13:$A$25
Name Heathland_and_shrub: 'G-1 All Habitats'!$A$26:$A$38
Name HedgeCond: 'G-6 Hedgerow Data'!$B$2:$T$2
Name Hedgecond1: 'G-6 Hedgerow Data'!$BK$3:$BK$5
Name Hedgecond2: 'G-6 Hedgerow Data'!$BL$3
Name HedgeData: 'G-6 Hedgerow Data'!$B$2:$T$15
Name HedgeType: 'G-6 Hedgerow Data'!$B$2:$B$15
Name Individual_trees: 'G-1 All Habitats'!$A$80:$A$81
Name Individualtrees: 'G-1 All Habitats'!$A$79:$A$80
Name Intertidal_hard_structures: 'G-1 All Habitats'!$A$132:$A$134
Name Intertidal_sediment: 'G-1 All Habitats'!$A$115:$A$131
Name Lakes: 'G-1 All Habitats'!$A$39:$A$49
Name LPAList: Lists!$A$1:$A$378
Name postdevelopmentimage: Start!$I$39:$O$53
Name postdevelopmentimageOS: Start!$I$60:$O$65
Name RetCatChecks: 'A-1 On-Site Habitat Baseline'!$AE$11:$AH$258
Name riparianencroachment1: 'G-7 WaterC'' Data'!$AA$4:$AA$6
Name riparianencroachment1: 'G-7 WaterC'' Data'!$AA$4:$AA$6
Name riparianencroachment2: 'G-7 WaterC'' Data'!$AA$7
Name riparianencroachment2: 'G-7 WaterC'' Data'!$AA$7
Name Rivercond1: 'G-7 WaterC'' Data'!$BB$3:$BB$7
Name Rivercond2: 'G-7 WaterC'' Data'!$BC$3
Name RiverCondition: 'G-7 WaterC'' Data'!$B$3:$X$3
Name RiverEnhanceTemporal: 'G-7 WaterC'' Data'!$B$4:$X$12
Name RiverHabitat: 'G-7 WaterC'' Data'!$B$4:$B$14
Name RiversEnhancment: 'G-7 WaterC'' Data'!$O$3:$X$5
Name Rocky_shore: 'G-1 All Habitats'!$A$105:$A$112
Name Sparsely_vegetated_land: 'G-1 All Habitats'!$A$50:$A$58

Sheet Introduction

Sheet Start
D8: 4.1 | E8: =IF(OR(F16="",F17=""),"'Completed by' and 'Date of metric completion' fields must be filled in ▲","")
D9: Project details
D11: Planning authority: | F11: Wiltshire Council
D12: Project name: | F12: Land east of Calne Road, Lyneham
D13: Applicant:
D14: Application type: | F14: Outline, Residential development
D15: Planning application reference:
D16: Completed by: | F16: CR17
D17: Date of metric completion: | F17: 46010
D18: Reviewer: | F18: TC47
D19: Calculation iteration: | F19: REV00
D20: Planning authority reviewer:
D21: Date of planning authority review:
D22: Target % net gain: | F22: 0.1 | I22: =IF(OR(F22>=10%,F22=""),"","Target set below 10% ▲")
D23: Irreplaceable habitat present at baseline: | F23: =IF(AND('Irreplaceable Habitats'!K32=0,'Irreplaceable Habitats'!K65=0,'Irreplaceable Habitats'!AP65=0,'Irreplaceable Habitats'!AP32=0),"No ✓","Yes ⚠") -> No ✓
D24: Total site area - including irreplaceable habitat area (hectares): | F24: ='A-1 On-Site Habitat Baseline'!H260 -> 8.811 | I24: Irreplaceable habitat site area (hectares): | J24: ='Irreplaceable Habitats'!K33 -> 0
D25: Total off-site area - including irreplaceable habitat area (hectares): | F25: =IF('D-1 Off-Site Habitat Baseline'!H261=0,"N/A",'D-1 Off-Site Habitat Baseline'!H261) -> N/A | I25: Irreplaceable habitat area off-site (hectares): | J25: =IF('Irreplaceable Habitats'!K66=0,"N/A",'Irreplaceable Habitats'!K66) -> N/A
D27: Contains deviations from the statutory metric - this must be agreed with consenting body | I27: =IF(F27="Yes","Only acceptable in exceptionally rare circumstances, ensure any deviations have been agreed with the consenting body ⚠","")
D29: Cell style conventions
D30: ⚠ | F30: Attention required
D31: ▲ | F31: Input error/rules and principles not met
F32: Use of this cell is not appropriate
F33: Enter data
F34: Automatic lookup
F35: Result
D55: On-site baseline map reference number | I55: On-site post-intervention map reference number
D66: Off-site baseline map reference number | I66: Off-site post-intervention reference number

Sheet Main Menu
Q3: Tree helper
Q4: Tree size | R4: Number of trees and area (ha) for each condition state
R5: Poor | S5: Area | T5: Moderate | U5: Area | V5: Good | W5: Area
Q6: Small | S6: =R6*'G-3 Multipliers'!$Z$4 -> 0 | U6: =T6*'G-3 Multipliers'!$Z$4 -> 0 | W6: =V6*'G-3 Multipliers'!$Z$4 -> 0
Q7: Medium | S7: =R7*'G-3 Multipliers'!$Z$5 -> 0 | T7: 3 | U7: =T7*'G-3 Multipliers'!$Z$5 -> 0.048858049 | W7: =V7*'G-3 Multipliers'!$Z$5 -> 0
Q8: Large | S8: =R8*'G-3 Multipliers'!$Z6 -> 0 | T8: 2 | U8: =T8*'G-3 Multipliers'!$Z6 -> 0.073287073 | W8: =V8*'G-3 Multipliers'!$Z6 -> 0
Q9: Very large | S9: =R9*'G-3 Multipliers'!$Z7 -> 0 | U9: =T9*'G-3 Multipliers'!$Z7 -> 0 | W9: =V9*'G-3 Multipliers'!$Z7 -> 0
Q10: Total | R10: =SUM(R6:R9) -> 0 | S10: =SUM(S6:S9) -> 0 | T10: =SUM(T6:T9) -> 5 | U10: =SUM(U6:U9) -> 0.12214512 | V10: =SUM(V6:V9) -> 0 | W10: =SUM(W6:W9) -> 0

Sheet Results

Sheet Headline Results
B2: =IF(Start!$F$12="","",Start!$F$12) -> Land east of Calne Road, Lyneham | F2: =IF(OR(B56="This metric contains deviations from the statutory metric - these deviations are only acceptable in extremely rare circumstances and must be agreed with the consenting body ⚠",B57="You must specify if irreplaceable habitats are on-site at baseline ▲",B58="Unacceptable loss of irreplaceable habitat recorded - no bespoke compensation for lossess has been agreed ▲",),"Errors flagged below - please investigate further ▲","")
B3: =MID(CELL("filename",A1),FIND("]",CELL("filename",A1))+1,256) -> Headline Results
B5: Scroll down for final results ⚠
B8: On-site baseline | F8: Area habitat units | H8: =IFERROR('A-1 On-Site Habitat Baseline'!Q259,"Check Data ⚠") -> 20.02984
F9: Hedgerow units | H9: =IFERROR('B-1 On-Site Hedge Baseline'!N258,"Check Data ⚠") -> 1.2694
F10: Watercourse units | H10: ='C-1 On-Site WaterC'' Baseline'!R258 -> 0.06688
B12: On-site post-intervention (Including habitat retention, creation & enhancement) | F12: Area habitat units | H12: =IFERROR('A-2 On-Site Habitat Creation'!Y257+'A-3 On-Site Habitat Enhancement'!AN258+'A-1 On-Site Habitat Baseline'!U259+'A-1 On-Site Habitat Baseline'!AT259,"Check Data ⚠") -> 26.257664
F13: Hedgerow units | H13: =IFERROR('B-2 On-Site Hedge Creation'!W260+'B-3 On-Site Hedge Enhancement'!AH258+'B-1 On-Site Hedge Baseline'!R258,"Check Data⚠") -> 7.744523
F14: Watercourse units | H14: =IFERROR('C-2 On-Site WaterC'' Creation'!Z260+'C-3 On-Site WaterC'' Enhancement'!AM258+'C-1 On-Site WaterC'' Baseline'!W258+'C-1 On-Site WaterC'' Baseline'!AT258,"Check Data ⚠") -> 0.06688
B16: On-site net change (units & percentage) | F16: Area habitat units | H16: =IFERROR(H12-H8,"Error ▲") -> 6.227824 | J16: =IF(AND(H8=0,H12=0),0,IF(AND(H8=0,H12>0),"N/A",IFERROR((H12/H8)-1,"Check Data ⚠"))) -> 0.3109273 | K16: =IF(J16="N/A","Zero baseline units - % cannot be calculated",IF(OR(AND(H8=0,H12=0),J16>=Start!$F$22)," ","On-site net gain is less than target set ⚠"))
F17: Hedgerow units | H17: =IFERROR(H13-H9,"Error ▲") -> 6.475123 | J17: =IF(AND(H9=0,H13=0),0,IF(AND(H9=0,H13>0),"N/A",IFERROR((H13/H9)-1,"Check Data ⚠"))) -> 5.1009319 | K17: =IF(J17="N/A","Zero baseline units - % cannot be calculated",IF(OR(AND(H9=0,H13=0),J17>=Start!$F$22)," ","On-site net gain is less than target set ⚠"))
F18: Watercourse units | H18: =IFERROR(H14-H10,"Error ▲") -> 0 | J18: =IF(AND(H10=0,H14=0),0,IF(AND(H10=0,H14>0),"N/A",IFERROR((H14/H10)-1,"Check Data ⚠"))) -> 0 | K18: =IF(J18="N/A","Zero baseline units - % cannot be calculated",IF(OR(AND(H10=0,H14=0),J18>=Start!$F$22)," ","On-site net gain is less than target set ⚠")) -> On-site net gain is less than target set ⚠
B19: {=IF(OR('Off-site gain site summary'!M7:M107="Error - gain sites must be positive ▲",'Off-site gain site summary'!Z7:Z107="Error - gain sites must be positive ▲",'Off-site gain site summary'!AM7:AM107="Error - gain sites must be positive ▲"),"Error - off-site gain sites must be postive ▲","")}
B20: Off-site baseline | F20: Area habitat units | H20: =IFERROR('D-1 Off-Site Habitat Baseline'!T259,"Check Data ⚠") -> 0 | L20: =IFERROR('D-1 Off-Site Habitat Baseline'!Q259,"Check Data ⚠") -> 0
F21: Hedgerow units | H21: =IFERROR('E-1 Off-Site Hedge Baseline'!Q258,"Check Data ⚠") -> 0 | L21: =IFERROR('E-1 Off-Site Hedge Baseline'!N258,"Check Data ⚠") -> 0
F22: Watercourse units | H22: =IFERROR('F-1 Off-Site WaterC'' Baseline'!U258,"Check Data ⚠") -> 0 | L22: =IFERROR('F-1 Off-Site WaterC'' Baseline'!R258,"Check Data ⚠") -> 0
B24: Off-site post-intervention (Including habitat retention, creation & enhancement) | F24: Area habitat units | H24: =IFERROR('D-1 Off-Site Habitat Baseline'!$X$259+'D-2 Off-Site Habitat Creation'!AB257+'D-3 Off-Site Habitat Enhancment'!AQ259+'D-1 Off-Site Habitat Baseline'!AS259,"Check Data ⚠") -> 0 | L24: =IFERROR('D-1 Off-Site Habitat Baseline'!$AY$259+'D-2 Off-Site Habitat Creation'!AA257+'D-3 Off-Site Habitat Enhancment'!AP259,"Check Data ⚠") -> 0
F25: Hedgerow units | H25: =IFERROR('E-1 Off-Site Hedge Baseline'!U258+'E-2 Off-Site Hedge Creation'!Z260+'E-3 Off-Site Hedge Enhancement'!AK258,"Check Data ⚠") -> 0 | L25: =IFERROR('E-1 Off-Site Hedge Baseline'!AY258+'E-2 Off-Site Hedge Creation'!Y260+'E-3 Off-Site Hedge Enhancement'!AJ258,"Check Data ⚠") -> 0
F26: Watercourse units | H26: =IFERROR('F-1 Off-Site WaterC'' Baseline'!Z258+'F-2 Off-Site WaterC'' Creation'!AC260+'F-3 Off-Site WaterC Enhancement'!AP258+'F-1 Off-Site WaterC'' Baseline'!AT258,"Check Data ⚠") -> 0 | L26: =IFERROR('F-1 Off-Site WaterC'' Baseline'!BA258+'F-2 Off-Site WaterC'' Creation'!AB260+'F-3 Off-Site WaterC Enhancement'!AO258,"Check Data ⚠") -> 0
B28: Off-site net change (units & percentage) | F28: Area habitat units | H28: =IFERROR(H24-H20,"Error ▲") -> 0 | J28: =IF(AND(H20=0,H24=0),0,IF(AND(H20=0,H24>0),"N/A",IFERROR((H24/H20)-1,"Check Data ⚠"))) -> 0 | K28: =IF(J28="N/A","Zero baseline units - % cannot be calculated","")
F29: Hedgerow units | H29: =IFERROR(H25-H21,"Error ▲") -> 0 | J29: =IF(AND(H21=0,H25=0),0,IF(AND(H21=0,H25>0),"N/A",IFERROR((H25/H21)-1,"Check Data ⚠"))) -> 0 | K29: =IF(J29="N/A","Zero baseline units - % cannot be calculated","")
F30: Watercourse units | H30: =IFERROR(H26-H22,"Error ▲") -> 0 | J30: =IF(AND(H22=0,H26=0),0,IF(AND(H22=0,H26>0),"N/A",IFERROR((H26/H22)-1,"Check Data ⚠"))) -> 0 | K30: =IF(J30="N/A","Zero baseline units - % cannot be calculated","")
B32: Off-site unit change (with Spatial Risk Multiplier applied) | F32: Habitat units | H32: =IF((H28<=0),"N/A",(L24-L20)) -> N/A | J32: =IF(H32="N/A","SRM only applies where unit change is positive (uplift)"," ") -> SRM only applies where unit change is positive (uplift)
F33: Hedgerow units | H33: =IF((H29<=0),"N/A",(L25-L21)) -> N/A | J33: =IF(H33="N/A","SRM only applies where unit change is positive"," ") -> SRM only applies where unit change is positive
F34: Watercourse units | H34: =IF((H30<=0),"N/A",(L26-L22)) -> N/A | J34: =IF(H34="N/A","SRM only applies where unit change is positive"," ") -> SRM only applies where unit change is positive
B37: Combined net unit change (Including all on-site & off-site habitat retention, creation & enhancement) | F37: Area habitat units | H37: =IFERROR((H16)+(H28),"Check Data ⚠") -> 6.227824
F38: Hedgerow units | H38: =IFERROR((H17)+(H29),"Check Data ⚠") -> 6.475123
F39: Watercourse units | H39: =IFERROR((H18)+(H30),"Check Data ⚠") -> 0
B41: Spatial risk multiplier (SRM) deductions | F41: Area habitat units | H41: =IFERROR(H28-H32,"0.00") -> 0.00
F42: Hedgerow units | H42: =IFERROR(H29-H33,"0.00") -> 0.00
F43: Watercourse units | H43: =IFERROR(H30-H34,"0.00") -> 0.00
B44: {=IF(OR('A-1 On-Site Habitat Baseline'!Y11:Y258="Yes",'D-1 Off-Site Habitat Baseline'!AB14:AB258="Yes",'C-1 On-Site WaterC'' Baseline'!AA10:AA257="Yes",'F-1 Off-Site WaterC'' Baseline'!AD10:AD257="Yes"),"Ensure bespoke compensation has been agreed where stated ⚠","")}
B45: FINAL RESULTS
B47: Total net unit change (Including all on-site & off-site habitat retention, creation & enhancement) | F47: Area habitat units | H47: =IFERROR(IF(H32="N/A",(H12-H8)+(H28),(H12-H8)+(H32)),"Check Data ⚠") -> 6.227824
F48: Hedgerow units | H48: =IFERROR(IF(H33="N/A",(H13-H9)+(H29),(H13-H9)+(H33)),"Check Data ⚠") -> 6.475123
F49: Watercourse units | H49: =IFERROR(IF(H34="N/A",(H14-H10)+(H30),(H14-H10)+(H34)),"Check Data ⚠") -> 0
B51: Total net % change (Including all on-site & off-site habitat retention, creation & enhancement) | F51: Area habitat units | H51: =IF(H47=0,0,IF(H8=0,"N/A",IFERROR((H47/H8),"Check Data ⚠"))) -> 0.3109273 | J51: =IF(H51="N/A","0 baseline units - % cannot be calculated",IF(OR(AND(H8=0,H12=0),H51>=Start!$F$22)," ","Total net gain achieved is less than target set ▲"))
F52: Hedgerow units | H52: =IF(AND(H48=0,H9=0),0,IF(H9=0,"N/A",IFERROR((H48/H9),"Check Data ⚠"))) -> 5.1009319 | J52: =IF(H52="N/A","0 baseline units - % cannot be calculated",IF(OR(AND(H9=0,H13=0),H52>=Start!$F$22)," ","Total net gain achieved is less than target set ▲"))
F53: Watercourse units | H53: =IF(H49=0,0,IF(H10=0,"N/A",IFERROR((H49/H10),"Check Data ⚠"))) -> 0 | J53: =IF(H53="N/A","0 baseline units - % cannot be calculated",IF(OR(AND(H10=0,H14=0),H53>=Start!$F$22)," ","Total net gain achieved is less than target set ▲")) -> Total net gain achieved is less than target set ▲
B55: Trading rules satisfied? | F55: {=IF(OR('Trading Summary Area Habitats'!G5="No ▲",'Trading Summary Area Habitats'!G6="No ▲",'Trading Summary Area Habitats'!G7="No ▲",'Trading Summary Area Habitats'!G8="No ▲",'Trading Summary Hedgerows'!F5="No ▲",'Trading Summary Hedgerows'!F6:H6="No ▲",'Trading Summary Hedgerows'!F7="No ▲",'Trading Summary Hedgerows'!F8="No ▲",'Trading Summary Hedgerows'!F9="No ▲",'Trading Summary WaterC''s'!G5="No ▲",'Trading Summary WaterC''s'!G6="No ▲",'Trading Summary WaterC''s'!G7="No ▲",'Trading Summary WaterC''s'!G8="No ▲",B58="Unacceptable loss of irreplaceable habitat recorded - no bespoke compensation for lossess has been agreed ▲"),"No - Check Trading Summaries ▲","Yes ✓")} -> Yes ✓
...

Sheet Detailed Results
B2: =IF(Start!$F$12="","",Start!$F$12) -> Land east of Calne Road, Lyneham
B3: =MID(CELL("filename",A1),FIND("]",CELL("filename",A1))+1,256) -> Detailed Results
B7: Summary Figures
B10: Net project biodiversity units (Including all on-site & off-site habitat retention / creation) | F10: Area habitat units | H10: =IFERROR('Headline Results'!$H$47:$I$47,"Check Data ⚠") -> 6.227824
F11: Hedgerow units | H11: =IFERROR('Headline Results'!$H$48:$I$48,"Check Data ⚠") -> 6.475123
F12: Watercourse units | H12: =IFERROR('Headline Results'!$H$49:$I$49,"Check Data ⚠") -> 0
B14: Total project biodiversity % change (Including all on-site & off-site habitat creation + retained habitats) | F14: Area habitat units | H14: =IFERROR('Headline Results'!$H$51:$I$51,"Check Data ⚠") -> 0.3109273
F15: Hedgerow units | H15: =IFERROR('Headline Results'!$H$52:$I$52,"Check Data ⚠") -> 5.1009319
F16: Watercourse units | H16: =IFERROR('Headline Results'!$H$53:$I$53,"Check Data ⚠") -> 0
B18: Combined habitat retention and enhancement
D20: Area Habitats | F20: Hedgerows | H20: Watercourses
B21: Total on-site and off-site baseline area / length | D21: =IFERROR('A-1 On-Site Habitat Baseline'!$H259+'D-1 Off-Site Habitat Baseline'!H259,"Error ▲") -> 8.86 | F21: ='B-1 On-Site Hedge Baseline'!$E$258+'E-1 Off-Site Hedge Baseline'!$E$258 -> 0.096 | H21: ='C-1 On-Site WaterC'' Baseline'!$E$258+'F-1 Off-Site WaterC'' Baseline'!$E$258 -> 0.01
B22: Total on-site and off-site baseline units | D22: =IFERROR('A-1 On-Site Habitat Baseline'!$Q259+'D-1 Off-Site Habitat Baseline'!T259,"Error ▲") -> 20.02984 | F22: ='B-1 On-Site Hedge Baseline'!$N$258+'E-1 Off-Site Hedge Baseline'!$Q$258 -> 1.2694 | H22: ='C-1 On-Site WaterC'' Baseline'!$R$258+'F-1 Off-Site WaterC'' Baseline'!$U$258 -> 0.06688
B24: Total on-site and off-site baseline area / length retained | D24: =IFERROR('A-1 On-Site Habitat Baseline'!$S259+'D-1 Off-Site Habitat Baseline'!V259,"Error ▲") -> 0.6259 | F24: ='B-1 On-Site Hedge Baseline'!$P$258+'E-1 Off-Site Hedge Baseline'!$S$258 -> 0.075 | H24: ='C-1 On-Site WaterC'' Baseline'!U258+'F-1 Off-Site WaterC'' Baseline'!X258 -> 0.01
B25: Total on-site and off-site baseline units retained | D25: =IFERROR('A-1 On-Site Habitat Baseline'!$U259+'D-1 Off-Site Habitat Baseline'!X259,"Error ▲") -> 3.51572 | F25: ='B-1 On-Site Hedge Baseline'!R258+'E-1 Off-Site Hedge Baseline'!U258 -> 0.9922 | H25: ='C-1 On-Site WaterC'' Baseline'!W258+'F-1 Off-Site WaterC'' Baseline'!Z258 -> 0.06688
B27: Total on-site and off-site area / length proposed for enhancement | D27: =IFERROR('A-1 On-Site Habitat Baseline'!$T259+'D-1 Off-Site Habitat Baseline'!W259,"Error ▲") -> 0 | F27: ='B-1 On-Site Hedge Baseline'!$Q$258+'E-1 Off-Site Hedge Baseline'!$T$258 -> 0 | H27: ='C-1 On-Site WaterC'' Baseline'!V258+'F-1 Off-Site WaterC'' Baseline'!Y258 -> 0
B28: Total on-site and off-site baseline units proposed for enhancement | D28: =IFERROR('A-1 On-Site Habitat Baseline'!$V259+'D-1 Off-Site Habitat Baseline'!Y259,"Error ▲") -> 0 | F28: ='B-1 On-Site Hedge Baseline'!$S$258+'E-1 Off-Site Hedge Baseline'!$V$258 -> 0 | H28: ='C-1 On-Site WaterC'' Baseline'!X258+'F-1 Off-Site WaterC'' Baseline'!AA258 -> 0
B30: Total on-site and off-site baseline area / length lost | D30: =IFERROR('A-1 On-Site Habitat Baseline'!$W259+'D-1 Off-Site Habitat Baseline'!Z259,"Error ▲") -> 8.2341 | F30: ='B-1 On-Site Hedge Baseline'!$T$258+'E-1 Off-Site Hedge Baseline'!$W$258 -> 0.021 | H30: ='C-1 On-Site WaterC'' Baseline'!Y258+'F-1 Off-Site WaterC'' Baseline'!AB258 -> 0
B31: Total on-site and off-site baseline units lost | D31: =IFERROR('A-1 On-Site Habitat Baseline'!$X259+'D-1 Off-Site Habitat Baseline'!AA259,"Error ▲") -> 16.51412 | F31: ='B-1 On-Site Hedge Baseline'!$U$258+'E-1 Off-Site Hedge Baseline'!$X$258 -> 0.2772 | H31: ='C-1 On-Site WaterC'' Baseline'!Z258+'F-1 Off-Site WaterC'' Baseline'!AC258 -> 0
A33: Area Habitats Area Habitats Area Habitats
B34: Area habitats
B36: On-site change by broad habitat type | J36: Combined area lost from baseline(s) by distinctiveness band
C37: Baseline | E37: Post-development on-site | G37: On-site change
B38: Habitat group | C38: On-site existing area | D38: On-site existing value | E38: On-site proposed area | F38: On-site proposed value | G38: On-site area change | H38: On-site unit change | J38: Category | K38: Area lost (hectares) | L38: Area lost (%)
B39: Cropland | C39: ='G-2 Habitat groups'!$AK$4 -> 0 | D39: ='G-2 Habitat groups'!$AL$4 -> 0 | E39: ='G-2 Habitat groups'!$AM$4 -> 0 | F39: ='G-2 Habitat groups'!$AN$4 -> 0 | G39: =E39-C39 -> 0 | H39: =F39-D39 -> 0
B40: Grassland | C40: ='G-2 Habitat groups'!$AK$5 -> 8.806 | D40: ='G-2 Habitat groups'!$AL$5 -> 19.4728 | E40: ='G-2 Habitat groups'!$AM$5 -> 3.044 | F40: ='G-2 Habitat groups'!$AN$5 -> 20.546158 | G40: =E40-C40 -> -5.762 | H40: =F40-D40 -> 1.0733575 | J40: ='G-1 All Habitats'!$V$3 -> V.High | K40: =SUMIF('A-1 On-Site Habitat Baseline'!$I$11:$I$258,'Detailed Results'!J40,'A-1 On-Site Habitat Baseline'!$W$11:$W$258)+SUMIF('D-1 Off-Site Habitat Baseline'!$I$11:$I$258,'Detailed Results'!J40,'D-1 Off-Site Habitat Baseline'!$Z$11:$Z$258) -> 0 | L40: =IF(K40=0,"",(K40/(SUM($K$40:$K$49)))*100)
B41: Heathland and shrub | C41: ='G-2 Habitat groups'!$AK$6 -> 0 | D41: ='G-2 Habitat groups'!$AL$6 -> 0 | E41: ='G-2 Habitat groups'!$AM$6 -> 0 | F41: ='G-2 Habitat groups'!$AN$6 -> 0 | G41: =E41-C41 -> 0 | H41: =F41-D41 -> 0
B42: Lakes | C42: ='G-2 Habitat groups'!$AK$7 -> 0 | D42: ='G-2 Habitat groups'!$AL$7 -> 0 | E42: ='G-2 Habitat groups'!$AM$7 -> 0 | F42: ='G-2 Habitat groups'!$AN$7 -> 0 | G42: =E42-C42 -> 0 | H42: =F42-D42 -> 0 | J42: ='G-1 All Habitats'!$V$4 -> High | K42: =SUMIF('A-1 On-Site Habitat Baseline'!$I$11:$I$258,'Detailed Results'!J42,'A-1 On-Site Habitat Baseline'!$W$11:$W$258)+SUMIF('D-1 Off-Site Habitat Baseline'!$I$11:$I$258,'Detailed Results'!J42,'D-1 Off-Site Habitat Baseline'!$Z$11:$Z$258) -> 0 | L42: =IF(K42=0,"",(K42/(SUM($K$40:$K$49)))*100)
B43: Sparsely vegetated land | C43: ='G-2 Habitat groups'!$AK$8 -> 0 | D43: ='G-2 Habitat groups'!$AL$8 -> 0 | E43: ='G-2 Habitat groups'!$AM$8 -> 0 | F43: ='G-2 Habitat groups'!$AN$8 -> 0 | G43: =E43-C43 -> 0 | H43: =F43-D43 -> 0
B44: Urban | C44: ='G-2 Habitat groups'!$AK$9 -> 0.005 | D44: ='G-2 Habitat groups'!$AL$9 -> 0 | E44: ='G-2 Habitat groups'!$AM$9 -> 5.759 | F44: ='G-2 Habitat groups'!$AN$9 -> 5.1456505 | G44: =E44-C44 -> 5.754 | H44: =F44-D44 -> 5.1456505 | J44: ='G-1 All Habitats'!$V5 -> Medium | K44: =SUMIF('A-1 On-Site Habitat Baseline'!$I$11:$I$258,'Detailed Results'!J44,'A-1 On-Site Habitat Baseline'!$W$11:$W$258)+SUMIF('D-1 Off-Site Habitat Baseline'!$I$11:$I$258,'Detailed Results'!J44,'D-1 Off-Site Habitat Baseline'!$Z$11:$Z$258) -> 0.0041 | L44: =IF(K44=0,"",(K44/(SUM($K$40:$K$49)))*100) -> 0.049792934
B45: Wetland | C45: ='G-2 Habitat groups'!$AK$10 -> 0 | D45: ='G-2 Habitat groups'!$AL$10 -> 0 | E45: ='G-2 Habitat groups'!$AM$10 -> 0 | F45: ='G-2 Habitat groups'!$AN$10 -> 0 | G45: =E45-C45 -> 0 | H45: =F45-D45 -> 0
B46: Woodland and forest | C46: ='G-2 Habitat groups'!$AK$11 -> 0 | D46: ='G-2 Habitat groups'!$AL$11 -> 0 | E46: ='G-2 Habitat groups'!$AM$11 -> 0 | F46: ='G-2 Habitat groups'!$AN$11 -> 0 | G46: =E46-C46 -> 0 | H46: =F46-D46 -> 0 | J46: ='G-1 All Habitats'!$V$6 -> Low | K46: =SUMIF('A-1 On-Site Habitat Baseline'!$I$11:$I$258,'Detailed Results'!J46,'A-1 On-Site Habitat Baseline'!$W$11:$W$258)+SUMIF('D-1 Off-Site Habitat Baseline'!$I$11:$I$258,'Detailed Results'!J46,'D-1 Off-Site Habitat Baseline'!$Z$11:$Z$258) -> 8.23 | L46: =IF(K46=0,"",(K46/(SUM($K$40:$K$49)))*100) -> 99.950207
B47: Intertidal sediment | C47: ='G-2 Habitat groups'!$AK$12 -> 0 | D47: ='G-2 Habitat groups'!$AL$12 -> 0 | E47: ='G-2 Habitat groups'!$AM$12 -> 0 | F47: ='G-2 Habitat groups'!$AN$12 -> 0 | G47: =E47-C47 -> 0 | H47: =F47-D47 -> 0
B48: Coastal saltmarsh | C48: ='G-2 Habitat groups'!$AK$13 -> 0 | D48: ='G-2 Habitat groups'!$AL$13 -> 0 | E48: ='G-2 Habitat groups'!$AM$13 -> 0 | F48: ='G-2 Habitat groups'!$AN$13 -> 0 | G48: =E48-C48 -> 0 | H48: =F48-D48 -> 0 | J48: ='G-1 All Habitats'!$V$7 -> V.Low | K48: =SUMIF('A-1 On-Site Habitat Baseline'!$I$11:$I$258,'Detailed Results'!J48,'A-1 On-Site Habitat Baseline'!$W$11:$W$258)+SUMIF('D-1 Off-Site Habitat Baseline'!$I$11:$I$258,'Detailed Results'!J48,'D-1 Off-Site Habitat Baseline'!$Z$11:$Z$258) -> 0 | L48: =IF(K48=0,"",(K48/(SUM($K$40:$K$49)))*100)
B49: Rocky shore | C49: ='G-2 Habitat groups'!$AK$14 -> 0 | D49: ='G-2 Habitat groups'!$AL$14 -> 0 | E49: ='G-2 Habitat groups'!$AM$14 -> 0 | F49: ='G-2 Habitat groups'!$AN$14 -> 0 | G49: =E49-C49 -> 0 | H49: =F49-D49 -> 0
B50: Coastal lagoons | C50: ='G-2 Habitat groups'!$AK$15 -> 0 | D50: ='G-2 Habitat groups'!$AL$15 -> 0 | E50: ='G-2 Habitat groups'!$AM$15 -> 0 | F50: ='G-2 Habitat groups'!$AN$15 -> 0 | G50: =E50-C50 -> 0 | H50: =F50-D50 -> 0
B51: Intertidal hard structures | C51: ='G-2 Habitat groups'!$AK$16 -> 0 | D51: ='G-2 Habitat groups'!$AL$16 -> 0 | E51: ='G-2 Habitat groups'!$AM$16 -> 0 | F51: ='G-2 Habitat groups'!$AN$16 -> 0 | G51: =E51-C51 -> 0 | H51: =F51-D51 -> 0
B52: Watercourse footprint | C52: ='G-2 Habitat groups'!$AK$18 -> 0 | D52: ='G-2 Habitat groups'!$AL$18 -> 0 | E52: ='G-2 Habitat groups'!$AM$18 -> 0 | F52: ='G-2 Habitat groups'!$AN$18 -> 0 | G52: =E52-C52 -> 0 | H52: =F52-D52 -> 0
B53: Individual trees | C53: ='G-2 Habitat groups'!$AK$17 -> 0.049 | D53: ='G-2 Habitat groups'!$AL$17 -> 0.55704 | E53: ='G-2 Habitat groups'!$AM$17 -> 0.0613 | F53: ='G-2 Habitat groups'!$AN$17 -> 0.565856 | G53: =E53-C53 -> 0.0123 | H53: =F53-D53 -> 0.0088159977
B56: Off-site change by broad habitat type
...

Sheet Trading Summary Area Habitats
B2: Trading Summary
B3: Distinctiveness Group | C3: Trading Rule | G3: Trading Satisfied?
B5: Very High | C5: Same habitat required – bespoke compensation option ⚠ | G5: =IFERROR(IF(G33<0,"No ▲","Yes ✓"),"") -> Yes ✓
B6: High | C6: Same habitat required = | G6: =IFERROR(IF(K41<0,"No ▲","Yes ✓"),"") -> Yes ✓
B7: Medium | C7: Same broad habitat or a higher distinctiveness habitat required (≥) | G7: =IF(K40+K12+K89<0,"No ▲","Yes ✓") -> Yes ✓
B8: Low | C8: Same distinctiveness or better habitat required ≥ | G8: =IF(K125<0,"No ▲","Yes ✓") -> Yes ✓
B11: Very High Distinctiveness | J11: Very High Distinctiveness Summary
B12: Habitat group | C12: Group | D12: On-site unit change | E12: Off-site unit change | F12: Project-wide unit change | G12: Unit losses | J12: Very High Distinctiveness Units available to offset lower distinctiveness deficit | K12: =SUMIF($F$13:$F$32,">0") -> 0 | L12: =IF(K12=0,"",IF(K12<0,"⚠","✓"))
B13: ='G-2 Habitat groups'!AU5 -> Grassland - Lowland dry acid grassland | C13: ='G-2 Habitat groups'!AV5 -> Grassland | D13: ='G-2 Habitat groups'!BB5 -> 0 | E13: ='G-2 Habitat groups'!BD5 -> 0 | F13: ='G-2 Habitat groups'!BE5 -> 0 | G13: ='G-2 Habitat groups'!BF5 | H13: =IF(F13=0,"",IF(F13<0,"▲","✓")) | J13: Remaining losses; Like for like not satisfied | K13: =G33 -> 0 | L13: =IF(K13=0,"",IF(K13<0,"▲","✓"))
B14: ='G-2 Habitat groups'!AU6 -> Grassland - Lowland meadows | C14: ='G-2 Habitat groups'!AV6 -> Grassland | D14: ='G-2 Habitat groups'!BB6 -> 0 | E14: ='G-2 Habitat groups'!BD6 -> 0 | F14: ='G-2 Habitat groups'!BE6 -> 0 | G14: ='G-2 Habitat groups'!BF6 | H14: =IF(F14=0,"",IF(F14<0,"▲","✓"))
B15: ='G-2 Habitat groups'!AU7 -> Grassland - Upland hay meadows | C15: ='G-2 Habitat groups'!AV7 -> Grassland | D15: ='G-2 Habitat groups'!BB7 -> 0 | E15: ='G-2 Habitat groups'!BD7 -> 0 | F15: ='G-2 Habitat groups'!BE7 -> 0 | G15: ='G-2 Habitat groups'!BF7 | H15: =IF(F15=0,"",IF(F15<0,"▲","✓"))
B16: ='G-2 Habitat groups'!AU8 -> Heathland and shrub - Mountain heaths and willow scrub | C16: ='G-2 Habitat groups'!AV8 -> Heathland and shrub | D16: ='G-2 Habitat groups'!BB8 -> 0 | E16: ='G-2 Habitat groups'!BD8 -> 0 | F16: ='G-2 Habitat groups'!BE8 -> 0 | G16: ='G-2 Habitat groups'!BF8 | H16: =IF(F16=0,"",IF(F16<0,"▲","✓"))
B17: ='G-2 Habitat groups'!AU9 -> Lakes - Aquifer fed naturally fluctuating water bodies | C17: ='G-2 Habitat groups'!AV9 -> Lakes | D17: ='G-2 Habitat groups'!BB9 -> 0 | E17: ='G-2 Habitat groups'!BD9 -> 0 | F17: ='G-2 Habitat groups'!BE9 -> 0 | G17: ='G-2 Habitat groups'!BF9 | H17: =IF(F17=0,"",IF(F17<0,"▲","✓"))
B18: ='G-2 Habitat groups'!AU10 -> Sparsely vegetated land - Calaminarian grasslands | C18: ='G-2 Habitat groups'!AV10 -> Sparsely vegetated land | D18: ='G-2 Habitat groups'!BB10 -> 0 | E18: ='G-2 Habitat groups'!BD10 -> 0 | F18: ='G-2 Habitat groups'!BE10 -> 0 | G18: ='G-2 Habitat groups'!BF10 | H18: =IF(F18=0,"",IF(F18<0,"▲","✓"))
B19: ='G-2 Habitat groups'!AU11 -> Sparsely vegetated land - Limestone pavement | C19: ='G-2 Habitat groups'!AV11 -> Sparsely vegetated land | D19: ='G-2 Habitat groups'!BB11 -> 0 | E19: ='G-2 Habitat groups'!BD11 -> 0 | F19: ='G-2 Habitat groups'!BE11 -> 0 | G19: ='G-2 Habitat groups'!BF11 | H19: =IF(F19=0,"",IF(F19<0,"▲","✓"))
B20: ='G-2 Habitat groups'!AU12 -> Wetland - Blanket bog | C20: ='G-2 Habitat groups'!AV12 -> Wetland | D20: ='G-2 Habitat groups'!BB12 -> 0 | E20: ='G-2 Habitat groups'!BD12 -> 0 | F20: ='G-2 Habitat groups'!BE12 -> 0 | G20: ='G-2 Habitat groups'!BF12 | H20: =IF(F20=0,"",IF(F20<0,"▲","✓"))
B21: ='G-2 Habitat groups'!AU13 -> Wetland - Depressions on peat substrates (H7150) | C21: ='G-2 Habitat groups'!AV13 -> Wetland | D21: ='G-2 Habitat groups'!BB13 -> 0 | E21: ='G-2 Habitat groups'!BD13 -> 0 | F21: ='G-2 Habitat groups'!BE13 -> 0 | G21: ='G-2 Habitat groups'!BF13 | H21: =IF(F21=0,"",IF(F21<0,"▲","✓"))
B22: ='G-2 Habitat groups'!AU14 -> Wetland - Fens (upland and lowland) | C22: ='G-2 Habitat groups'!AV14 -> Wetland | D22: ='G-2 Habitat groups'!BB14 -> 0 | E22: ='G-2 Habitat groups'!BD14 -> 0 | F22: ='G-2 Habitat groups'!BE14 -> 0 | G22: ='G-2 Habitat groups'!BF14 | H22: =IF(F22=0,"",IF(F22<0,"▲","✓"))
B23: ='G-2 Habitat groups'!AU15 -> Wetland - Lowland raised bog | C23: ='G-2 Habitat groups'!AV15 -> Wetland | D23: ='G-2 Habitat groups'!BB15 -> 0 | E23: ='G-2 Habitat groups'!BD15 -> 0 | F23: ='G-2 Habitat groups'!BE15 -> 0 | G23: ='G-2 Habitat groups'!BF15 | H23: =IF(F23=0,"",IF(F23<0,"▲","✓"))
B24: ='G-2 Habitat groups'!AU16 -> Wetland - Oceanic valley mire[1] (D2.1) | C24: ='G-2 Habitat groups'!AV16 -> Wetland | D24: ='G-2 Habitat groups'!BB16 -> 0 | E24: ='G-2 Habitat groups'!BD16 -> 0 | F24: ='G-2 Habitat groups'!BE16 -> 0 | G24: ='G-2 Habitat groups'!BF16 | H24: =IF(F24=0,"",IF(F24<0,"▲","✓"))
B25: ='G-2 Habitat groups'!AU17 -> Wetland - Purple moor grass and rush pastures | C25: ='G-2 Habitat groups'!AV17 -> Wetland | D25: ='G-2 Habitat groups'!BB17 -> 0 | E25: ='G-2 Habitat groups'!BD17 -> 0 | F25: ='G-2 Habitat groups'!BE17 -> 0 | G25: ='G-2 Habitat groups'!BF17 | H25: =IF(F25=0,"",IF(F25<0,"▲","✓"))
... B32: ='G-2 Habitat groups'!AU24 -> Intertidal sediment - Littoral seagrass on peat, clay or chalk | C32: ='G-2 Habitat groups'!AV24 -> Intertidal sediment | D32: ='G-2 Habitat groups'!BB24 -> 0 | E32: ='G-2 Habitat groups'!BD24 -> 0 | F32: ='G-2 Habitat groups'!BE24 -> 0 | G32: ='G-2 Habitat groups'!BF24 | H32: =IF(F32=0,"",IF(F32<0,"▲","✓"))
D33: =SUM(D13:D32) -> 0 | E33: =SUM(E13:E32) -> 0 | F33: =SUM(F13:F32) -> 0 | G33: =SUM(G13:G32) -> 0
B39: High Distinctiveness | J39: High Distinctiveness Summary
B40: Habitat group | C40: Group | D40: On-site unit change | E40: Off-site unit change | F40: Project-wide unit change | G40: Losses not yet accounted for | J40: High Distinctiveness Units available to offset lower distinctiveness deficit | K40: =SUMIF($F$41:$F$82,">0") -> 0 | L40: =IF(K40=0,"",IF(K40<0,"⚠","✓"))
B41: ='G-2 Habitat groups'!AU30 -> Grassland - Traditional orchards | C41: ='G-2 Habitat groups'!AV30 -> Grassland | D41: ='G-2 Habitat groups'!BB30 -> 0 | E41: ='G-2 Habitat groups'!BD30 -> 0 | F41: ='G-2 Habitat groups'!BE30 -> 0 | G41: ='G-2 Habitat groups'!BF30 | H41: =IF(F41=0,"",IF(F41<0,"▲","✓")) | J41: Remaining losses; Like for like not satisfied | K41: =G83 -> 0 | L41: =IF(K41=0,"",IF(K41<0,"▲","✓"))
B42: ='G-2 Habitat groups'!AU31 -> Grassland - Floodplain wetland mosaic and CFGM | C42: ='G-2 Habitat groups'!AV31 -> Grassland | D42: ='G-2 Habitat groups'!BB31 -> 0 | E42: ='G-2 Habitat groups'!BD31 -> 0 | F42: ='G-2 Habitat groups'!BE31 -> 0 | G42: ='G-2 Habitat groups'!BF31 | H42: =IF(F42=0,"",IF(F42<0,"▲","✓"))
B43: ='G-2 Habitat groups'!AU32 -> Grassland - Lowland calcareous grassland | C43: ='G-2 Habitat groups'!AV32 -> Grassland | D43: ='G-2 Habitat groups'!BB32 -> 0 | E43: ='G-2 Habitat groups'!BD32 -> 0 | F43: ='G-2 Habitat groups'!BE32 -> 0 | G43: ='G-2 Habitat groups'!BF32 | H43: =IF(F43=0,"",IF(F43<0,"▲","✓"))
B44: ='G-2 Habitat groups'!AU33 -> Grassland - Tall herb communities (H6430) | C44: ='G-2 Habitat groups'!AV33 -> Grassland | D44: ='G-2 Habitat groups'!BB33 -> 0 | E44: ='G-2 Habitat groups'!BD33 -> 0 | F44: ='G-2 Habitat groups'!BE33 -> 0 | G44: ='G-2 Habitat groups'!BF33 | H44: =IF(F44=0,"",IF(F44<0,"▲","✓"))
B45: ='G-2 Habitat groups'!AU34 -> Grassland - Upland calcareous grassland | C45: ='G-2 Habitat groups'!AV34 -> Grassland | D45: ='G-2 Habitat groups'!BB34 -> 0 | E45: ='G-2 Habitat groups'!BD34 -> 0 | F45: ='G-2 Habitat groups'!BE34 -> 0 | G45: ='G-2 Habitat groups'!BF34 | H45: =IF(F45=0,"",IF(F45<0,"▲","✓"))
B46: ='G-2 Habitat groups'!AU35 -> Heathland and shrub - Lowland Heathland | C46: ='G-2 Habitat groups'!AV35 -> Heathland and shrub | D46: ='G-2 Habitat groups'!BB35 -> 0 | E46: ='G-2 Habitat groups'!BD35 -> 0 | F46: ='G-2 Habitat groups'!BE35 -> 0 | G46: ='G-2 Habitat groups'!BF35 | H46: =IF(F46=0,"",IF(F46<0,"▲","✓"))
B47: ='G-2 Habitat groups'!AU36 -> Heathland and shrub - Dunes with sea buckthorn (H2160) | C47: ='G-2 Habitat groups'!AV36 -> Heathland and shrub | D47: ='G-2 Habitat groups'!BB36 -> 0 | E47: ='G-2 Habitat groups'!BD36 -> 0 | F47: ='G-2 Habitat groups'!BE36 -> 0 | G47: ='G-2 Habitat groups'!BF36 | H47: =IF(F47=0,"",IF(F47<0,"▲","✓"))
B48: ='G-2 Habitat groups'!AU37 -> Heathland and shrub - Upland heathland | C48: ='G-2 Habitat groups'!AV37 -> Heathland and shrub | D48: ='G-2 Habitat groups'!BB37 -> 0 | E48: ='G-2 Habitat groups'!BD37 -> 0 | F48: ='G-2 Habitat groups'!BE37 -> 0 | G48: ='G-2 Habitat groups'!BF37 | H48: =IF(F48=0,"",IF(F48<0,"▲","✓"))
B49: ='G-2 Habitat groups'!AU39 -> Lakes - High alkalinity lakes | C49: ='G-2 Habitat groups'!AV39 -> Lakes | D49: ='G-2 Habitat groups'!BB39 -> 0 | E49: ='G-2 Habitat groups'!BD39 -> 0 | F49: ='G-2 Habitat groups'!BE39 -> 0 | G49: ='G-2 Habitat groups'!BF39 | H49: =IF(F49=0,"",IF(F49<0,"▲","✓"))
B50: ='G-2 Habitat groups'!AU40 -> Lakes - Low alkalinity lakes | C50: ='G-2 Habitat groups'!AV40 -> Lakes | D50: ='G-2 Habitat groups'!BB40 -> 0 | E50: ='G-2 Habitat groups'!BD40 -> 0 | F50: ='G-2 Habitat groups'!BE40 -> 0 | G50: ='G-2 Habitat groups'!BF40 | H50: =IF(F50=0,"",IF(F50<0,"▲","✓"))
B51: ='G-2 Habitat groups'!AU41 -> Lakes - Marl lakes | C51: ='G-2 Habitat groups'!AV41 -> Lakes | D51: ='G-2 Habitat groups'!BB41 -> 0 | E51: ='G-2 Habitat groups'!BD41 -> 0 | F51: ='G-2 Habitat groups'!BE41 -> 0 | G51: ='G-2 Habitat groups'!BF41 | H51: =IF(F51=0,"",IF(F51<0,"▲","✓"))
B52: ='G-2 Habitat groups'!AU42 -> Lakes - Moderate alkalinity lakes | C52: ='G-2 Habitat groups'!AV42 -> Lakes | D52: ='G-2 Habitat groups'!BB42 -> 0 | E52: ='G-2 Habitat groups'!BD42 -> 0 | F52: ='G-2 Habitat groups'!BE42 -> 0 | G52: ='G-2 Habitat groups'!BF42 | H52: =IF(F52=0,"",IF(F52<0,"▲","✓"))
B53: ='G-2 Habitat groups'!AU43 -> Lakes - Peat lakes | C53: ='G-2 Habitat groups'!AV43 -> Lakes | D53: ='G-2 Habitat groups'!BB43 -> 0 | E53: ='G-2 Habitat groups'!BD43 -> 0 | F53: ='G-2 Habitat groups'!BE43 -> 0 | G53: ='G-2 Habitat groups'!BF43 | H53: =IF(F53=0,"",IF(F53<0,"▲","✓"))
B54: ='G-2 Habitat groups'!AU44 -> Lakes - Ponds (priority habitat) | C54: ='G-2 Habitat groups'!AV44 -> Lakes | D54: ='G-2 Habitat groups'!BB44 -> 0 | E54: ='G-2 Habitat groups'!BD44 -> 0 | F54: ='G-2 Habitat groups'!BE44 -> 0 | G54: ='G-2 Habitat groups'!BF44 | H54: =IF(F54=0,"",IF(F54<0,"▲","✓"))
B55: ='G-2 Habitat groups'!AU45 -> Lakes - Temporary lakes ponds and pools (H3170) | C55: ='G-2 Habitat groups'!AV45 -> Lakes | D55: ='G-2 Habitat groups'!BB45 -> 0 | E55: ='G-2 Habitat groups'!BD45 -> 0 | F55: ='G-2 Habitat groups'!BE45 -> 0 | G55: ='G-2 Habitat groups'!BF45 | H55: =IF(F55=0,"",IF(F55<0,"▲","✓"))
...

Sheet Trading Summary Hedgerows
B2: Trading Summary
B3: Distinctiveness Group | C3: Trading Rule | F3: Trading Satisfied?
B5: Very High | C5: Same habitat required = | F5: =IFERROR(IF(I14<0,"No ▲","Yes ✓"),"") -> Yes ✓
B6: High | C6: Like for like or better | F6: =IF(I22+I13<0,"No ▲","Yes ✓") -> Yes ✓
B7: Medium | C7: Same distinctiveness or better habitat required | F7: =IF(I33<0,"No ▲","Yes ✓") -> Yes ✓
B8: Low | C8: Same distinctiveness or better habitat required | F8: =IF(I44<0,"No ▲","Yes ✓") -> Yes ✓
B9: Very Low | C9: Same distinctiveness or better habitat required | F9: =IF(I54<0,"No ▲","Yes ✓") -> Yes ✓
B12: Very High Distinctiveness | H12: Very High Distinctiveness Summary
B13: Habitat group | C13: On-site unit change | D13: Off-site unit change | E13: Project-wide unit change | H13: Very High Distinctiveness Units available to offset lower distinctiveness deficit | I13: =SUMIF($E$14:$E$14,">0") -> 0.45602382 | J13: =IF(I13=0,"",IF(I13<0,"⚠","✓")) -> ✓
B14: ='G-2 Habitat groups'!A150 -> Species-rich native hedgerow with trees - associated with bank or ditch | C14: ='G-2 Habitat groups'!R150 -> 0.45602382 | D14: ='G-2 Habitat groups'!AD150 -> 0 | E14: ='G-2 Habitat groups'!AF150 -> 0.45602382 | F14: =IF(E14=0,"",IF(E14<0,"▲","✓")) -> ✓ | H14: Remaining losses; Like for like not satisfied | I14: =SUMIF(E14,"<0",E14) -> 0 | J14: =IF(I14=0,"",IF(I14<0,"▲","✓"))
C15: =SUM(C14:C14) -> 0.45602382 | D15: =SUM(D14:D14) -> 0 | E15: =SUM(E14:E14) -> 0.45602382
B20: High Distinctiveness | H20: High Distinctiveness Summary
B21: Habitat group | C21: On-site unit change | D21: Off-site unit change | E21: Project wide unit change | H21: High Distinctiveness Units available to offset lower distinctiveness deficit | I21: =SUMIF(E22:E24,">0") -> 0 | J21: =IF(I21=0,"",IF(I21<0,"⚠","✓"))
B22: ='G-2 Habitat groups'!A151 -> Species-rich native hedgerow with trees | C22: ='G-2 Habitat groups'!R151 -> 0 | D22: ='G-2 Habitat groups'!AD151 -> 0 | E22: ='G-2 Habitat groups'!AF151 -> 0 | F22: =IF(E22=0,"",IF(E22<0,"⚠","✓")) | H22: High Distinctiveness losses to be offset by trading up | I22: =SUMIF(E22:E24,"<0") -> -0.2772 | J22: =IF(I22=0,"",IF(I22<0,"⚠","✓")) -> ⚠
B23: ='G-2 Habitat groups'!A152 -> Species-rich native hedgerow - associated with bank or ditch | C23: ='G-2 Habitat groups'!R152 -> 0 | D23: ='G-2 Habitat groups'!AD152 -> 0 | E23: ='G-2 Habitat groups'!AF152 -> 0 | F23: =IF(E23=0,"",IF(E23<0,"⚠","✓")) | H23: Higher Distinctiveness surplus units minus any high distinctiveness deficit | I23: =I13+I22 -> 0.17882382 | J23: =IF(I23=0,"",IF(I23<0,"⚠","✓")) -> ✓
B24: ='G-2 Habitat groups'!A153 -> Native hedgerow with trees - associated with bank or ditch | C24: ='G-2 Habitat groups'!R153 -> -0.2772 | D24: ='G-2 Habitat groups'!AD153 -> 0 | E24: ='G-2 Habitat groups'!AF153 -> -0.2772 | F24: =IF(E24=0,"",IF(E24<0,"⚠","✓")) -> ⚠
C26: =SUM(C22:C24) -> -0.2772 | D26: =SUM(D22:D24) -> 0 | E26: =SUM(E22:E24) -> -0.2772
B30: Medium Distinctiveness | H30: Medium Distinctiveness Summary
B31: Habitat group | C31: On-site unit change | D31: Off-site unit change | E31: Project wide unit change | H31: Units available from higher distinctiveness habitats | I31: =IF(I23>0,I23,0)+I21 -> 0.17882382 | J31: =IF(I31=0,"",IF(I31<0,"⚠","✓")) -> ✓
B32: ='G-2 Habitat groups'!A154 -> Species-rich native hedgerow | C32: ='G-2 Habitat groups'!R154 -> 6.2962991 | D32: ='G-2 Habitat groups'!AD154 -> 0 | E32: ='G-2 Habitat groups'!AF154 -> 6.2962991 | F32: =IF(E32=0,"",IF(E32<0,"⚠","✓")) -> ✓ | H32: Medium Distinctiveness net change in units | I32: =E38 -> 6.2962991 | J32: =IF(I32=0,"",IF(I32<0,"⚠","✓")) -> ✓
B33: ='G-2 Habitat groups'!A155 -> Native hedgerow - associated with bank or ditch | C33: ='G-2 Habitat groups'!R155 -> 0 | D33: ='G-2 Habitat groups'!AD155 -> 0 | E33: ='G-2 Habitat groups'!AF155 -> 0 | F33: =IF(E33=0,"",IF(E33<0,"⚠","✓")) | H33: Cumulative availability of units | I33: =I32+I31 -> 6.475123 | J33: =IF(I33=0,"",IF(I33<0,"⚠","✓")) -> ✓
B34: ='G-2 Habitat groups'!A156 -> Native hedgerow with trees | C34: ='G-2 Habitat groups'!R156 -> 0 | D34: ='G-2 Habitat groups'!AD156 -> 0 | E34: ='G-2 Habitat groups'!AF156 -> 0 | F34: =IF(E34=0,"",IF(E34<0,"⚠","✓"))
B35: ='G-2 Habitat groups'!A157 -> Ecologically valuable line of trees | C35: ='G-2 Habitat groups'!R157 -> 0 | D35: ='G-2 Habitat groups'!AD157 -> 0 | E35: ='G-2 Habitat groups'!AF157 -> 0 | F35: =IF(E35=0,"",IF(E35<0,"⚠","✓"))
B36: ='G-2 Habitat groups'!A158 -> Ecologically valuable line of trees - associated with bank or ditch | C36: ='G-2 Habitat groups'!R158 -> 0 | D36: ='G-2 Habitat groups'!AD158 -> 0 | E36: ='G-2 Habitat groups'!AF158 -> 0 | F36: =IF(E36=0,"",IF(E36<0,"⚠","✓"))
C38: =SUM(C32:C36) -> 6.2962991 | D38: =SUM(D32:D36) -> 0 | E38: =SUM(E32:E36) -> 6.2962991
B42: Low Distinctiveness | H42: Low Distinctiveness Summary
B43: Habitat group | C43: On-site unit change | D43: Off-site unit change | E43: Project wide unit change | H43: Low Distinctiveness net change in units | I43: =E47 -> 0 | J43: =IF(I43=0,"",IF(I43<0,"⚠","✓"))
B44: ='G-2 Habitat groups'!A159 -> Native hedgerow | C44: ='G-2 Habitat groups'!R159 -> 0 | D44: ='G-2 Habitat groups'!AD159 -> 0 | E44: ='G-2 Habitat groups'!AF159 -> 0 | F44: =IF(E44=0,"",IF(E44<0,"⚠","✓")) | H44: Cumulative availability of units | I44: =IF(I33>0,I43+I33,I43) -> 6.475123 | J44: =IF(I44=0,"",IF(I44<0,"⚠","✓")) -> ✓
B45: ='G-2 Habitat groups'!A160 -> Line of trees | C45: ='G-2 Habitat groups'!R160 -> 0 | D45: ='G-2 Habitat groups'!AD160 -> 0 | E45: ='G-2 Habitat groups'!AF160 -> 0 | F45: =IF(E45=0,"",IF(E45<0,"⚠","✓"))
B46: ='G-2 Habitat groups'!A161 -> Line of trees - associated with bank or ditch | C46: ='G-2 Habitat groups'!R161 -> 0 | D46: ='G-2 Habitat groups'!AD161 -> 0 | E46: ='G-2 Habitat groups'!AF161 -> 0 | F46: =IF(E46=0,"",IF(E46<0,"⚠","✓"))
C47: =SUM(C44:C46) -> 0 | D47: =SUM(D44:D46) -> 0 | E47: =SUM(E44:E46) -> 0
B52: Very Low Distinctiveness | H52: Very Low Distinctiveness Summary
B53: Habitat group | C53: On-site unit change | D53: Off-site unit change | E53: Project wide unit change | H53: Very Low Distinctiveness net change in units | I53: =E55 -> 0 | J53: =IF(I53=0,"",IF(I53<0,"⚠","✓"))
B54: Non-native and ornamental hedgerow | C54: ='G-2 Habitat groups'!R162 -> 0 | D54: ='G-2 Habitat groups'!AD162 -> 0 | E54: ='G-2 Habitat groups'!AF162 -> 0 | F54: =IF(E54=0,"",IF(E54<0,"⚠","✓")) | H54: Cumulative availability of units | I54: =IF(I44>0,I53+I44,I53) -> 6.475123 | J54: =IF(I54=0,"",IF(I54<0,"▲","✓")) -> ✓
C55: =SUM(C54) -> 0 | D55: =SUM(D54) -> 0 | E55: =SUM(E54) -> 0

Sheet Trading Summary WaterC's
B2: Trading Summary
B3: Distinctiveness Group | C3: Trading Rule | G3: Trading Satisfied?
B5: Very High | C5: Same habitat required – bespoke compensation option ⚠ | G5: =IF(E14<0,"No ▲","Yes ✓") -> Yes ✓
B6: High | C6: Same habitat required = | G6: =IF(I22<0,"No ▲","Yes ✓") -> Yes ✓
B7: Medium | C7: Same habitat required = | G7: =IF(I30<0,"No ▲","Yes ✓") -> Yes ✓
B8: Low | C8: Better distinctiveness habitat required | G8: =IF(I42<0,"No ▲","Yes ✓") -> Yes ✓
B11: Very High Distinctiveness | H11: Very High Distinctiveness Summary
B12: Habitat group | C12: On-site unit change | D12: Off-site unit change | E12: Project-wide unit change | H12: Very High Distinctiveness Units available to offset lower distinctiveness deficit | I12: =SUMIF($E$13:$E$13,">0") -> 0 | J12: =IF(I12=0,"",IF(I12<0,"⚠","✓"))
B13: ='G-2 Habitat groups'!A172 -> Priority habitat | C13: ='G-2 Habitat groups'!R172 -> 0 | D13: ='G-2 Habitat groups'!AD172 -> 0 | E13: ='G-2 Habitat groups'!AF172 -> 0 | F13: =IF(E13=0,"",IF(E13<0,"▲","✓")) | H13: Remaining losses; Like for like not satisfied | I13: =IF(E14<0,E14,0) -> 0 | J13: =IF(I13=0,"",IF(I13<0,"▲","✓"))
C14: =SUM(C13:C13) -> 0 | D14: =SUM(D13:D13) -> 0 | E14: =SUM(E13:E13) -> 0
B20: High Distinctiveness | H20: High Distinctiveness Summary
B21: Habitat group | C21: On-site unit change | D21: Off-site unit change | E21: Project-wide unit change | H21: High Distinctiveness Units available to offset lower distinctiveness deficit | I21: =IF(E23>0,E23,0) -> 0 | J21: =IF(I21=0,"",IF(I21<0,"⚠","✓"))
B22: ='G-2 Habitat groups'!A173 -> Other rivers and streams | C22: ='G-2 Habitat groups'!R173 -> 0 | D22: ='G-2 Habitat groups'!AD173 -> 0 | E22: ='G-2 Habitat groups'!AF173 -> 0 | F22: =IF(E22=0,"",IF(E22<0,"▲","✓")) | H22: Remaining losses; Like for like not satisfied | I22: =IF(E23<0,E23,0) -> 0 | J22: =IF(I22=0,"",IF(I22<0,"▲","✓"))
C23: =SUM(C22:C22) -> 0 | D23: =SUM(D22:D22) -> 0 | E23: =SUM(E22:E22) -> 0
B28: Medium Distinctiveness | H28: Medium Distinctiveness Summary
B29: Habitat group | C29: On-site unit change | D29: Off-site unit change | E29: Project wide unit change | H29: Medium Distinctiveness Units available to offset Lower Distinctiveness Deficit | I29: =SUMIF(E30:E31,">0") -> 0 | J29: =IF(I29=0,"",IF(I29<0,"⚠","✓"))
B30: ='G-2 Habitat groups'!A174 -> Ditches | C30: ='G-2 Habitat groups'!R174 -> 0 | D30: ='G-2 Habitat groups'!AD174 -> 0 | E30: ='G-2 Habitat groups'!AF174 -> 0 | F30: =IF(E30=0,"",IF(E30<0,"▲","✓")) | H30: Remaining losses; Like for like not satisfied | I30: =SUMIF(E30:E31,"<0",E30:E31) -> 0 | J30: =IF(I30=0,"",IF(I30<0,"▲","✓"))
B31: ='G-2 Habitat groups'!A175 -> Canals | C31: ='G-2 Habitat groups'!R175 -> 0 | D31: ='G-2 Habitat groups'!AD175 -> 0 | E31: ='G-2 Habitat groups'!AF175 -> 0 | F31: =IF(E31=0,"",IF(E31<0,"▲","✓"))
C32: =SUM(C30:C31) -> 0 | D32: =SUM(D30:D31) -> 0 | E32: =SUM(E30:E31) -> 0
B40: Low Distinctiveness | H40: Low Distinctiveness Summary
B41: Habitat group | C41: On-site unit change | D41: Off-site unit change | E41: Project wide unit change | H41: Low Distinctiveness net change in units | I41: =E43 -> 0 | J41: =IF(I41=0,"",IF(I41<0,"⚠","✓"))
B42: ='G-2 Habitat groups'!A176 -> Culvert | C42: ='G-2 Habitat groups'!R176 -> 0 | D42: ='G-2 Habitat groups'!AD176 -> 0 | E42: ='G-2 Habitat groups'!AF176 -> 0 | F42: =IF(E42=0,"",IF(E42<0,"⚠","✓")) | H42: Cumulative availability of units | I42: =I41+(I29+I21+I12) -> 0 | J42: =IF(I42=0,"",IF(I42<0,"▲","✓"))
C43: =SUM(C42:C42) -> 0 | D43: =D42 -> 0 | E43: =SUM(E42:E42) -> 0

Sheet Credits Summary
C2: Credits Required by Tier/Module
C4: Tier | D4: Credits Required
C5: A1 | D5: =IFERROR(IF(OR('Trading Summary Area Habitats'!$K$13<0,'Trading Summary WaterC''s'!$I$13<0),"ERROR",'Credits calculations'!G9),"Error") -> 0 | E5: =IF(D5=0,"",IF(D5>0,"▲","✓"))
C6: A2 | D6: =IFERROR(IF(OR('Trading Summary Area Habitats'!$K$13<0,'Trading Summary WaterC''s'!$I$13<0),"ERROR",'Credits calculations'!G10),"Error") -> 0 | E6: =IF(D6=0,"",IF(D6>0,"▲","✓"))
C7: A3 | D7: =IFERROR(IF(OR('Trading Summary Area Habitats'!$K$13<0,'Trading Summary WaterC''s'!$I$13<0),"ERROR",'Credits calculations'!G11),"Error") -> 0 | E7: =IF(D7=0,"",IF(D7>0,"▲","✓"))
C8: A4 | D8: =IFERROR(IF(OR('Trading Summary Area Habitats'!$K$13<0,'Trading Summary WaterC''s'!$I$13<0),"ERROR",'Credits calculations'!G12),"Error") -> 0 | E8: =IF(D8=0,"",IF(D8>0,"▲","✓"))
C9: A5 | D9: =IFERROR(IF(OR('Trading Summary Area Habitats'!$K$13<0,'Trading Summary WaterC''s'!$I$13<0),"ERROR",'Credits calculations'!G13),"Error") -> 0 | E9: =IF(D9=0,"",IF(D9>0,"▲","✓"))
C10: H | D10: =IFERROR(IF(OR('Trading Summary Area Habitats'!K13<0,'Trading Summary WaterC''s'!I13<0),"ERROR",'Credits calculations'!G14),"Error") -> 0 | E10: =IF(D10=0,"",IF(D10>0,"▲","✓"))
C11: W | D11: =IFERROR(IF(OR('Trading Summary Area Habitats'!K13<0,'Trading Summary WaterC''s'!I13<0),"ERROR",'Credits calculations'!G15),"Error") -> 0.013376 | E11: =IF(D11=0,"",IF(D11>0,"▲","✓")) -> ▲
D13: *The spatial risk multiplier has already been applied to calculate these values.
C15: =IF(OR('Trading Summary Area Habitats'!$K$13<0,'Trading Summary WaterC''s'!$I$13<0),"ERROR - This metric still includes losses of very high distinctiveness habitat. Losses of very high distinctiveness units must be compensated for through this metric or through bespoke compensation ▲"," ")

Sheet Off-site gain site summary
B3: Summary of sites providing area habitat unit gains | O3: Summary of sites providing hedgerow unit gains | AB3: Summary of sites providing watercourse unit gains
B5: Gain site reference | C5: Off-site units baseline | D5: SRM Off-site units baseline | E5: Off-site units retained | F5: SRM Off-site units retained | G5: Off-site units enhanced | H5: SRM Off-site units enhanced | I5: Off-site units created | J5: SRM Off-site units created | K5: Off-site unit change per gain site (pre-SRM) | L5: SRM | M5: Off-site unit change per gain site (post-SRM) | O5: Gain site reference | P5: Off-site units baseline | Q5: SRM Off-site units baseline | R5: Off-site units retained | S5: SRM Off-site units retained | T5: Off-site units enhanced | U5: SRM Off-site units enhanced | V5: Off-site units created | W5: SRM Off-site units created | X5: Off-site unit change per gain site (pre-SRM) | Y5: SRM | Z5: Off-site unit change per gain site (post-SRM) | AB5: Gain site reference | AC5: Off-site units baseline | AD5: SRM Off-site units baseline | AE5: Off-site units retained | AF5: SRM Off-site units retained | AG5: Off-site units enhanced | AH5: SRM Off-site units enhanced | AI5: Off-site units created | AJ5: SRM Off-site units created | AK5: Off-site unit change per gain site (pre-SRM) | AL5: SRM | AM5: Off-site unit change per gain site (post-SRM)
A7: ='D-1 Off-Site Habitat Baseline'!AF11 -> 0 | B7: {=IFERROR(_xlfn.UNIQUE(_xlfn._xlws.FILTER(A7:A747,A7:A747<>0)),"")} | C7: =IF(B7="","",SUMIF('D-1 Off-Site Habitat Baseline'!AF11:AF258,B7,'D-1 Off-Site Habitat Baseline'!T11:T258)) | D7: =IF(B7="","",SUMIF('D-1 Off-Site Habitat Baseline'!$AF$11:$AF$258,B7,'D-1 Off-Site Habitat Baseline'!$Q$11:$Q$258)) | E7: =IF(B7="","",SUMIF('D-1 Off-Site Habitat Baseline'!$AF$11:$AF$258,'Off-site gain site summary'!$B7,'D-1 Off-Site Habitat Baseline'!$X$11:$X$258)) | F7: =IF(B7="","",SUMIF('D-1 Off-Site Habitat Baseline'!$AF$11:$AF$258,'Off-site gain site summary'!$B7,'D-1 Off-Site Habitat Baseline'!$AY$11:$AY$258)) | G7: =IF(B7="","",SUMIF('D-3 Off-Site Habitat Enhancment'!$AU$12:$AU$258,'Off-site gain site summary'!B7,'D-3 Off-Site Habitat Enhancment'!$AQ$12:$AQ$258)) | H7: =IF(B7="","",SUMIF('D-3 Off-Site Habitat Enhancment'!$AU$12:$AU$258,'Off-site gain site summary'!B7,'D-3 Off-Site Habitat Enhancment'!$AP$12:$AP$258)) | I7: =IF(B7="","",SUMIF('D-2 Off-Site Habitat Creation'!$AF$11:$AF$256,'Off-site gain site summary'!B7,'D-2 Off-Site Habitat Creation'!$AB$11:$AB$256)) | J7: =IF(B7="","",SUMIF('D-2 Off-Site Habitat Creation'!$AF$11:$AF$256,'Off-site gain site summary'!B7,'D-2 Off-Site Habitat Creation'!$AA$11:$AA$256)) | K7: =IF(B7="","",(I7+G7+E7)-(C7)) | L7: =IF(ISBLANK(B7),"",IFERROR(_xlfn.XLOOKUP(B7,'D-2 Off-Site Habitat Creation'!$AF$11:$AF$256,'D-2 Off-Site Habitat Creation'!$Z$11:$Z$256),IFERROR(_xlfn.XLOOKUP(B7,'D-1 Off-Site Habitat Baseline'!AF$11:AF$258,'D-1 Off-Site Habitat Baseline'!S$11:S$258)," "))) | M7: =IF(B7="","",IF(K7<0,"Error - gain sites must be positive ▲",(J7+H7+F7)-(D7))) | N7: ='E-1 Off-Site Hedge Baseline'!AB10 -> 0 | O7: {=IFERROR(_xlfn.UNIQUE(_xlfn._xlws.FILTER(N7:N745,N7:N745<>0)),"")} | P7: =IF(O7="","",SUMIF('E-1 Off-Site Hedge Baseline'!AB$10:AB$257,'Off-site gain site summary'!O7,'E-1 Off-Site Hedge Baseline'!Q$10:Q$257)) | Q7: =IF(O7="","",SUMIF('E-1 Off-Site Hedge Baseline'!AB$10:AB$257,O7,'E-1 Off-Site Hedge Baseline'!N$10:N$257)) | R7: =IF(O7="","",SUMIF('E-1 Off-Site Hedge Baseline'!$AB$10:$AB$257,'Off-site gain site summary'!$O7,'E-1 Off-Site Hedge Baseline'!$U$10:$U$257)) | S7: =IF(O7="","",SUMIF('E-1 Off-Site Hedge Baseline'!$AB$10:$AB$257,'Off-site gain site summary'!$O7,'E-1 Off-Site Hedge Baseline'!$AY$10:$AY$257)) | T7: =IF(O7="","",SUMIF('E-3 Off-Site Hedge Enhancement'!$AO$12:$AO$257,'Off-site gain site summary'!$O7,'E-3 Off-Site Hedge Enhancement'!$AK$12:$AK$257)) | U7: =IF(O7="","",SUMIF('E-3 Off-Site Hedge Enhancement'!$AO$12:$AO$257,'Off-site gain site summary'!$O7,'E-3 Off-Site Hedge Enhancement'!$AJ$12:$AJ$257)) | V7: =IF(O7="","",SUMIF('E-2 Off-Site Hedge Creation'!$AD$12:$AD$259,'Off-site gain site summary'!$O7,'E-2 Off-Site Hedge Creation'!$Z$12:$Z$259)) | W7: =IF(O7="","",SUMIF('E-2 Off-Site Hedge Creation'!$AD$12:$AD$259,'Off-site gain site summary'!$O7,'E-2 Off-Site Hedge Creation'!$Y$12:$Y$259)) | X7: =IF(O7="","",(V7+T7+R7)-P7) | Y7: =IF(ISBLANK(O7),"",IFERROR(_xlfn.XLOOKUP(O7,'E-2 Off-Site Hedge Creation'!$AD$12:$AD$259,'E-2 Off-Site Hedge Creation'!$N$12:$N$259),IFERROR(_xlfn.XLOOKUP(O7,'E-1 Off-Site Hedge Baseline'!$AB$10:$AB$257,'E-1 Off-Site Hedge Baseline'!$P$10:$P$257)," "))) | Z7: =IF(O7="","",IF(X7<0,"Error - gain sites must be positive ▲",(W7+U7+S7)-Q7)) | AA7: ='F-1 Off-Site WaterC'' Baseline'!AH10 -> 0 | AB7: {=IFERROR(_xlfn.UNIQUE(_xlfn._xlws.FILTER(AA7:AA748,AA7:AA748<>0)),"")} | AC7: =IF(AB7="","",SUMIF('F-1 Off-Site WaterC'' Baseline'!$AH$10:$AH$257,'Off-site gain site summary'!$AB7,'F-1 Off-Site WaterC'' Baseline'!$U$10:$U$257)) | AD7: =IF(AB7="","",SUMIF('F-1 Off-Site WaterC'' Baseline'!$AH$10:$AH$257,'Off-site gain site summary'!$AB7,'F-1 Off-Site WaterC'' Baseline'!$R$10:$R$257)) | AE7: =IF(AB7="","",SUMIF('F-1 Off-Site WaterC'' Baseline'!$AH$10:$AH$257,'Off-site gain site summary'!$AB7,'F-1 Off-Site WaterC'' Baseline'!$Z$10:$Z$257)) | AF7: =IF(AB7="","",SUMIF('F-1 Off-Site WaterC'' Baseline'!$AH$10:$AH$257,'Off-site gain site summary'!$AB7,'F-1 Off-Site WaterC'' Baseline'!$BA$10:$BA$257)) | AG7: =IF(AB7="","",SUMIF('F-3 Off-Site WaterC Enhancement'!$AT$12:$AT$257,'Off-site gain site summary'!$AB7,'F-3 Off-Site WaterC Enhancement'!$AP$12:$AP$257)) | AH7: =IF(AB7="","",SUMIF('F-3 Off-Site WaterC Enhancement'!$AT$12:$AT$257,'Off-site gain site summary'!$AB7,'F-3 Off-Site WaterC Enhancement'!$AO$12:$AO$257)) | AI7: =IF(AB7="","",SUMIF('F-2 Off-Site WaterC'' Creation'!$AG$12:$AG$259,'Off-site gain site summary'!$AB7,'F-2 Off-Site WaterC'' Creation'!$AC$12:$AC$259)) | AJ7: =IF(AB7="","",SUMIF('F-2 Off-Site WaterC'' Creation'!$AG$12:$AG$259,'Off-site gain site summary'!$AB7,'F-2 Off-Site WaterC'' Creation'!$AB$12:$AB$259)) | AK7: =IF(AB7="","",(AG7+AI7+AE7)-AC7) | AL7: =IF(ISBLANK(AB7),"",IFERROR(_xlfn.XLOOKUP(AB7,'F-2 Off-Site WaterC'' Creation'!$AG$12:$AG$258,'F-2 Off-Site WaterC'' Creation'!$AA$12:$AA$258),IFERROR(_xlfn.XLOOKUP(AB7,'F-1 Off-Site WaterC'' Baseline'!$AH$10:$AH$257,'F-1 Off-Site WaterC'' Baseline'!$T$10:$T$257)," "))) | AM7: =IF(AB7="","",IF(AK7<0,"Error - gain sites must be positive ▲",(AH7+AJ7+AF7)-AD7))
A8: ='D-1 Off-Site Habitat Baseline'!AF12 -> 0 | C8: =IF(B8="","",SUMIF('D-1 Off-Site Habitat Baseline'!AF12:AF259,B8,'D-1 Off-Site Habitat Baseline'!T12:T259)) | D8: =IF(B8="","",SUMIF('D-1 Off-Site Habitat Baseline'!$AF$11:$AF$258,B8,'D-1 Off-Site Habitat Baseline'!$Q$11:$Q$258)) | E8: =IF(B8="","",SUMIF('D-1 Off-Site Habitat Baseline'!$AF$11:$AF$258,'Off-site gain site summary'!$B8,'D-1 Off-Site Habitat Baseline'!$X$11:$X$258)) | F8: =IF(B8="","",SUMIF('D-1 Off-Site Habitat Baseline'!$AF$11:$AF$258,'Off-site gain site summary'!$B8,'D-1 Off-Site Habitat Baseline'!$AY$11:$AY$258)) | G8: =IF(B8="","",SUMIF('D-3 Off-Site Habitat Enhancment'!$AU$12:$AU$258,'Off-site gain site summary'!B8,'D-3 Off-Site Habitat Enhancment'!$AQ$12:$AQ$258)) | H8: =IF(B8="","",SUMIF('D-3 Off-Site Habitat Enhancment'!$AU$12:$AU$258,'Off-site gain site summary'!B8,'D-3 Off-Site Habitat Enhancment'!$AP$12:$AP$258)) | I8: =IF(B8="","",SUMIF('D-2 Off-Site Habitat Creation'!$AF$11:$AF$256,'Off-site gain site summary'!B8,'D-2 Off-Site Habitat Creation'!$AB$11:$AB$256)) | J8: =IF(B8="","",SUMIF('D-2 Off-Site Habitat Creation'!$AF$11:$AF$256,'Off-site gain site summary'!B8,'D-2 Off-Site Habitat Creation'!$AA$11:$AA$256)) | K8: =IF(B8="","",(I8+G8+E8)-(C8)) | L8: =IF(ISBLANK(B8),"",IFERROR(_xlfn.XLOOKUP(B8,'D-2 Off-Site Habitat Creation'!$AF$11:$AF$256,'D-2 Off-Site Habitat Creation'!$Z$11:$Z$256),IFERROR(_xlfn.XLOOKUP(B8,'D-1 Off-Site Habitat Baseline'!AF$11:AF$258,'D-1 Off-Site Habitat Baseline'!S$11:S$258)," "))) | M8: =IF(B8="","",IF(K8<0,"Error - gain sites must be positive ▲",(J8+H8+F8)-(D8))) | N8: ='E-1 Off-Site Hedge Baseline'!AB11 -> 0 | P8: =IF(O8="","",SUMIF('E-1 Off-Site Hedge Baseline'!AB$10:AB$257,'Off-site gain site summary'!O8,'E-1 Off-Site Hedge Baseline'!Q$10:Q$257)) | Q8: =IF(O8="","",SUMIF('E-1 Off-Site Hedge Baseline'!AB$10:AB$257,O8,'E-1 Off-Site Hedge Baseline'!N$10:N$257)) | R8: =IF(O8="","",SUMIF('E-1 Off-Site Hedge Baseline'!$AB$10:$AB$257,'Off-site gain site summary'!$O8,'E-1 Off-Site Hedge Baseline'!$U$10:$U$257)) | S8: =IF(O8="","",SUMIF('E-1 Off-Site Hedge Baseline'!$AB$10:$AB$257,'Off-site gain site summary'!$O8,'E-1 Off-Site Hedge Baseline'!$AY$10:$AY$257)) | T8: =IF(O8="","",SUMIF('E-3 Off-Site Hedge Enhancement'!$AO$12:$AO$257,'Off-site gain site summary'!$O8,'E-3 Off-Site Hedge Enhancement'!$AK$12:$AK$257)) | U8: =IF(O8="","",SUMIF('E-3 Off-Site Hedge Enhancement'!$AO$12:$AO$257,'Off-site gain site summary'!$O8,'E-3 Off-Site Hedge Enhancement'!$AJ$12:$AJ$257)) | V8: =IF(O8="","",SUMIF('E-2 Off-Site Hedge Creation'!$AD$12:$AD$259,'Off-site gain site summary'!$O8,'E-2 Off-Site Hedge Creation'!$Z$12:$Z$259)) | W8: =IF(O8="","",SUMIF('E-2 Off-Site Hedge Creation'!$AD$12:$AD$259,'Off-site gain site summary'!$O8,'E-2 Off-Site Hedge Creation'!$Y$12:$Y$259)) | X8: =IF(O8="","",(V8+T8+R8)-P8) | Y8: =IF(ISBLANK(O8),"",IFERROR(_xlfn.XLOOKUP(O8,'E-2 Off-Site Hedge Creation'!$AD$12:$AD$259,'E-2 Off-Site Hedge Creation'!$N$12:$N$259),IFERROR(_xlfn.XLOOKUP(O8,'E-1 Off-Site Hedge Baseline'!$AB$10:$AB$257,'E-1 Off-Site Hedge Baseline'!$P$10:$P$257)," "))) | Z8: =IF(O8="","",IF(X8<0,"Error - gain sites must be positive ▲",(W8+U8+S8)-Q8)) | AA8: ='F-1 Off-Site WaterC'' Baseline'!AH11 -> 0 | AC8: =IF(AB8="","",SUMIF('F-1 Off-Site WaterC'' Baseline'!$AH$10:$AH$257,'Off-site gain site summary'!$AB8,'F-1 Off-Site WaterC'' Baseline'!$U$10:$U$257)) | AD8: =IF(AB8="","",SUMIF('F-1 Off-Site WaterC'' Baseline'!$AH$10:$AH$257,'Off-site gain site summary'!$AB8,'F-1 Off-Site WaterC'' Baseline'!$R$10:$R$257)) | AE8: =IF(AB8="","",SUMIF('F-1 Off-Site WaterC'' Baseline'!$AH$10:$AH$257,'Off-site gain site summary'!$AB8,'F-1 Off-Site WaterC'' Baseline'!$Z$10:$Z$257)) | AF8: =IF(AB8="","",SUMIF('F-1 Off-Site WaterC'' Baseline'!$AH$10:$AH$257,'Off-site gain site summary'!$AB8,'F-1 Off-Site WaterC'' Baseline'!$BA$10:$BA$257)) | AG8: =IF(AB8="","",SUMIF('F-3 Off-Site WaterC Enhancement'!$AT$12:$AT$257,'Off-site gain site summary'!$AB8,'F-3 Off-Site WaterC Enhancement'!$AP$12:$AP$257)) | AH8: =IF(AB8="","",SUMIF('F-3 Off-Site WaterC Enhancement'!$AT$12:$AT$257,'Off-site gain site summary'!$AB8,'F-3 Off-Site WaterC Enhancement'!$AO$12:$AO$257)) | AI8: =IF(AB8="","",SUMIF('F-2 Off-Site WaterC'' Creation'!$AG$12:$AG$259,'Off-site gain site summary'!$AB8,'F-2 Off-Site WaterC'' Creation'!$AC$12:$AC$259)) | AJ8: =IF(AB8="","",SUMIF('F-2 Off-Site WaterC'' Creation'!$AG$12:$AG$259,'Off-site gain site summary'!$AB8,'F-2 Off-Site WaterC'' Creation'!$AB$12:$AB$259)) | AK8: =IF(AB8="","",(AG8+AI8+AE8)-AC8) | AL8: =IF(ISBLANK(AB8),"",IFERROR(_xlfn.XLOOKUP(AB8,'F-2 Off-Site WaterC'' Creation'!$AG$12:$AG$258,'F-2 Off-Site WaterC'' Creation'!$AA$12:$AA$258),IFERROR(_xlfn.XLOOKUP(AB8,'F-1 Off-Site WaterC'' Baseline'!$AH$10:$AH$257,'F-1 Off-Site WaterC'' Baseline'!$T$10:$T$257)," "))) | AM8: =IF(AB8="","",IF(AK8<0,"Error - gain sites must be positive ▲",(AH8+AJ8+AF8)-AD8))
