Workbook
Name AA: 'G-7 WaterC'' Data'!$B$4
Name AllHabsSummaryData: 'G-2 Habitat groups'!$A$3:$AF$135
Name AllHabsSummaryData: 'G-2 Habitat groups'!$A$3:$AF$135
Name BaselineHabOffsite: 'D-1 Off-Site Habitat Baseline'!$D$11:$AA$258
Name BaselineHabOffsite: 'D-1 Off-Site Habitat Baseline'!$D$11:$AA$258
Name BaselineHabSite: 'A-1 On-Site Habitat Baseline'!$D$11:$X$258
Name BaselineHabSite: 'A-1 On-Site Habitat Baseline'!$D$11:$X$258
Name baselineimage: Start!$D$39:$G$53
Name baselineimageOS: Start!$D$60:$G$65
Name Coastal_lagoons: 'G-1 All Habitats'!$A$104
Name Coastal_saltmarsh: 'G-1 All Habitats'!$A$113:$A$114
Name Cond1: 'G-8 Condition Look up'!$J$5
Name Cond2: 'G-8 Condition Look up'!$K$5
Name Cond3: 'G-8 Condition Look up'!$L$5
Name Cond4: 'G-8 Condition Look up'!$M$5:$M$9
Name Cond5: 'G-8 Condition Look up'!$N$5
Name Condition: 'G-8 Condition Look up'!$B$3:$H$3
Name ConditionData: 'G-8 Condition Look up'!$A$4:$H$102
Name ConditionHabitats: 'G-8 Condition Look up'!$A$4:$A$128
Name Cropland: 'G-1 All Habitats'!$A$3:$A$12
Name Difficulty: 'G-3 Multipliers'!$P$3:$Q$6
Name Difficulty: 'G-3 Multipliers'!$P$3:$Q$6
Name Encroachment1: 'G-7 WaterC'' Data'!$AD$4:$AD$13
Name Encroachment1: 'G-7 WaterC'' Data'!$AD$4:$AD$13
Name Encroachment2: 'G-7 WaterC'' Data'!$AD$14
Name Encroachment2: 'G-7 WaterC'' Data'!$AD$14
Name EnhanceCondition: 'G-5 Enhancement Temporal'!$C$4:$X$4
Name EnhanceCondition: 'G-5 Enhancement Temporal'!$C$4:$X$4
Name EnhanceHabitat: 'G-5 Enhancement Temporal'!$C$4:$C$136
Name EnhanceHabitat: 'G-5 Enhancement Temporal'!$C$4:$C$136
Name EnhanceTemporal: 'G-5 Enhancement Temporal'!$C$4:$X$136
Name EnhanceTemporal: 'G-5 Enhancement Temporal'!$C$4:$X$136
Name Grassland: 'G-1 All Habitats'!$A$13:$A$25
Name Heathland_and_shrub: 'G-1 All Habitats'!$A$26:$A$38
Name HedgeCond: 'G-6 Hedgerow Data'!$B$2:$T$2
Name Hedgecond1: 'G-6 Hedgerow Data'!$BK$3:$BK$5
Name Hedgecond2: 'G-6 Hedgerow Data'!$BL$3
Name HedgeData: 'G-6 Hedgerow Data'!$B$2:$T$15
Name HedgeType: 'G-6 Hedgerow Data'!$B$2:$B$15
Name Individual_trees: 'G-1 All Habitats'!$A$80:$A$81
Name Individualtrees: 'G-1 All Habitats'!$A$79:$A$80
Name Intertidal_hard_structures: 'G-1 All Habitats'!$A$132:$A$134
Name Intertidal_sediment: 'G-1 All Habitats'!$A$115:$A$131
Name Lakes: 'G-1 All Habitats'!$A$39:$A$49
Name LPAList: Lists!$A$1:$A$378
Name postdevelopmentimage: Start!$I$39:$O$53
Name postdevelopmentimageOS: Start!$I$60:$O$65
Name RetCatChecks: 'A-1 On-Site Habitat Baseline'!$AE$11:$AH$258
Name riparianencroachment1: 'G-7 WaterC'' Data'!$AA$4:$AA$6
Name riparianencroachment1: 'G-7 WaterC'' Data'!$AA$4:$AA$6
Name riparianencroachment2: 'G-7 WaterC'' Data'!$AA$7
Name riparianencroachment2: 'G-7 WaterC'' Data'!$AA$7
Name Rivercond1: 'G-7 WaterC'' Data'!$BB$3:$BB$7
Name Rivercond2: 'G-7 WaterC'' Data'!$BC$3
Name RiverCondition: 'G-7 WaterC'' Data'!$B$3:$X$3
Name RiverEnhanceTemporal: 'G-7 WaterC'' Data'!$B$4:$X$12
Name RiverHabitat: 'G-7 WaterC'' Data'!$B$4:$B$14
Name RiversEnhancment: 'G-7 WaterC'' Data'!$O$3:$X$5
Name Rocky_shore: 'G-1 All Habitats'!$A$105:$A$112
Name Sparsely_vegetated_land: 'G-1 All Habitats'!$A$50:$A$58

Sheet Introduction

Sheet Start
D8: 4.1 | E8: =IF(OR(F16="",F17=""),"'Completed by' and 'Date of metric completion' fields must be filled in ▲","")
D9: Project details
D11: Planning authority: | F11: Wiltshire Council
D12: Project name: | F12: Land east of Calne Road, Lyneham
D13: Applicant:
D14: Application type: | F14: Outline, Residential development
D15: Planning application reference:
D16: Completed by: | F16: CR17
D17: Date of metric completion: | F17: 46010
D18: Reviewer: | F18: TC47
D19: Calculation iteration: | F19: REV00
D20: Planning authority reviewer:
D21: Date of planning authority review:
D22: Target % net gain: | F22: 0.1 | I22: =IF(OR(F22>=10%,F22=""),"","Target set below 10% ▲")
D23: Irreplaceable habitat present at baseline: | F23: =IF(AND('Irreplaceable Habitats'!K32=0,'Irreplaceable Habitats'!K65=0,'Irreplaceable Habitats'!AP65=0,'Irreplaceable Habitats'!AP32=0),"No ✓","Yes ⚠") -> No ✓
D24: Total site area - including irreplaceable habitat area (hectares): | F24: ='A-1 On-Site Habitat Baseline'!H260 -> 8.811 | I24: Irreplaceable habitat site area (hectares): | J24: ='Irreplaceable Habitats'!K33 -> 0
D25: Total off-site area - including irreplaceable habitat area (hectares): | F25: =IF('D-1 Off-Site Habitat Baseline'!H261=0,"N/A",'D-1 Off-Site Habitat Baseline'!H261) -> N/A | I25: Irreplaceable habitat area off-site (hectares): | J25: =IF('Irreplaceable Habitats'!K66=0,"N/A",'Irreplaceable Habitats'!K66) -> N/A
D27: Contains deviations from the statutory metric - this must be agreed with consenting body | I27: =IF(F27="Yes","Only acceptable in exceptionally rare circumstances, ensure any deviations have been agreed with the consenting body ⚠","")
D29: Cell style conventions
D30: ⚠ | F30: Attention required
D31: ▲ | F31: Input error/rules and principles not met
F32: Use of this cell is not appropriate
F33: Enter data
F34: Automatic lookup
F35: Result
D55: On-site baseline map reference number | I55: On-site post-intervention map reference number
D66: Off-site baseline map reference number | I66: Off-site post-intervention reference number

Sheet Main Menu
Q3: Tree helper
Q4: Tree size | R4: Number of trees and area (ha) for each condition state
R5: Poor | S5: Area | T5: Moderate | U5: Area | V5: Good | W5: Area
Q6: Small | S6: =R6*'G-3 Multipliers'!$Z$4 -> 0 | U6: =T6*'G-3 Multipliers'!$Z$4 -> 0 | W6: =V6*'G-3 Multipliers'!$Z$4 -> 0
Q7: Medium | S7: =R7*'G-3 Multipliers'!$Z$5 -> 0 | T7: 3 | U7: =T7*'G-3 Multipliers'!$Z$5 -> 0.048858049 | W7: =V7*'G-3 Multipliers'!$Z$5 -> 0
Q8: Large | S8: =R8*'G-3 Multipliers'!$Z6 -> 0 | T8: 2 | U8: =T8*'G-3 Multipliers'!$Z6 -> 0.073287073 | W8: =V8*'G-3 Multipliers'!$Z6 -> 0
Q9: Very large | S9: =R9*'G-3 Multipliers'!$Z7 -> 0 | U9: =T9*'G-3 Multipliers'!$Z7 -> 0 | W9: =V9*'G-3 Multipliers'!$Z7 -> 0
Q10: Total | R10: =SUM(R6:R9) -> 0 | S10: =SUM(S6:S9) -> 0 | T10: =SUM(T6:T9) -> 5 | U10: =SUM(U6:U9) -> 0.12214512 | V10: =SUM(V6:V9) -> 0 | W10: =SUM(W6:W9) -> 0

Sheet Results

Sheet Headline Results
B2: =IF(Start!$F$12="","",Start!$F$12) -> Land east of Calne Road, Lyneham | F2: =IF(OR(B56="This metric contains deviations from the statutory metric - these deviations are only acceptable in extremely rare circumstances and must be agreed with the consenting body ⚠",B57="You must specify if irreplaceable habitats are on-site at baseline ▲",B58="Unacceptable loss of irreplaceable habitat recorded - no bespoke compensation for lossess has been agreed ▲",),"Errors flagged below - please investigate further ▲","")
B3: =MID(CELL("filename",A1),FIND("]",CELL("filename",A1))+1,256) -> Headline Results
B5: Scroll down for final results ⚠
B8: On-site baseline | F8: Area habitat units | H8: =IFERROR('A-1 On-Site Habitat Baseline'!Q259,"Check Data ⚠") -> 20.02984
F9: Hedgerow units | H9: =IFERROR('B-1 On-Site Hedge Baseline'!N258,"Check Data ⚠") -> 1.2694
F10: Watercourse units | H10: ='C-1 On-Site WaterC'' Baseline'!R258 -> 0.06688
B12: On-site post-intervention (Including habitat retention, creation & enhancement) | F12: Area habitat units | H12: =IFERROR('A-2 On-Site Habitat Creation'!Y257+'A-3 On-Site Habitat Enhancement'!AN258+'A-1 On-Site Habitat Baseline'!U259+'A-1 On-Site Habitat Baseline'!AT259,"Check Data ⚠") -> 26.257664
F13: Hedgerow units | H13: =IFERROR('B-2 On-Site Hedge Creation'!W260+'B-3 On-Site Hedge Enhancement'!AH258+'B-1 On-Site Hedge Baseline'!R258,"Check Data⚠") -> 7.744523
F14: Watercourse units | H14: =IFERROR('C-2 On-Site WaterC'' Creation'!Z260+'C-3 On-Site WaterC'' Enhancement'!AM258+'C-1 On-Site WaterC'' Baseline'!W258+'C-1 On-Site WaterC'' Baseline'!AT258,"Check Data ⚠") -> 0.06688
B16: On-site net change (units & percentage) | F16: Area habitat units | H16: =IFERROR(H12-H8,"Error ▲") -> 6.227824 | J16: =IF(AND(H8=0,H12=0),0,IF(AND(H8=0,H12>0),"N/A",IFERROR((H12/H8)-1,"Check Data ⚠"))) -> 0.3109273 | K16: =IF(J16="N/A","Zero baseline units - % cannot be calculated",IF(OR(AND(H8=0,H12=0),J16>=Start!$F$22)," ","On-site net gain is less than target set ⚠"))
F17: Hedgerow units | H17: =IFERROR(H13-H9,"Error ▲") -> 6.475123 | J17: =IF(AND(H9=0,H13=0),0,IF(AND(H9=0,H13>0),"N/A",IFERROR((H13/H9)-1,"Check Data ⚠"))) -> 5.1009319 | K17: =IF(J17="N/A","Zero baseline units - % cannot be calculated",IF(OR(AND(H9=0,H13=0),J17>=Start!$F$22)," ","On-site net gain is less than target set ⚠"))
F18: Watercourse units | H18: =IFERROR(H14-H10,"Error ▲") -> 0 | J18: =IF(AND(H10=0,H14=0),0,IF(AND(H10=0,H14>0),"N/A",IFERROR((H14/H10)-1,"Check Data ⚠"))) -> 0 | K18: =IF(J18="N/A","Zero baseline units - % cannot be calculated",IF(OR(AND(H10=0,H14=0),J18>=Start!$F$22)," ","On-site net gain is less than target set ⚠")) -> On-site net gain is less than target set ⚠
B19: {=IF(OR('Off-site gain site summary'!M7:M107="Error - gain sites must be positive ▲",'Off-site gain site summary'!Z7:Z107="Error - gain sites must be positive ▲",'Off-site gain site summary'!AM7:AM107="Error - gain sites must be positive ▲"),"Error - off-site gain sites must be postive ▲","")}
B20: Off-site baseline | F20: Area habitat units | H20: =IFERROR('D-1 Off-Site Habitat Baseline'!T259,"Check Data ⚠") -> 0 | L20: =IFERROR('D-1 Off-Site Habitat Baseline'!Q259,"Check Data ⚠") -> 0
F21: Hedgerow units | H21: =IFERROR('E-1 Off-Site Hedge Baseline'!Q258,"Check Data ⚠") -> 0 | L21: =IFERROR('E-1 Off-Site Hedge Baseline'!N258,"Check Data ⚠") -> 0
F22: Watercourse units | H22: =IFERROR('F-1 Off-Site WaterC'' Baseline'!U258,"Check Data ⚠") -> 0 | L22: =IFERROR('F-1 Off-Site WaterC'' Baseline'!R258,"Check Data ⚠") -> 0
B24: Off-site post-intervention (Including habitat retention, creation & enhancement) | F24: Area habitat units | H24: =IFERROR('D-1 Off-Site Habitat Baseline'!$X$259+'D-2 Off-Site Habitat Creation'!AB257+'D-3 Off-Site Habitat Enhancment'!AQ259+'D-1 Off-Site Habitat Baseline'!AS259,"Check Data ⚠") -> 0 | L24: =IFERROR('D-1 Off-Site Habitat Baseline'!$AY$259+'D-2 Off-Site Habitat Creation'!AA257+'D-3 Off-Site Habitat Enhancment'!AP259,"Check Data ⚠") -> 0
F25: Hedgerow units | H25: =IFERROR('E-1 Off-Site Hedge Baseline'!U258+'E-2 Off-Site Hedge Creation'!Z260+'E-3 Off-Site Hedge Enhancement'!AK258,"Check Data ⚠") -> 0 | L25: =IFERROR('E-1 Off-Site Hedge Baseline'!AY258+'E-2 Off-Site Hedge Creation'!Y260+'E-3 Off-Site Hedge Enhancement'!AJ258,"Check Data ⚠") -> 0
F26: Watercourse units | H26: =IFERROR('F-1 Off-Site WaterC'' Baseline'!Z258+'F-2 Off-Site WaterC'' Creation'!AC260+'F-3 Off-Site WaterC Enhancement'!AP258+'F-1 Off-Site WaterC'' Baseline'!AT258,"Check Data ⚠") -> 0 | L26: =IFERROR('F-1 Off-Site WaterC'' Baseline'!BA258+'F-2 Off-Site WaterC'' Creation'!AB260+'F-3 Off-Site WaterC Enhancement'!AO258,"Check Data ⚠") -> 0
B28: Off-site net change (units & percentage) | F28: Area habitat units | H28: =IFERROR(H24-H20,"Error ▲") -> 0 | J28: =IF(AND(H20=0,H24=0),0,IF(AND(H20=0,H24>0),"N/A",IFERROR((H24/H20)-1,"Check Data ⚠"))) -> 0 | K28: =IF(J28="N/A","Zero baseline units - % cannot be calculated","")
F29: Hedgerow units | H29: =IFERROR(H25-H21,"Error ▲") -> 0 | J29: =IF(AND(H21=0,H25=0),0,IF(AND(H21=0,H25>0),"N/A",IFERROR((H25/H21)-1,"Check Data ⚠"))) -> 0 | K29: =IF(J29="N/A","Zero baseline units - % cannot be calculated","")
F30: Watercourse units | H30: =IFERROR(H26-H22,"Error ▲") -> 0 | J30: =IF(AND(H22=0,H26=0),0,IF(AND(H22=0,H26>0),"N/A",IFERROR((H26/H22)-1,"Check Data ⚠"))) -> 0 | K30: =IF(J30="N/A","Zero baseline units - % cannot be calculated","")
B32: Off-site unit change (with Spatial Risk Multiplier applied) | F32: Habitat units | H32: =IF((H28<=0),"N/A",(L24-L20)) -> N/A | J32: =IF(H32="N/A","SRM only applies where unit change is positive (uplift)"," ") -> SRM only applies where unit change is positive (uplift)
F33: Hedgerow units | H33: =IF((H29<=0),"N/A",(L25-L21)) -> N/A | J33: =IF(H33="N/A","SRM only applies where unit change is positive"," ") -> SRM only applies where unit change is positive
F34: Watercourse units | H34: =IF((H30<=0),"N/A",(L26-L22)) -> N/A | J34: =IF(H34="N/A","SRM only applies where unit change is positive"," ") -> SRM only applies where unit change is positive
B37: Combined net unit change (Including all on-site & off-site habitat retention, creation & enhancement) | F37: Area habitat units | H37: =IFERROR((H16)+(H28),"Check Data ⚠") -> 6.227824
F38: Hedgerow units | H38: =IFERROR((H17)+(H29),"Check Data ⚠") -> 6.475123
F39: Watercourse units | H39: =IFERROR((H18)+(H30),"Check Data ⚠") -> 0
B41: Spatial risk multiplier (SRM) deductions | F41: Area habitat units | H41: =IFERROR(H28-H32,"0.00") -> 0.00
F42: Hedgerow units | H42: =IFERROR(H29-H33,"0.00") -> 0.00
F43: Watercourse units | H43: =IFERROR(H30-H34,"0.00") -> 0.00
B44: {=IF(OR('A-1 On-Site Habitat Baseline'!Y11:Y258="Yes",'D-1 Off-Site Habitat Baseline'!AB14:AB258="Yes",'C-1 On-Site WaterC'' Baseline'!AA10:AA257="Yes",'F-1 Off-Site WaterC'' Baseline'!AD10:AD257="Yes"),"Ensure bespoke compensation has been agreed where stated ⚠","")}
B45: FINAL RESULTS
B47: Total net unit change (Including all on-site & off-site habitat retention, creation & enhancement) | F47: Area habitat units | H47: =IFERROR(IF(H32="N/A",(H12-H8)+(H28),(H12-H8)+(H32)),"Check Data ⚠") -> 6.227824
F48: Hedgerow units | H48: =IFERROR(IF(H33="N/A",(H13-H9)+(H29),(H13-H9)+(H33)),"Check Data ⚠") -> 6.475123
F49: Watercourse units | H49: =IFERROR(IF(H34="N/A",(H14-H10)+(H30),(H14-H10)+(H34)),"Check Data ⚠") -> 0
B51: Total net % change (Including all on-site & off-site habitat retention, creation & enhancement) | F51: Area habitat units | H51: =IF(H47=0,0,IF(H8=0,"N/A",IFERROR((H47/H8),"Check Data ⚠"))) -> 0.3109273 | J51: =IF(H51="N/A","0 baseline units - % cannot be calculated",IF(OR(AND(H8=0,H12=0),H51>=Start!$F$22)," ","Total net gain achieved is less than target set ▲"))
F52: Hedgerow units | H52: =IF(AND(H48=0,H9=0),0,IF(H9=0,"N/A",IFERROR((H48/H9),"Check Data ⚠"))) -> 5.1009319 | J52: =IF(H52="N/A","0 baseline units - % cannot be calculated",IF(OR(AND(H9=0,H13=0),H52>=Start!$F$22)," ","Total net gain achieved is less than target set ▲"))
F53: Watercourse units | H53: =IF(H49=0,0,IF(H10=0,"N/A",IFERROR((H49/H10),"Check Data ⚠"))) -> 0 | J53: =IF(H53="N/A","0 baseline units - % cannot be calculated",IF(OR(AND(H10=0,H14=0),H53>=Start!$F$22)," ","Total net gain achieved is less than target set ▲")) -> Total net gain achieved is less than target set ▲
B55: Trading rules satisfied? | F55: {=IF(OR('Trading Summary Area Habitats'!G5="No ▲",'Trading Summary Area Habitats'!G6="No ▲",'Trading Summary Area Habitats'!G7="No ▲",'Trading Summary Area Habitats'!G8="No ▲",'Trading Summary Hedgerows'!F5="No ▲",'Trading Summary Hedgerows'!F6:H6="No ▲",'Trading Summary Hedgerows'!F7="No ▲",'Trading Summary Hedgerows'!F8="No ▲",'Trading Summary Hedgerows'!F9="No ▲",'Trading Summary WaterC''s'!G5="No ▲",'Trading Summary WaterC''s'!G6="No ▲",'Trading Summary WaterC''s'!G7="No ▲",'Trading Summary WaterC''s'!G8="No ▲",B58="Unacceptable loss of irreplaceable habitat recorded - no bespoke compensation for lossess has been agreed ▲"),"No - Check Trading Summaries ▲","Yes ✓")} -> Yes ✓
B56: =IF(Start!F27="Yes","This metric contains deviations from the statutory metric - these deviations are only acceptable in extremely rare circumstances and must be agreed with the consenting body ⚠","")
B57: =IF(Start!I23="You must specify if irreplaceable habitats are on-site at baseline ▲","You must specify if irreplaceable habitats are on-site at baseline ▲","")
B58: {=IF(OR('A-1 On-Site Habitat Baseline'!X11:X258="Any Loss Unacceptable ▲",'D-1 Off-Site Habitat Baseline'!AA11:AA258="Any Loss Unacceptable ▲",'C-1 On-Site WaterC'' Baseline'!Z10:Z257="Any Loss Unacceptable ▲",'F-1 Off-Site WaterC'' Baseline'!AC10:AC256="Any Loss Unacceptable ▲",'A-1 On-Site Habitat Baseline'!X11:X258="Bespoke compensation must be agreed ▲",'D-1 Off-Site Habitat Baseline'!AA11:AA258="Bespoke compensation must be agreed ▲"),"Unacceptable loss of irreplaceable habitat recorded - no bespoke compensation for losses has been agreed ▲","")}
B59: {=IF(OR('A-2 On-Site Habitat Creation'!K6:L6="Error - Area created does not equal area lost ▲",'D-2 Off-Site Habitat Creation'!L6="Error - Area created does not equal area lost ▲"),"Area created must match area lost for both onsite and offsite ▲","")}
B60: Unit Type | D60: Target | E60: Baseline Units | F60: Units Required | H60: Unit Deficit
B61: Area habitat units | D61: =Start!F22 -> 0.1 | E61: =H8 -> 20.02984 | F61: =IFERROR(E61*(1+D61),"Error ▲") -> 22.032824 | H61: =IF(B19="Error - off-site gain sites must be postive ▲","Error ▲",IFERROR(IF(H32="N/A",(IF(F61-(H12+(H28))<0,0,F61-(H12+(H28)))),(IF(F61-(H12+H32)<0,0,F61-(H12+H32)))),"Error ▲")) -> 0 | J61: =IF(H61=0,"No additional area habitat units required to meet target ✓"," ") -> No additional area habitat units required to meet target ✓
B62: Hedgerow units | D62: =Start!F22 -> 0.1 | E62: =H9 -> 1.2694 | F62: =IFERROR(E62*(1+D62),"Error ▲") -> 1.39634 | H62: =IF(B19="Error - off-site gain sites must be postive ▲","Error ▲",IFERROR(IF(H33="N/A",(IF(F62-(H13+(H29))<0,0,F62-(H13+(H29)))),(IF(F62-(H13+H33)<0,0,F62-(H13+H33)))),"Error ▲")) -> 0 | J62: =IF(H62=0,"No additional hedgerow units required to meet target ✓"," ") -> No additional hedgerow units required to meet target ✓
B63: Watercourse units | D63: =Start!F22 -> 0.1 | E63: =H10 -> 0.06688 | F63: =IFERROR(E63*(1+D63),"Error ▲") -> 0.073568 | H63: =IF(B19="Error - off-site gain sites must be postive ▲","Error ▲",IFERROR(IF(H34="N/A",(IF(F63-(H14+(H30))<0,0,F63-(H14+(H30)))),(IF(F63-(H14+H34)<0,0,F63-(H14+H34)))),"Error ▲")) -> 0.006688 | J63: =IF(H63=0,"No additional watercourse units required to meet target ✓"," ")
B94: {=IF(OR(ISNUMBER(SEARCH("▲",A1:K64))),"Input errors/rule breaks present in metric ▲",IF(OR(ISNUMBER(SEARCH("▲",'A-1 On-Site Habitat Baseline'!D1:AB261))),"Input errors/rule breaks present in metric ▲",IF(OR(ISNUMBER(SEARCH("▲",'A-2 On-Site Habitat Creation'!D1:AB259))),"Input errors/rule breaks present in metric ▲",IF(OR(ISNUMBER(SEARCH("▲",'A-3 On-Site Habitat Enhancement'!E1:AR261))),"Input errors/rule breaks present in metric ▲",IF(OR(ISNUMBER(SEARCH("▲",'D-1 Off-Site Habitat Baseline'!D1:AF264))),"Input errors/rule breaks present in metric ▲",IF(OR(ISNUMBER(SEARCH("▲",'D-2 Off-Site Habitat Creation'!D1:AG262))),"Input errors/rule breaks present in metric ▲",IF(OR(ISNUMBER(SEARCH("▲",'D-3 Off-Site Habitat Enhancment'!E1:AU262))),"Input errors/rule breaks present in metric ▲",IF(OR(ISNUMBER(SEARCH("▲",'B-1 On-Site Hedge Baseline'!A1:X263))),"Input errors/rule breaks present in metric ▲",IF(OR(ISNUMBER(SEARCH("▲",'B-3 On-Site Hedge Enhancement'!A1:AK264))),"Input errors/rule breaks present in metric ▲",IF(OR(ISNUMBER(SEARCH("▲",'B-2 On-Site Hedge Creation'!A1:Z262))),"Input errors/rule breaks present in metric ▲",IF(OR(ISNUMBER(SEARCH("▲",'E-1 Off-Site Hedge Baseline'!A1:XAB261))),"Input errors/rule breaks present in metric ▲",IF(OR(ISNUMBER(SEARCH("▲",'E-2 Off-Site Hedge Creation'!A1:AE262))),"Input errors/rule breaks present in metric ▲",IF(OR(ISNUMBER(SEARCH("▲",'E-3 Off-Site Hedge Enhancement'!A1:AO261))),"Input errors/rule breaks present in metric ▲",IF(OR(ISNUMBER(SEARCH("▲",'C-1 On-Site WaterC'' Baseline'!A1:AD264))),"Input errors/rule breaks present in metric ▲",IF(OR(ISNUMBER(SEARCH("▲",'C-2 On-Site WaterC'' Creation'!A2:AC261))),"Input errors/rule breaks present in metric ▲",IF(OR(ISNUMBER(SEARCH("▲",'C-3 On-Site WaterC'' Enhancement'!A1:AP262))),"Input errors/rule breaks present in metric ▲",IF(OR(ISNUMBER(SEARCH("▲",'F-1 Off-Site WaterC'' Baseline'!A1:AH263))),"Input errors/rule breaks present in metric ▲",IF(OR(ISNUMBER(SEARCH("▲",'F-2 Off-Site WaterC'' Creation'!A1:AH262))),"Input errors/rule breaks present in metric ▲",IF(OR(ISNUMBER(SEARCH("▲",'F-3 Off-Site WaterC Enhancement'!B1:AT260))),"Input errors/rule breaks present in metric ▲",IF(OR(ISNUMBER(SEARCH("▲",Start!A1:R28))),"Input errors/rule breaks present in metric ▲",""))))))))))))))))))))} -> Input errors/rule breaks present in metric ▲

Sheet Detailed Results
B2: =IF(Start!$F$12="","",Start!$F$12) -> Land east of Calne Road, Lyneham
B3: =MID(CELL("filename",A1),FIND("]",CELL("filename",A1))+1,256) -> Detailed Results
B7: Summary Figures
B10: Net project biodiversity units (Including all on-site & off-site habitat retention / creation) | F10: Area habitat units | H10: =IFERROR('Headline Results'!$H$47:$I$47,"Check Data ⚠") -> 6.227824
F11: Hedgerow units | H11: =IFERROR('Headline Results'!$H$48:$I$48,"Check Data ⚠") -> 6.475123
F12: Watercourse units | H12: =IFERROR('Headline Results'!$H$49:$I$49,"Check Data ⚠") -> 0
B14: Total project biodiversity % change (Including all on-site & off-site habitat creation + retained habitats) | F14: Area habitat units | H14: =IFERROR('Headline Results'!$H$51:$I$51,"Check Data ⚠") -> 0.3109273
F15: Hedgerow units | H15: =IFERROR('Headline Results'!$H$52:$I$52,"Check Data ⚠") -> 5.1009319
F16: Watercourse units | H16: =IFERROR('Headline Results'!$H$53:$I$53,"Check Data ⚠") -> 0
B18: Combined habitat retention and enhancement
D20: Area Habitats | F20: Hedgerows | H20: Watercourses
B21: Total on-site and off-site baseline area / length | D21: =IFERROR('A-1 On-Site Habitat Baseline'!$H259+'D-1 Off-Site Habitat Baseline'!H259,"Error ▲") -> 8.86 | F21: ='B-1 On-Site Hedge Baseline'!$E$258+'E-1 Off-Site Hedge Baseline'!$E$258 -> 0.096 | H21: ='C-1 On-Site WaterC'' Baseline'!$E$258+'F-1 Off-Site WaterC'' Baseline'!$E$258 -> 0.01
B22: Total on-site and off-site baseline units | D22: =IFERROR('A-1 On-Site Habitat Baseline'!$Q259+'D-1 Off-Site Habitat Baseline'!T259,"Error ▲") -> 20.02984 | F22: ='B-1 On-Site Hedge Baseline'!$N$258+'E-1 Off-Site Hedge Baseline'!$Q$258 -> 1.2694 | H22: ='C-1 On-Site WaterC'' Baseline'!$R$258+'F-1 Off-Site WaterC'' Baseline'!$U$258 -> 0.06688
B24: Total on-site and off-site baseline area / length retained | D24: =IFERROR('A-1 On-Site Habitat Baseline'!$S259+'D-1 Off-Site Habitat Baseline'!V259,"Error ▲") -> 0.6259 | F24: ='B-1 On-Site Hedge Baseline'!$P$258+'E-1 Off-Site Hedge Baseline'!$S$258 -> 0.075 | H24: ='C-1 On-Site WaterC'' Baseline'!U258+'F-1 Off-Site WaterC'' Baseline'!X258 -> 0.01
B25: Total on-site and off-site baseline units retained | D25: =IFERROR('A-1 On-Site Habitat Baseline'!$U259+'D-1 Off-Site Habitat Baseline'!X259,"Error ▲") -> 3.51572 | F25: ='B-1 On-Site Hedge Baseline'!R258+'E-1 Off-Site Hedge Baseline'!U258 -> 0.9922 | H25: ='C-1 On-Site WaterC'' Baseline'!W258+'F-1 Off-Site WaterC'' Baseline'!Z258 -> 0.06688
B27: Total on-site and off-site area / length proposed for enhancement | D27: =IFERROR('A-1 On-Site Habitat Baseline'!$T259+'D-1 Off-Site Habitat Baseline'!W259,"Error ▲") -> 0 | F27: ='B-1 On-Site Hedge Baseline'!$Q$258+'E-1 Off-Site Hedge Baseline'!$T$258 -> 0 | H27: ='C-1 On-Site WaterC'' Baseline'!V258+'F-1 Off-Site WaterC'' Baseline'!Y258 -> 0
B28: Total on-site and off-site baseline units proposed for enhancement | D28: =IFERROR('A-1 On-Site Habitat Baseline'!$V259+'D-1 Off-Site Habitat Baseline'!Y259,"Error ▲") -> 0 | F28: ='B-1 On-Site Hedge Baseline'!$S$258+'E-1 Off-Site Hedge Baseline'!$V$258 -> 0 | H28: ='C-1 On-Site WaterC'' Baseline'!X258+'F-1 Off-Site WaterC'' Baseline'!AA258 -> 0
B30: Total on-site and off-site baseline area / length lost | D30: =IFERROR('A-1 On-Site Habitat Baseline'!$W259+'D-1 Off-Site Habitat Baseline'!Z259,"Error ▲") -> 8.2341 | F30: ='B-1 On-Site Hedge Baseline'!$T$258+'E-1 Off-Site Hedge Baseline'!$W$258 -> 0.021 | H30: ='C-1 On-Site WaterC'' Baseline'!Y258+'F-1 Off-Site WaterC'' Baseline'!AB258 -> 0
B31: Total on-site and off-site baseline units lost | D31: =IFERROR('A-1 On-Site Habitat Baseline'!$X259+'D-1 Off-Site Habitat Baseline'!AA259,"Error ▲") -> 16.51412 | F31: ='B-1 On-Site Hedge Baseline'!$U$258+'E-1 Off-Site Hedge Baseline'!$X$258 -> 0.2772 | H31: ='C-1 On-Site WaterC'' Baseline'!Z258+'F-1 Off-Site WaterC'' Baseline'!AC258 -> 0
A33: Area Habitats Area Habitats Area Habitats
B34: Area habitats
B36: On-site change by broad habitat type | J36: Combined area lost from baseline(s) by distinctiveness band
C37: Baseline | E37: Post-development on-site | G37: On-site change
B38: Habitat group | C38: On-site existing area | D38: On-site existing value | E38: On-site proposed area | F38: On-site proposed value | G38: On-site area change | H38: On-site unit change | J38: Category | K38: Area lost (hectares) | L38: Area lost (%)
B39: Cropland | C39: ='G-2 Habitat groups'!$AK$4 -> 0 | D39: ='G-2 Habitat groups'!$AL$4 -> 0 | E39: ='G-2 Habitat groups'!$AM$4 -> 0 | F39: ='G-2 Habitat groups'!$AN$4 -> 0 | G39: =E39-C39 -> 0 | H39: =F39-D39 -> 0
B40: Grassland | C40: ='G-2 Habitat groups'!$AK$5 -> 8.806 | D40: ='G-2 Habitat groups'!$AL$5 -> 19.4728 | E40: ='G-2 Habitat groups'!$AM$5 -> 3.044 | F40: ='G-2 Habitat groups'!$AN$5 -> 20.546158 | G40: =E40-C40 -> -5.762 | H40: =F40-D40 -> 1.0733575 | J40: ='G-1 All Habitats'!$V$3 -> V.High | K40: =SUMIF('A-1 On-Site Habitat Baseline'!$I$11:$I$258,'Detailed Results'!J40,'A-1 On-Site Habitat Baseline'!$W$11:$W$258)+SUMIF('D-1 Off-Site Habitat Baseline'!$I$11:$I$258,'Detailed Results'!J40,'D-1 Off-Site Habitat Baseline'!$Z$11:$Z$258) -> 0 | L40: =IF(K40=0,"",(K40/(SUM($K$40:$K$49)))*100)
B41: Heathland and shrub | C41: ='G-2 Habitat groups'!$AK$6 -> 0 | D41: ='G-2 Habitat groups'!$AL$6 -> 0 | E41: ='G-2 Habitat groups'!$AM$6 -> 0 | F41: ='G-2 Habitat groups'!$AN$6 -> 0 | G41: =E41-C41 -> 0 | H41: =F41-D41 -> 0
B42: Lakes | C42: ='G-2 Habitat groups'!$AK$7 -> 0 | D42: ='G-2 Habitat groups'!$AL$7 -> 0 | E42: ='G-2 Habitat groups'!$AM$7 -> 0 | F42: ='G-2 Habitat groups'!$AN$7 -> 0 | G42: =E42-C42 -> 0 | H42: =F42-D42 -> 0 | J42: ='G-1 All Habitats'!$V$4 -> High | K42: =SUMIF('A-1 On-Site Habitat Baseline'!$I$11:$I$258,'Detailed Results'!J42,'A-1 On-Site Habitat Baseline'!$W$11:$W$258)+SUMIF('D-1 Off-Site Habitat Baseline'!$I$11:$I$258,'Detailed Results'!J42,'D-1 Off-Site Habitat Baseline'!$Z$11:$Z$258) -> 0 | L42: =IF(K42=0,"",(K42/(SUM($K$40:$K$49)))*100)
B43: Sparsely vegetated land | C43: ='G-2 Habitat groups'!$AK$8 -> 0 | D43: ='G-2 Habitat groups'!$AL$8 -> 0 | E43: ='G-2 Habitat groups'!$AM$8 -> 0 | F43: ='G-2 Habitat groups'!$AN$8 -> 0 | G43: =E43-C43 -> 0 | H43: =F43-D43 -> 0
B44: Urban | C44: ='G-2 Habitat groups'!$AK$9 -> 0.005 | D44: ='G-2 Habitat groups'!$AL$9 -> 0 | E44: ='G-2 Habitat groups'!$AM$9 -> 5.759 | F44: ='G-2 Habitat groups'!$AN$9 -> 5.1456505 | G44: =E44-C44 -> 5.754 | H44: =F44-D44 -> 5.1456505 | J44: ='G-1 All Habitats'!$V5 -> Medium | K44: =SUMIF('A-1 On-Site Habitat Baseline'!$I$11:$I$258,'Detailed Results'!J44,'A-1 On-Site Habitat Baseline'!$W$11:$W$258)+SUMIF('D-1 Off-Site Habitat Baseline'!$I$11:$I$258,'Detailed Results'!J44,'D-1 Off-Site Habitat Baseline'!$Z$11:$Z$258) -> 0.0041 | L44: =IF(K44=0,"",(K44/(SUM($K$40:$K$49)))*100) -> 0.049792934
B45: Wetland | C45: ='G-2 Habitat groups'!$AK$10 -> 0 | D45: ='G-2 Habitat groups'!$AL$10 -> 0 | E45: ='G-2 Habitat groups'!$AM$10 -> 0 | F45: ='G-2 Habitat groups'!$AN$10 -> 0 | G45: =E45-C45 -> 0 | H45: =F45-D45 -> 0
B46: Woodland and forest | C46: ='G-2 Habitat groups'!$AK$11 -> 0 | D46: ='G-2 Habitat groups'!$AL$11 -> 0 | E46: ='G-2 Habitat groups'!$AM$11 -> 0 | F46: ='G-2 Habitat groups'!$AN$11 -> 0 | G46: =E46-C46 -> 0 | H46: =F46-D46 -> 0 | J46: ='G-1 All Habitats'!$V$6 -> Low | K46: =SUMIF('A-1 On-Site Habitat Baseline'!$I$11:$I$258,'Detailed Results'!J46,'A-1 On-Site Habitat Baseline'!$W$11:$W$258)+SUMIF('D-1 Off-Site Habitat Baseline'!$I$11:$I$258,'Detailed Results'!J46,'D-1 Off-Site Habitat Baseline'!$Z$11:$Z$258) -> 8.23 | L46: =IF(K46=0,"",(K46/(SUM($K$40:$K$49)))*100) -> 99.950207
B47: Intertidal sediment | C47: ='G-2 Habitat groups'!$AK$12 -> 0 | D47: ='G-2 Habitat groups'!$AL$12 -> 0 | E47: ='G-2 Habitat groups'!$AM$12 -> 0 | F47: ='G-2 Habitat groups'!$AN$12 -> 0 | G47: =E47-C47 -> 0 | H47: =F47-D47 -> 0
B48: Coastal saltmarsh | C48: ='G-2 Habitat groups'!$AK$13 -> 0 | D48: ='G-2 Habitat groups'!$AL$13 -> 0 | E48: ='G-2 Habitat groups'!$AM$13 -> 0 | F48: ='G-2 Habitat groups'!$AN$13 -> 0 | G48: =E48-C48 -> 0 | H48: =F48-D48 -> 0 | J48: ='G-1 All Habitats'!$V$7 -> V.Low | K48: =SUMIF('A-1 On-Site Habitat Baseline'!$I$11:$I$258,'Detailed Results'!J48,'A-1 On-Site Habitat Baseline'!$W$11:$W$258)+SUMIF('D-1 Off-Site Habitat Baseline'!$I$11:$I$258,'Detailed Results'!J48,'D-1 Off-Site Habitat Baseline'!$Z$11:$Z$258) -> 0 | L48: =IF(K48=0,"",(K48/(SUM($K$40:$K$49)))*100)
B49: Rocky shore | C49: ='G-2 Habitat groups'!$AK$14 -> 0 | D49: ='G-2 Habitat groups'!$AL$14 -> 0 | E49: ='G-2 Habitat groups'!$AM$14 -> 0 | F49: ='G-2 Habitat groups'!$AN$14 -> 0 | G49: =E49-C49 -> 0 | H49: =F49-D49 -> 0
B50: Coastal lagoons | C50: ='G-2 Habitat groups'!$AK$15 -> 0 | D50: ='G-2 Habitat groups'!$AL$15 -> 0 | E50: ='G-2 Habitat groups'!$AM$15 -> 0 | F50: ='G-2 Habitat groups'!$AN$15 -> 0 | G50: =E50-C50 -> 0 | H50: =F50-D50 -> 0
B51: Intertidal hard structures | C51: ='G-2 Habitat groups'!$AK$16 -> 0 | D51: ='G-2 Habitat groups'!$AL$16 -> 0 | E51: ='G-2 Habitat groups'!$AM$16 -> 0 | F51: ='G-2 Habitat groups'!$AN$16 -> 0 | G51: =E51-C51 -> 0 | H51: =F51-D51 -> 0
B52: Watercourse footprint | C52: ='G-2 Habitat groups'!$AK$18 -> 0 | D52: ='G-2 Habitat groups'!$AL$18 -> 0 | E52: ='G-2 Habitat groups'!$AM$18 -> 0 | F52: ='G-2 Habitat groups'!$AN$18 -> 0 | G52: =E52-C52 -> 0 | H52: =F52-D52 -> 0
B53: Individual trees | C53: ='G-2 Habitat groups'!$AK$17 -> 0.049 | D53: ='G-2 Habitat groups'!$AL$17 -> 0.55704 | E53: ='G-2 Habitat groups'!$AM$17 -> 0.0613 | F53: ='G-2 Habitat groups'!$AN$17 -> 0.565856 | G53: =E53-C53 -> 0.0123 | H53: =F53-D53 -> 0.0088159977
B56: Off-site change by broad habitat type
C57: Baseline | E57: Post-development off-site | G57: Off-site change
B58: Habitat group | C58: Off-site existing area | D58: Off-site existing value | E58: Off-site proposed area | F58: Off-site proposed value | G58: Off-site area change | H58: Off-site unit change
B59: Cropland | C59: ='G-2 Habitat groups'!$AK$21 -> 0 | D59: ='G-2 Habitat groups'!$AL$21 -> 0 | E59: ='G-2 Habitat groups'!$AM$21 -> 0 | F59: ='G-2 Habitat groups'!$AN$21 -> 0 | G59: =E59-C59 -> 0 | H59: =F59-D59 -> 0
B60: Grassland | C60: ='G-2 Habitat groups'!$AK$22 -> 0 | D60: ='G-2 Habitat groups'!$AL$22 -> 0 | E60: ='G-2 Habitat groups'!$AM$22 -> 0 | F60: ='G-2 Habitat groups'!$AN$22 -> 0 | G60: =E60-C60 -> 0 | H60: =F60-D60 -> 0
B61: Heathland and shrub | C61: ='G-2 Habitat groups'!$AK$23 -> 0 | D61: ='G-2 Habitat groups'!$AL$23 -> 0 | E61: ='G-2 Habitat groups'!$AM$23 -> 0 | F61: ='G-2 Habitat groups'!$AN$23 -> 0 | G61: =E61-C61 -> 0 | H61: =F61-D61 -> 0
B62: Lakes | C62: ='G-2 Habitat groups'!$AK$24 -> 0 | D62: ='G-2 Habitat groups'!$AL$24 -> 0 | E62: ='G-2 Habitat groups'!$AM$24 -> 0 | F62: ='G-2 Habitat groups'!$AN$24 -> 0 | G62: =E62-C62 -> 0 | H62: =F62-D62 -> 0
B63: Sparsely vegetated land | C63: ='G-2 Habitat groups'!$AK$25 -> 0 | D63: ='G-2 Habitat groups'!$AL$25 -> 0 | E63: ='G-2 Habitat groups'!$AM$25 -> 0 | F63: ='G-2 Habitat groups'!$AN$25 -> 0 | G63: =E63-C63 -> 0 | H63: =F63-D63 -> 0
B64: Urban | C64: ='G-2 Habitat groups'!$AK$26 -> 0 | D64: ='G-2 Habitat groups'!$AL$26 -> 0 | E64: ='G-2 Habitat groups'!$AM$26 -> 0 | F64: ='G-2 Habitat groups'!$AN$26 -> 0 | G64: =E64-C64 -> 0 | H64: =F64-D64 -> 0
B65: Wetland | C65: ='G-2 Habitat groups'!$AK$27 -> 0 | D65: ='G-2 Habitat groups'!$AL$27 -> 0 | E65: ='G-2 Habitat groups'!$AM$27 -> 0 | F65: ='G-2 Habitat groups'!$AN$27 -> 0 | G65: =E65-C65 -> 0 | H65: =F65-D65 -> 0
B66: Woodland and forest | C66: ='G-2 Habitat groups'!$AK$28 -> 0 | D66: ='G-2 Habitat groups'!$AL$28 -> 0 | E66: ='G-2 Habitat groups'!$AM$28 -> 0 | F66: ='G-2 Habitat groups'!$AN$28 -> 0 | G66: =E66-C66 -> 0 | H66: =F66-D66 -> 0
B67: Intertidal sediment | C67: ='G-2 Habitat groups'!$AK$29 -> 0 | D67: ='G-2 Habitat groups'!$AL$29 -> 0 | E67: ='G-2 Habitat groups'!$AM$29 -> 0 | F67: ='G-2 Habitat groups'!$AN$29 -> 0 | G67: =E67-C67 -> 0 | H67: =F67-D67 -> 0
B68: Coastal saltmarsh | C68: ='G-2 Habitat groups'!$AK$30 -> 0 | D68: ='G-2 Habitat groups'!$AL$30 -> 0 | E68: ='G-2 Habitat groups'!$AM$30 -> 0 | F68: ='G-2 Habitat groups'!$AN$30 -> 0 | G68: =E68-C68 -> 0 | H68: =F68-D68 -> 0
B69: Rocky shore | C69: ='G-2 Habitat groups'!$AK$31 -> 0 | D69: ='G-2 Habitat groups'!$AL$31 -> 0 | E69: ='G-2 Habitat groups'!$AM$31 -> 0 | F69: ='G-2 Habitat groups'!$AN$31 -> 0 | G69: =E69-C69 -> 0 | H69: =F69-D69 -> 0
B70: Coastal lagoons | C70: ='G-2 Habitat groups'!$AK$32 -> 0 | D70: ='G-2 Habitat groups'!$AL$32 -> 0 | E70: ='G-2 Habitat groups'!$AM$32 -> 0 | F70: ='G-2 Habitat groups'!$AN$32 -> 0 | G70: =E70-C70 -> 0 | H70: =F70-D70 -> 0
B71: Intertidal hard structures | C71: ='G-2 Habitat groups'!$AK$33 -> 0 | D71: ='G-2 Habitat groups'!$AL$33 -> 0 | E71: ='G-2 Habitat groups'!$AM$33 -> 0 | F71: ='G-2 Habitat groups'!$AN$33 -> 0 | G71: =E71-C71 -> 0 | H71: =F71-D71 -> 0
B72: Watercourse footprint | C72: ='G-2 Habitat groups'!$AK$35 -> 0 | D72: ='G-2 Habitat groups'!$AL$35 -> 0 | E72: ='G-2 Habitat groups'!$AM$35 -> 0 | F72: ='G-2 Habitat groups'!$AN$35 -> 0 | G72: =E72-C72 -> 0 | H72: =F72-D72 -> 0
B73: Individual trees | C73: ='G-2 Habitat groups'!$AK$34 -> 0 | D73: ='G-2 Habitat groups'!$AL$34 -> 0 | E73: ='G-2 Habitat groups'!$AM$34 -> 0 | F73: ='G-2 Habitat groups'!$AN$34 -> 0 | G73: =E73-C73 -> 0 | H73: =F73-D73 -> 0
B75: Combined on-site and off-site change by broad habitat type
C76: Baseline | E76: On-site and off-site post-development | G76: Combined change
B77: Habitat group | C77: Combined existing area | D77: Combined existing value | E77: Combined proposed area | F77: Combined proposed value | G77: Combined area change | H77: Combined unit change
B78: Cropland | C78: =C39+C59 -> 0 | D78: =D39+D59 -> 0 | E78: =E39+E59 -> 0 | F78: =F39+F59 -> 0 | G78: =G39+G59 -> 0 | H78: =H39+H59 -> 0
B79: Grassland | C79: =C40+C60 -> 8.806 | D79: =D40+D60 -> 19.4728 | E79: =E40+E60 -> 3.044 | F79: =F40+F60 -> 20.546158 | G79: =G40+G60 -> -5.762 | H79: =H40+H60 -> 1.0733575
B80: Heathland and shrub | C80: =C41+C61 -> 0 | D80: =D41+D61 -> 0 | E80: =E41+E61 -> 0 | F80: =F41+F61 -> 0 | G80: =G41+G61 -> 0 | H80: =H41+H61 -> 0
B81: Lakes | C81: =C42+C62 -> 0 | D81: =D42+D62 -> 0 | E81: =E42+E62 -> 0 | F81: =F42+F62 -> 0 | G81: =G42+G62 -> 0 | H81: =H42+H62 -> 0
B82: Sparsely vegetated land | C82: =C43+C63 -> 0 | D82: =D43+D63 -> 0 | E82: =E43+E63 -> 0 | F82: =F43+F63 -> 0 | G82: =G43+G63 -> 0 | H82: =H43+H63 -> 0
B83: Urban | C83: =C44+C64 -> 0.005 | D83: =D44+D64 -> 0 | E83: =E44+E64 -> 5.759 | F83: =F44+F64 -> 5.1456505 | G83: =G44+G64 -> 5.754 | H83: =H44+H64 -> 5.1456505
B84: Wetland | C84: =C45+C65 -> 0 | D84: =D45+D65 -> 0 | E84: =E45+E65 -> 0 | F84: =F45+F65 -> 0 | G84: =G45+G65 -> 0 | H84: =H45+H65 -> 0
B85: Woodland and forest | C85: =C46+C66 -> 0 | D85: =D46+D66 -> 0 | E85: =E46+E66 -> 0 | F85: =F46+F66 -> 0 | G85: =G46+G66 -> 0 | H85: =H46+H66 -> 0
B86: Intertidal sediment | C86: =C47+C67 -> 0 | D86: =D47+D67 -> 0 | E86: =E47+E67 -> 0 | F86: =F47+F67 -> 0 | G86: =G47+G67 -> 0 | H86: =H47+H67 -> 0
B87: Coastal saltmarsh | C87: =C48+C68 -> 0 | D87: =D48+D68 -> 0 | E87: =E48+E68 -> 0 | F87: =F48+F68 -> 0 | G87: =G48+G68 -> 0 | H87: =H48+H68 -> 0
B88: Rocky shore | C88: =C49+C69 -> 0 | D88: =D49+D69 -> 0 | E88: =E49+E69 -> 0 | F88: =F49+F69 -> 0 | G88: =G49+G69 -> 0 | H88: =H49+H69 -> 0
B89: Coastal lagoons | C89: =C50+C70 -> 0 | D89: =D50+D70 -> 0 | E89: =E50+E70 -> 0 | F89: =F50+F70 -> 0 | G89: =G50+G70 -> 0 | H89: =H50+H70 -> 0
... B92: Individual trees | C92: =C53+C73 -> 0.049 | D92: =D53+D73 -> 0.55704 | E92: =E53+E73 -> 0.0613 | F92: =F53+F73 -> 0.565856 | G92: =G53+G73 -> 0.0123 | H92: =H53+H73 -> 0.0088159977
A93: Hedgerows and Lines of Trees Hedgerows and Lines of Trees Hedgerows and Lines of Trees
B94: Hedgerows and lines of trees
B97: On-site change by hedgerow type | J97: Combined length lost from baseline(s) by distinctiveness band
C98: Baseline | E98: Post-development on-site | G98: On-site change
B99: Hedgerow type | C99: On-site existing length | D99: On-site existing value | E99: On-site proposed length | F99: On-site proposed value | G99: On-site length change | H99: On-site unit change | J99: Category | K99: Length lost (km) | L99: Length lost (%)
B100: Species-rich native hedgerow with trees - associated with bank or ditch | C100: ='G-2 Habitat groups'!E150 -> 0 | D100: ='G-2 Habitat groups'!F150 -> 0 | E100: ='G-2 Habitat groups'!O150 -> 0.037 | F100: ='G-2 Habitat groups'!P150 -> 0.45602382 | G100: =E100-C100 -> 0.037 | H100: =F100-D100 -> 0.45602382
B101: Species-rich native hedgerow with trees | C101: ='G-2 Habitat groups'!E151 -> 0 | D101: ='G-2 Habitat groups'!F151 -> 0 | E101: ='G-2 Habitat groups'!O151 -> 0 | F101: ='G-2 Habitat groups'!P151 -> 0 | G101: =E101-C101 -> 0 | H101: =F101-D101 -> 0 | J101: ='G-1 All Habitats'!$V$3 -> V.High | K101: =SUMIF('B-1 On-Site Hedge Baseline'!$F$10:$F$257,'Detailed Results'!J101,'B-1 On-Site Hedge Baseline'!$T$10:$T$257)+SUMIF('E-1 Off-Site Hedge Baseline'!$F$10:$F$257,'Detailed Results'!J101,'E-1 Off-Site Hedge Baseline'!$W$10:$W$257) -> 0 | L101: =IF(K101=0,"",(K101/(SUM($K$101:$K$110)))*100)
B102: Species-rich native hedgerow - associated with bank or ditch | C102: ='G-2 Habitat groups'!E152 -> 0.017 | D102: ='G-2 Habitat groups'!F152 -> 0.3366 | E102: ='G-2 Habitat groups'!O152 -> 0.017 | F102: ='G-2 Habitat groups'!P152 -> 0.3366 | G102: =E102-C102 -> 0 | H102: =F102-D102 -> 0
B103: Native hedgerow with trees - associated with bank or ditch | C103: ='G-2 Habitat groups'!E153 -> 0.065 | D103: ='G-2 Habitat groups'!F153 -> 0.858 | E103: ='G-2 Habitat groups'!O153 -> 0.044 | F103: ='G-2 Habitat groups'!P153 -> 0.5808 | G103: =E103-C103 -> -0.021 | H103: =F103-D103 -> -0.2772 | J103: ='G-1 All Habitats'!$V$4 -> High | K103: =SUMIF('B-1 On-Site Hedge Baseline'!$F$10:$F$257,'Detailed Results'!J103,'B-1 On-Site Hedge Baseline'!$T$10:$T$257)+SUMIF('E-1 Off-Site Hedge Baseline'!$F$10:$F$257,'Detailed Results'!J103,'E-1 Off-Site Hedge Baseline'!$W$10:$W$257) -> 0.021 | L103: =IF(K103=0,"",(K103/(SUM($K$101:$K$110)))*100) -> 100
B104: Species-rich native hedgerow | C104: ='G-2 Habitat groups'!E154 -> 0.004 | D104: ='G-2 Habitat groups'!F154 -> 0.0528 | E104: ='G-2 Habitat groups'!O154 -> 0.859 | F104: ='G-2 Habitat groups'!P154 -> 6.3490991 | G104: =E104-C104 -> 0.855 | H104: =F104-D104 -> 6.2962991
B105: Native hedgerow - associated with bank or ditch | C105: ='G-2 Habitat groups'!E155 -> 0 | D105: ='G-2 Habitat groups'!F155 -> 0 | E105: ='G-2 Habitat groups'!O155 -> 0 | F105: ='G-2 Habitat groups'!P155 -> 0 | G105: =E105-C105 -> 0 | H105: =F105-D105 -> 0 | J105: ='G-1 All Habitats'!$V$5 -> Medium | K105: =SUMIF('B-1 On-Site Hedge Baseline'!$F$10:$F$257,'Detailed Results'!J105,'B-1 On-Site Hedge Baseline'!$T$10:$T$257)+SUMIF('E-1 Off-Site Hedge Baseline'!$F$10:$F$257,'Detailed Results'!J105,'E-1 Off-Site Hedge Baseline'!$W$10:$W$257) -> 0 | L105: =IF(K105=0,"",(K105/(SUM($K$101:$K$110)))*100)
B106: Native hedgerow with trees | C106: ='G-2 Habitat groups'!E156 -> 0 | D106: ='G-2 Habitat groups'!F156 -> 0 | E106: ='G-2 Habitat groups'!O156 -> 0 | F106: ='G-2 Habitat groups'!P156 -> 0 | G106: =E106-C106 -> 0 | H106: =F106-D106 -> 0
B107: Ecologically valuable line of trees | C107: ='G-2 Habitat groups'!E157 -> 0 | D107: ='G-2 Habitat groups'!F157 -> 0 | E107: ='G-2 Habitat groups'!O157 -> 0 | F107: ='G-2 Habitat groups'!P157 -> 0 | G107: =E107-C107 -> 0 | H107: =F107-D107 -> 0 | J107: ='G-1 All Habitats'!$V$6 -> Low | K107: =SUMIF('B-1 On-Site Hedge Baseline'!$F$10:$F$257,'Detailed Results'!J107,'B-1 On-Site Hedge Baseline'!$T$10:$T$257)+SUMIF('E-1 Off-Site Hedge Baseline'!$F$10:$F$257,'Detailed Results'!J107,'E-1 Off-Site Hedge Baseline'!$W$10:$W$257) -> 0 | L107: =IF(K107=0,"",(K107/(SUM($K$101:$K$110)))*100)
B108: Ecologically valuable line of trees - associated with bank or ditch | C108: ='G-2 Habitat groups'!E158 -> 0 | D108: ='G-2 Habitat groups'!F158 -> 0 | E108: ='G-2 Habitat groups'!O158 -> 0 | F108: ='G-2 Habitat groups'!P158 -> 0 | G108: =E108-C108 -> 0 | H108: =F108-D108 -> 0
B109: Native hedgerow | C109: ='G-2 Habitat groups'!E159 -> 0.01 | D109: ='G-2 Habitat groups'!F159 -> 0.022 | E109: ='G-2 Habitat groups'!O159 -> 0.01 | F109: ='G-2 Habitat groups'!P159 -> 0.022 | G109: =E109-C109 -> 0 | H109: =F109-D109 -> 0 | J109: ='G-1 All Habitats'!$V$7 -> V.Low | K109: =SUMIF('B-1 On-Site Hedge Baseline'!$F$10:$F$257,'Detailed Results'!J109,'B-1 On-Site Hedge Baseline'!$T$10:$T$257)+SUMIF('E-1 Off-Site Hedge Baseline'!$F$10:$F$257,'Detailed Results'!J109,'E-1 Off-Site Hedge Baseline'!$W$10:$W$257) -> 0 | L109: =IF(K109=0,"",(K109/(SUM($K$101:$K$110)))*100)
B110: Line of trees | C110: ='G-2 Habitat groups'!E160 -> 0 | D110: ='G-2 Habitat groups'!F160 -> 0 | E110: ='G-2 Habitat groups'!O160 -> 0 | F110: ='G-2 Habitat groups'!P160 -> 0 | G110: =E110-C110 -> 0 | H110: =F110-D110 -> 0
B111: Line of trees - associated with bank or ditch | C111: ='G-2 Habitat groups'!E161 -> 0 | D111: ='G-2 Habitat groups'!F161 -> 0 | E111: ='G-2 Habitat groups'!O161 -> 0 | F111: ='G-2 Habitat groups'!P161 -> 0 | G111: =E111-C111 -> 0 | H111: =F111-D111 -> 0
B112: Non-native and ornamental hedgerow | C112: ='G-2 Habitat groups'!E162 -> 0 | D112: ='G-2 Habitat groups'!F162 -> 0 | E112: ='G-2 Habitat groups'!O162 -> 0 | F112: ='G-2 Habitat groups'!P162 -> 0 | G112: =E112-C112 -> 0 | H112: =F112-D112 -> 0
B117: Off-site change by hedgerow type
C118: Off-site baseline | E118: Post-development off-site | G118: Off-site change
B119: Hedgerow type | C119: Off-site existing length | D119: Off-site existing value | E119: Off-site proposed length | F119: Off-site proposed value | G119: Off-site length change | H119: Off-site unit change
B120: Species-rich native hedgerow with trees - associated with bank or ditch | C120: ='G-2 Habitat groups'!S150 -> 0 | D120: ='G-2 Habitat groups'!T150 -> 0 | E120: ='G-2 Habitat groups'!AA150 -> 0 | F120: ='G-2 Habitat groups'!AB150 -> 0 | G120: =E120-C120 -> 0 | H120: =F120-D120 -> 0
B121: Species-rich native hedgerow with trees | C121: ='G-2 Habitat groups'!S151 -> 0 | D121: ='G-2 Habitat groups'!T151 -> 0 | E121: ='G-2 Habitat groups'!AA151 -> 0 | F121: ='G-2 Habitat groups'!AB151 -> 0 | G121: =E121-C121 -> 0 | H121: =F121-D121 -> 0
B122: Species-rich native hedgerow - associated with bank or ditch | C122: ='G-2 Habitat groups'!S152 -> 0 | D122: ='G-2 Habitat groups'!T152 -> 0 | E122: ='G-2 Habitat groups'!AA152 -> 0 | F122: ='G-2 Habitat groups'!AB152 -> 0 | G122: =E122-C122 -> 0 | H122: =F122-D122 -> 0
B123: Native hedgerow with trees - associated with bank or ditch | C123: ='G-2 Habitat groups'!S153 -> 0 | D123: ='G-2 Habitat groups'!T153 -> 0 | E123: ='G-2 Habitat groups'!AA153 -> 0 | F123: ='G-2 Habitat groups'!AB153 -> 0 | G123: =E123-C123 -> 0 | H123: =F123-D123 -> 0
B124: Species-rich native hedgerow | C124: ='G-2 Habitat groups'!S154 -> 0 | D124: ='G-2 Habitat groups'!T154 -> 0 | E124: ='G-2 Habitat groups'!AA154 -> 0 | F124: ='G-2 Habitat groups'!AB154 -> 0 | G124: =E124-C124 -> 0 | H124: =F124-D124 -> 0
B125: Native hedgerow - associated with bank or ditch | C125: ='G-2 Habitat groups'!S155 -> 0 | D125: ='G-2 Habitat groups'!T155 -> 0 | E125: ='G-2 Habitat groups'!AA155 -> 0 | F125: ='G-2 Habitat groups'!AB155 -> 0 | G125: =E125-C125 -> 0 | H125: =F125-D125 -> 0
...

Sheet Trading Summary Area Habitats
B2: Trading Summary
B3: Distinctiveness Group | C3: Trading Rule | G3: Trading Satisfied?
B5: Very High | C5: Same habitat required – bespoke compensation option ⚠ | G5: =IFERROR(IF(G33<0,"No ▲","Yes ✓"),"") -> Yes ✓
B6: High | C6: Same habitat required = | G6: =IFERROR(IF(K41<0,"No ▲","Yes ✓"),"") -> Yes ✓
B7: Medium | C7: Same broad habitat or a higher distinctiveness habitat required (≥) | G7: =IF(K40+K12+K89<0,"No ▲","Yes ✓") -> Yes ✓
B8: Low | C8: Same distinctiveness or better habitat required ≥ | G8: =IF(K125<0,"No ▲","Yes ✓") -> Yes ✓
B11: Very High Distinctiveness | J11: Very High Distinctiveness Summary
B12: Habitat group | C12: Group | D12: On-site unit change | E12: Off-site unit change | F12: Project-wide unit change | G12: Unit losses | J12: Very High Distinctiveness Units available to offset lower distinctiveness deficit | K12: =SUMIF($F$13:$F$32,">0") -> 0 | L12: =IF(K12=0,"",IF(K12<0,"⚠","✓"))
B13: ='G-2 Habitat groups'!AU5 -> Grassland - Lowland dry acid grassland | C13: ='G-2 Habitat groups'!AV5 -> Grassland | D13: ='G-2 Habitat groups'!BB5 -> 0 | E13: ='G-2 Habitat groups'!BD5 -> 0 | F13: ='G-2 Habitat groups'!BE5 -> 0 | G13: ='G-2 Habitat groups'!BF5 | H13: =IF(F13=0,"",IF(F13<0,"▲","✓")) | J13: Remaining losses; Like for like not satisfied | K13: =G33 -> 0 | L13: =IF(K13=0,"",IF(K13<0,"▲","✓"))
B14: ='G-2 Habitat groups'!AU6 -> Grassland - Lowland meadows | C14: ='G-2 Habitat groups'!AV6 -> Grassland | D14: ='G-2 Habitat groups'!BB6 -> 0 | E14: ='G-2 Habitat groups'!BD6 -> 0 | F14: ='G-2 Habitat groups'!BE6 -> 0 | G14: ='G-2 Habitat groups'!BF6 | H14: =IF(F14=0,"",IF(F14<0,"▲","✓"))
B15: ='G-2 Habitat groups'!AU7 -> Grassland - Upland hay meadows | C15: ='G-2 Habitat groups'!AV7 -> Grassland | D15: ='G-2 Habitat groups'!BB7 -> 0 | E15: ='G-2 Habitat groups'!BD7 -> 0 | F15: ='G-2 Habitat groups'!BE7 -> 0 | G15: ='G-2 Habitat groups'!BF7 | H15: =IF(F15=0,"",IF(F15<0,"▲","✓"))
B16: ='G-2 Habitat groups'!AU8 -> Heathland and shrub - Mountain heaths and willow scrub | C16: ='G-2 Habitat groups'!AV8 -> Heathland and shrub | D16: ='G-2 Habitat groups'!BB8 -> 0 | E16: ='G-2 Habitat groups'!BD8 -> 0 | F16: ='G-2 Habitat groups'!BE8 -> 0 | G16: ='G-2 Habitat groups'!BF8 | H16: =IF(F16=0,"",IF(F16<0,"▲","✓"))
B17: ='G-2 Habitat groups'!AU9 -> Lakes - Aquifer fed naturally fluctuating water bodies | C17: ='G-2 Habitat groups'!AV9 -> Lakes | D17: ='G-2 Habitat groups'!BB9 -> 0 | E17: ='G-2 Habitat groups'!BD9 -> 0 | F17: ='G-2 Habitat groups'!BE9 -> 0 | G17: ='G-2 Habitat groups'!BF9 | H17: =IF(F17=0,"",IF(F17<0,"▲","✓"))
B18: ='G-2 Habitat groups'!AU10 -> Sparsely vegetated land - Calaminarian grasslands | C18: ='G-2 Habitat groups'!AV10 -> Sparsely vegetated land | D18: ='G-2 Habitat groups'!BB10 -> 0 | E18: ='G-2 Habitat groups'!BD10 -> 0 | F18: ='G-2 Habitat groups'!BE10 -> 0 | G18: ='G-2 Habitat groups'!BF10 | H18: =IF(F18=0,"",IF(F18<0,"▲","✓"))
B19: ='G-2 Habitat groups'!AU11 -> Sparsely vegetated land - Limestone pavement | C19: ='G-2 Habitat groups'!AV11 -> Sparsely vegetated land | D19: ='G-2 Habitat groups'!BB11 -> 0 | E19: ='G-2 Habitat groups'!BD11 -> 0 | F19: ='G-2 Habitat groups'!BE11 -> 0 | G19: ='G-2 Habitat groups'!BF11 | H19: =IF(F19=0,"",IF(F19<0,"▲","✓"))
B20: ='G-2 Habitat groups'!AU12 -> Wetland - Blanket bog | C20: ='G-2 Habitat groups'!AV12 -> Wetland | D20: ='G-2 Habitat groups'!BB12 -> 0 | E20: ='G-2 Habitat groups'!BD12 -> 0 | F20: ='G-2 Habitat groups'!BE12 -> 0 | G20: ='G-2 Habitat groups'!BF12 | H20: =IF(F20=0,"",IF(F20<0,"▲","✓"))
B21: ='G-2 Habitat groups'!AU13 -> Wetland - Depressions on peat substrates (H7150) | C21: ='G-2 Habitat groups'!AV13 -> Wetland | D21: ='G-2 Habitat groups'!BB13 -> 0 | E21: ='G-2 Habitat groups'!BD13 -> 0 | F21: ='G-2 Habitat groups'!BE13 -> 0 | G21: ='G-2 Habitat groups'!BF13 | H21: =IF(F21=0,"",IF(F21<0,"▲","✓"))
B22: ='G-2 Habitat groups'!AU14 -> Wetland - Fens (upland and lowland) | C22: ='G-2 Habitat groups'!AV14 -> Wetland | D22: ='G-2 Habitat groups'!BB14 -> 0 | E22: ='G-2 Habitat groups'!BD14 -> 0 | F22: ='G-2 Habitat groups'!BE14 -> 0 | G22: ='G-2 Habitat groups'!BF14 | H22: =IF(F22=0,"",IF(F22<0,"▲","✓"))
B23: ='G-2 Habitat groups'!AU15 -> Wetland - Lowland raised bog | C23: ='G-2 Habitat groups'!AV15 -> Wetland | D23: ='G-2 Habitat groups'!BB15 -> 0 | E23: ='G-2 Habitat groups'!BD15 -> 0 | F23: ='G-2 Habitat groups'!BE15 -> 0 | G23: ='G-2 Habitat groups'!BF15 | H23: =IF(F23=0,"",IF(F23<0,"▲","✓"))
B24: ='G-2 Habitat groups'!AU16 -> Wetland - Oceanic valley mire[1] (D2.1) | C24: ='G-2 Habitat groups'!AV16 -> Wetland | D24: ='G-2 Habitat groups'!BB16 -> 0 | E24: ='G-2 Habitat groups'!BD16 -> 0 | F24: ='G-2 Habitat groups'!BE16 -> 0 | G24: ='G-2 Habitat groups'!BF16 | H24: =IF(F24=0,"",IF(F24<0,"▲","✓"))
B25: ='G-2 Habitat groups'!AU17 -> Wetland - Purple moor grass and rush pastures | C25: ='G-2 Habitat groups'!AV17 -> Wetland | D25: ='G-2 Habitat groups'!BB17 -> 0 | E25: ='G-2 Habitat groups'!BD17 -> 0 | F25: ='G-2 Habitat groups'!BE17 -> 0 | G25: ='G-2 Habitat groups'!BF17 | H25: =IF(F25=0,"",IF(F25<0,"▲","✓"))
... B32: ='G-2 Habitat groups'!AU24 -> Intertidal sediment - Littoral seagrass on peat, clay or chalk | C32: ='G-2 Habitat groups'!AV24 -> Intertidal sediment | D32: ='G-2 Habitat groups'!BB24 -> 0 | E32: ='G-2 Habitat groups'!BD24 -> 0 | F32: ='G-2 Habitat groups'!BE24 -> 0 | G32: ='G-2 Habitat groups'!BF24 | H32: =IF(F32=0,"",IF(F32<0,"▲","✓"))
D33: =SUM(D13:D32) -> 0 | E33: =SUM(E13:E32) -> 0 | F33: =SUM(F13:F32) -> 0 | G33: =SUM(G13:G32) -> 0
B39: High Distinctiveness | J39: High Distinctiveness Summary
B40: Habitat group | C40: Group | D40: On-site unit change | E40: Off-site unit change | F40: Project-wide unit change | G40: Losses not yet accounted for | J40: High Distinctiveness Units available to offset lower distinctiveness deficit | K40: =SUMIF($F$41:$F$82,">0") -> 0 | L40: =IF(K40=0,"",IF(K40<0,"⚠","✓"))
B41: ='G-2 Habitat groups'!AU30 -> Grassland - Traditional orchards | C41: ='G-2 Habitat groups'!AV30 -> Grassland | D41: ='G-2 Habitat groups'!BB30 -> 0 | E41: ='G-2 Habitat groups'!BD30 -> 0 | F41: ='G-2 Habitat groups'!BE30 -> 0 | G41: ='G-2 Habitat groups'!BF30 | H41: =IF(F41=0,"",IF(F41<0,"▲","✓")) | J41: Remaining losses; Like for like not satisfied | K41: =G83 -> 0 | L41: =IF(K41=0,"",IF(K41<0,"▲","✓"))
B42: ='G-2 Habitat groups'!AU31 -> Grassland - Floodplain wetland mosaic and CFGM | C42: ='G-2 Habitat groups'!AV31 -> Grassland | D42: ='G-2 Habitat groups'!BB31 -> 0 | E42: ='G-2 Habitat groups'!BD31 -> 0 | F42: ='G-2 Habitat groups'!BE31 -> 0 | G42: ='G-2 Habitat groups'!BF31 | H42: =IF(F42=0,"",IF(F42<0,"▲","✓"))
B43: ='G-2 Habitat groups'!AU32 -> Grassland - Lowland calcareous grassland | C43: ='G-2 Habitat groups'!AV32 -> Grassland | D43: ='G-2 Habitat groups'!BB32 -> 0 | E43: ='G-2 Habitat groups'!BD32 -> 0 | F43: ='G-2 Habitat groups'!BE32 -> 0 | G43: ='G-2 Habitat groups'!BF32 | H43: =IF(F43=0,"",IF(F43<0,"▲","✓"))
B44: ='G-2 Habitat groups'!AU33 -> Grassland - Tall herb communities (H6430) | C44: ='G-2 Habitat groups'!AV33 -> Grassland | D44: ='G-2 Habitat groups'!BB33 -> 0 | E44: ='G-2 Habitat groups'!BD33 -> 0 | F44: ='G-2 Habitat groups'!BE33 -> 0 | G44: ='G-2 Habitat groups'!BF33 | H44: =IF(F44=0,"",IF(F44<0,"▲","✓"))
B45: ='G-2 Habitat groups'!AU34 -> Grassland - Upland calcareous grassland | C45: ='G-2 Habitat groups'!AV34 -> Grassland | D45: ='G-2 Habitat groups'!BB34 -> 0 | E45: ='G-2 Habitat groups'!BD34 -> 0 | F45: ='G-2 Habitat groups'!BE34 -> 0 | G45: ='G-2 Habitat groups'!BF34 | H45: =IF(F45=0,"",IF(F45<0,"▲","✓"))
B46: ='G-2 Habitat groups'!AU35 -> Heathland and shrub - Lowland Heathland | C46: ='G-2 Habitat groups'!AV35 -> Heathland and shrub | D46: ='G-2 Habitat groups'!BB35 -> 0 | E46: ='G-2 Habitat groups'!BD35 -> 0 | F46: ='G-2 Habitat groups'!BE35 -> 0 | G46: ='G-2 Habitat groups'!BF35 | H46: =IF(F46=0,"",IF(F46<0,"▲","✓"))
B47: ='G-2 Habitat groups'!AU36 -> Heathland and shrub - Dunes with sea buckthorn (H2160) | C47: ='G-2 Habitat groups'!AV36 -> Heathland and shrub | D47: ='G-2 Habitat groups'!BB36 -> 0 | E47: ='G-2 Habitat groups'!BD36 -> 0 | F47: ='G-2 Habitat groups'!BE36 -> 0 | G47: ='G-2 Habitat groups'!BF36 | H47: =IF(F47=0,"",IF(F47<0,"▲","✓"))
B48: ='G-2 Habitat groups'!AU37 -> Heathland and shrub - Upland heathland | C48: ='G-2 Habitat groups'!AV37 -> Heathland and shrub | D48: ='G-2 Habitat groups'!BB37 -> 0 | E48: ='G-2 Habitat groups'!BD37 -> 0 | F48: ='G-2 Habitat groups'!BE37 -> 0 | G48: ='G-2 Habitat groups'!BF37 | H48: =IF(F48=0,"",IF(F48<0,"▲","✓"))
B49: ='G-2 Habitat groups'!AU39 -> Lakes - High alkalinity lakes | C49: ='G-2 Habitat groups'!AV39 -> Lakes | D49: ='G-2 Habitat groups'!BB39 -> 0 | E49: ='G-2 Habitat groups'!BD39 -> 0 | F49: ='G-2 Habitat groups'!BE39 -> 0 | G49: ='G-2 Habitat groups'!BF39 | H49: =IF(F49=0,"",IF(F49<0,"▲","✓"))
B50: ='G-2 Habitat groups'!AU40 -> Lakes - Low alkalinity lakes | C50: ='G-2 Habitat groups'!AV40 -> Lakes | D50: ='G-2 Habitat groups'!BB40 -> 0 | E50: ='G-2 Habitat groups'!BD40 -> 0 | F50: ='G-2 Habitat groups'!BE40 -> 0 | G50: ='G-2 Habitat groups'!BF40 | H50: =IF(F50=0,"",IF(F50<0,"▲","✓"))
B51: ='G-2 Habitat groups'!AU41 -> Lakes - Marl lakes | C51: ='G-2 Habitat groups'!AV41 -> Lakes | D51: ='G-2 Habitat groups'!BB41 -> 0 | E51: ='G-2 Habitat groups'!BD41 -> 0 | F51: ='G-2 Habitat groups'!BE41 -> 0 | G51: ='G-2 Habitat groups'!BF41 | H51: =IF(F51=0,"",IF(F51<0,"▲","✓"))
B52: ='G-2 Habitat groups'!AU42 -> Lakes - Moderate alkalinity lakes | C52: ='G-2 Habitat groups'!AV42 -> Lakes | D52: ='G-2 Habitat groups'!BB42 -> 0 | E52: ='G-2 Habitat groups'!BD42 -> 0 | F52: ='G-2 Habitat groups'!BE42 -> 0 | G52: ='G-2 Habitat groups'!BF42 | H52: =IF(F52=0,"",IF(F52<0,"▲","✓"))
B53: ='G-2 Habitat groups'!AU43 -> Lakes - Peat lakes | C53: ='G-2 Habitat groups'!AV43 -> Lakes | D53: ='G-2 Habitat groups'!BB43 -> 0 | E53: ='G-2 Habitat groups'!BD43 -> 0 | F53: ='G-2 Habitat groups'!BE43 -> 0 | G53: ='G-2 Habitat groups'!BF43 | H53: =IF(F53=0,"",IF(F53<0,"▲","✓"))
B54: ='G-2 Habitat groups'!AU44 -> Lakes - Ponds (priority habitat) | C54: ='G-2 Habitat groups'!AV44 -> Lakes | D54: ='G-2 Habitat groups'!BB44 -> 0 | E54: ='G-2 Habitat groups'!BD44 -> 0 | F54: ='G-2 Habitat groups'!BE44 -> 0 | G54: ='G-2 Habitat groups'!BF44 | H54: =IF(F54=0,"",IF(F54<0,"▲","✓"))
B55: ='G-2 Habitat groups'!AU45 -> Lakes - Temporary lakes ponds and pools (H3170) | C55: ='G-2 Habitat groups'!AV45 -> Lakes | D55: ='G-2 Habitat groups'!BB45 -> 0 | E55: ='G-2 Habitat groups'!BD45 -> 0 | F55: ='G-2 Habitat groups'!BE45 -> 0 | G55: ='G-2 Habitat groups'!BF45 | H55: =IF(F55=0,"",IF(F55<0,"▲","✓"))
B56: ='G-2 Habitat groups'!AU46 -> Sparsely vegetated land - Coastal sand dunes | C56: ='G-2 Habitat groups'!AV46 -> Sparsely vegetated land | D56: ='G-2 Habitat groups'!BB46 -> 0 | E56: ='G-2 Habitat groups'!BD46 -> 0 | F56: ='G-2 Habitat groups'!BE46 -> 0 | G56: ='G-2 Habitat groups'!BF46 | H56: =IF(F56=0,"",IF(F56<0,"▲","✓"))
B57: ='G-2 Habitat groups'!AU47 -> Sparsely vegetated land - Coastal vegetated shingle | C57: ='G-2 Habitat groups'!AV47 -> Sparsely vegetated land | D57: ='G-2 Habitat groups'!BB47 -> 0 | E57: ='G-2 Habitat groups'!BD47 -> 0 | F57: ='G-2 Habitat groups'!BE47 -> 0 | G57: ='G-2 Habitat groups'!BF47 | H57: =IF(F57=0,"",IF(F57<0,"▲","✓"))
B58: ='G-2 Habitat groups'!AU48 -> Sparsely vegetated land - Inland rock outcrop and scree habitats | C58: ='G-2 Habitat groups'!AV48 -> Sparsely vegetated land | D58: ='G-2 Habitat groups'!BB48 -> 0 | E58: ='G-2 Habitat groups'!BD48 -> 0 | F58: ='G-2 Habitat groups'!BE48 -> 0 | G58: ='G-2 Habitat groups'!BF48 | H58: =IF(F58=0,"",IF(F58<0,"▲","✓"))
B59: ='G-2 Habitat groups'!AU49 -> Sparsely vegetated land - Maritime cliff and slopes | C59: ='G-2 Habitat groups'!AV49 -> Sparsely vegetated land | D59: ='G-2 Habitat groups'!BB49 -> 0 | E59: ='G-2 Habitat groups'!BD49 -> 0 | F59: ='G-2 Habitat groups'!BE49 -> 0 | G59: ='G-2 Habitat groups'!BF49 | H59: =IF(F59=0,"",IF(F59<0,"▲","✓"))
B60: ='G-2 Habitat groups'!AU50 -> Urban - Open mosaic habitats on previously developed land | C60: ='G-2 Habitat groups'!AV50 -> Urban | D60: ='G-2 Habitat groups'!BB50 -> 0 | E60: ='G-2 Habitat groups'!BD50 -> 0 | F60: ='G-2 Habitat groups'!BE50 -> 0 | G60: ='G-2 Habitat groups'!BF50 | H60: =IF(F60=0,"",IF(F60<0,"▲","✓"))
B61: ='G-2 Habitat groups'!AU51 -> Wetland - Reedbeds | C61: ='G-2 Habitat groups'!AV51 -> Wetland | D61: ='G-2 Habitat groups'!BB51 -> 0 | E61: ='G-2 Habitat groups'!BD51 -> 0 | F61: ='G-2 Habitat groups'!BE51 -> 0 | G61: ='G-2 Habitat groups'!BF51 | H61: =IF(F61=0,"",IF(F61<0,"▲","✓"))
B62: Woodland and forest - Felled/Replacement for felled woodland | C62: ='G-2 Habitat groups'!AV52 -> Woodland and forest | D62: ='G-2 Habitat groups'!BB52 -> 0 | E62: ='G-2 Habitat groups'!BD52 -> 0 | F62: ='G-2 Habitat groups'!BE52 -> 0 | G62: ='G-2 Habitat groups'!BF52 | H62: =IF(F62=0,"",IF(F62<0,"▲","✓"))
B63: ='G-2 Habitat groups'!AU53 -> Woodland and forest - Lowland beech and yew woodland | C63: ='G-2 Habitat groups'!AV53 -> Woodland and forest | D63: ='G-2 Habitat groups'!BB53 -> 0 | E63: ='G-2 Habitat groups'!BD53 -> 0 | F63: ='G-2 Habitat groups'!BE53 -> 0 | G63: ='G-2 Habitat groups'!BF53 | H63: =IF(F63=0,"",IF(F63<0,"▲","✓"))
B64: ='G-2 Habitat groups'!AU54 -> Woodland and forest - Lowland mixed deciduous woodland | C64: ='G-2 Habitat groups'!AV54 -> Woodland and forest | D64: ='G-2 Habitat groups'!BB54 -> 0 | E64: ='G-2 Habitat groups'!BD54 -> 0 | F64: ='G-2 Habitat groups'!BE54 -> 0 | G64: ='G-2 Habitat groups'!BF54 | H64: =IF(F64=0,"",IF(F64<0,"▲","✓"))
B65: ='G-2 Habitat groups'!AU56 -> Woodland and forest - Native pine woodlands | C65: ='G-2 Habitat groups'!AV56 -> Woodland and forest | D65: ='G-2 Habitat groups'!BB56 -> 0 | E65: ='G-2 Habitat groups'!BD56 -> 0 | F65: ='G-2 Habitat groups'!BE56 -> 0 | G65: ='G-2 Habitat groups'!BF56 | H65: =IF(F65=0,"",IF(F65<0,"▲","✓"))
B66: ='G-2 Habitat groups'!AU57 -> Woodland and forest - Upland birchwoods | C66: ='G-2 Habitat groups'!AV57 -> Woodland and forest | D66: ='G-2 Habitat groups'!BB57 -> 0 | E66: ='G-2 Habitat groups'!BD57 -> 0 | F66: ='G-2 Habitat groups'!BE57 -> 0 | G66: ='G-2 Habitat groups'!BF57 | H66: =IF(F66=0,"",IF(F66<0,"▲","✓"))
B67: ='G-2 Habitat groups'!AU58 -> Woodland and forest - Upland mixed ashwoods | C67: ='G-2 Habitat groups'!AV58 -> Woodland and forest | D67: ='G-2 Habitat groups'!BB58 -> 0 | E67: ='G-2 Habitat groups'!BD58 -> 0 | F67: ='G-2 Habitat groups'!BE58 -> 0 | G67: ='G-2 Habitat groups'!BF58 | H67: =IF(F67=0,"",IF(F67<0,"▲","✓"))
B68: ='G-2 Habitat groups'!AU59 -> Woodland and forest - Upland oakwood | C68: ='G-2 Habitat groups'!AV59 -> Woodland and forest | D68: ='G-2 Habitat groups'!BB59 -> 0 | E68: ='G-2 Habitat groups'!BD59 -> 0 | F68: ='G-2 Habitat groups'!BE59 -> 0 | G68: ='G-2 Habitat groups'!BF59 | H68: =IF(F68=0,"",IF(F68<0,"▲","✓"))
B69: ='G-2 Habitat groups'!AU60 -> Woodland and forest - Wet woodland | C69: ='G-2 Habitat groups'!AV60 -> Woodland and forest | D69: ='G-2 Habitat groups'!BB60 -> 0 | E69: ='G-2 Habitat groups'!BD60 -> 0 | F69: ='G-2 Habitat groups'!BE60 -> 0 | G69: ='G-2 Habitat groups'!BF60 | H69: =IF(F69=0,"",IF(F69<0,"▲","✓"))
B70: ='G-2 Habitat groups'!AU61 -> Coastal lagoons - Coastal lagoons | C70: ='G-2 Habitat groups'!AV61 -> Coastal lagoons | D70: ='G-2 Habitat groups'!BB61 -> 0 | E70: ='G-2 Habitat groups'!BD61 -> 0 | F70: ='G-2 Habitat groups'!BE61 -> 0 | G70: ='G-2 Habitat groups'!BF61 | H70: =IF(F70=0,"",IF(F70<0,"▲","✓"))
B71: ='G-2 Habitat groups'!AU62 -> Rocky shore - High energy littoral rock | C71: ='G-2 Habitat groups'!AV62 -> Rocky shore | D71: ='G-2 Habitat groups'!BB62 -> 0 | E71: ='G-2 Habitat groups'!BD62 -> 0 | F71: ='G-2 Habitat groups'!BE62 -> 0 | G71: ='G-2 Habitat groups'!BF62 | H71: =IF(F71=0,"",IF(F71<0,"▲","✓"))
B72: ='G-2 Habitat groups'!AU63 -> Rocky shore - Moderate energy littoral rock | C72: ='G-2 Habitat groups'!AV63 -> Rocky shore | D72: ='G-2 Habitat groups'!BB63 -> 0 | E72: ='G-2 Habitat groups'!BD63 -> 0 | F72: ='G-2 Habitat groups'!BE63 -> 0 | G72: ='G-2 Habitat groups'!BF63 | H72: =IF(F72=0,"",IF(F72<0,"▲","✓"))
B73: ='G-2 Habitat groups'!AU64 -> Rocky shore - Low energy littoral rock | C73: ='G-2 Habitat groups'!AV64 -> Rocky shore | D73: ='G-2 Habitat groups'!BB64 -> 0 | E73: ='G-2 Habitat groups'!BD64 -> 0 | F73: ='G-2 Habitat groups'!BE64 -> 0 | G73: ='G-2 Habitat groups'!BF64 | H73: =IF(F73=0,"",IF(F73<0,"▲","✓"))
B74: ='G-2 Habitat groups'!AU65 -> Rocky shore - Features of littoral rock | C74: ='G-2 Habitat groups'!AV65 -> Rocky shore | D74: ='G-2 Habitat groups'!BB65 -> 0 | E74: ='G-2 Habitat groups'!BD65 -> 0 | F74: ='G-2 Habitat groups'!BE65 -> 0 | G74: ='G-2 Habitat groups'!BF65 | H74: =IF(F74=0,"",IF(F74<0,"▲","✓"))
B75: ='G-2 Habitat groups'!AU66 -> Intertidal sediment - Littoral mud | C75: ='G-2 Habitat groups'!AV66 -> Intertidal sediment | D75: ='G-2 Habitat groups'!BB66 -> 0 | E75: ='G-2 Habitat groups'!BD66 -> 0 | F75: ='G-2 Habitat groups'!BE66 -> 0 | G75: ='G-2 Habitat groups'!BF66 | H75: =IF(F75=0,"",IF(F75<0,"▲","✓"))
B76: ='G-2 Habitat groups'!AU67 -> Intertidal sediment - Littoral mixed sediments | C76: ='G-2 Habitat groups'!AV67 -> Intertidal sediment | D76: ='G-2 Habitat groups'!BB67 -> 0 | E76: ='G-2 Habitat groups'!BD67 -> 0 | F76: ='G-2 Habitat groups'!BE67 -> 0 | G76: ='G-2 Habitat groups'!BF67 | H76: =IF(F76=0,"",IF(F76<0,"▲","✓"))
... B81: ='G-2 Habitat groups'!AU72 -> Intertidal sediment - Littoral muddy sand | C81: ='G-2 Habitat groups'!AV72 -> Intertidal sediment | D81: ='G-2 Habitat groups'!BB72 -> 0 | E81: ='G-2 Habitat groups'!BD72 -> 0 | F81: ='G-2 Habitat groups'!BE72 -> 0 | G81: ='G-2 Habitat groups'!BF72 | H81: =IF(F81=0,"",IF(F81<0,"▲","✓"))
B82: Intertidal sediment - Littoral seagrass | C82: ='G-2 Habitat groups'!AV73 -> Intertidal sediment | D82: ='G-2 Habitat groups'!BB73 -> 0 | E82: ='G-2 Habitat groups'!BD73 -> 0 | F82: ='G-2 Habitat groups'!BE73 -> 0 | G82: ='G-2 Habitat groups'!BF73 | H82: =IF(F82=0,"",IF(F82<0,"▲","✓"))
D83: =SUM(D41:D82) -> 0 | E83: =SUM(E41:E82) -> 0 | F83: =SUM(F41:F82) -> 0 | G83: =SUM(G41:G82) -> 0
B87: Medium Distinctiveness | J87: Medium Distinctiveness Summary
B88: Habitat group | C88: Group | D88: On-site unit change | E88: Off-site unit change | F88: Project wide unit change | G88: Cumulative broad habitat change | J88: Medium Distinctiveness Units available to offset lower distinctiveness deficit | K88: =SUMIF(G89:G115,">0") -> 17.314434 | L88: =IF(K88=0,"",IF(K88<0,"⚠","✓")) -> ✓
B89: ='G-2 Habitat groups'!AU79 -> Cropland - Arable field margins cultivated annually | C89: ='G-2 Habitat groups'!AV79 -> Cropland | D89: ='G-2 Habitat groups'!BB79 -> 0 | E89: ='G-2 Habitat groups'!BD79 -> 0 | F89: ='G-2 Habitat groups'!BE79 -> 0 | G89: =SUM(F89:F92) -> 0 | H89: =IF(G89=0,"",IF(G89<0,"⚠","✓")) | J89: Medium Distinctiveness broad habitat losses to be offset by trading up | K89: =SUMIF(G89:G115,"<0") -> 0 | L89: =IF(K89=0,"",IF(K89<0,"⚠","✓"))
B90: ='G-2 Habitat groups'!AU81 -> Cropland - Arable field margins game bird mix | C90: ='G-2 Habitat groups'!AV81 -> Cropland | D90: ='G-2 Habitat groups'!BB81 -> 0 | E90: ='G-2 Habitat groups'!BD81 -> 0 | F90: ='G-2 Habitat groups'!BE81 -> 0 | J90: Medium Distinctiveness Unit deficit (required to meet trading rules) | K90: =K40+K12+K89 -> 0 | L90: =IF(K90=0,"",IF(K90<0,"▲","✓"))
B91: ='G-2 Habitat groups'!AU82 -> Cropland - Arable field margins pollen and nectar | C91: ='G-2 Habitat groups'!AV82 -> Cropland | D91: ='G-2 Habitat groups'!BB82 -> 0 | E91: ='G-2 Habitat groups'!BD82 -> 0 | F91: ='G-2 Habitat groups'!BE82 -> 0 | J91: Cumulative surplus of units | K91: =K90+K88 -> 17.314434 | L91: =IF(K91=0,"",IF(K91<0,"⚠","✓")) -> ✓
B92: ='G-2 Habitat groups'!AU83 -> Cropland - Arable field margins tussocky | C92: ='G-2 Habitat groups'!AV83 -> Cropland | D92: ='G-2 Habitat groups'!BB83 -> 0 | E92: ='G-2 Habitat groups'!BD83 -> 0 | F92: ='G-2 Habitat groups'!BE83 -> 0
B93: ='G-2 Habitat groups'!AU84 -> Grassland - Other lowland acid grassland | C93: ='G-2 Habitat groups'!AV84 -> Grassland | D93: ='G-2 Habitat groups'!BB84 -> 0 | E93: ='G-2 Habitat groups'!BD84 -> 0 | F93: ='G-2 Habitat groups'!BE84 -> 0 | G93: =SUM(F93:F95) -> 17.305618 | H93: =IF(G93=0,"",IF(G93<0,"⚠","✓")) -> ✓
B94: ='G-2 Habitat groups'!AU85 -> Grassland - Other neutral grassland | C94: ='G-2 Habitat groups'!AV85 -> Grassland | D94: ='G-2 Habitat groups'!BB85 -> 17.305618 | E94: ='G-2 Habitat groups'!BD85 -> 0 | F94: ='G-2 Habitat groups'!BE85 -> 17.305618
B95: ='G-2 Habitat groups'!AU86 -> Grassland - Upland acid grassland | C95: ='G-2 Habitat groups'!AV86 -> Grassland | D95: ='G-2 Habitat groups'!BB86 -> 0 | E95: ='G-2 Habitat groups'!BD86 -> 0 | F95: ='G-2 Habitat groups'!BE86 -> 0
B96: ='G-2 Habitat groups'!AU87 -> Heathland and shrub - Blackthorn scrub | C96: ='G-2 Habitat groups'!AV87 -> Heathland and shrub | D96: ='G-2 Habitat groups'!BB87 -> 0 | E96: ='G-2 Habitat groups'!BD87 -> 0 | F96: ='G-2 Habitat groups'!BE87 -> 0 | G96: =SUM(F96:F102) -> 0 | H96: =IF(G96=0,"",IF(G96<0,"⚠","✓"))
B97: ='G-2 Habitat groups'!AU88 -> Heathland and shrub - Bramble scrub | C97: ='G-2 Habitat groups'!AV88 -> Heathland and shrub | D97: ='G-2 Habitat groups'!BB88 -> 0 | E97: ='G-2 Habitat groups'!BD88 -> 0 | F97: ='G-2 Habitat groups'!BE88 -> 0
B98: ='G-2 Habitat groups'!AU89 -> Heathland and shrub - Gorse scrub | C98: ='G-2 Habitat groups'!AV89 -> Heathland and shrub | D98: ='G-2 Habitat groups'!BB89 -> 0 | E98: ='G-2 Habitat groups'!BD89 -> 0 | F98: ='G-2 Habitat groups'!BE89 -> 0
B99: ='G-2 Habitat groups'!AU90 -> Heathland and shrub - Hawthorn scrub | C99: ='G-2 Habitat groups'!AV104 -> Heathland and shrub | D99: ='G-2 Habitat groups'!BB90 -> 0 | E99: ='G-2 Habitat groups'!BD90 -> 0 | F99: ='G-2 Habitat groups'!BE90 -> 0
B100: ='G-2 Habitat groups'!AU104 -> Heathland and shrub - Willow scrub | C100: ='G-2 Habitat groups'!AV91 -> Heathland and shrub | D100: ='G-2 Habitat groups'!BB104 -> 0 | E100: ='G-2 Habitat groups'!BD104 -> 0 | F100: ='G-2 Habitat groups'!BE104 -> 0
B101: ='G-2 Habitat groups'!AU91 -> Heathland and shrub - Hazel scrub | C101: ='G-2 Habitat groups'!AV91 -> Heathland and shrub | D101: ='G-2 Habitat groups'!BB91 -> 0 | E101: ='G-2 Habitat groups'!BD91 -> 0 | F101: ='G-2 Habitat groups'!BE91 -> 0
B102: ='G-2 Habitat groups'!AU92 -> Heathland and shrub - Mixed scrub | C102: ='G-2 Habitat groups'!AV92 -> Heathland and shrub | D102: ='G-2 Habitat groups'!BB92 -> 0 | E102: ='G-2 Habitat groups'!BD92 -> 0 | F102: ='G-2 Habitat groups'!BE92 -> 0
B103: ='G-2 Habitat groups'!AU93 -> Lakes - Ponds (non-priority habitat) | C103: ='G-2 Habitat groups'!AV93 -> Lakes | D103: ='G-2 Habitat groups'!BB93 -> 0 | E103: ='G-2 Habitat groups'!BD93 -> 0 | F103: ='G-2 Habitat groups'!BE93 -> 0 | G103: =SUM(F103:F104) -> 0 | H103: =IF(G103=0,"",IF(G103<0,"⚠","✓"))
B104: ='G-2 Habitat groups'!AU94 -> Lakes - Reservoirs | C104: ='G-2 Habitat groups'!AV94 -> Lakes | D104: ='G-2 Habitat groups'!BB94 -> 0 | E104: ='G-2 Habitat groups'!BD94 -> 0 | F104: ='G-2 Habitat groups'!BE94 -> 0
B105: ='G-2 Habitat groups'!AU95 -> Sparsely vegetated land - Other inland rock and scree | C105: ='G-2 Habitat groups'!AV95 -> Sparsely vegetated land | D105: ='G-2 Habitat groups'!BB95 -> 0 | E105: ='G-2 Habitat groups'!BD95 -> 0 | F105: ='G-2 Habitat groups'!BE95 -> 0 | G105: =F105 -> 0 | H105: =IF(G105=0,"",IF(G105<0,"⚠","✓"))
B106: ='G-2 Habitat groups'!AU96 -> Urban - Cemeteries and churchyards | C106: ='G-2 Habitat groups'!AV96 -> Urban | D106: ='G-2 Habitat groups'!BB96 -> 0 | E106: ='G-2 Habitat groups'!BD96 -> 0 | F106: ='G-2 Habitat groups'!BE96 -> 0 | G106: =SUM(F106:F107) -> 0 | H106: =IF(G106=0,"",IF(G106<0,"⚠","✓"))
B107: ='G-2 Habitat groups'!AU97 -> Urban - Biodiverse green roof | C107: ='G-2 Habitat groups'!AV97 -> Urban | D107: ='G-2 Habitat groups'!BB97 -> 0 | E107: ='G-2 Habitat groups'!BD97 -> 0 | F107: ='G-2 Habitat groups'!BE97 -> 0
B108: ='G-2 Habitat groups'!AU105 -> Individual trees - Urban tree | C108: ='G-2 Habitat groups'!AV105 -> Individual trees | D108: ='G-2 Habitat groups'!BB105 -> 0 | E108: ='G-2 Habitat groups'!BD105 -> 0 | F108: ='G-2 Habitat groups'!BE105 -> 0 | G108: =SUM(F108:F109) -> 0.0088159977 | H108: =IF(G108=0,"",IF(G108<0,"⚠","✓")) -> ✓
B109: ='G-2 Habitat groups'!AU80 -> Individual trees - Rural tree | C109: ='G-2 Habitat groups'!AV80 -> Individual trees | D109: ='G-2 Habitat groups'!BB80 -> 0.0088159977 | E109: ='G-2 Habitat groups'!BD80 -> 0 | F109: ='G-2 Habitat groups'!BE80 -> 0.0088159977
B110: ='G-2 Habitat groups'!AU98 -> Woodland and forest - Other Scot's pine woodland | C110: ='G-2 Habitat groups'!AV98 -> Woodland and forest | D110: ='G-2 Habitat groups'!BB98 -> 0 | E110: ='G-2 Habitat groups'!BD98 -> 0 | F110: ='G-2 Habitat groups'!BE98 -> 0 | G110: =SUM(F110:F112) -> 0 | H110: =IF(G110=0,"",IF(G110<0,"⚠","✓"))
B111: ='G-2 Habitat groups'!AU99 -> Woodland and forest - Other woodland; broadleaved | C111: ='G-2 Habitat groups'!AV99 -> Woodland and forest | D111: ='G-2 Habitat groups'!BB99 -> 0 | E111: ='G-2 Habitat groups'!BD99 -> 0 | F111: ='G-2 Habitat groups'!BE99 -> 0
B112: ='G-2 Habitat groups'!AU100 -> Woodland and forest - Other woodland; mixed | C112: ='G-2 Habitat groups'!AV100 -> Woodland and forest | D112: ='G-2 Habitat groups'!BB100 -> 0 | E112: ='G-2 Habitat groups'!BD100 -> 0 | F112: ='G-2 Habitat groups'!BE100 -> 0
B113: ='G-2 Habitat groups'!AU101 -> Intertidal sediment - Littoral coarse sediment | C113: ='G-2 Habitat groups'!AV101 -> Intertidal sediment | D113: ='G-2 Habitat groups'!BB101 -> 0 | E113: ='G-2 Habitat groups'!BD101 -> 0 | F113: ='G-2 Habitat groups'!BE101 -> 0 | G113: =SUM(F113:F115) -> 0 | H113: =IF(G113=0,"",IF(G113<0,"⚠","✓"))
B114: ='G-2 Habitat groups'!AU102 -> Intertidal sediment - Littoral sand | C114: ='G-2 Habitat groups'!AV102 -> Intertidal sediment | D114: ='G-2 Habitat groups'!BB102 -> 0 | E114: ='G-2 Habitat groups'!BD102 -> 0 | F114: ='G-2 Habitat groups'!BE102 -> 0
B115: ='G-2 Habitat groups'!AU103 -> Intertidal hard structures - Artificial hard structures with integrated greening of grey infrastructure (IGGI) | C115: ='G-2 Habitat groups'!AV103 -> Intertidal hard structures | D115: ='G-2 Habitat groups'!BB103 -> 0 | E115: ='G-2 Habitat groups'!BD103 -> 0 | F115: ='G-2 Habitat groups'!BE103 -> 0
D116: =SUM(D89:D115) -> 17.314434 | E116: =SUM(E89:E115) -> 0 | F116: =SUM(F89:F115) -> 17.314434
B122: Low Distinctiveness | J122: Low Distinctiveness Summary
J123: Units available to offset Low Distinctiveness deficit | K123: =K91 -> 17.314434 | L123: =IF(K91=0,"",IF(K91<0,"⚠","✓")) -> ✓
B124: Habitat group | C124: Group | D124: On-site unit change | E124: Off-site unit change | F124: Project wide unit change | J124: Low Distinctiveness net change in units | K124: =F163 -> -11.08661 | L124: =IF(K124=0,"",IF(K124<0,"⚠","✓")) -> ⚠
B125: ='G-2 Habitat groups'!AU113 -> Cropland - Cereal crops | C125: ='G-2 Habitat groups'!AV113 -> Cropland | D125: ='G-2 Habitat groups'!BB113 -> 0 | E125: ='G-2 Habitat groups'!BD113 -> 0 | F125: ='G-2 Habitat groups'!BE113 -> 0 | H125: =IF(F125=0,"",IF(F125<0,"⚠","✓")) | J125: Cumulative surplus of units | K125: =IF(K91>0,K124+K91,K124) -> 6.227824 | L125: =IF(K125=0,"",IF(K125<0,"▲","✓")) -> ✓
B126: ='G-2 Habitat groups'!AU114 -> Cropland - Horticulture | C126: ='G-2 Habitat groups'!AV114 -> Cropland | D126: ='G-2 Habitat groups'!BB114 -> 0 | E126: ='G-2 Habitat groups'!BD114 -> 0 | F126: ='G-2 Habitat groups'!BE114 -> 0 | H126: =IF(F126=0,"",IF(F126<0,"⚠","✓"))
B127: ='G-2 Habitat groups'!AU115 -> Cropland - Intensive orchards | C127: ='G-2 Habitat groups'!AV115 -> Cropland | D127: ='G-2 Habitat groups'!BB115 -> 0 | E127: ='G-2 Habitat groups'!BD115 -> 0 | F127: ='G-2 Habitat groups'!BE115 -> 0 | H127: =IF(F127=0,"",IF(F127<0,"⚠","✓"))
...

Sheet Trading Summary Hedgerows
B2: Trading Summary
B3: Distinctiveness Group | C3: Trading Rule | F3: Trading Satisfied?
B5: Very High | C5: Same habitat required = | F5: =IFERROR(IF(I14<0,"No ▲","Yes ✓"),"") -> Yes ✓
B6: High | C6: Like for like or better | F6: =IF(I22+I13<0,"No ▲","Yes ✓") -> Yes ✓
B7: Medium | C7: Same distinctiveness or better habitat required | F7: =IF(I33<0,"No ▲","Yes ✓") -> Yes ✓
B8: Low | C8: Same distinctiveness or better habitat required | F8: =IF(I44<0,"No ▲","Yes ✓") -> Yes ✓
B9: Very Low | C9: Same distinctiveness or better habitat required | F9: =IF(I54<0,"No ▲","Yes ✓") -> Yes ✓
B12: Very High Distinctiveness | H12: Very High Distinctiveness Summary
B13: Habitat group | C13: On-site unit change | D13: Off-site unit change | E13: Project-wide unit change | H13: Very High Distinctiveness Units available to offset lower distinctiveness deficit | I13: =SUMIF($E$14:$E$14,">0") -> 0.45602382 | J13: =IF(I13=0,"",IF(I13<0,"⚠","✓")) -> ✓
B14: ='G-2 Habitat groups'!A150 -> Species-rich native hedgerow with trees - associated with bank or ditch | C14: ='G-2 Habitat groups'!R150 -> 0.45602382 | D14: ='G-2 Habitat groups'!AD150 -> 0 | E14: ='G-2 Habitat groups'!AF150 -> 0.45602382 | F14: =IF(E14=0,"",IF(E14<0,"▲","✓")) -> ✓ | H14: Remaining losses; Like for like not satisfied | I14: =SUMIF(E14,"<0",E14) -> 0 | J14: =IF(I14=0,"",IF(I14<0,"▲","✓"))
C15: =SUM(C14:C14) -> 0.45602382 | D15: =SUM(D14:D14) -> 0 | E15: =SUM(E14:E14) -> 0.45602382
B20: High Distinctiveness | H20: High Distinctiveness Summary
B21: Habitat group | C21: On-site unit change | D21: Off-site unit change | E21: Project wide unit change | H21: High Distinctiveness Units available to offset lower distinctiveness deficit | I21: =SUMIF(E22:E24,">0") -> 0 | J21: =IF(I21=0,"",IF(I21<0,"⚠","✓"))
B22: ='G-2 Habitat groups'!A151 -> Species-rich native hedgerow with trees | C22: ='G-2 Habitat groups'!R151 -> 0 | D22: ='G-2 Habitat groups'!AD151 -> 0 | E22: ='G-2 Habitat groups'!AF151 -> 0 | F22: =IF(E22=0,"",IF(E22<0,"⚠","✓")) | H22: High Distinctiveness losses to be offset by trading up | I22: =SUMIF(E22:E24,"<0") -> -0.2772 | J22: =IF(I22=0,"",IF(I22<0,"⚠","✓")) -> ⚠
B23: ='G-2 Habitat groups'!A152 -> Species-rich native hedgerow - associated with bank or ditch | C23: ='G-2 Habitat groups'!R152 -> 0 | D23: ='G-2 Habitat groups'!AD152 -> 0 | E23: ='G-2 Habitat groups'!AF152 -> 0 | F23: =IF(E23=0,"",IF(E23<0,"⚠","✓")) | H23: Higher Distinctiveness surplus units minus any high distinctiveness deficit | I23: =I13+I22 -> 0.17882382 | J23: =IF(I23=0,"",IF(I23<0,"⚠","✓")) -> ✓
B24: ='G-2 Habitat groups'!A153 -> Native hedgerow with trees - associated with bank or ditch | C24: ='G-2 Habitat groups'!R153 -> -0.2772 | D24: ='G-2 Habitat groups'!AD153 -> 0 | E24: ='G-2 Habitat groups'!AF153 -> -0.2772 | F24: =IF(E24=0,"",IF(E24<0,"⚠","✓")) -> ⚠
C26: =SUM(C22:C24) -> -0.2772 | D26: =SUM(D22:D24) -> 0 | E26: =SUM(E22:E24) -> -0.2772
B30: Medium Distinctiveness | H30: Medium Distinctiveness Summary
B31: Habitat group | C31: On-site unit change | D31: Off-site unit change | E31: Project wide unit change | H31: Units available from higher distinctiveness habitats | I31: =IF(I23>0,I23,0)+I21 -> 0.17882382 | J31: =IF(I31=0,"",IF(I31<0,"⚠","✓")) -> ✓
B32: ='G-2 Habitat groups'!A154 -> Species-rich native hedgerow | C32: ='G-2 Habitat groups'!R154 -> 6.2962991 | D32: ='G-2 Habitat groups'!AD154 -> 0 | E32: ='G-2 Habitat groups'!AF154 -> 6.2962991 | F32: =IF(E32=0,"",IF(E32<0,"⚠","✓")) -> ✓ | H32: Medium Distinctiveness net change in units | I32: =E38 -> 6.2962991 | J32: =IF(I32=0,"",IF(I32<0,"⚠","✓")) -> ✓
B33: ='G-2 Habitat groups'!A155 -> Native hedgerow - associated with bank or ditch | C33: ='G-2 Habitat groups'!R155 -> 0 | D33: ='G-2 Habitat groups'!AD155 -> 0 | E33: ='G-2 Habitat groups'!AF155 -> 0 | F33: =IF(E33=0,"",IF(E33<0,"⚠","✓")) | H33: Cumulative availability of units | I33: =I32+I31 -> 6.475123 | J33: =IF(I33=0,"",IF(I33<0,"⚠","✓")) -> ✓
B34: ='G-2 Habitat groups'!A156 -> Native hedgerow with trees | C34: ='G-2 Habitat groups'!R156 -> 0 | D34: ='G-2 Habitat groups'!AD156 -> 0 | E34: ='G-2 Habitat groups'!AF156 -> 0 | F34: =IF(E34=0,"",IF(E34<0,"⚠","✓"))
B35: ='G-2 Habitat groups'!A157 -> Ecologically valuable line of trees | C35: ='G-2 Habitat groups'!R157 -> 0 | D35: ='G-2 Habitat groups'!AD157 -> 0 | E35: ='G-2 Habitat groups'!AF157 -> 0 | F35: =IF(E35=0,"",IF(E35<0,"⚠","✓"))
B36: ='G-2 Habitat groups'!A158 -> Ecologically valuable line of trees - associated with bank or ditch | C36: ='G-2 Habitat groups'!R158 -> 0 | D36: ='G-2 Habitat groups'!AD158 -> 0 | E36: ='G-2 Habitat groups'!AF158 -> 0 | F36: =IF(E36=0,"",IF(E36<0,"⚠","✓"))
C38: =SUM(C32:C36) -> 6.2962991 | D38: =SUM(D32:D36) -> 0 | E38: =SUM(E32:E36) -> 6.2962991
B42: Low Distinctiveness | H42: Low Distinctiveness Summary
B43: Habitat group | C43: On-site unit change | D43: Off-site unit change | E43: Project wide unit change | H43: Low Distinctiveness net change in units | I43: =E47 -> 0 | J43: =IF(I43=0,"",IF(I43<0,"⚠","✓"))
B44: ='G-2 Habitat groups'!A159 -> Native hedgerow | C44: ='G-2 Habitat groups'!R159 -> 0 | D44: ='G-2 Habitat groups'!AD159 -> 0 | E44: ='G-2 Habitat groups'!AF159 -> 0 | F44: =IF(E44=0,"",IF(E44<0,"⚠","✓")) | H44: Cumulative availability of units | I44: =IF(I33>0,I43+I33,I43) -> 6.475123 | J44: =IF(I44=0,"",IF(I44<0,"⚠","✓")) -> ✓
B45: ='G-2 Habitat groups'!A160 -> Line of trees | C45: ='G-2 Habitat groups'!R160 -> 0 | D45: ='G-2 Habitat groups'!AD160 -> 0 | E45: ='G-2 Habitat groups'!AF160 -> 0 | F45: =IF(E45=0,"",IF(E45<0,"⚠","✓"))
B46: ='G-2 Habitat groups'!A161 -> Line of trees - associated with bank or ditch | C46: ='G-2 Habitat groups'!R161 -> 0 | D46: ='G-2 Habitat groups'!AD161 -> 0 | E46: ='G-2 Habitat groups'!AF161 -> 0 | F46: =IF(E46=0,"",IF(E46<0,"⚠","✓"))
C47: =SUM(C44:C46) -> 0 | D47: =SUM(D44:D46) -> 0 | E47: =SUM(E44:E46) -> 0
B52: Very Low Distinctiveness | H52: Very Low Distinctiveness Summary
B53: Habitat group | C53: On-site unit change | D53: Off-site unit change | E53: Project wide unit change | H53: Very Low Distinctiveness net change in units | I53: =E55 -> 0 | J53: =IF(I53=0,"",IF(I53<0,"⚠","✓"))
B54: Non-native and ornamental hedgerow | C54: ='G-2 Habitat groups'!R162 -> 0 | D54: ='G-2 Habitat groups'!AD162 -> 0 | E54: ='G-2 Habitat groups'!AF162 -> 0 | F54: =IF(E54=0,"",IF(E54<0,"⚠","✓")) | H54: Cumulative availability of units | I54: =IF(I44>0,I53+I44,I53) -> 6.475123 | J54: =IF(I54=0,"",IF(I54<0,"▲","✓")) -> ✓
C55: =SUM(C54) -> 0 | D55: =SUM(D54) -> 0 | E55: =SUM(E54) -> 0

Sheet Trading Summary WaterC's
B2: Trading Summary
B3: Distinctiveness Group | C3: Trading Rule | G3: Trading Satisfied?
B5: Very High | C5: Same habitat required – bespoke compensation option ⚠ | G5: =IF(E14<0,"No ▲","Yes ✓") -> Yes ✓
B6: High | C6: Same habitat required = | G6: =IF(I22<0,"No ▲","Yes ✓") -> Yes ✓
B7: Medium | C7: Same habitat required = | G7: =IF(I30<0,"No ▲","Yes ✓") -> Yes ✓
B8: Low | C8: Better distinctiveness habitat required | G8: =IF(I42<0,"No ▲","Yes ✓") -> Yes ✓
B11: Very High Distinctiveness | H11: Very High Distinctiveness Summary
B12: Habitat group | C12: On-site unit change | D12: Off-site unit change | E12: Project-wide unit change | H12: Very High Distinctiveness Units available to offset lower distinctiveness deficit | I12: =SUMIF($E$13:$E$13,">0") -> 0 | J12: =IF(I12=0,"",IF(I12<0,"⚠","✓"))
B13: ='G-2 Habitat groups'!A172 -> Priority habitat | C13: ='G-2 Habitat groups'!R172 -> 0 | D13: ='G-2 Habitat groups'!AD172 -> 0 | E13: ='G-2 Habitat groups'!AF172 -> 0 | F13: =IF(E13=0,"",IF(E13<0,"▲","✓")) | H13: Remaining losses; Like for like not satisfied | I13: =IF(E14<0,E14,0) -> 0 | J13: =IF(I13=0,"",IF(I13<0,"▲","✓"))
C14: =SUM(C13:C13) -> 0 | D14: =SUM(D13:D13) -> 0 | E14: =SUM(E13:E13) -> 0
B20: High Distinctiveness | H20: High Distinctiveness Summary
B21: Habitat group | C21: On-site unit change | D21: Off-site unit change | E21: Project-wide unit change | H21: High Distinctiveness Units available to offset lower distinctiveness deficit | I21: =IF(E23>0,E23,0) -> 0 | J21: =IF(I21=0,"",IF(I21<0,"⚠","✓"))
B22: ='G-2 Habitat groups'!A173 -> Other rivers and streams | C22: ='G-2 Habitat groups'!R173 -> 0 | D22: ='G-2 Habitat groups'!AD173 -> 0 | E22: ='G-2 Habitat groups'!AF173 -> 0 | F22: =IF(E22=0,"",IF(E22<0,"▲","✓")) | H22: Remaining losses; Like for like not satisfied | I22: =IF(E23<0,E23,0) -> 0 | J22: =IF(I22=0,"",IF(I22<0,"▲","✓"))
C23: =SUM(C22:C22) -> 0 | D23: =SUM(D22:D22) -> 0 | E23: =SUM(E22:E22) -> 0
B28: Medium Distinctiveness | H28: Medium Distinctiveness Summary
B29: Habitat group | C29: On-site unit change | D29: Off-site unit change | E29: Project wide unit change | H29: Medium Distinctiveness Units available to offset Lower Distinctiveness Deficit | I29: =SUMIF(E30:E31,">0") -> 0 | J29: =IF(I29=0,"",IF(I29<0,"⚠","✓"))
B30: ='G-2 Habitat groups'!A174 -> Ditches | C30: ='G-2 Habitat groups'!R174 -> 0 | D30: ='G-2 Habitat groups'!AD174 -> 0 | E30: ='G-2 Habitat groups'!AF174 -> 0 | F30: =IF(E30=0,"",IF(E30<0,"▲","✓")) | H30: Remaining losses; Like for like not satisfied | I30: =SUMIF(E30:E31,"<0",E30:E31) -> 0 | J30: =IF(I30=0,"",IF(I30<0,"▲","✓"))
B31: ='G-2 Habitat groups'!A175 -> Canals | C31: ='G-2 Habitat groups'!R175 -> 0 | D31: ='G-2 Habitat groups'!AD175 -> 0 | E31: ='G-2 Habitat groups'!AF175 -> 0 | F31: =IF(E31=0,"",IF(E31<0,"▲","✓"))
C32: =SUM(C30:C31) -> 0 | D32: =SUM(D30:D31) -> 0 | E32: =SUM(E30:E31) -> 0
B40: Low Distinctiveness | H40: Low Distinctiveness Summary
B41: Habitat group | C41: On-site unit change | D41: Off-site unit change | E41: Project wide unit change | H41: Low Distinctiveness net change in units | I41: =E43 -> 0 | J41: =IF(I41=0,"",IF(I41<0,"⚠","✓"))
B42: ='G-2 Habitat groups'!A176 -> Culvert | C42: ='G-2 Habitat groups'!R176 -> 0 | D42: ='G-2 Habitat groups'!AD176 -> 0 | E42: ='G-2 Habitat groups'!AF176 -> 0 | F42: =IF(E42=0,"",IF(E42<0,"⚠","✓")) | H42: Cumulative availability of units | I42: =I41+(I29+I21+I12) -> 0 | J42: =IF(I42=0,"",IF(I42<0,"▲","✓"))
C43: =SUM(C42:C42) -> 0 | D43: =D42 -> 0 | E43: =SUM(E42:E42) -> 0

Sheet Credits Summary
C2: Credits Required by Tier/Module
C4: Tier | D4: Credits Required
C5: A1 | D5: =IFERROR(IF(OR('Trading Summary Area Habitats'!$K$13<0,'Trading Summary WaterC''s'!$I$13<0),"ERROR",'Credits calculations'!G9),"Error") -> 0 | E5: =IF(D5=0,"",IF(D5>0,"▲","✓"))
C6: A2 | D6: =IFERROR(IF(OR('Trading Summary Area Habitats'!$K$13<0,'Trading Summary WaterC''s'!$I$13<0),"ERROR",'Credits calculations'!G10),"Error") -> 0 | E6: =IF(D6=0,"",IF(D6>0,"▲","✓"))
C7: A3 | D7: =IFERROR(IF(OR('Trading Summary Area Habitats'!$K$13<0,'Trading Summary WaterC''s'!$I$13<0),"ERROR",'Credits calculations'!G11),"Error") -> 0 | E7: =IF(D7=0,"",IF(D7>0,"▲","✓"))
C8: A4 | D8: =IFERROR(IF(OR('Trading Summary Area Habitats'!$K$13<0,'Trading Summary WaterC''s'!$I$13<0),"ERROR",'Credits calculations'!G12),"Error") -> 0 | E8: =IF(D8=0,"",IF(D8>0,"▲","✓"))
C9: A5 | D9: =IFERROR(IF(OR('Trading Summary Area Habitats'!$K$13<0,'Trading Summary WaterC''s'!$I$13<0),"ERROR",'Credits calculations'!G13),"Error") -> 0 | E9: =IF(D9=0,"",IF(D9>0,"▲","✓"))
C10: H | D10: =IFERROR(IF(OR('Trading Summary Area Habitats'!K13<0,'Trading Summary WaterC''s'!I13<0),"ERROR",'Credits calculations'!G14),"Error") -> 0 | E10: =IF(D10=0,"",IF(D10>0,"▲","✓"))
C11: W | D11: =IFERROR(IF(OR('Trading Summary Area Habitats'!K13<0,'Trading Summary WaterC''s'!I13<0),"ERROR",'Credits calculations'!G15),"Error") -> 0.013376 | E11: =IF(D11=0,"",IF(D11>0,"▲","✓")) -> ▲
D13: *The spatial risk multiplier has already been applied to calculate these values.
C15: =IF(OR('Trading Summary Area Habitats'!$K$13<0,'Trading Summary WaterC''s'!$I$13<0),"ERROR - This metric still includes losses of very high distinctiveness habitat. Losses of very high distinctiveness units must be compensated for through this metric or through bespoke compensation ▲"," ")

Sheet Off-site gain site summary
B3: Summary of sites providing area habitat unit gains | O3: Summary of sites providing hedgerow unit gains | AB3: Summary of sites providing watercourse unit gains
B5: Gain site reference | C5: Off-site units baseline | D5: SRM Off-site units baseline | E5: Off-site units retained | F5: SRM Off-site units retained | G5: Off-site units enhanced | H5: SRM Off-site units enhanced | I5: Off-site units created | J5: SRM Off-site units created | K5: Off-site unit change per gain site (pre-SRM) | L5: SRM | M5: Off-site unit change per gain site (post-SRM) | O5: Gain site reference | P5: Off-site units baseline | Q5: SRM Off-site units baseline | R5: Off-site units retained | S5: SRM Off-site units retained | T5: Off-site units enhanced | U5: SRM Off-site units enhanced | V5: Off-site units created | W5: SRM Off-site units created | X5: Off-site unit change per gain site (pre-SRM) | Y5: SRM | Z5: Off-site unit change per gain site (post-SRM) | AB5: Gain site reference | AC5: Off-site units baseline | AD5: SRM Off-site units baseline | AE5: Off-site units retained | AF5: SRM Off-site units retained | AG5: Off-site units enhanced | AH5: SRM Off-site units enhanced | AI5: Off-site units created | AJ5: SRM Off-site units created | AK5: Off-site unit change per gain site (pre-SRM) | AL5: SRM | AM5: Off-site unit change per gain site (post-SRM)
A7: ='D-1 Off-Site Habitat Baseline'!AF11 -> 0 | B7: {=IFERROR(_xlfn.UNIQUE(_xlfn._xlws.FILTER(A7:A747,A7:A747<>0)),"")} | C7: =IF(B7="","",SUMIF('D-1 Off-Site Habitat Baseline'!AF11:AF258,B7,'D-1 Off-Site Habitat Baseline'!T11:T258)) | D7: =IF(B7="","",SUMIF('D-1 Off-Site Habitat Baseline'!$AF$11:$AF$258,B7,'D-1 Off-Site Habitat Baseline'!$Q$11:$Q$258)) | E7: =IF(B7="","",SUMIF('D-1 Off-Site Habitat Baseline'!$AF$11:$AF$258,'Off-site gain site summary'!$B7,'D-1 Off-Site Habitat Baseline'!$X$11:$X$258)) | F7: =IF(B7="","",SUMIF('D-1 Off-Site Habitat Baseline'!$AF$11:$AF$258,'Off-site gain site summary'!$B7,'D-1 Off-Site Habitat Baseline'!$AY$11:$AY$258)) | G7: =IF(B7="","",SUMIF('D-3 Off-Site Habitat Enhancment'!$AU$12:$AU$258,'Off-site gain site summary'!B7,'D-3 Off-Site Habitat Enhancment'!$AQ$12:$AQ$258)) | H7: =IF(B7="","",SUMIF('D-3 Off-Site Habitat Enhancment'!$AU$12:$AU$258,'Off-site gain site summary'!B7,'D-3 Off-Site Habitat Enhancment'!$AP$12:$AP$258)) | I7: =IF(B7="","",SUMIF('D-2 Off-Site Habitat Creation'!$AF$11:$AF$256,'Off-site gain site summary'!B7,'D-2 Off-Site Habitat Creation'!$AB$11:$AB$256)) | J7: =IF(B7="","",SUMIF('D-2 Off-Site Habitat Creation'!$AF$11:$AF$256,'Off-site gain site summary'!B7,'D-2 Off-Site Habitat Creation'!$AA$11:$AA$256)) | K7: =IF(B7="","",(I7+G7+E7)-(C7)) | L7: =IF(ISBLANK(B7),"",IFERROR(_xlfn.XLOOKUP(B7,'D-2 Off-Site Habitat Creation'!$AF$11:$AF$256,'D-2 Off-Site Habitat Creation'!$Z$11:$Z$256),IFERROR(_xlfn.XLOOKUP(B7,'D-1 Off-Site Habitat Baseline'!AF$11:AF$258,'D-1 Off-Site Habitat Baseline'!S$11:S$258)," "))) | M7: =IF(B7="","",IF(K7<0,"Error - gain sites must be positive ▲",(J7+H7+F7)-(D7))) | N7: ='E-1 Off-Site Hedge Baseline'!AB10 -> 0 | O7: {=IFERROR(_xlfn.UNIQUE(_xlfn._xlws.FILTER(N7:N745,N7:N745<>0)),"")} | P7: =IF(O7="","",SUMIF('E-1 Off-Site Hedge Baseline'!AB$10:AB$257,'Off-site gain site summary'!O7,'E-1 Off-Site Hedge Baseline'!Q$10:Q$257)) | Q7: =IF(O7="","",SUMIF('E-1 Off-Site Hedge Baseline'!AB$10:AB$257,O7,'E-1 Off-Site Hedge Baseline'!N$10:N$257)) | R7: =IF(O7="","",SUMIF('E-1 Off-Site Hedge Baseline'!$AB$10:$AB$257,'Off-site gain site summary'!$O7,'E-1 Off-Site Hedge Baseline'!$U$10:$U$257)) | S7: =IF(O7="","",SUMIF('E-1 Off-Site Hedge Baseline'!$AB$10:$AB$257,'Off-site gain site summary'!$O7,'E-1 Off-Site Hedge Baseline'!$AY$10:$AY$257)) | T7: =IF(O7="","",SUMIF('E-3 Off-Site Hedge Enhancement'!$AO$12:$AO$257,'Off-site gain site summary'!$O7,'E-3 Off-Site Hedge Enhancement'!$AK$12:$AK$257)) | U7: =IF(O7="","",SUMIF('E-3 Off-Site Hedge Enhancement'!$AO$12:$AO$257,'Off-site gain site summary'!$O7,'E-3 Off-Site Hedge Enhancement'!$AJ$12:$AJ$257)) | V7: =IF(O7="","",SUMIF('E-2 Off-Site Hedge Creation'!$AD$12:$AD$259,'Off-site gain site summary'!$O7,'E-2 Off-Site Hedge Creation'!$Z$12:$Z$259)) | W7: =IF(O7="","",SUMIF('E-2 Off-Site Hedge Creation'!$AD$12:$AD$259,'Off-site gain site summary'!$O7,'E-2 Off-Site Hedge Creation'!$Y$12:$Y$259)) | X7: =IF(O7="","",(V7+T7+R7)-P7) | Y7: =IF(ISBLANK(O7),"",IFERROR(_xlfn.XLOOKUP(O7,'E-2 Off-Site Hedge Creation'!$AD$12:$AD$259,'E-2 Off-Site Hedge Creation'!$N$12:$N$259),IFERROR(_xlfn.XLOOKUP(O7,'E-1 Off-Site Hedge Baseline'!$AB$10:$AB$257,'E-1 Off-Site Hedge Baseline'!$P$10:$P$257)," "))) | Z7: =IF(O7="","",IF(X7<0,"Error - gain sites must be positive ▲",(W7+U7+S7)-Q7)) | AA7: ='F-1 Off-Site WaterC'' Baseline'!AH10 -> 0 | AB7: {=IFERROR(_xlfn.UNIQUE(_xlfn._xlws.FILTER(AA7:AA748,AA7:AA748<>0)),"")} | AC7: =IF(AB7="","",SUMIF('F-1 Off-Site WaterC'' Baseline'!$AH$10:$AH$257,'Off-site gain site summary'!$AB7,'F-1 Off-Site WaterC'' Baseline'!$U$10:$U$257)) | AD7: =IF(AB7="","",SUMIF('F-1 Off-Site WaterC'' Baseline'!$AH$10:$AH$257,'Off-site gain site summary'!$AB7,'F-1 Off-Site WaterC'' Baseline'!$R$10:$R$257)) | AE7: =IF(AB7="","",SUMIF('F-1 Off-Site WaterC'' Baseline'!$AH$10:$AH$257,'Off-site gain site summary'!$AB7,'F-1 Off-Site WaterC'' Baseline'!$Z$10:$Z$257)) | AF7: =IF(AB7="","",SUMIF('F-1 Off-Site WaterC'' Baseline'!$AH$10:$AH$257,'Off-site gain site summary'!$AB7,'F-1 Off-Site WaterC'' Baseline'!$BA$10:$BA$257)) | AG7: =IF(AB7="","",SUMIF('F-3 Off-Site WaterC Enhancement'!$AT$12:$AT$257,'Off-site gain site summary'!$AB7,'F-3 Off-Site WaterC Enhancement'!$AP$12:$AP$257)) | AH7: =IF(AB7="","",SUMIF('F-3 Off-Site WaterC Enhancement'!$AT$12:$AT$257,'Off-site gain site summary'!$AB7,'F-3 Off-Site WaterC Enhancement'!$AO$12:$AO$257)) | AI7: =IF(AB7="","",SUMIF('F-2 Off-Site WaterC'' Creation'!$AG$12:$AG$259,'Off-site gain site summary'!$AB7,'F-2 Off-Site WaterC'' Creation'!$AC$12:$AC$259)) | AJ7: =IF(AB7="","",SUMIF('F-2 Off-Site WaterC'' Creation'!$AG$12:$AG$259,'Off-site gain site summary'!$AB7,'F-2 Off-Site WaterC'' Creation'!$AB$12:$AB$259)) | AK7: =IF(AB7="","",(AG7+AI7+AE7)-AC7) | AL7: =IF(ISBLANK(AB7),"",IFERROR(_xlfn.XLOOKUP(AB7,'F-2 Off-Site WaterC'' Creation'!$AG$12:$AG$258,'F-2 Off-Site WaterC'' Creation'!$AA$12:$AA$258),IFERROR(_xlfn.XLOOKUP(AB7,'F-1 Off-Site WaterC'' Baseline'!$AH$10:$AH$257,'F-1 Off-Site WaterC'' Baseline'!$T$10:$T$257)," "))) | AM7: =IF(AB7="","",IF(AK7<0,"Error - gain sites must be positive ▲",(AH7+AJ7+AF7)-AD7))
A8: ='D-1 Off-Site Habitat Baseline'!AF12 -> 0 | C8: =IF(B8="","",SUMIF('D-1 Off-Site Habitat Baseline'!AF12:AF259,B8,'D-1 Off-Site Habitat Baseline'!T12:T259)) | D8: =IF(B8="","",SUMIF('D-1 Off-Site Habitat Baseline'!$AF$11:$AF$258,B8,'D-1 Off-Site Habitat Baseline'!$Q$11:$Q$258)) | E8: =IF(B8="","",SUMIF('D-1 Off-Site Habitat Baseline'!$AF$11:$AF$258,'Off-site gain site summary'!$B8,'D-1 Off-Site Habitat Baseline'!$X$11:$X$258)) | F8: =IF(B8="","",SUMIF('D-1 Off-Site Habitat Baseline'!$AF$11:$AF$258,'Off-site gain site summary'!$B8,'D-1 Off-Site Habitat Baseline'!$AY$11:$AY$258)) | G8: =IF(B8="","",SUMIF('D-3 Off-Site Habitat Enhancment'!$AU$12:$AU$258,'Off-site gain site summary'!B8,'D-3 Off-Site Habitat Enhancment'!$AQ$12:$AQ$258)) | H8: =IF(B8="","",SUMIF('D-3 Off-Site Habitat Enhancment'!$AU$12:$AU$258,'Off-site gain site summary'!B8,'D-3 Off-Site Habitat Enhancment'!$AP$12:$AP$258)) | I8: =IF(B8="","",SUMIF('D-2 Off-Site Habitat Creation'!$AF$11:$AF$256,'Off-site gain site summary'!B8,'D-2 Off-Site Habitat Creation'!$AB$11:$AB$256)) | J8: =IF(B8="","",SUMIF('D-2 Off-Site Habitat Creation'!$AF$11:$AF$256,'Off-site gain site summary'!B8,'D-2 Off-Site Habitat Creation'!$AA$11:$AA$256)) | K8: =IF(B8="","",(I8+G8+E8)-(C8)) | L8: =IF(ISBLANK(B8),"",IFERROR(_xlfn.XLOOKUP(B8,'D-2 Off-Site Habitat Creation'!$AF$11:$AF$256,'D-2 Off-Site Habitat Creation'!$Z$11:$Z$256),IFERROR(_xlfn.XLOOKUP(B8,'D-1 Off-Site Habitat Baseline'!AF$11:AF$258,'D-1 Off-Site Habitat Baseline'!S$11:S$258)," "))) | M8: =IF(B8="","",IF(K8<0,"Error - gain sites must be positive ▲",(J8+H8+F8)-(D8))) | N8: ='E-1 Off-Site Hedge Baseline'!AB11 -> 0 | P8: =IF(O8="","",SUMIF('E-1 Off-Site Hedge Baseline'!AB$10:AB$257,'Off-site gain site summary'!O8,'E-1 Off-Site Hedge Baseline'!Q$10:Q$257)) | Q8: =IF(O8="","",SUMIF('E-1 Off-Site Hedge Baseline'!AB$10:AB$257,O8,'E-1 Off-Site Hedge Baseline'!N$10:N$257)) | R8: =IF(O8="","",SUMIF('E-1 Off-Site Hedge Baseline'!$AB$10:$AB$257,'Off-site gain site summary'!$O8,'E-1 Off-Site Hedge Baseline'!$U$10:$U$257)) | S8: =IF(O8="","",SUMIF('E-1 Off-Site Hedge Baseline'!$AB$10:$AB$257,'Off-site gain site summary'!$O8,'E-1 Off-Site Hedge Baseline'!$AY$10:$AY$257)) | T8: =IF(O8="","",SUMIF('E-3 Off-Site Hedge Enhancement'!$AO$12:$AO$257,'Off-site gain site summary'!$O8,'E-3 Off-Site Hedge Enhancement'!$AK$12:$AK$257)) | U8: =IF(O8="","",SUMIF('E-3 Off-Site Hedge Enhancement'!$AO$12:$AO$257,'Off-site gain site summary'!$O8,'E-3 Off-Site Hedge Enhancement'!$AJ$12:$AJ$257)) | V8: =IF(O8="","",SUMIF('E-2 Off-Site Hedge Creation'!$AD$12:$AD$259,'Off-site gain site summary'!$O8,'E-2 Off-Site Hedge Creation'!$Z$12:$Z$259)) | W8: =IF(O8="","",SUMIF('E-2 Off-Site Hedge Creation'!$AD$12:$AD$259,'Off-site gain site summary'!$O8,'E-2 Off-Site Hedge Creation'!$Y$12:$Y$259)) | X8: =IF(O8="","",(V8+T8+R8)-P8) | Y8: =IF(ISBLANK(O8),"",IFERROR(_xlfn.XLOOKUP(O8,'E-2 Off-Site Hedge Creation'!$AD$12:$AD$259,'E-2 Off-Site Hedge Creation'!$N$12:$N$259),IFERROR(_xlfn.XLOOKUP(O8,'E-1 Off-Site Hedge Baseline'!$AB$10:$AB$257,'E-1 Off-Site Hedge Baseline'!$P$10:$P$257)," "))) | Z8: =IF(O8="","",IF(X8<0,"Error - gain sites must be positive ▲",(W8+U8+S8)-Q8)) | AA8: ='F-1 Off-Site WaterC'' Baseline'!AH11 -> 0 | AC8: =IF(AB8="","",SUMIF('F-1 Off-Site WaterC'' Baseline'!$AH$10:$AH$257,'Off-site gain site summary'!$AB8,'F-1 Off-Site WaterC'' Baseline'!$U$10:$U$257)) | AD8: =IF(AB8="","",SUMIF('F-1 Off-Site WaterC'' Baseline'!$AH$10:$AH$257,'Off-site gain site summary'!$AB8,'F-1 Off-Site WaterC'' Baseline'!$R$10:$R$257)) | AE8: =IF(AB8="","",SUMIF('F-1 Off-Site WaterC'' Baseline'!$AH$10:$AH$257,'Off-site gain site summary'!$AB8,'F-1 Off-Site WaterC'' Baseline'!$Z$10:$Z$257)) | AF8: =IF(AB8="","",SUMIF('F-1 Off-Site WaterC'' Baseline'!$AH$10:$AH$257,'Off-site gain site summary'!$AB8,'F-1 Off-Site WaterC'' Baseline'!$BA$10:$BA$257)) | AG8: =IF(AB8="","",SUMIF('F-3 Off-Site WaterC Enhancement'!$AT$12:$AT$257,'Off-site gain site summary'!$AB8,'F-3 Off-Site WaterC Enhancement'!$AP$12:$AP$257)) | AH8: =IF(AB8="","",SUMIF('F-3 Off-Site WaterC Enhancement'!$AT$12:$AT$257,'Off-site gain site summary'!$AB8,'F-3 Off-Site WaterC Enhancement'!$AO$12:$AO$257)) | AI8: =IF(AB8="","",SUMIF('F-2 Off-Site WaterC'' Creation'!$AG$12:$AG$259,'Off-site gain site summary'!$AB8,'F-2 Off-Site WaterC'' Creation'!$AC$12:$AC$259)) | AJ8: =IF(AB8="","",SUMIF('F-2 Off-Site WaterC'' Creation'!$AG$12:$AG$259,'Off-site gain site summary'!$AB8,'F-2 Off-Site WaterC'' Creation'!$AB$12:$AB$259)) | AK8: =IF(AB8="","",(AG8+AI8+AE8)-AC8) | AL8: =IF(ISBLANK(AB8),"",IFERROR(_xlfn.XLOOKUP(AB8,'F-2 Off-Site WaterC'' Creation'!$AG$12:$AG$258,'F-2 Off-Site WaterC'' Creation'!$AA$12:$AA$258),IFERROR(_xlfn.XLOOKUP(AB8,'F-1 Off-Site WaterC'' Baseline'!$AH$10:$AH$257,'F-1 Off-Site WaterC'' Baseline'!$T$10:$T$257)," "))) | AM8: =IF(AB8="","",IF(AK8<0,"Error - gain sites must be positive ▲",(AH8+AJ8+AF8)-AD8))
A9: ='D-1 Off-Site Habitat Baseline'!AF13 -> 0 | C9: =IF(B9="","",SUMIF('D-1 Off-Site Habitat Baseline'!AF13:AF260,B9,'D-1 Off-Site Habitat Baseline'!T13:T260)) | D9: =IF(B9="","",SUMIF('D-1 Off-Site Habitat Baseline'!$AF$11:$AF$258,B9,'D-1 Off-Site Habitat Baseline'!$Q$11:$Q$258)) | E9: =IF(B9="","",SUMIF('D-1 Off-Site Habitat Baseline'!$AF$11:$AF$258,'Off-site gain site summary'!$B9,'D-1 Off-Site Habitat Baseline'!$X$11:$X$258)) | F9: =IF(B9="","",SUMIF('D-1 Off-Site Habitat Baseline'!$AF$11:$AF$258,'Off-site gain site summary'!$B9,'D-1 Off-Site Habitat Baseline'!$AY$11:$AY$258)) | G9: =IF(B9="","",SUMIF('D-3 Off-Site Habitat Enhancment'!$AU$12:$AU$258,'Off-site gain site summary'!B9,'D-3 Off-Site Habitat Enhancment'!$AQ$12:$AQ$258)) | H9: =IF(B9="","",SUMIF('D-3 Off-Site Habitat Enhancment'!$AU$12:$AU$258,'Off-site gain site summary'!B9,'D-3 Off-Site Habitat Enhancment'!$AP$12:$AP$258)) | I9: =IF(B9="","",SUMIF('D-2 Off-Site Habitat Creation'!$AF$11:$AF$256,'Off-site gain site summary'!B9,'D-2 Off-Site Habitat Creation'!$AB$11:$AB$256)) | J9: =IF(B9="","",SUMIF('D-2 Off-Site Habitat Creation'!$AF$11:$AF$256,'Off-site gain site summary'!B9,'D-2 Off-Site Habitat Creation'!$AA$11:$AA$256)) | K9: =IF(B9="","",(I9+G9+E9)-(C9)) | L9: =IF(ISBLANK(B9),"",IFERROR(_xlfn.XLOOKUP(B9,'D-2 Off-Site Habitat Creation'!$AF$11:$AF$256,'D-2 Off-Site Habitat Creation'!$Z$11:$Z$256),IFERROR(_xlfn.XLOOKUP(B9,'D-1 Off-Site Habitat Baseline'!AF$11:AF$258,'D-1 Off-Site Habitat Baseline'!S$11:S$258)," "))) | M9: =IF(B9="","",IF(K9<0,"Error - gain sites must be positive ▲",(J9+H9+F9)-(D9))) | N9: ='E-1 Off-Site Hedge Baseline'!AB12 -> 0 | P9: =IF(O9="","",SUMIF('E-1 Off-Site Hedge Baseline'!AB$10:AB$257,'Off-site gain site summary'!O9,'E-1 Off-Site Hedge Baseline'!Q$10:Q$257)) | Q9: =IF(O9="","",SUMIF('E-1 Off-Site Hedge Baseline'!AB$10:AB$257,O9,'E-1 Off-Site Hedge Baseline'!N$10:N$257)) | R9: =IF(O9="","",SUMIF('E-1 Off-Site Hedge Baseline'!$AB$10:$AB$257,'Off-site gain site summary'!$O9,'E-1 Off-Site Hedge Baseline'!$U$10:$U$257)) | S9: =IF(O9="","",SUMIF('E-1 Off-Site Hedge Baseline'!$AB$10:$AB$257,'Off-site gain site summary'!$O9,'E-1 Off-Site Hedge Baseline'!$AY$10:$AY$257)) | T9: =IF(O9="","",SUMIF('E-3 Off-Site Hedge Enhancement'!$AO$12:$AO$257,'Off-site gain site summary'!$O9,'E-3 Off-Site Hedge Enhancement'!$AK$12:$AK$257)) | U9: =IF(O9="","",SUMIF('E-3 Off-Site Hedge Enhancement'!$AO$12:$AO$257,'Off-site gain site summary'!$O9,'E-3 Off-Site Hedge Enhancement'!$AJ$12:$AJ$257)) | V9: =IF(O9="","",SUMIF('E-2 Off-Site Hedge Creation'!$AD$12:$AD$259,'Off-site gain site summary'!$O9,'E-2 Off-Site Hedge Creation'!$Z$12:$Z$259)) | W9: =IF(O9="","",SUMIF('E-2 Off-Site Hedge Creation'!$AD$12:$AD$259,'Off-site gain site summary'!$O9,'E-2 Off-Site Hedge Creation'!$Y$12:$Y$259)) | X9: =IF(O9="","",(V9+T9+R9)-P9) | Y9: =IF(ISBLANK(O9),"",IFERROR(_xlfn.XLOOKUP(O9,'E-2 Off-Site Hedge Creation'!$AD$12:$AD$259,'E-2 Off-Site Hedge Creation'!$N$12:$N$259),IFERROR(_xlfn.XLOOKUP(O9,'E-1 Off-Site Hedge Baseline'!$AB$10:$AB$257,'E-1 Off-Site Hedge Baseline'!$P$10:$P$257)," "))) | Z9: =IF(O9="","",IF(X9<0,"Error - gain sites must be positive ▲",(W9+U9+S9)-Q9)) | AA9: ='F-1 Off-Site WaterC'' Baseline'!AH12 -> 0 | AC9: =IF(AB9="","",SUMIF('F-1 Off-Site WaterC'' Baseline'!$AH$10:$AH$257,'Off-site gain site summary'!$AB9,'F-1 Off-Site WaterC'' Baseline'!$U$10:$U$257)) | AD9: =IF(AB9="","",SUMIF('F-1 Off-Site WaterC'' Baseline'!$AH$10:$AH$257,'Off-site gain site summary'!$AB9,'F-1 Off-Site WaterC'' Baseline'!$R$10:$R$257)) | AE9: =IF(AB9="","",SUMIF('F-1 Off-Site WaterC'' Baseline'!$AH$10:$AH$257,'Off-site gain site summary'!$AB9,'F-1 Off-Site WaterC'' Baseline'!$Z$10:$Z$257)) | AF9: =IF(AB9="","",SUMIF('F-1 Off-Site WaterC'' Baseline'!$AH$10:$AH$257,'Off-site gain site summary'!$AB9,'F-1 Off-Site WaterC'' Baseline'!$BA$10:$BA$257)) | AG9: =IF(AB9="","",SUMIF('F-3 Off-Site WaterC Enhancement'!$AT$12:$AT$257,'Off-site gain site summary'!$AB9,'F-3 Off-Site WaterC Enhancement'!$AP$12:$AP$257)) | AH9: =IF(AB9="","",SUMIF('F-3 Off-Site WaterC Enhancement'!$AT$12:$AT$257,'Off-site gain site summary'!$AB9,'F-3 Off-Site WaterC Enhancement'!$AO$12:$AO$257)) | AI9: =IF(AB9="","",SUMIF('F-2 Off-Site WaterC'' Creation'!$AG$12:$AG$259,'Off-site gain site summary'!$AB9,'F-2 Off-Site WaterC'' Creation'!$AC$12:$AC$259)) | AJ9: =IF(AB9="","",SUMIF('F-2 Off-Site WaterC'' Creation'!$AG$12:$AG$259,'Off-site gain site summary'!$AB9,'F-2 Off-Site WaterC'' Creation'!$AB$12:$AB$259)) | AK9: =IF(AB9="","",(AG9+AI9+AE9)-AC9) | AL9: =IF(ISBLANK(AB9),"",IFERROR(_xlfn.XLOOKUP(AB9,'F-2 Off-Site WaterC'' Creation'!$AG$12:$AG$258,'F-2 Off-Site WaterC'' Creation'!$AA$12:$AA$258),IFERROR(_xlfn.XLOOKUP(AB9,'F-1 Off-Site WaterC'' Baseline'!$AH$10:$AH$257,'F-1 Off-Site WaterC'' Baseline'!$T$10:$T$257)," "))) | AM9: =IF(AB9="","",IF(AK9<0,"Error - gain sites must be positive ▲",(AH9+AJ9+AF9)-AD9))
A10: ='D-1 Off-Site Habitat Baseline'!AF14 -> 0 | C10: =IF(B10="","",SUMIF('D-1 Off-Site Habitat Baseline'!AF14:AF261,B10,'D-1 Off-Site Habitat Baseline'!T14:T261)) | D10: =IF(B10="","",SUMIF('D-1 Off-Site Habitat Baseline'!$AF$11:$AF$258,B10,'D-1 Off-Site Habitat Baseline'!$Q$11:$Q$258)) | E10: =IF(B10="","",SUMIF('D-1 Off-Site Habitat Baseline'!$AF$11:$AF$258,'Off-site gain site summary'!$B10,'D-1 Off-Site Habitat Baseline'!$X$11:$X$258)) | F10: =IF(B10="","",SUMIF('D-1 Off-Site Habitat Baseline'!$AF$11:$AF$258,'Off-site gain site summary'!$B10,'D-1 Off-Site Habitat Baseline'!$AY$11:$AY$258)) | G10: =IF(B10="","",SUMIF('D-3 Off-Site Habitat Enhancment'!$AU$12:$AU$258,'Off-site gain site summary'!B10,'D-3 Off-Site Habitat Enhancment'!$AQ$12:$AQ$258)) | H10: =IF(B10="","",SUMIF('D-3 Off-Site Habitat Enhancment'!$AU$12:$AU$258,'Off-site gain site summary'!B10,'D-3 Off-Site Habitat Enhancment'!$AP$12:$AP$258)) | I10: =IF(B10="","",SUMIF('D-2 Off-Site Habitat Creation'!$AF$11:$AF$256,'Off-site gain site summary'!B10,'D-2 Off-Site Habitat Creation'!$AB$11:$AB$256)) | J10: =IF(B10="","",SUMIF('D-2 Off-Site Habitat Creation'!$AF$11:$AF$256,'Off-site gain site summary'!B10,'D-2 Off-Site Habitat Creation'!$AA$11:$AA$256)) | K10: =IF(B10="","",(I10+G10+E10)-(C10)) | L10: =IF(ISBLANK(B10),"",IFERROR(_xlfn.XLOOKUP(B10,'D-2 Off-Site Habitat Creation'!$AF$11:$AF$256,'D-2 Off-Site Habitat Creation'!$Z$11:$Z$256),IFERROR(_xlfn.XLOOKUP(B10,'D-1 Off-Site Habitat Baseline'!AF$11:AF$258,'D-1 Off-Site Habitat Baseline'!S$11:S$258)," "))) | M10: =IF(B10="","",IF(K10<0,"Error - gain sites must be positive ▲",(J10+H10+F10)-(D10))) | N10: ='E-1 Off-Site Hedge Baseline'!AB13 -> 0 | P10: =IF(O10="","",SUMIF('E-1 Off-Site Hedge Baseline'!AB$10:AB$257,'Off-site gain site summary'!O10,'E-1 Off-Site Hedge Baseline'!Q$10:Q$257)) | Q10: =IF(O10="","",SUMIF('E-1 Off-Site Hedge Baseline'!AB$10:AB$257,O10,'E-1 Off-Site Hedge Baseline'!N$10:N$257)) | R10: =IF(O10="","",SUMIF('E-1 Off-Site Hedge Baseline'!$AB$10:$AB$257,'Off-site gain site summary'!$O10,'E-1 Off-Site Hedge Baseline'!$U$10:$U$257)) | S10: =IF(O10="","",SUMIF('E-1 Off-Site Hedge Baseline'!$AB$10:$AB$257,'Off-site gain site summary'!$O10,'E-1 Off-Site Hedge Baseline'!$AY$10:$AY$257)) | T10: =IF(O10="","",SUMIF('E-3 Off-Site Hedge Enhancement'!$AO$12:$AO$257,'Off-site gain site summary'!$O10,'E-3 Off-Site Hedge Enhancement'!$AK$12:$AK$257)) | U10: =IF(O10="","",SUMIF('E-3 Off-Site Hedge Enhancement'!$AO$12:$AO$257,'Off-site gain site summary'!$O10,'E-3 Off-Site Hedge Enhancement'!$AJ$12:$AJ$257)) | V10: =IF(O10="","",SUMIF('E-2 Off-Site Hedge Creation'!$AD$12:$AD$259,'Off-site gain site summary'!$O10,'E-2 Off-Site Hedge Creation'!$Z$12:$Z$259)) | W10: =IF(O10="","",SUMIF('E-2 Off-Site Hedge Creation'!$AD$12:$AD$259,'Off-site gain site summary'!$O10,'E-2 Off-Site Hedge Creation'!$Y$12:$Y$259)) | X10: =IF(O10="","",(V10+T10+R10)-P10) | Y10: =IF(ISBLANK(O10),"",IFERROR(_xlfn.XLOOKUP(O10,'E-2 Off-Site Hedge Creation'!$AD$12:$AD$259,'E-2 Off-Site Hedge Creation'!$N$12:$N$259),IFERROR(_xlfn.XLOOKUP(O10,'E-1 Off-Site Hedge Baseline'!$AB$10:$AB$257,'E-1 Off-Site Hedge Baseline'!$P$10:$P$257)," "))) | Z10: =IF(O10="","",IF(X10<0,"Error - gain sites must be positive ▲",(W10+U10+S10)-Q10)) | AA10: ='F-1 Off-Site WaterC'' Baseline'!AH13 -> 0 | AC10: =IF(AB10="","",SUMIF('F-1 Off-Site WaterC'' Baseline'!$AH$10:$AH$257,'Off-site gain site summary'!$AB10,'F-1 Off-Site WaterC'' Baseline'!$U$10:$U$257)) | AD10: =IF(AB10="","",SUMIF('F-1 Off-Site WaterC'' Baseline'!$AH$10:$AH$257,'Off-site gain site summary'!$AB10,'F-1 Off-Site WaterC'' Baseline'!$R$10:$R$257)) | AE10: =IF(AB10="","",SUMIF('F-1 Off-Site WaterC'' Baseline'!$AH$10:$AH$257,'Off-site gain site summary'!$AB10,'F-1 Off-Site WaterC'' Baseline'!$Z$10:$Z$257)) | AF10: =IF(AB10="","",SUMIF('F-1 Off-Site WaterC'' Baseline'!$AH$10:$AH$257,'Off-site gain site summary'!$AB10,'F-1 Off-Site WaterC'' Baseline'!$BA$10:$BA$257)) | AG10: =IF(AB10="","",SUMIF('F-3 Off-Site WaterC Enhancement'!$AT$12:$AT$257,'Off-site gain site summary'!$AB10,'F-3 Off-Site WaterC Enhancement'!$AP$12:$AP$257)) | AH10: =IF(AB10="","",SUMIF('F-3 Off-Site WaterC Enhancement'!$AT$12:$AT$257,'Off-site gain site summary'!$AB10,'F-3 Off-Site WaterC Enhancement'!$AO$12:$AO$257)) | AI10: =IF(AB10="","",SUMIF('F-2 Off-Site WaterC'' Creation'!$AG$12:$AG$259,'Off-site gain site summary'!$AB10,'F-2 Off-Site WaterC'' Creation'!$AC$12:$AC$259)) | AJ10: =IF(AB10="","",SUMIF('F-2 Off-Site WaterC'' Creation'!$AG$12:$AG$259,'Off-site gain site summary'!$AB10,'F-2 Off-Site WaterC'' Creation'!$AB$12:$AB$259)) | AK10: =IF(AB10="","",(AG10+AI10+AE10)-AC10) | AL10: =IF(ISBLANK(AB10),"",IFERROR(_xlfn.XLOOKUP(AB10,'F-2 Off-Site WaterC'' Creation'!$AG$12:$AG$258,'F-2 Off-Site WaterC'' Creation'!$AA$12:$AA$258),IFERROR(_xlfn.XLOOKUP(AB10,'F-1 Off-Site WaterC'' Baseline'!$AH$10:$AH$257,'F-1 Off-Site WaterC'' Baseline'!$T$10:$T$257)," "))) | AM10: =IF(AB10="","",IF(AK10<0,"Error - gain sites must be positive ▲",(AH10+AJ10+AF10)-AD10))
A11: ='D-1 Off-Site Habitat Baseline'!AF15 -> 0 | C11: =IF(B11="","",SUMIF('D-1 Off-Site Habitat Baseline'!AF15:AF262,B11,'D-1 Off-Site Habitat Baseline'!T15:T262)) | D11: =IF(B11="","",SUMIF('D-1 Off-Site Habitat Baseline'!$AF$11:$AF$258,B11,'D-1 Off-Site Habitat Baseline'!$Q$11:$Q$258)) | E11: =IF(B11="","",SUMIF('D-1 Off-Site Habitat Baseline'!$AF$11:$AF$258,'Off-site gain site summary'!$B11,'D-1 Off-Site Habitat Baseline'!$X$11:$X$258)) | F11: =IF(B11="","",SUMIF('D-1 Off-Site Habitat Baseline'!$AF$11:$AF$258,'Off-site gain site summary'!$B11,'D-1 Off-Site Habitat Baseline'!$AY$11:$AY$258)) | G11: =IF(B11="","",SUMIF('D-3 Off-Site Habitat Enhancment'!$AU$12:$AU$258,'Off-site gain site summary'!B11,'D-3 Off-Site Habitat Enhancment'!$AQ$12:$AQ$258)) | H11: =IF(B11="","",SUMIF('D-3 Off-Site Habitat Enhancment'!$AU$12:$AU$258,'Off-site gain site summary'!B11,'D-3 Off-Site Habitat Enhancment'!$AP$12:$AP$258)) | I11: =IF(B11="","",SUMIF('D-2 Off-Site Habitat Creation'!$AF$11:$AF$256,'Off-site gain site summary'!B11,'D-2 Off-Site Habitat Creation'!$AB$11:$AB$256)) | J11: =IF(B11="","",SUMIF('D-2 Off-Site Habitat Creation'!$AF$11:$AF$256,'Off-site gain site summary'!B11,'D-2 Off-Site Habitat Creation'!$AA$11:$AA$256)) | K11: =IF(B11="","",(I11+G11+E11)-(C11)) | L11: =IF(ISBLANK(B11),"",IFERROR(_xlfn.XLOOKUP(B11,'D-2 Off-Site Habitat Creation'!$AF$11:$AF$256,'D-2 Off-Site Habitat Creation'!$Z$11:$Z$256),IFERROR(_xlfn.XLOOKUP(B11,'D-1 Off-Site Habitat Baseline'!AF$11:AF$258,'D-1 Off-Site Habitat Baseline'!S$11:S$258)," "))) | M11: =IF(B11="","",IF(K11<0,"Error - gain sites must be positive ▲",(J11+H11+F11)-(D11))) | N11: ='E-1 Off-Site Hedge Baseline'!AB14 -> 0 | P11: =IF(O11="","",SUMIF('E-1 Off-Site Hedge Baseline'!AB$10:AB$257,'Off-site gain site summary'!O11,'E-1 Off-Site Hedge Baseline'!Q$10:Q$257)) | Q11: =IF(O11="","",SUMIF('E-1 Off-Site Hedge Baseline'!AB$10:AB$257,O11,'E-1 Off-Site Hedge Baseline'!N$10:N$257)) | R11: =IF(O11="","",SUMIF('E-1 Off-Site Hedge Baseline'!$AB$10:$AB$257,'Off-site gain site summary'!$O11,'E-1 Off-Site Hedge Baseline'!$U$10:$U$257)) | S11: =IF(O11="","",SUMIF('E-1 Off-Site Hedge Baseline'!$AB$10:$AB$257,'Off-site gain site summary'!$O11,'E-1 Off-Site Hedge Baseline'!$AY$10:$AY$257)) | T11: =IF(O11="","",SUMIF('E-3 Off-Site Hedge Enhancement'!$AO$12:$AO$257,'Off-site gain site summary'!$O11,'E-3 Off-Site Hedge Enhancement'!$AK$12:$AK$257)) | U11: =IF(O11="","",SUMIF('E-3 Off-Site Hedge Enhancement'!$AO$12:$AO$257,'Off-site gain site summary'!$O11,'E-3 Off-Site Hedge Enhancement'!$AJ$12:$AJ$257)) | V11: =IF(O11="","",SUMIF('E-2 Off-Site Hedge Creation'!$AD$12:$AD$259,'Off-site gain site summary'!$O11,'E-2 Off-Site Hedge Creation'!$Z$12:$Z$259)) | W11: =IF(O11="","",SUMIF('E-2 Off-Site Hedge Creation'!$AD$12:$AD$259,'Off-site gain site summary'!$O11,'E-2 Off-Site Hedge Creation'!$Y$12:$Y$259)) | X11: =IF(O11="","",(V11+T11+R11)-P11) | Y11: =IF(ISBLANK(O11),"",IFERROR(_xlfn.XLOOKUP(O11,'E-2 Off-Site Hedge Creation'!$AD$12:$AD$259,'E-2 Off-Site Hedge Creation'!$N$12:$N$259),IFERROR(_xlfn.XLOOKUP(O11,'E-1 Off-Site Hedge Baseline'!$AB$10:$AB$257,'E-1 Off-Site Hedge Baseline'!$P$10:$P$257)," "))) | Z11: =IF(O11="","",IF(X11<0,"Error - gain sites must be positive ▲",(W11+U11+S11)-Q11)) | AA11: ='F-1 Off-Site WaterC'' Baseline'!AH14 -> 0 | AC11: =IF(AB11="","",SUMIF('F-1 Off-Site WaterC'' Baseline'!$AH$10:$AH$257,'Off-site gain site summary'!$AB11,'F-1 Off-Site WaterC'' Baseline'!$U$10:$U$257)) | AD11: =IF(AB11="","",SUMIF('F-1 Off-Site WaterC'' Baseline'!$AH$10:$AH$257,'Off-site gain site summary'!$AB11,'F-1 Off-Site WaterC'' Baseline'!$R$10:$R$257)) | AE11: =IF(AB11="","",SUMIF('F-1 Off-Site WaterC'' Baseline'!$AH$10:$AH$257,'Off-site gain site summary'!$AB11,'F-1 Off-Site WaterC'' Baseline'!$Z$10:$Z$257)) | AF11: =IF(AB11="","",SUMIF('F-1 Off-Site WaterC'' Baseline'!$AH$10:$AH$257,'Off-site gain site summary'!$AB11,'F-1 Off-Site WaterC'' Baseline'!$BA$10:$BA$257)) | AG11: =IF(AB11="","",SUMIF('F-3 Off-Site WaterC Enhancement'!$AT$12:$AT$257,'Off-site gain site summary'!$AB11,'F-3 Off-Site WaterC Enhancement'!$AP$12:$AP$257)) | AH11: =IF(AB11="","",SUMIF('F-3 Off-Site WaterC Enhancement'!$AT$12:$AT$257,'Off-site gain site summary'!$AB11,'F-3 Off-Site WaterC Enhancement'!$AO$12:$AO$257)) | AI11: =IF(AB11="","",SUMIF('F-2 Off-Site WaterC'' Creation'!$AG$12:$AG$259,'Off-site gain site summary'!$AB11,'F-2 Off-Site WaterC'' Creation'!$AC$12:$AC$259)) | AJ11: =IF(AB11="","",SUMIF('F-2 Off-Site WaterC'' Creation'!$AG$12:$AG$259,'Off-site gain site summary'!$AB11,'F-2 Off-Site WaterC'' Creation'!$AB$12:$AB$259)) | AK11: =IF(AB11="","",(AG11+AI11+AE11)-AC11) | AL11: =IF(ISBLANK(AB11),"",IFERROR(_xlfn.XLOOKUP(AB11,'F-2 Off-Site WaterC'' Creation'!$AG$12:$AG$258,'F-2 Off-Site WaterC'' Creation'!$AA$12:$AA$258),IFERROR(_xlfn.XLOOKUP(AB11,'F-1 Off-Site WaterC'' Baseline'!$AH$10:$AH$257,'F-1 Off-Site WaterC'' Baseline'!$T$10:$T$257)," "))) | AM11: =IF(AB11="","",IF(AK11<0,"Error - gain sites must be positive ▲",(AH11+AJ11+AF11)-AD11))
A12: ='D-1 Off-Site Habitat Baseline'!AF16 -> 0 | C12: =IF(B12="","",SUMIF('D-1 Off-Site Habitat Baseline'!AF16:AF263,B12,'D-1 Off-Site Habitat Baseline'!T16:T263)) | D12: =IF(B12="","",SUMIF('D-1 Off-Site Habitat Baseline'!$AF$11:$AF$258,B12,'D-1 Off-Site Habitat Baseline'!$Q$11:$Q$258)) | E12: =IF(B12="","",SUMIF('D-1 Off-Site Habitat Baseline'!$AF$11:$AF$258,'Off-site gain site summary'!$B12,'D-1 Off-Site Habitat Baseline'!$X$11:$X$258)) | F12: =IF(B12="","",SUMIF('D-1 Off-Site Habitat Baseline'!$AF$11:$AF$258,'Off-site gain site summary'!$B12,'D-1 Off-Site Habitat Baseline'!$AY$11:$AY$258)) | G12: =IF(B12="","",SUMIF('D-3 Off-Site Habitat Enhancment'!$AU$12:$AU$258,'Off-site gain site summary'!B12,'D-3 Off-Site Habitat Enhancment'!$AQ$12:$AQ$258)) | H12: =IF(B12="","",SUMIF('D-3 Off-Site Habitat Enhancment'!$AU$12:$AU$258,'Off-site gain site summary'!B12,'D-3 Off-Site Habitat Enhancment'!$AP$12:$AP$258)) | I12: =IF(B12="","",SUMIF('D-2 Off-Site Habitat Creation'!$AF$11:$AF$256,'Off-site gain site summary'!B12,'D-2 Off-Site Habitat Creation'!$AB$11:$AB$256)) | J12: =IF(B12="","",SUMIF('D-2 Off-Site Habitat Creation'!$AF$11:$AF$256,'Off-site gain site summary'!B12,'D-2 Off-Site Habitat Creation'!$AA$11:$AA$256)) | K12: =IF(B12="","",(I12+G12+E12)-(C12)) | L12: =IF(ISBLANK(B12),"",IFERROR(_xlfn.XLOOKUP(B12,'D-2 Off-Site Habitat Creation'!$AF$11:$AF$256,'D-2 Off-Site Habitat Creation'!$Z$11:$Z$256),IFERROR(_xlfn.XLOOKUP(B12,'D-1 Off-Site Habitat Baseline'!AF$11:AF$258,'D-1 Off-Site Habitat Baseline'!S$11:S$258)," "))) | M12: =IF(B12="","",IF(K12<0,"Error - gain sites must be positive ▲",(J12+H12+F12)-(D12))) | N12: ='E-1 Off-Site Hedge Baseline'!AB15 -> 0 | P12: =IF(O12="","",SUMIF('E-1 Off-Site Hedge Baseline'!AB$10:AB$257,'Off-site gain site summary'!O12,'E-1 Off-Site Hedge Baseline'!Q$10:Q$257)) | Q12: =IF(O12="","",SUMIF('E-1 Off-Site Hedge Baseline'!AB$10:AB$257,O12,'E-1 Off-Site Hedge Baseline'!N$10:N$257)) | R12: =IF(O12="","",SUMIF('E-1 Off-Site Hedge Baseline'!$AB$10:$AB$257,'Off-site gain site summary'!$O12,'E-1 Off-Site Hedge Baseline'!$U$10:$U$257)) | S12: =IF(O12="","",SUMIF('E-1 Off-Site Hedge Baseline'!$AB$10:$AB$257,'Off-site gain site summary'!$O12,'E-1 Off-Site Hedge Baseline'!$AY$10:$AY$257)) | T12: =IF(O12="","",SUMIF('E-3 Off-Site Hedge Enhancement'!$AO$12:$AO$257,'Off-site gain site summary'!$O12,'E-3 Off-Site Hedge Enhancement'!$AK$12:$AK$257)) | U12: =IF(O12="","",SUMIF('E-3 Off-Site Hedge Enhancement'!$AO$12:$AO$257,'Off-site gain site summary'!$O12,'E-3 Off-Site Hedge Enhancement'!$AJ$12:$AJ$257)) | V12: =IF(O12="","",SUMIF('E-2 Off-Site Hedge Creation'!$AD$12:$AD$259,'Off-site gain site summary'!$O12,'E-2 Off-Site Hedge Creation'!$Z$12:$Z$259)) | W12: =IF(O12="","",SUMIF('E-2 Off-Site Hedge Creation'!$AD$12:$AD$259,'Off-site gain site summary'!$O12,'E-2 Off-Site Hedge Creation'!$Y$12:$Y$259)) | X12: =IF(O12="","",(V12+T12+R12)-P12) | Y12: =IF(ISBLANK(O12),"",IFERROR(_xlfn.XLOOKUP(O12,'E-2 Off-Site Hedge Creation'!$AD$12:$AD$259,'E-2 Off-Site Hedge Creation'!$N$12:$N$259),IFERROR(_xlfn.XLOOKUP(O12,'E-1 Off-Site Hedge Baseline'!$AB$10:$AB$257,'E-1 Off-Site Hedge Baseline'!$P$10:$P$257)," "))) | Z12: =IF(O12="","",IF(X12<0,"Error - gain sites must be positive ▲",(W12+U12+S12)-Q12)) | AA12: ='F-1 Off-Site WaterC'' Baseline'!AH15 -> 0 | AC12: =IF(AB12="","",SUMIF('F-1 Off-Site WaterC'' Baseline'!$AH$10:$AH$257,'Off-site gain site summary'!$AB12,'F-1 Off-Site WaterC'' Baseline'!$U$10:$U$257)) | AD12: =IF(AB12="","",SUMIF('F-1 Off-Site WaterC'' Baseline'!$AH$10:$AH$257,'Off-site gain site summary'!$AB12,'F-1 Off-Site WaterC'' Baseline'!$R$10:$R$257)) | AE12: =IF(AB12="","",SUMIF('F-1 Off-Site WaterC'' Baseline'!$AH$10:$AH$257,'Off-site gain site summary'!$AB12,'F-1 Off-Site WaterC'' Baseline'!$Z$10:$Z$257)) | AF12: =IF(AB12="","",SUMIF('F-1 Off-Site WaterC'' Baseline'!$AH$10:$AH$257,'Off-site gain site summary'!$AB12,'F-1 Off-Site WaterC'' Baseline'!$BA$10:$BA$257)) | AG12: =IF(AB12="","",SUMIF('F-3 Off-Site WaterC Enhancement'!$AT$12:$AT$257,'Off-site gain site summary'!$AB12,'F-3 Off-Site WaterC Enhancement'!$AP$12:$AP$257)) | AH12: =IF(AB12="","",SUMIF('F-3 Off-Site WaterC Enhancement'!$AT$12:$AT$257,'Off-site gain site summary'!$AB12,'F-3 Off-Site WaterC Enhancement'!$AO$12:$AO$257)) | AI12: =IF(AB12="","",SUMIF('F-2 Off-Site WaterC'' Creation'!$AG$12:$AG$259,'Off-site gain site summary'!$AB12,'F-2 Off-Site WaterC'' Creation'!$AC$12:$AC$259)) | AJ12: =IF(AB12="","",SUMIF('F-2 Off-Site WaterC'' Creation'!$AG$12:$AG$259,'Off-site gain site summary'!$AB12,'F-2 Off-Site WaterC'' Creation'!$AB$12:$AB$259)) | AK12: =IF(AB12="","",(AG12+AI12+AE12)-AC12) | AL12: =IF(ISBLANK(AB12),"",IFERROR(_xlfn.XLOOKUP(AB12,'F-2 Off-Site WaterC'' Creation'!$AG$12:$AG$258,'F-2 Off-Site WaterC'' Creation'!$AA$12:$AA$258),IFERROR(_xlfn.XLOOKUP(AB12,'F-1 Off-Site WaterC'' Baseline'!$AH$10:$AH$257,'F-1 Off-Site WaterC'' Baseline'!$T$10:$T$257)," "))) | AM12: =IF(AB12="","",IF(AK12<0,"Error - gain sites must be positive ▲",(AH12+AJ12+AF12)-AD12))
A13: ='D-1 Off-Site Habitat Baseline'!AF17 -> 0 | C13: =IF(B13="","",SUMIF('D-1 Off-Site Habitat Baseline'!AF17:AF264,B13,'D-1 Off-Site Habitat Baseline'!T17:T264)) | D13: =IF(B13="","",SUMIF('D-1 Off-Site Habitat Baseline'!$AF$11:$AF$258,B13,'D-1 Off-Site Habitat Baseline'!$Q$11:$Q$258)) | E13: =IF(B13="","",SUMIF('D-1 Off-Site Habitat Baseline'!$AF$11:$AF$258,'Off-site gain site summary'!$B13,'D-1 Off-Site Habitat Baseline'!$X$11:$X$258)) | F13: =IF(B13="","",SUMIF('D-1 Off-Site Habitat Baseline'!$AF$11:$AF$258,'Off-site gain site summary'!$B13,'D-1 Off-Site Habitat Baseline'!$AY$11:$AY$258)) | G13: =IF(B13="","",SUMIF('D-3 Off-Site Habitat Enhancment'!$AU$12:$AU$258,'Off-site gain site summary'!B13,'D-3 Off-Site Habitat Enhancment'!$AQ$12:$AQ$258)) | H13: =IF(B13="","",SUMIF('D-3 Off-Site Habitat Enhancment'!$AU$12:$AU$258,'Off-site gain site summary'!B13,'D-3 Off-Site Habitat Enhancment'!$AP$12:$AP$258)) | I13: =IF(B13="","",SUMIF('D-2 Off-Site Habitat Creation'!$AF$11:$AF$256,'Off-site gain site summary'!B13,'D-2 Off-Site Habitat Creation'!$AB$11:$AB$256)) | J13: =IF(B13="","",SUMIF('D-2 Off-Site Habitat Creation'!$AF$11:$AF$256,'Off-site gain site summary'!B13,'D-2 Off-Site Habitat Creation'!$AA$11:$AA$256)) | K13: =IF(B13="","",(I13+G13+E13)-(C13)) | L13: =IF(ISBLANK(B13),"",IFERROR(_xlfn.XLOOKUP(B13,'D-2 Off-Site Habitat Creation'!$AF$11:$AF$256,'D-2 Off-Site Habitat Creation'!$Z$11:$Z$256),IFERROR(_xlfn.XLOOKUP(B13,'D-1 Off-Site Habitat Baseline'!AF$11:AF$258,'D-1 Off-Site Habitat Baseline'!S$11:S$258)," "))) | M13: =IF(B13="","",IF(K13<0,"Error - gain sites must be positive ▲",(J13+H13+F13)-(D13))) | N13: ='E-1 Off-Site Hedge Baseline'!AB16 -> 0 | P13: =IF(O13="","",SUMIF('E-1 Off-Site Hedge Baseline'!AB$10:AB$257,'Off-site gain site summary'!O13,'E-1 Off-Site Hedge Baseline'!Q$10:Q$257)) | Q13: =IF(O13="","",SUMIF('E-1 Off-Site Hedge Baseline'!AB$10:AB$257,O13,'E-1 Off-Site Hedge Baseline'!N$10:N$257)) | R13: =IF(O13="","",SUMIF('E-1 Off-Site Hedge Baseline'!$AB$10:$AB$257,'Off-site gain site summary'!$O13,'E-1 Off-Site Hedge Baseline'!$U$10:$U$257)) | S13: =IF(O13="","",SUMIF('E-1 Off-Site Hedge Baseline'!$AB$10:$AB$257,'Off-site gain site summary'!$O13,'E-1 Off-Site Hedge Baseline'!$AY$10:$AY$257)) | T13: =IF(O13="","",SUMIF('E-3 Off-Site Hedge Enhancement'!$AO$12:$AO$257,'Off-site gain site summary'!$O13,'E-3 Off-Site Hedge Enhancement'!$AK$12:$AK$257)) | U13: =IF(O13="","",SUMIF('E-3 Off-Site Hedge Enhancement'!$AO$12:$AO$257,'Off-site gain site summary'!$O13,'E-3 Off-Site Hedge Enhancement'!$AJ$12:$AJ$257)) | V13: =IF(O13="","",SUMIF('E-2 Off-Site Hedge Creation'!$AD$12:$AD$259,'Off-site gain site summary'!$O13,'E-2 Off-Site Hedge Creation'!$Z$12:$Z$259)) | W13: =IF(O13="","",SUMIF('E-2 Off-Site Hedge Creation'!$AD$12:$AD$259,'Off-site gain site summary'!$O13,'E-2 Off-Site Hedge Creation'!$Y$12:$Y$259)) | X13: =IF(O13="","",(V13+T13+R13)-P13) | Y13: =IF(ISBLANK(O13),"",IFERROR(_xlfn.XLOOKUP(O13,'E-2 Off-Site Hedge Creation'!$AD$12:$AD$259,'E-2 Off-Site Hedge Creation'!$N$12:$N$259),IFERROR(_xlfn.XLOOKUP(O13,'E-1 Off-Site Hedge Baseline'!$AB$10:$AB$257,'E-1 Off-Site Hedge Baseline'!$P$10:$P$257)," "))) | Z13: =IF(O13="","",IF(X13<0,"Error - gain sites must be positive ▲",(W13+U13+S13)-Q13)) | AA13: ='F-1 Off-Site WaterC'' Baseline'!AH16 -> 0 | AC13: =IF(AB13="","",SUMIF('F-1 Off-Site WaterC'' Baseline'!$AH$10:$AH$257,'Off-site gain site summary'!$AB13,'F-1 Off-Site WaterC'' Baseline'!$U$10:$U$257)) | AD13: =IF(AB13="","",SUMIF('F-1 Off-Site WaterC'' Baseline'!$AH$10:$AH$257,'Off-site gain site summary'!$AB13,'F-1 Off-Site WaterC'' Baseline'!$R$10:$R$257)) | AE13: =IF(AB13="","",SUMIF('F-1 Off-Site WaterC'' Baseline'!$AH$10:$AH$257,'Off-site gain site summary'!$AB13,'F-1 Off-Site WaterC'' Baseline'!$Z$10:$Z$257)) | AF13: =IF(AB13="","",SUMIF('F-1 Off-Site WaterC'' Baseline'!$AH$10:$AH$257,'Off-site gain site summary'!$AB13,'F-1 Off-Site WaterC'' Baseline'!$BA$10:$BA$257)) | AG13: =IF(AB13="","",SUMIF('F-3 Off-Site WaterC Enhancement'!$AT$12:$AT$257,'Off-site gain site summary'!$AB13,'F-3 Off-Site WaterC Enhancement'!$AP$12:$AP$257)) | AH13: =IF(AB13="","",SUMIF('F-3 Off-Site WaterC Enhancement'!$AT$12:$AT$257,'Off-site gain site summary'!$AB13,'F-3 Off-Site WaterC Enhancement'!$AO$12:$AO$257)) | AI13: =IF(AB13="","",SUMIF('F-2 Off-Site WaterC'' Creation'!$AG$12:$AG$259,'Off-site gain site summary'!$AB13,'F-2 Off-Site WaterC'' Creation'!$AC$12:$AC$259)) | AJ13: =IF(AB13="","",SUMIF('F-2 Off-Site WaterC'' Creation'!$AG$12:$AG$259,'Off-site gain site summary'!$AB13,'F-2 Off-Site WaterC'' Creation'!$AB$12:$AB$259)) | AK13: =IF(AB13="","",(AG13+AI13+AE13)-AC13) | AL13: =IF(ISBLANK(AB13),"",IFERROR(_xlfn.XLOOKUP(AB13,'F-2 Off-Site WaterC'' Creation'!$AG$12:$AG$258,'F-2 Off-Site WaterC'' Creation'!$AA$12:$AA$258),IFERROR(_xlfn.XLOOKUP(AB13,'F-1 Off-Site WaterC'' Baseline'!$AH$10:$AH$257,'F-1 Off-Site WaterC'' Baseline'!$T$10:$T$257)," "))) | AM13: =IF(AB13="","",IF(AK13<0,"Error - gain sites must be positive ▲",(AH13+AJ13+AF13)-AD13))
A14: ='D-1 Off-Site Habitat Baseline'!AF18 -> 0 | C14: =IF(B14="","",SUMIF('D-1 Off-Site Habitat Baseline'!AF18:AF265,B14,'D-1 Off-Site Habitat Baseline'!T18:T265)) | D14: =IF(B14="","",SUMIF('D-1 Off-Site Habitat Baseline'!$AF$11:$AF$258,B14,'D-1 Off-Site Habitat Baseline'!$Q$11:$Q$258)) | E14: =IF(B14="","",SUMIF('D-1 Off-Site Habitat Baseline'!$AF$11:$AF$258,'Off-site gain site summary'!$B14,'D-1 Off-Site Habitat Baseline'!$X$11:$X$258)) | F14: =IF(B14="","",SUMIF('D-1 Off-Site Habitat Baseline'!$AF$11:$AF$258,'Off-site gain site summary'!$B14,'D-1 Off-Site Habitat Baseline'!$AY$11:$AY$258)) | G14: =IF(B14="","",SUMIF('D-3 Off-Site Habitat Enhancment'!$AU$12:$AU$258,'Off-site gain site summary'!B14,'D-3 Off-Site Habitat Enhancment'!$AQ$12:$AQ$258)) | H14: =IF(B14="","",SUMIF('D-3 Off-Site Habitat Enhancment'!$AU$12:$AU$258,'Off-site gain site summary'!B14,'D-3 Off-Site Habitat Enhancment'!$AP$12:$AP$258)) | I14: =IF(B14="","",SUMIF('D-2 Off-Site Habitat Creation'!$AF$11:$AF$256,'Off-site gain site summary'!B14,'D-2 Off-Site Habitat Creation'!$AB$11:$AB$256)) | J14: =IF(B14="","",SUMIF('D-2 Off-Site Habitat Creation'!$AF$11:$AF$256,'Off-site gain site summary'!B14,'D-2 Off-Site Habitat Creation'!$AA$11:$AA$256)) | K14: =IF(B14="","",(I14+G14+E14)-(C14)) | L14: =IF(ISBLANK(B14),"",IFERROR(_xlfn.XLOOKUP(B14,'D-2 Off-Site Habitat Creation'!$AF$11:$AF$256,'D-2 Off-Site Habitat Creation'!$Z$11:$Z$256),IFERROR(_xlfn.XLOOKUP(B14,'D-1 Off-Site Habitat Baseline'!AF$11:AF$258,'D-1 Off-Site Habitat Baseline'!S$11:S$258)," "))) | M14: =IF(B14="","",IF(K14<0,"Error - gain sites must be positive ▲",(J14+H14+F14)-(D14))) | N14: ='E-1 Off-Site Hedge Baseline'!AB17 -> 0 | P14: =IF(O14="","",SUMIF('E-1 Off-Site Hedge Baseline'!AB$10:AB$257,'Off-site gain site summary'!O14,'E-1 Off-Site Hedge Baseline'!Q$10:Q$257)) | Q14: =IF(O14="","",SUMIF('E-1 Off-Site Hedge Baseline'!AB$10:AB$257,O14,'E-1 Off-Site Hedge Baseline'!N$10:N$257)) | R14: =IF(O14="","",SUMIF('E-1 Off-Site Hedge Baseline'!$AB$10:$AB$257,'Off-site gain site summary'!$O14,'E-1 Off-Site Hedge Baseline'!$U$10:$U$257)) | S14: =IF(O14="","",SUMIF('E-1 Off-Site Hedge Baseline'!$AB$10:$AB$257,'Off-site gain site summary'!$O14,'E-1 Off-Site Hedge Baseline'!$AY$10:$AY$257)) | T14: =IF(O14="","",SUMIF('E-3 Off-Site Hedge Enhancement'!$AO$12:$AO$257,'Off-site gain site summary'!$O14,'E-3 Off-Site Hedge Enhancement'!$AK$12:$AK$257)) | U14: =IF(O14="","",SUMIF('E-3 Off-Site Hedge Enhancement'!$AO$12:$AO$257,'Off-site gain site summary'!$O14,'E-3 Off-Site Hedge Enhancement'!$AJ$12:$AJ$257)) | V14: =IF(O14="","",SUMIF('E-2 Off-Site Hedge Creation'!$AD$12:$AD$259,'Off-site gain site summary'!$O14,'E-2 Off-Site Hedge Creation'!$Z$12:$Z$259)) | W14: =IF(O14="","",SUMIF('E-2 Off-Site Hedge Creation'!$AD$12:$AD$259,'Off-site gain site summary'!$O14,'E-2 Off-Site Hedge Creation'!$Y$12:$Y$259)) | X14: =IF(O14="","",(V14+T14+R14)-P14) | Y14: =IF(ISBLANK(O14),"",IFERROR(_xlfn.XLOOKUP(O14,'E-2 Off-Site Hedge Creation'!$AD$12:$AD$259,'E-2 Off-Site Hedge Creation'!$N$12:$N$259),IFERROR(_xlfn.XLOOKUP(O14,'E-1 Off-Site Hedge Baseline'!$AB$10:$AB$257,'E-1 Off-Site Hedge Baseline'!$P$10:$P$257)," "))) | Z14: =IF(O14="","",IF(X14<0,"Error - gain sites must be positive ▲",(W14+U14+S14)-Q14)) | AA14: ='F-1 Off-Site WaterC'' Baseline'!AH17 -> 0 | AC14: =IF(AB14="","",SUMIF('F-1 Off-Site WaterC'' Baseline'!$AH$10:$AH$257,'Off-site gain site summary'!$AB14,'F-1 Off-Site WaterC'' Baseline'!$U$10:$U$257)) | AD14: =IF(AB14="","",SUMIF('F-1 Off-Site WaterC'' Baseline'!$AH$10:$AH$257,'Off-site gain site summary'!$AB14,'F-1 Off-Site WaterC'' Baseline'!$R$10:$R$257)) | AE14: =IF(AB14="","",SUMIF('F-1 Off-Site WaterC'' Baseline'!$AH$10:$AH$257,'Off-site gain site summary'!$AB14,'F-1 Off-Site WaterC'' Baseline'!$Z$10:$Z$257)) | AF14: =IF(AB14="","",SUMIF('F-1 Off-Site WaterC'' Baseline'!$AH$10:$AH$257,'Off-site gain site summary'!$AB14,'F-1 Off-Site WaterC'' Baseline'!$BA$10:$BA$257)) | AG14: =IF(AB14="","",SUMIF('F-3 Off-Site WaterC Enhancement'!$AT$12:$AT$257,'Off-site gain site summary'!$AB14,'F-3 Off-Site WaterC Enhancement'!$AP$12:$AP$257)) | AH14: =IF(AB14="","",SUMIF('F-3 Off-Site WaterC Enhancement'!$AT$12:$AT$257,'Off-site gain site summary'!$AB14,'F-3 Off-Site WaterC Enhancement'!$AO$12:$AO$257)) | AI14: =IF(AB14="","",SUMIF('F-2 Off-Site WaterC'' Creation'!$AG$12:$AG$259,'Off-site gain site summary'!$AB14,'F-2 Off-Site WaterC'' Creation'!$AC$12:$AC$259)) | AJ14: =IF(AB14="","",SUMIF('F-2 Off-Site WaterC'' Creation'!$AG$12:$AG$259,'Off-site gain site summary'!$AB14,'F-2 Off-Site WaterC'' Creation'!$AB$12:$AB$259)) | AK14: =IF(AB14="","",(AG14+AI14+AE14)-AC14) | AL14: =IF(ISBLANK(AB14),"",IFERROR(_xlfn.XLOOKUP(AB14,'F-2 Off-Site WaterC'' Creation'!$AG$12:$AG$258,'F-2 Off-Site WaterC'' Creation'!$AA$12:$AA$258),IFERROR(_xlfn.XLOOKUP(AB14,'F-1 Off-Site WaterC'' Baseline'!$AH$10:$AH$257,'F-1 Off-Site WaterC'' Baseline'!$T$10:$T$257)," "))) | AM14: =IF(AB14="","",IF(AK14<0,"Error - gain sites must be positive ▲",(AH14+AJ14+AF14)-AD14))
A15: ='D-1 Off-Site Habitat Baseline'!AF19 -> 0 | C15: =IF(B15="","",SUMIF('D-1 Off-Site Habitat Baseline'!AF19:AF266,B15,'D-1 Off-Site Habitat Baseline'!T19:T266)) | D15: =IF(B15="","",SUMIF('D-1 Off-Site Habitat Baseline'!$AF$11:$AF$258,B15,'D-1 Off-Site Habitat Baseline'!$Q$11:$Q$258)) | E15: =IF(B15="","",SUMIF('D-1 Off-Site Habitat Baseline'!$AF$11:$AF$258,'Off-site gain site summary'!$B15,'D-1 Off-Site Habitat Baseline'!$X$11:$X$258)) | F15: =IF(B15="","",SUMIF('D-1 Off-Site Habitat Baseline'!$AF$11:$AF$258,'Off-site gain site summary'!$B15,'D-1 Off-Site Habitat Baseline'!$AY$11:$AY$258)) | G15: =IF(B15="","",SUMIF('D-3 Off-Site Habitat Enhancment'!$AU$12:$AU$258,'Off-site gain site summary'!B15,'D-3 Off-Site Habitat Enhancment'!$AQ$12:$AQ$258)) | H15: =IF(B15="","",SUMIF('D-3 Off-Site Habitat Enhancment'!$AU$12:$AU$258,'Off-site gain site summary'!B15,'D-3 Off-Site Habitat Enhancment'!$AP$12:$AP$258)) | I15: =IF(B15="","",SUMIF('D-2 Off-Site Habitat Creation'!$AF$11:$AF$256,'Off-site gain site summary'!B15,'D-2 Off-Site Habitat Creation'!$AB$11:$AB$256)) | J15: =IF(B15="","",SUMIF('D-2 Off-Site Habitat Creation'!$AF$11:$AF$256,'Off-site gain site summary'!B15,'D-2 Off-Site Habitat Creation'!$AA$11:$AA$256)) | K15: =IF(B15="","",(I15+G15+E15)-(C15)) | L15: =IF(ISBLANK(B15),"",IFERROR(_xlfn.XLOOKUP(B15,'D-2 Off-Site Habitat Creation'!$AF$11:$AF$256,'D-2 Off-Site Habitat Creation'!$Z$11:$Z$256),IFERROR(_xlfn.XLOOKUP(B15,'D-1 Off-Site Habitat Baseline'!AF$11:AF$258,'D-1 Off-Site Habitat Baseline'!S$11:S$258)," "))) | M15: =IF(B15="","",IF(K15<0,"Error - gain sites must be positive ▲",(J15+H15+F15)-(D15))) | N15: ='E-1 Off-Site Hedge Baseline'!AB18 -> 0 | P15: =IF(O15="","",SUMIF('E-1 Off-Site Hedge Baseline'!AB$10:AB$257,'Off-site gain site summary'!O15,'E-1 Off-Site Hedge Baseline'!Q$10:Q$257)) | Q15: =IF(O15="","",SUMIF('E-1 Off-Site Hedge Baseline'!AB$10:AB$257,O15,'E-1 Off-Site Hedge Baseline'!N$10:N$257)) | R15: =IF(O15="","",SUMIF('E-1 Off-Site Hedge Baseline'!$AB$10:$AB$257,'Off-site gain site summary'!$O15,'E-1 Off-Site Hedge Baseline'!$U$10:$U$257)) | S15: =IF(O15="","",SUMIF('E-1 Off-Site Hedge Baseline'!$AB$10:$AB$257,'Off-site gain site summary'!$O15,'E-1 Off-Site Hedge Baseline'!$AY$10:$AY$257)) | T15: =IF(O15="","",SUMIF('E-3 Off-Site Hedge Enhancement'!$AO$12:$AO$257,'Off-site gain site summary'!$O15,'E-3 Off-Site Hedge Enhancement'!$AK$12:$AK$257)) | U15: =IF(O15="","",SUMIF('E-3 Off-Site Hedge Enhancement'!$AO$12:$AO$257,'Off-site gain site summary'!$O15,'E-3 Off-Site Hedge Enhancement'!$AJ$12:$AJ$257)) | V15: =IF(O15="","",SUMIF('E-2 Off-Site Hedge Creation'!$AD$12:$AD$259,'Off-site gain site summary'!$O15,'E-2 Off-Site Hedge Creation'!$Z$12:$Z$259)) | W15: =IF(O15="","",SUMIF('E-2 Off-Site Hedge Creation'!$AD$12:$AD$259,'Off-site gain site summary'!$O15,'E-2 Off-Site Hedge Creation'!$Y$12:$Y$259)) | X15: =IF(O15="","",(V15+T15+R15)-P15) | Y15: =IF(ISBLANK(O15),"",IFERROR(_xlfn.XLOOKUP(O15,'E-2 Off-Site Hedge Creation'!$AD$12:$AD$259,'E-2 Off-Site Hedge Creation'!$N$12:$N$259),IFERROR(_xlfn.XLOOKUP(O15,'E-1 Off-Site Hedge Baseline'!$AB$10:$AB$257,'E-1 Off-Site Hedge Baseline'!$P$10:$P$257)," "))) | Z15: =IF(O15="","",IF(X15<0,"Error - gain sites must be positive ▲",(W15+U15+S15)-Q15)) | AA15: ='F-1 Off-Site WaterC'' Baseline'!AH18 -> 0 | AC15: =IF(AB15="","",SUMIF('F-1 Off-Site WaterC'' Baseline'!$AH$10:$AH$257,'Off-site gain site summary'!$AB15,'F-1 Off-Site WaterC'' Baseline'!$U$10:$U$257)) | AD15: =IF(AB15="","",SUMIF('F-1 Off-Site WaterC'' Baseline'!$AH$10:$AH$257,'Off-site gain site summary'!$AB15,'F-1 Off-Site WaterC'' Baseline'!$R$10:$R$257)) | AE15: =IF(AB15="","",SUMIF('F-1 Off-Site WaterC'' Baseline'!$AH$10:$AH$257,'Off-site gain site summary'!$AB15,'F-1 Off-Site WaterC'' Baseline'!$Z$10:$Z$257)) | AF15: =IF(AB15="","",SUMIF('F-1 Off-Site WaterC'' Baseline'!$AH$10:$AH$257,'Off-site gain site summary'!$AB15,'F-1 Off-Site WaterC'' Baseline'!$BA$10:$BA$257)) | AG15: =IF(AB15="","",SUMIF('F-3 Off-Site WaterC Enhancement'!$AT$12:$AT$257,'Off-site gain site summary'!$AB15,'F-3 Off-Site WaterC Enhancement'!$AP$12:$AP$257)) | AH15: =IF(AB15="","",SUMIF('F-3 Off-Site WaterC Enhancement'!$AT$12:$AT$257,'Off-site gain site summary'!$AB15,'F-3 Off-Site WaterC Enhancement'!$AO$12:$AO$257)) | AI15: =IF(AB15="","",SUMIF('F-2 Off-Site WaterC'' Creation'!$AG$12:$AG$259,'Off-site gain site summary'!$AB15,'F-2 Off-Site WaterC'' Creation'!$AC$12:$AC$259)) | AJ15: =IF(AB15="","",SUMIF('F-2 Off-Site WaterC'' Creation'!$AG$12:$AG$259,'Off-site gain site summary'!$AB15,'F-2 Off-Site WaterC'' Creation'!$AB$12:$AB$259)) | AK15: =IF(AB15="","",(AG15+AI15+AE15)-AC15) | AL15: =IF(ISBLANK(AB15),"",IFERROR(_xlfn.XLOOKUP(AB15,'F-2 Off-Site WaterC'' Creation'!$AG$12:$AG$258,'F-2 Off-Site WaterC'' Creation'!$AA$12:$AA$258),IFERROR(_xlfn.XLOOKUP(AB15,'F-1 Off-Site WaterC'' Baseline'!$AH$10:$AH$257,'F-1 Off-Site WaterC'' Baseline'!$T$10:$T$257)," "))) | AM15: =IF(AB15="","",IF(AK15<0,"Error - gain sites must be positive ▲",(AH15+AJ15+AF15)-AD15))
A16: ='D-1 Off-Site Habitat Baseline'!AF20 -> 0 | C16: =IF(B16="","",SUMIF('D-1 Off-Site Habitat Baseline'!AF20:AF267,B16,'D-1 Off-Site Habitat Baseline'!T20:T267)) | D16: =IF(B16="","",SUMIF('D-1 Off-Site Habitat Baseline'!$AF$11:$AF$258,B16,'D-1 Off-Site Habitat Baseline'!$Q$11:$Q$258)) | E16: =IF(B16="","",SUMIF('D-1 Off-Site Habitat Baseline'!$AF$11:$AF$258,'Off-site gain site summary'!$B16,'D-1 Off-Site Habitat Baseline'!$X$11:$X$258)) | F16: =IF(B16="","",SUMIF('D-1 Off-Site Habitat Baseline'!$AF$11:$AF$258,'Off-site gain site summary'!$B16,'D-1 Off-Site Habitat Baseline'!$AY$11:$AY$258)) | G16: =IF(B16="","",SUMIF('D-3 Off-Site Habitat Enhancment'!$AU$12:$AU$258,'Off-site gain site summary'!B16,'D-3 Off-Site Habitat Enhancment'!$AQ$12:$AQ$258)) | H16: =IF(B16="","",SUMIF('D-3 Off-Site Habitat Enhancment'!$AU$12:$AU$258,'Off-site gain site summary'!B16,'D-3 Off-Site Habitat Enhancment'!$AP$12:$AP$258)) | I16: =IF(B16="","",SUMIF('D-2 Off-Site Habitat Creation'!$AF$11:$AF$256,'Off-site gain site summary'!B16,'D-2 Off-Site Habitat Creation'!$AB$11:$AB$256)) | J16: =IF(B16="","",SUMIF('D-2 Off-Site Habitat Creation'!$AF$11:$AF$256,'Off-site gain site summary'!B16,'D-2 Off-Site Habitat Creation'!$AA$11:$AA$256)) | K16: =IF(B16="","",(I16+G16+E16)-(C16)) | L16: =IF(ISBLANK(B16),"",IFERROR(_xlfn.XLOOKUP(B16,'D-2 Off-Site Habitat Creation'!$AF$11:$AF$256,'D-2 Off-Site Habitat Creation'!$Z$11:$Z$256),IFERROR(_xlfn.XLOOKUP(B16,'D-1 Off-Site Habitat Baseline'!AF$11:AF$258,'D-1 Off-Site Habitat Baseline'!S$11:S$258)," "))) | M16: =IF(B16="","",IF(K16<0,"Error - gain sites must be positive ▲",(J16+H16+F16)-(D16))) | N16: ='E-1 Off-Site Hedge Baseline'!AB19 -> 0 | P16: =IF(O16="","",SUMIF('E-1 Off-Site Hedge Baseline'!AB$10:AB$257,'Off-site gain site summary'!O16,'E-1 Off-Site Hedge Baseline'!Q$10:Q$257)) | Q16: =IF(O16="","",SUMIF('E-1 Off-Site Hedge Baseline'!AB$10:AB$257,O16,'E-1 Off-Site Hedge Baseline'!N$10:N$257)) | R16: =IF(O16="","",SUMIF('E-1 Off-Site Hedge Baseline'!$AB$10:$AB$257,'Off-site gain site summary'!$O16,'E-1 Off-Site Hedge Baseline'!$U$10:$U$257)) | S16: =IF(O16="","",SUMIF('E-1 Off-Site Hedge Baseline'!$AB$10:$AB$257,'Off-site gain site summary'!$O16,'E-1 Off-Site Hedge Baseline'!$AY$10:$AY$257)) | T16: =IF(O16="","",SUMIF('E-3 Off-Site Hedge Enhancement'!$AO$12:$AO$257,'Off-site gain site summary'!$O16,'E-3 Off-Site Hedge Enhancement'!$AK$12:$AK$257)) | U16: =IF(O16="","",SUMIF('E-3 Off-Site Hedge Enhancement'!$AO$12:$AO$257,'Off-site gain site summary'!$O16,'E-3 Off-Site Hedge Enhancement'!$AJ$12:$AJ$257)) | V16: =IF(O16="","",SUMIF('E-2 Off-Site Hedge Creation'!$AD$12:$AD$259,'Off-site gain site summary'!$O16,'E-2 Off-Site Hedge Creation'!$Z$12:$Z$259)) | W16: =IF(O16="","",SUMIF('E-2 Off-Site Hedge Creation'!$AD$12:$AD$259,'Off-site gain site summary'!$O16,'E-2 Off-Site Hedge Creation'!$Y$12:$Y$259)) | X16: =IF(O16="","",(V16+T16+R16)-P16) | Y16: =IF(ISBLANK(O16),"",IFERROR(_xlfn.XLOOKUP(O16,'E-2 Off-Site Hedge Creation'!$AD$12:$AD$259,'E-2 Off-Site Hedge Creation'!$N$12:$N$259),IFERROR(_xlfn.XLOOKUP(O16,'E-1 Off-Site Hedge Baseline'!$AB$10:$AB$257,'E-1 Off-Site Hedge Baseline'!$P$10:$P$257)," "))) | Z16: =IF(O16="","",IF(X16<0,"Error - gain sites must be positive ▲",(W16+U16+S16)-Q16)) | AA16: ='F-1 Off-Site WaterC'' Baseline'!AH19 -> 0 | AC16: =IF(AB16="","",SUMIF('F-1 Off-Site WaterC'' Baseline'!$AH$10:$AH$257,'Off-site gain site summary'!$AB16,'F-1 Off-Site WaterC'' Baseline'!$U$10:$U$257)) | AD16: =IF(AB16="","",SUMIF('F-1 Off-Site WaterC'' Baseline'!$AH$10:$AH$257,'Off-site gain site summary'!$AB16,'F-1 Off-Site WaterC'' Baseline'!$R$10:$R$257)) | AE16: =IF(AB16="","",SUMIF('F-1 Off-Site WaterC'' Baseline'!$AH$10:$AH$257,'Off-site gain site summary'!$AB16,'F-1 Off-Site WaterC'' Baseline'!$Z$10:$Z$257)) | AF16: =IF(AB16="","",SUMIF('F-1 Off-Site WaterC'' Baseline'!$AH$10:$AH$257,'Off-site gain site summary'!$AB16,'F-1 Off-Site WaterC'' Baseline'!$BA$10:$BA$257)) | AG16: =IF(AB16="","",SUMIF('F-3 Off-Site WaterC Enhancement'!$AT$12:$AT$257,'Off-site gain site summary'!$AB16,'F-3 Off-Site WaterC Enhancement'!$AP$12:$AP$257)) | AH16: =IF(AB16="","",SUMIF('F-3 Off-Site WaterC Enhancement'!$AT$12:$AT$257,'Off-site gain site summary'!$AB16,'F-3 Off-Site WaterC Enhancement'!$AO$12:$AO$257)) | AI16: =IF(AB16="","",SUMIF('F-2 Off-Site WaterC'' Creation'!$AG$12:$AG$259,'Off-site gain site summary'!$AB16,'F-2 Off-Site WaterC'' Creation'!$AC$12:$AC$259)) | AJ16: =IF(AB16="","",SUMIF('F-2 Off-Site WaterC'' Creation'!$AG$12:$AG$259,'Off-site gain site summary'!$AB16,'F-2 Off-Site WaterC'' Creation'!$AB$12:$AB$259)) | AK16: =IF(AB16="","",(AG16+AI16+AE16)-AC16) | AL16: =IF(ISBLANK(AB16),"",IFERROR(_xlfn.XLOOKUP(AB16,'F-2 Off-Site WaterC'' Creation'!$AG$12:$AG$258,'F-2 Off-Site WaterC'' Creation'!$AA$12:$AA$258),IFERROR(_xlfn.XLOOKUP(AB16,'F-1 Off-Site WaterC'' Baseline'!$AH$10:$AH$257,'F-1 Off-Site WaterC'' Baseline'!$T$10:$T$257)," "))) | AM16: =IF(AB16="","",IF(AK16<0,"Error - gain sites must be positive ▲",(AH16+AJ16+AF16)-AD16))
A17: ='D-1 Off-Site Habitat Baseline'!AF21 -> 0 | C17: =IF(B17="","",SUMIF('D-1 Off-Site Habitat Baseline'!AF21:AF268,B17,'D-1 Off-Site Habitat Baseline'!T21:T268)) | D17: =IF(B17="","",SUMIF('D-1 Off-Site Habitat Baseline'!$AF$11:$AF$258,B17,'D-1 Off-Site Habitat Baseline'!$Q$11:$Q$258)) | E17: =IF(B17="","",SUMIF('D-1 Off-Site Habitat Baseline'!$AF$11:$AF$258,'Off-site gain site summary'!$B17,'D-1 Off-Site Habitat Baseline'!$X$11:$X$258)) | F17: =IF(B17="","",SUMIF('D-1 Off-Site Habitat Baseline'!$AF$11:$AF$258,'Off-site gain site summary'!$B17,'D-1 Off-Site Habitat Baseline'!$AY$11:$AY$258)) | G17: =IF(B17="","",SUMIF('D-3 Off-Site Habitat Enhancment'!$AU$12:$AU$258,'Off-site gain site summary'!B17,'D-3 Off-Site Habitat Enhancment'!$AQ$12:$AQ$258)) | H17: =IF(B17="","",SUMIF('D-3 Off-Site Habitat Enhancment'!$AU$12:$AU$258,'Off-site gain site summary'!B17,'D-3 Off-Site Habitat Enhancment'!$AP$12:$AP$258)) | I17: =IF(B17="","",SUMIF('D-2 Off-Site Habitat Creation'!$AF$11:$AF$256,'Off-site gain site summary'!B17,'D-2 Off-Site Habitat Creation'!$AB$11:$AB$256)) | J17: =IF(B17="","",SUMIF('D-2 Off-Site Habitat Creation'!$AF$11:$AF$256,'Off-site gain site summary'!B17,'D-2 Off-Site Habitat Creation'!$AA$11:$AA$256)) | K17: =IF(B17="","",(I17+G17+E17)-(C17)) | L17: =IF(ISBLANK(B17),"",IFERROR(_xlfn.XLOOKUP(B17,'D-2 Off-Site Habitat Creation'!$AF$11:$AF$256,'D-2 Off-Site Habitat Creation'!$Z$11:$Z$256),IFERROR(_xlfn.XLOOKUP(B17,'D-1 Off-Site Habitat Baseline'!AF$11:AF$258,'D-1 Off-Site Habitat Baseline'!S$11:S$258)," "))) | M17: =IF(B17="","",IF(K17<0,"Error - gain sites must be positive ▲",(J17+H17+F17)-(D17))) | N17: ='E-1 Off-Site Hedge Baseline'!AB20 -> 0 | P17: =IF(O17="","",SUMIF('E-1 Off-Site Hedge Baseline'!AB$10:AB$257,'Off-site gain site summary'!O17,'E-1 Off-Site Hedge Baseline'!Q$10:Q$257)) | Q17: =IF(O17="","",SUMIF('E-1 Off-Site Hedge Baseline'!AB$10:AB$257,O17,'E-1 Off-Site Hedge Baseline'!N$10:N$257)) | R17: =IF(O17="","",SUMIF('E-1 Off-Site Hedge Baseline'!$AB$10:$AB$257,'Off-site gain site summary'!$O17,'E-1 Off-Site Hedge Baseline'!$U$10:$U$257)) | S17: =IF(O17="","",SUMIF('E-1 Off-Site Hedge Baseline'!$AB$10:$AB$257,'Off-site gain site summary'!$O17,'E-1 Off-Site Hedge Baseline'!$AY$10:$AY$257)) | T17: =IF(O17="","",SUMIF('E-3 Off-Site Hedge Enhancement'!$AO$12:$AO$257,'Off-site gain site summary'!$O17,'E-3 Off-Site Hedge Enhancement'!$AK$12:$AK$257)) | U17: =IF(O17="","",SUMIF('E-3 Off-Site Hedge Enhancement'!$AO$12:$AO$257,'Off-site gain site summary'!$O17,'E-3 Off-Site Hedge Enhancement'!$AJ$12:$AJ$257)) | V17: =IF(O17="","",SUMIF('E-2 Off-Site Hedge Creation'!$AD$12:$AD$259,'Off-site gain site summary'!$O17,'E-2 Off-Site Hedge Creation'!$Z$12:$Z$259)) | W17: =IF(O17="","",SUMIF('E-2 Off-Site Hedge Creation'!$AD$12:$AD$259,'Off-site gain site summary'!$O17,'E-2 Off-Site Hedge Creation'!$Y$12:$Y$259)) | X17: =IF(O17="","",(V17+T17+R17)-P17) | Y17: =IF(ISBLANK(O17),"",IFERROR(_xlfn.XLOOKUP(O17,'E-2 Off-Site Hedge Creation'!$AD$12:$AD$259,'E-2 Off-Site Hedge Creation'!$N$12:$N$259),IFERROR(_xlfn.XLOOKUP(O17,'E-1 Off-Site Hedge Baseline'!$AB$10:$AB$257,'E-1 Off-Site Hedge Baseline'!$P$10:$P$257)," "))) | Z17: =IF(O17="","",IF(X17<0,"Error - gain sites must be positive ▲",(W17+U17+S17)-Q17)) | AA17: ='F-1 Off-Site WaterC'' Baseline'!AH20 -> 0 | AC17: =IF(AB17="","",SUMIF('F-1 Off-Site WaterC'' Baseline'!$AH$10:$AH$257,'Off-site gain site summary'!$AB17,'F-1 Off-Site WaterC'' Baseline'!$U$10:$U$257)) | AD17: =IF(AB17="","",SUMIF('F-1 Off-Site WaterC'' Baseline'!$AH$10:$AH$257,'Off-site gain site summary'!$AB17,'F-1 Off-Site WaterC'' Baseline'!$R$10:$R$257)) | AE17: =IF(AB17="","",SUMIF('F-1 Off-Site WaterC'' Baseline'!$AH$10:$AH$257,'Off-site gain site summary'!$AB17,'F-1 Off-Site WaterC'' Baseline'!$Z$10:$Z$257)) | AF17: =IF(AB17="","",SUMIF('F-1 Off-Site WaterC'' Baseline'!$AH$10:$AH$257,'Off-site gain site summary'!$AB17,'F-1 Off-Site WaterC'' Baseline'!$BA$10:$BA$257)) | AG17: =IF(AB17="","",SUMIF('F-3 Off-Site WaterC Enhancement'!$AT$12:$AT$257,'Off-site gain site summary'!$AB17,'F-3 Off-Site WaterC Enhancement'!$AP$12:$AP$257)) | AH17: =IF(AB17="","",SUMIF('F-3 Off-Site WaterC Enhancement'!$AT$12:$AT$257,'Off-site gain site summary'!$AB17,'F-3 Off-Site WaterC Enhancement'!$AO$12:$AO$257)) | AI17: =IF(AB17="","",SUMIF('F-2 Off-Site WaterC'' Creation'!$AG$12:$AG$259,'Off-site gain site summary'!$AB17,'F-2 Off-Site WaterC'' Creation'!$AC$12:$AC$259)) | AJ17: =IF(AB17="","",SUMIF('F-2 Off-Site WaterC'' Creation'!$AG$12:$AG$259,'Off-site gain site summary'!$AB17,'F-2 Off-Site WaterC'' Creation'!$AB$12:$AB$259)) | AK17: =IF(AB17="","",(AG17+AI17+AE17)-AC17) | AL17: =IF(ISBLANK(AB17),"",IFERROR(_xlfn.XLOOKUP(AB17,'F-2 Off-Site WaterC'' Creation'!$AG$12:$AG$258,'F-2 Off-Site WaterC'' Creation'!$AA$12:$AA$258),IFERROR(_xlfn.XLOOKUP(AB17,'F-1 Off-Site WaterC'' Baseline'!$AH$10:$AH$257,'F-1 Off-Site WaterC'' Baseline'!$T$10:$T$257)," "))) | AM17: =IF(AB17="","",IF(AK17<0,"Error - gain sites must be positive ▲",(AH17+AJ17+AF17)-AD17))
A18: ='D-1 Off-Site Habitat Baseline'!AF22 -> 0 | C18: =IF(B18="","",SUMIF('D-1 Off-Site Habitat Baseline'!AF22:AF269,B18,'D-1 Off-Site Habitat Baseline'!T22:T269)) | D18: =IF(B18="","",SUMIF('D-1 Off-Site Habitat Baseline'!$AF$11:$AF$258,B18,'D-1 Off-Site Habitat Baseline'!$Q$11:$Q$258)) | E18: =IF(B18="","",SUMIF('D-1 Off-Site Habitat Baseline'!$AF$11:$AF$258,'Off-site gain site summary'!$B18,'D-1 Off-Site Habitat Baseline'!$X$11:$X$258)) | F18: =IF(B18="","",SUMIF('D-1 Off-Site Habitat Baseline'!$AF$11:$AF$258,'Off-site gain site summary'!$B18,'D-1 Off-Site Habitat Baseline'!$AY$11:$AY$258)) | G18: =IF(B18="","",SUMIF('D-3 Off-Site Habitat Enhancment'!$AU$12:$AU$258,'Off-site gain site summary'!B18,'D-3 Off-Site Habitat Enhancment'!$AQ$12:$AQ$258)) | H18: =IF(B18="","",SUMIF('D-3 Off-Site Habitat Enhancment'!$AU$12:$AU$258,'Off-site gain site summary'!B18,'D-3 Off-Site Habitat Enhancment'!$AP$12:$AP$258)) | I18: =IF(B18="","",SUMIF('D-2 Off-Site Habitat Creation'!$AF$11:$AF$256,'Off-site gain site summary'!B18,'D-2 Off-Site Habitat Creation'!$AB$11:$AB$256)) | J18: =IF(B18="","",SUMIF('D-2 Off-Site Habitat Creation'!$AF$11:$AF$256,'Off-site gain site summary'!B18,'D-2 Off-Site Habitat Creation'!$AA$11:$AA$256)) | K18: =IF(B18="","",(I18+G18+E18)-(C18)) | L18: =IF(ISBLANK(B18),"",IFERROR(_xlfn.XLOOKUP(B18,'D-2 Off-Site Habitat Creation'!$AF$11:$AF$256,'D-2 Off-Site Habitat Creation'!$Z$11:$Z$256),IFERROR(_xlfn.XLOOKUP(B18,'D-1 Off-Site Habitat Baseline'!AF$11:AF$258,'D-1 Off-Site Habitat Baseline'!S$11:S$258)," "))) | M18: =IF(B18="","",IF(K18<0,"Error - gain sites must be positive ▲",(J18+H18+F18)-(D18))) | N18: ='E-1 Off-Site Hedge Baseline'!AB21 -> 0 | P18: =IF(O18="","",SUMIF('E-1 Off-Site Hedge Baseline'!AB$10:AB$257,'Off-site gain site summary'!O18,'E-1 Off-Site Hedge Baseline'!Q$10:Q$257)) | Q18: =IF(O18="","",SUMIF('E-1 Off-Site Hedge Baseline'!AB$10:AB$257,O18,'E-1 Off-Site Hedge Baseline'!N$10:N$257)) | R18: =IF(O18="","",SUMIF('E-1 Off-Site Hedge Baseline'!$AB$10:$AB$257,'Off-site gain site summary'!$O18,'E-1 Off-Site Hedge Baseline'!$U$10:$U$257)) | S18: =IF(O18="","",SUMIF('E-1 Off-Site Hedge Baseline'!$AB$10:$AB$257,'Off-site gain site summary'!$O18,'E-1 Off-Site Hedge Baseline'!$AY$10:$AY$257)) | T18: =IF(O18="","",SUMIF('E-3 Off-Site Hedge Enhancement'!$AO$12:$AO$257,'Off-site gain site summary'!$O18,'E-3 Off-Site Hedge Enhancement'!$AK$12:$AK$257)) | U18: =IF(O18="","",SUMIF('E-3 Off-Site Hedge Enhancement'!$AO$12:$AO$257,'Off-site gain site summary'!$O18,'E-3 Off-Site Hedge Enhancement'!$AJ$12:$AJ$257)) | V18: =IF(O18="","",SUMIF('E-2 Off-Site Hedge Creation'!$AD$12:$AD$259,'Off-site gain site summary'!$O18,'E-2 Off-Site Hedge Creation'!$Z$12:$Z$259)) | W18: =IF(O18="","",SUMIF('E-2 Off-Site Hedge Creation'!$AD$12:$AD$259,'Off-site gain site summary'!$O18,'E-2 Off-Site Hedge Creation'!$Y$12:$Y$259)) | X18: =IF(O18="","",(V18+T18+R18)-P18) | Y18: =IF(ISBLANK(O18),"",IFERROR(_xlfn.XLOOKUP(O18,'E-2 Off-Site Hedge Creation'!$AD$12:$AD$259,'E-2 Off-Site Hedge Creation'!$N$12:$N$259),IFERROR(_xlfn.XLOOKUP(O18,'E-1 Off-Site Hedge Baseline'!$AB$10:$AB$257,'E-1 Off-Site Hedge Baseline'!$P$10:$P$257)," "))) | Z18: =IF(O18="","",IF(X18<0,"Error - gain sites must be positive ▲",(W18+U18+S18)-Q18)) | AA18: ='F-1 Off-Site WaterC'' Baseline'!AH21 -> 0 | AC18: =IF(AB18="","",SUMIF('F-1 Off-Site WaterC'' Baseline'!$AH$10:$AH$257,'Off-site gain site summary'!$AB18,'F-1 Off-Site WaterC'' Baseline'!$U$10:$U$257)) | AD18: =IF(AB18="","",SUMIF('F-1 Off-Site WaterC'' Baseline'!$AH$10:$AH$257,'Off-site gain site summary'!$AB18,'F-1 Off-Site WaterC'' Baseline'!$R$10:$R$257)) | AE18: =IF(AB18="","",SUMIF('F-1 Off-Site WaterC'' Baseline'!$AH$10:$AH$257,'Off-site gain site summary'!$AB18,'F-1 Off-Site WaterC'' Baseline'!$Z$10:$Z$257)) | AF18: =IF(AB18="","",SUMIF('F-1 Off-Site WaterC'' Baseline'!$AH$10:$AH$257,'Off-site gain site summary'!$AB18,'F-1 Off-Site WaterC'' Baseline'!$BA$10:$BA$257)) | AG18: =IF(AB18="","",SUMIF('F-3 Off-Site WaterC Enhancement'!$AT$12:$AT$257,'Off-site gain site summary'!$AB18,'F-3 Off-Site WaterC Enhancement'!$AP$12:$AP$257)) | AH18: =IF(AB18="","",SUMIF('F-3 Off-Site WaterC Enhancement'!$AT$12:$AT$257,'Off-site gain site summary'!$AB18,'F-3 Off-Site WaterC Enhancement'!$AO$12:$AO$257)) | AI18: =IF(AB18="","",SUMIF('F-2 Off-Site WaterC'' Creation'!$AG$12:$AG$259,'Off-site gain site summary'!$AB18,'F-2 Off-Site WaterC'' Creation'!$AC$12:$AC$259)) | AJ18: =IF(AB18="","",SUMIF('F-2 Off-Site WaterC'' Creation'!$AG$12:$AG$259,'Off-site gain site summary'!$AB18,'F-2 Off-Site WaterC'' Creation'!$AB$12:$AB$259)) | AK18: =IF(AB18="","",(AG18+AI18+AE18)-AC18) | AL18: =IF(ISBLANK(AB18),"",IFERROR(_xlfn.XLOOKUP(AB18,'F-2 Off-Site WaterC'' Creation'!$AG$12:$AG$258,'F-2 Off-Site WaterC'' Creation'!$AA$12:$AA$258),IFERROR(_xlfn.XLOOKUP(AB18,'F-1 Off-Site WaterC'' Baseline'!$AH$10:$AH$257,'F-1 Off-Site WaterC'' Baseline'!$T$10:$T$257)," "))) | AM18: =IF(AB18="","",IF(AK18<0,"Error - gain sites must be positive ▲",(AH18+AJ18+AF18)-AD18))
A19: ='D-1 Off-Site Habitat Baseline'!AF23 -> 0 | C19: =IF(B19="","",SUMIF('D-1 Off-Site Habitat Baseline'!AF23:AF270,B19,'D-1 Off-Site Habitat Baseline'!T23:T270)) | D19: =IF(B19="","",SUMIF('D-1 Off-Site Habitat Baseline'!$AF$11:$AF$258,B19,'D-1 Off-Site Habitat Baseline'!$Q$11:$Q$258)) | E19: =IF(B19="","",SUMIF('D-1 Off-Site Habitat Baseline'!$AF$11:$AF$258,'Off-site gain site summary'!$B19,'D-1 Off-Site Habitat Baseline'!$X$11:$X$258)) | F19: =IF(B19="","",SUMIF('D-1 Off-Site Habitat Baseline'!$AF$11:$AF$258,'Off-site gain site summary'!$B19,'D-1 Off-Site Habitat Baseline'!$AY$11:$AY$258)) | G19: =IF(B19="","",SUMIF('D-3 Off-Site Habitat Enhancment'!$AU$12:$AU$258,'Off-site gain site summary'!B19,'D-3 Off-Site Habitat Enhancment'!$AQ$12:$AQ$258)) | H19: =IF(B19="","",SUMIF('D-3 Off-Site Habitat Enhancment'!$AU$12:$AU$258,'Off-site gain site summary'!B19,'D-3 Off-Site Habitat Enhancment'!$AP$12:$AP$258)) | I19: =IF(B19="","",SUMIF('D-2 Off-Site Habitat Creation'!$AF$11:$AF$256,'Off-site gain site summary'!B19,'D-2 Off-Site Habitat Creation'!$AB$11:$AB$256)) | J19: =IF(B19="","",SUMIF('D-2 Off-Site Habitat Creation'!$AF$11:$AF$256,'Off-site gain site summary'!B19,'D-2 Off-Site Habitat Creation'!$AA$11:$AA$256)) | K19: =IF(B19="","",(I19+G19+E19)-(C19)) | L19: =IF(ISBLANK(B19),"",IFERROR(_xlfn.XLOOKUP(B19,'D-2 Off-Site Habitat Creation'!$AF$11:$AF$256,'D-2 Off-Site Habitat Creation'!$Z$11:$Z$256),IFERROR(_xlfn.XLOOKUP(B19,'D-1 Off-Site Habitat Baseline'!AF$11:AF$258,'D-1 Off-Site Habitat Baseline'!S$11:S$258)," "))) | M19: =IF(B19="","",IF(K19<0,"Error - gain sites must be positive ▲",(J19+H19+F19)-(D19))) | N19: ='E-1 Off-Site Hedge Baseline'!AB22 -> 0 | P19: =IF(O19="","",SUMIF('E-1 Off-Site Hedge Baseline'!AB$10:AB$257,'Off-site gain site summary'!O19,'E-1 Off-Site Hedge Baseline'!Q$10:Q$257)) | Q19: =IF(O19="","",SUMIF('E-1 Off-Site Hedge Baseline'!AB$10:AB$257,O19,'E-1 Off-Site Hedge Baseline'!N$10:N$257)) | R19: =IF(O19="","",SUMIF('E-1 Off-Site Hedge Baseline'!$AB$10:$AB$257,'Off-site gain site summary'!$O19,'E-1 Off-Site Hedge Baseline'!$U$10:$U$257)) | S19: =IF(O19="","",SUMIF('E-1 Off-Site Hedge Baseline'!$AB$10:$AB$257,'Off-site gain site summary'!$O19,'E-1 Off-Site Hedge Baseline'!$AY$10:$AY$257)) | T19: =IF(O19="","",SUMIF('E-3 Off-Site Hedge Enhancement'!$AO$12:$AO$257,'Off-site gain site summary'!$O19,'E-3 Off-Site Hedge Enhancement'!$AK$12:$AK$257)) | U19: =IF(O19="","",SUMIF('E-3 Off-Site Hedge Enhancement'!$AO$12:$AO$257,'Off-site gain site summary'!$O19,'E-3 Off-Site Hedge Enhancement'!$AJ$12:$AJ$257)) | V19: =IF(O19="","",SUMIF('E-2 Off-Site Hedge Creation'!$AD$12:$AD$259,'Off-site gain site summary'!$O19,'E-2 Off-Site Hedge Creation'!$Z$12:$Z$259)) | W19: =IF(O19="","",SUMIF('E-2 Off-Site Hedge Creation'!$AD$12:$AD$259,'Off-site gain site summary'!$O19,'E-2 Off-Site Hedge Creation'!$Y$12:$Y$259)) | X19: =IF(O19="","",(V19+T19+R19)-P19) | Y19: =IF(ISBLANK(O19),"",IFERROR(_xlfn.XLOOKUP(O19,'E-2 Off-Site Hedge Creation'!$AD$12:$AD$259,'E-2 Off-Site Hedge Creation'!$N$12:$N$259),IFERROR(_xlfn.XLOOKUP(O19,'E-1 Off-Site Hedge Baseline'!$AB$10:$AB$257,'E-1 Off-Site Hedge Baseline'!$P$10:$P$257)," "))) | Z19: =IF(O19="","",IF(X19<0,"Error - gain sites must be positive ▲",(W19+U19+S19)-Q19)) | AA19: ='F-1 Off-Site WaterC'' Baseline'!AH22 -> 0 | AC19: =IF(AB19="","",SUMIF('F-1 Off-Site WaterC'' Baseline'!$AH$10:$AH$257,'Off-site gain site summary'!$AB19,'F-1 Off-Site WaterC'' Baseline'!$U$10:$U$257)) | AD19: =IF(AB19="","",SUMIF('F-1 Off-Site WaterC'' Baseline'!$AH$10:$AH$257,'Off-site gain site summary'!$AB19,'F-1 Off-Site WaterC'' Baseline'!$R$10:$R$257)) | AE19: =IF(AB19="","",SUMIF('F-1 Off-Site WaterC'' Baseline'!$AH$10:$AH$257,'Off-site gain site summary'!$AB19,'F-1 Off-Site WaterC'' Baseline'!$Z$10:$Z$257)) | AF19: =IF(AB19="","",SUMIF('F-1 Off-Site WaterC'' Baseline'!$AH$10:$AH$257,'Off-site gain site summary'!$AB19,'F-1 Off-Site WaterC'' Baseline'!$BA$10:$BA$257)) | AG19: =IF(AB19="","",SUMIF('F-3 Off-Site WaterC Enhancement'!$AT$12:$AT$257,'Off-site gain site summary'!$AB19,'F-3 Off-Site WaterC Enhancement'!$AP$12:$AP$257)) | AH19: =IF(AB19="","",SUMIF('F-3 Off-Site WaterC Enhancement'!$AT$12:$AT$257,'Off-site gain site summary'!$AB19,'F-3 Off-Site WaterC Enhancement'!$AO$12:$AO$257)) | AI19: =IF(AB19="","",SUMIF('F-2 Off-Site WaterC'' Creation'!$AG$12:$AG$259,'Off-site gain site summary'!$AB19,'F-2 Off-Site WaterC'' Creation'!$AC$12:$AC$259)) | AJ19: =IF(AB19="","",SUMIF('F-2 Off-Site WaterC'' Creation'!$AG$12:$AG$259,'Off-site gain site summary'!$AB19,'F-2 Off-Site WaterC'' Creation'!$AB$12:$AB$259)) | AK19: =IF(AB19="","",(AG19+AI19+AE19)-AC19) | AL19: =IF(ISBLANK(AB19),"",IFERROR(_xlfn.XLOOKUP(AB19,'F-2 Off-Site WaterC'' Creation'!$AG$12:$AG$258,'F-2 Off-Site WaterC'' Creation'!$AA$12:$AA$258),IFERROR(_xlfn.XLOOKUP(AB19,'F-1 Off-Site WaterC'' Baseline'!$AH$10:$AH$257,'F-1 Off-Site WaterC'' Baseline'!$T$10:$T$257)," "))) | AM19: =IF(AB19="","",IF(AK19<0,"Error - gain sites must be positive ▲",(AH19+AJ19+AF19)-AD19))
... A107: ='D-1 Off-Site Habitat Baseline'!AF111 -> 0 | C107: =IF(B107="","",SUMIF('D-1 Off-Site Habitat Baseline'!AF111:AF358,B107,'D-1 Off-Site Habitat Baseline'!T111:T358)) | D107: =IF(B107="","",SUMIF('D-1 Off-Site Habitat Baseline'!$AF$11:$AF$258,B107,'D-1 Off-Site Habitat Baseline'!$Q$11:$Q$258)) | E107: =IF(B107="","",SUMIF('D-1 Off-Site Habitat Baseline'!$AF$11:$AF$258,'Off-site gain site summary'!$B107,'D-1 Off-Site Habitat Baseline'!$X$11:$X$258)) | F107: =IF(B107="","",SUMIF('D-1 Off-Site Habitat Baseline'!$AF$11:$AF$258,'Off-site gain site summary'!$B107,'D-1 Off-Site Habitat Baseline'!$AY$11:$AY$258)) | G107: =IF(B107="","",SUMIF('D-3 Off-Site Habitat Enhancment'!$AU$12:$AU$258,'Off-site gain site summary'!B107,'D-3 Off-Site Habitat Enhancment'!$AQ$12:$AQ$258)) | H107: =IF(B107="","",SUMIF('D-3 Off-Site Habitat Enhancment'!$AU$12:$AU$258,'Off-site gain site summary'!B107,'D-3 Off-Site Habitat Enhancment'!$AP$12:$AP$258)) | I107: =IF(B107="","",SUMIF('D-2 Off-Site Habitat Creation'!$AF$11:$AF$256,'Off-site gain site summary'!B107,'D-2 Off-Site Habitat Creation'!$AB$11:$AB$256)) | J107: =IF(B107="","",SUMIF('D-2 Off-Site Habitat Creation'!$AF$11:$AF$256,'Off-site gain site summary'!B107,'D-2 Off-Site Habitat Creation'!$AA$11:$AA$256)) | K107: =IF(B107="","",(I107+G107+E107)-(C107)) | L107: =IF(ISBLANK(B107),"",IFERROR(_xlfn.XLOOKUP(B107,'D-2 Off-Site Habitat Creation'!$AF$11:$AF$256,'D-2 Off-Site Habitat Creation'!$Z$11:$Z$256),IFERROR(_xlfn.XLOOKUP(B107,'D-1 Off-Site Habitat Baseline'!AF$11:AF$258,'D-1 Off-Site Habitat Baseline'!S$11:S$258)," "))) | M107: =IF(B107="","",IF(K107<0,"Error - gain sites must be positive ▲",(J107+H107+F107)-(D107))) | N107: ='E-1 Off-Site Hedge Baseline'!AB110 -> 0 | P107: =IF(O107="","",SUMIF('E-1 Off-Site Hedge Baseline'!AB$10:AB$257,'Off-site gain site summary'!O107,'E-1 Off-Site Hedge Baseline'!Q$10:Q$257)) | Q107: =IF(O107="","",SUMIF('E-1 Off-Site Hedge Baseline'!AB$10:AB$257,O107,'E-1 Off-Site Hedge Baseline'!N$10:N$257)) | R107: =IF(O107="","",SUMIF('E-1 Off-Site Hedge Baseline'!$AB$10:$AB$257,'Off-site gain site summary'!$O107,'E-1 Off-Site Hedge Baseline'!$U$10:$U$257)) | S107: =IF(O107="","",SUMIF('E-1 Off-Site Hedge Baseline'!$AB$10:$AB$257,'Off-site gain site summary'!$O107,'E-1 Off-Site Hedge Baseline'!$AY$10:$AY$257)) | T107: =IF(O107="","",SUMIF('E-3 Off-Site Hedge Enhancement'!$AO$12:$AO$257,'Off-site gain site summary'!$O107,'E-3 Off-Site Hedge Enhancement'!$AK$12:$AK$257)) | U107: =IF(O107="","",SUMIF('E-3 Off-Site Hedge Enhancement'!$AO$12:$AO$257,'Off-site gain site summary'!$O107,'E-3 Off-Site Hedge Enhancement'!$AJ$12:$AJ$257)) | V107: =IF(O107="","",SUMIF('E-2 Off-Site Hedge Creation'!$AD$12:$AD$259,'Off-site gain site summary'!$O107,'E-2 Off-Site Hedge Creation'!$Z$12:$Z$259)) | W107: =IF(O107="","",SUMIF('E-2 Off-Site Hedge Creation'!$AD$12:$AD$259,'Off-site gain site summary'!$O107,'E-2 Off-Site Hedge Creation'!$Y$12:$Y$259)) | X107: =IF(O107="","",(V107+T107+R107)-P107) | Y107: =IF(ISBLANK(O107),"",IFERROR(_xlfn.XLOOKUP(O107,'E-2 Off-Site Hedge Creation'!$AD$12:$AD$259,'E-2 Off-Site Hedge Creation'!$N$12:$N$259),IFERROR(_xlfn.XLOOKUP(O107,'E-1 Off-Site Hedge Baseline'!$AB$10:$AB$257,'E-1 Off-Site Hedge Baseline'!$P$10:$P$257)," "))) | Z107: =IF(O107="","",IF(X107<0,"Error - gain sites must be positive ▲",(W107+U107+S107)-Q107)) | AA107: ='F-1 Off-Site WaterC'' Baseline'!AH110 -> 0 | AC107: =IF(AB107="","",SUMIF('F-1 Off-Site WaterC'' Baseline'!$AH$10:$AH$257,'Off-site gain site summary'!$AB107,'F-1 Off-Site WaterC'' Baseline'!$U$10:$U$257)) | AD107: =IF(AB107="","",SUMIF('F-1 Off-Site WaterC'' Baseline'!$AH$10:$AH$257,'Off-site gain site summary'!$AB107,'F-1 Off-Site WaterC'' Baseline'!$R$10:$R$257)) | AE107: =IF(AB107="","",SUMIF('F-1 Off-Site WaterC'' Baseline'!$AH$10:$AH$257,'Off-site gain site summary'!$AB107,'F-1 Off-Site WaterC'' Baseline'!$Z$10:$Z$257)) | AF107: =IF(AB107="","",SUMIF('F-1 Off-Site WaterC'' Baseline'!$AH$10:$AH$257,'Off-site gain site summary'!$AB107,'F-1 Off-Site WaterC'' Baseline'!$BA$10:$BA$257)) | AG107: =IF(AB107="","",SUMIF('F-3 Off-Site WaterC Enhancement'!$AT$12:$AT$257,'Off-site gain site summary'!$AB107,'F-3 Off-Site WaterC Enhancement'!$AP$12:$AP$257)) | AH107: =IF(AB107="","",SUMIF('F-3 Off-Site WaterC Enhancement'!$AT$12:$AT$257,'Off-site gain site summary'!$AB107,'F-3 Off-Site WaterC Enhancement'!$AO$12:$AO$257)) | AI107: =IF(AB107="","",SUMIF('F-2 Off-Site WaterC'' Creation'!$AG$12:$AG$259,'Off-site gain site summary'!$AB107,'F-2 Off-Site WaterC'' Creation'!$AC$12:$AC$259)) | AJ107: =IF(AB107="","",SUMIF('F-2 Off-Site WaterC'' Creation'!$AG$12:$AG$259,'Off-site gain site summary'!$AB107,'F-2 Off-Site WaterC'' Creation'!$AB$12:$AB$259)) | AK107: =IF(AB107="","",(AG107+AI107+AE107)-AC107) | AL107: =IF(ISBLANK(AB107),"",IFERROR(_xlfn.XLOOKUP(AB107,'F-2 Off-Site WaterC'' Creation'!$AG$12:$AG$258,'F-2 Off-Site WaterC'' Creation'!$AA$12:$AA$258),IFERROR(_xlfn.XLOOKUP(AB107,'F-1 Off-Site WaterC'' Baseline'!$AH$10:$AH$257,'F-1 Off-Site WaterC'' Baseline'!$T$10:$T$257)," "))) | AM107: =IF(AB107="","",IF(AK107<0,"Error - gain sites must be positive ▲",(AH107+AJ107+AF107)-AD107))
A108: ='D-1 Off-Site Habitat Baseline'!AF112 -> 0 | N108: ='E-1 Off-Site Hedge Baseline'!AB111 -> 0 | AA108: ='F-1 Off-Site WaterC'' Baseline'!AH111 -> 0
A109: ='D-1 Off-Site Habitat Baseline'!AF113 -> 0 | N109: ='E-1 Off-Site Hedge Baseline'!AB112 -> 0 | AA109: ='F-1 Off-Site WaterC'' Baseline'!AH112 -> 0
A110: ='D-1 Off-Site Habitat Baseline'!AF114 -> 0 | N110: ='E-1 Off-Site Hedge Baseline'!AB113 -> 0 | AA110: ='F-1 Off-Site WaterC'' Baseline'!AH113 -> 0
A111: ='D-1 Off-Site Habitat Baseline'!AF115 -> 0 | N111: ='E-1 Off-Site Hedge Baseline'!AB114 -> 0 | AA111: ='F-1 Off-Site WaterC'' Baseline'!AH114 -> 0
A112: ='D-1 Off-Site Habitat Baseline'!AF116 -> 0 | N112: ='E-1 Off-Site Hedge Baseline'!AB115 -> 0 | AA112: ='F-1 Off-Site WaterC'' Baseline'!AH115 -> 0
A113: ='D-1 Off-Site Habitat Baseline'!AF117 -> 0 | N113: ='E-1 Off-Site Hedge Baseline'!AB116 -> 0 | AA113: ='F-1 Off-Site WaterC'' Baseline'!AH116 -> 0
A114: ='D-1 Off-Site Habitat Baseline'!AF118 -> 0 | N114: ='E-1 Off-Site Hedge Baseline'!AB117 -> 0 | AA114: ='F-1 Off-Site WaterC'' Baseline'!AH117 -> 0
A115: ='D-1 Off-Site Habitat Baseline'!AF119 -> 0 | N115: ='E-1 Off-Site Hedge Baseline'!AB118 -> 0 | AA115: ='F-1 Off-Site WaterC'' Baseline'!AH118 -> 0
A116: ='D-1 Off-Site Habitat Baseline'!AF120 -> 0 | N116: ='E-1 Off-Site Hedge Baseline'!AB119 -> 0 | AA116: ='F-1 Off-Site WaterC'' Baseline'!AH119 -> 0
A117: ='D-1 Off-Site Habitat Baseline'!AF121 -> 0 | N117: ='E-1 Off-Site Hedge Baseline'!AB120 -> 0 | AA117: ='F-1 Off-Site WaterC'' Baseline'!AH120 -> 0
A118: ='D-1 Off-Site Habitat Baseline'!AF122 -> 0 | N118: ='E-1 Off-Site Hedge Baseline'!AB121 -> 0 | AA118: ='F-1 Off-Site WaterC'' Baseline'!AH121 -> 0
A119: ='D-1 Off-Site Habitat Baseline'!AF123 -> 0 | N119: ='E-1 Off-Site Hedge Baseline'!AB122 -> 0 | AA119: ='F-1 Off-Site WaterC'' Baseline'!AH122 -> 0
... A254: ='D-1 Off-Site Habitat Baseline'!AF258 -> 0 | N254: ='E-1 Off-Site Hedge Baseline'!AB257 -> 0 | AA254: ='F-1 Off-Site WaterC'' Baseline'!AH257 -> 0
A255: ='D-2 Off-Site Habitat Creation'!AF11 -> 0 | N255: ='E-2 Off-Site Hedge Creation'!AD12 -> 0 | AA255: ='F-2 Off-Site WaterC'' Creation'!AG12 -> 0
A256: ='D-2 Off-Site Habitat Creation'!AF12 -> 0 | N256: ='E-2 Off-Site Hedge Creation'!AD13 -> 0 | AA256: ='F-2 Off-Site WaterC'' Creation'!AG13 -> 0
A257: ='D-2 Off-Site Habitat Creation'!AF13 -> 0 | N257: ='E-2 Off-Site Hedge Creation'!AD14 -> 0 | AA257: ='F-2 Off-Site WaterC'' Creation'!AG14 -> 0
A258: ='D-2 Off-Site Habitat Creation'!AF14 -> 0 | N258: ='E-2 Off-Site Hedge Creation'!AD15 -> 0 | AA258: ='F-2 Off-Site WaterC'' Creation'!AG15 -> 0
A259: ='D-2 Off-Site Habitat Creation'!AF15 -> 0 | N259: ='E-2 Off-Site Hedge Creation'!AD16 -> 0 | AA259: ='F-2 Off-Site WaterC'' Creation'!AG16 -> 0
A260: ='D-2 Off-Site Habitat Creation'!AF16 -> 0 | N260: ='E-2 Off-Site Hedge Creation'!AD17 -> 0 | AA260: ='F-2 Off-Site WaterC'' Creation'!AG17 -> 0
A261: ='D-2 Off-Site Habitat Creation'!AF17 -> 0 | N261: ='E-2 Off-Site Hedge Creation'!AD18 -> 0 | AA261: ='F-2 Off-Site WaterC'' Creation'!AG18 -> 0
A262: ='D-2 Off-Site Habitat Creation'!AF18 -> 0 | N262: ='E-2 Off-Site Hedge Creation'!AD19 -> 0 | AA262: ='F-2 Off-Site WaterC'' Creation'!AG19 -> 0
A263: ='D-2 Off-Site Habitat Creation'!AF19 -> 0 | N263: ='E-2 Off-Site Hedge Creation'!AD20 -> 0 | AA263: ='F-2 Off-Site WaterC'' Creation'!AG20 -> 0
A264: ='D-2 Off-Site Habitat Creation'!AF20 -> 0 | N264: ='E-2 Off-Site Hedge Creation'!AD21 -> 0 | AA264: ='F-2 Off-Site WaterC'' Creation'!AG21 -> 0
A265: ='D-2 Off-Site Habitat Creation'!AF21 -> 0 | N265: ='E-2 Off-Site Hedge Creation'!AD22 -> 0 | AA265: ='F-2 Off-Site WaterC'' Creation'!AG22 -> 0
A266: ='D-2 Off-Site Habitat Creation'!AF22 -> 0 | N266: ='E-2 Off-Site Hedge Creation'!AD23 -> 0 | AA266: ='F-2 Off-Site WaterC'' Creation'!AG23 -> 0
... A499: ='D-2 Off-Site Habitat Creation'!AF255 -> 0 | N499: ='E-2 Off-Site Hedge Creation'!AD256 -> 0 | AA499: ='F-2 Off-Site WaterC'' Creation'!AG256 -> 0
A500: ='D-2 Off-Site Habitat Creation'!AF256 -> 0 | N500: ='E-3 Off-Site Hedge Enhancement'!AO12 -> 0 | AA500: ='F-2 Off-Site WaterC'' Creation'!AG257 -> 0
A501: ='D-3 Off-Site Habitat Enhancment'!AU12 -> 0 | N501: ='E-3 Off-Site Hedge Enhancement'!AO13 -> 0 | AA501: ='F-2 Off-Site WaterC'' Creation'!AG258 -> 0
A502: ='D-3 Off-Site Habitat Enhancment'!AU13 -> 0 | N502: ='E-3 Off-Site Hedge Enhancement'!AO14 -> 0 | AA502: ='F-2 Off-Site WaterC'' Creation'!AG259 -> 0
A503: ='D-3 Off-Site Habitat Enhancment'!AU14 -> 0 | N503: ='E-3 Off-Site Hedge Enhancement'!AO15 -> 0 | AA503: ='F-3 Off-Site WaterC Enhancement'!AT12 -> 0
A504: ='D-3 Off-Site Habitat Enhancment'!AU15 -> 0 | N504: ='E-3 Off-Site Hedge Enhancement'!AO16 -> 0 | AA504: ='F-3 Off-Site WaterC Enhancement'!AT13 -> 0
A505: ='D-3 Off-Site Habitat Enhancment'!AU16 -> 0 | N505: ='E-3 Off-Site Hedge Enhancement'!AO17 -> 0 | AA505: ='F-3 Off-Site WaterC Enhancement'!AT14 -> 0
A506: ='D-3 Off-Site Habitat Enhancment'!AU17 -> 0 | N506: ='E-3 Off-Site Hedge Enhancement'!AO18 -> 0 | AA506: ='F-3 Off-Site WaterC Enhancement'!AT15 -> 0
A507: ='D-3 Off-Site Habitat Enhancment'!AU18 -> 0 | N507: ='E-3 Off-Site Hedge Enhancement'!AO19 -> 0 | AA507: ='F-3 Off-Site WaterC Enhancement'!AT16 -> 0
A508: ='D-3 Off-Site Habitat Enhancment'!AU19 -> 0 | N508: ='E-3 Off-Site Hedge Enhancement'!AO20 -> 0 | AA508: ='F-3 Off-Site WaterC Enhancement'!AT17 -> 0
A509: ='D-3 Off-Site Habitat Enhancment'!AU20 -> 0 | N509: ='E-3 Off-Site Hedge Enhancement'!AO21 -> 0 | AA509: ='F-3 Off-Site WaterC Enhancement'!AT18 -> 0
A510: ='D-3 Off-Site Habitat Enhancment'!AU21 -> 0 | N510: ='E-3 Off-Site Hedge Enhancement'!AO22 -> 0 | AA510: ='F-3 Off-Site WaterC Enhancement'!AT19 -> 0
A511: ='D-3 Off-Site Habitat Enhancment'!AU22 -> 0 | N511: ='E-3 Off-Site Hedge Enhancement'!AO23 -> 0 | AA511: ='F-3 Off-Site WaterC Enhancement'!AT20 -> 0
A512: ='D-3 Off-Site Habitat Enhancment'!AU23 -> 0 | N512: ='E-3 Off-Site Hedge Enhancement'!AO24 -> 0 | AA512: ='F-3 Off-Site WaterC Enhancement'!AT21 -> 0
A513: ='D-3 Off-Site Habitat Enhancment'!AU24 -> 0 | N513: ='E-3 Off-Site Hedge Enhancement'!AO25 -> 0 | AA513: ='F-3 Off-Site WaterC Enhancement'!AT22 -> 0
A514: ='D-3 Off-Site Habitat Enhancment'!AU25 -> 0 | N514: ='E-3 Off-Site Hedge Enhancement'!AO26 -> 0 | AA514: ='F-3 Off-Site WaterC Enhancement'!AT23 -> 0
... A745: ='D-3 Off-Site Habitat Enhancment'!AU256 -> 0 | N745: ='E-3 Off-Site Hedge Enhancement'!AO257 -> 0 | AA745: ='F-3 Off-Site WaterC Enhancement'!AT254 -> 0
A746: ='D-3 Off-Site Habitat Enhancment'!AU257 -> 0 | AA746: ='F-3 Off-Site WaterC Enhancement'!AT255 -> 0
A747: ='D-3 Off-Site Habitat Enhancment'!AU258 -> 0 | AA747: ='F-3 Off-Site WaterC Enhancement'!AT256 -> 0
AA748: ='F-3 Off-Site WaterC Enhancement'!AT257 -> 0

Sheet Irreplaceable Habitats
B2: Irreplaceable area habitats on-site | AG2: Irreplaceable Watercourses on-site
B4: 👁 For further information please refer to the irreplaceable habitats section of the metric user guide. This sheet is autopopulated from the A1 on-site habitat baseline tab, with the exception of irreplaceable habitat name. | AG4: 👁 For further information please refer to the irreplaceable habitats section of the metric user guide. This sheet is autopopulated from the C1 on-site waterC' baseline tab, with the exception of irreplaceable habitat name.
B9: Habitat reference | E9: Metric habitat type | H9: Irreplaceable habitat name | K9: Total area at baseline | M9: Area retained | O9: Area enhanced | S9: Area lost | U9: Bespoke compensation agreed for losses? | Z9: User comments | AA9: Planning authority comments | AB9: Habitat reference number | AC9: Onsite | AD9: Column no | AE9: Off-site | AG9: Habitat reference | AJ9: Habitat type | AM9: Irreplaceable habitat name | AP9: Length (km) at baseline | AR9: Length retained (km) | AT9: Length enhanced (km) | AX9: Length lost (km) | AZ9: Bespoke compensation agreed? | BE9: User comments | BF9: Consenting body comments | BG9: GIS reference number | BH9: GIS reference number | BI9: Column no | BJ9: Offsite | BL9: Bespoke compensation agreed WC? | BM9: Bespoke compensation agreed area?
B10: {=IFERROR(INDEX($AD$10:$AD$259,MATCH(0,IF(TRUE=$AC$10:$AC$259,COUNTIF($B$9:B9,$AD$10:$AD$259),""),0)),"")} | E10: =IF(B10="","",IF(ISNA(VLOOKUP($B10,'A-1 On-Site Habitat Baseline'!$D$1:$AV$258,45,FALSE)),"",(VLOOKUP(B10,'A-1 On-Site Habitat Baseline'!$D$1:$AV$258,45,FALSE)))) | K10: =IF(B10="","",IF(ISNA(VLOOKUP($B10,'A-1 On-Site Habitat Baseline'!$D$1:$AV$258,5,FALSE)),"",(VLOOKUP(B10,'A-1 On-Site Habitat Baseline'!$D$1:$AV$258,5,FALSE)))) | M10: =IF(B10="","",IF(ISNA(VLOOKUP($B10,'A-1 On-Site Habitat Baseline'!$D$1:$AV$258,16,FALSE)),"",(VLOOKUP(B10,'A-1 On-Site Habitat Baseline'!$D$1:$AV$258,16,FALSE)))) | O10: =IF(B10="","",IF(ISNA(VLOOKUP($B10,'A-1 On-Site Habitat Baseline'!$D$1:$AV$258,17,FALSE)),"",(VLOOKUP(B10,'A-1 On-Site Habitat Baseline'!$D$1:$AV$258,17,FALSE)))) | S10: =IFERROR(K10-(M10+O10),"") | U10: =IF(OR(E10="",S10=0),"",IF(BM10="No","No ▲",IF(AND(BM10<>"Yes",E10<>""),"No ▲","Yes ✓"))) | Z10: =IFERROR(IF(LEN(VLOOKUP($B10,'A-1 On-Site Habitat Baseline'!$D$1:$AV$258,23,FALSE))=0,"",IF(B10="","",IF(ISNA(VLOOKUP($B10,'A-1 On-Site Habitat Baseline'!$D$1:$AV$258,23,FALSE)),"",(VLOOKUP(B10,'A-1 On-Site Habitat Baseline'!$D$1:$AV$258,23,FALSE))))),"") | AA10: =IFERROR(IF(LEN(VLOOKUP($B10,'A-1 On-Site Habitat Baseline'!$D$1:$AV$258,24,FALSE))=0,"",IF(B10="","",IF(ISNA(VLOOKUP($B10,'A-1 On-Site Habitat Baseline'!$D$1:$AV$258,24,FALSE)),"",(VLOOKUP(B10,'A-1 On-Site Habitat Baseline'!$D$1:$AV$258,24,FALSE))))),"") | AB10: =IFERROR(IF(LEN(VLOOKUP($B10,'A-1 On-Site Habitat Baseline'!$D$1:$AV$258,25,FALSE))=0,"",IF(B10="","",IF(ISNA(VLOOKUP($B10,'A-1 On-Site Habitat Baseline'!$D$1:$AV$258,25,FALSE)),"",(VLOOKUP(B10,'A-1 On-Site Habitat Baseline'!$D$1:$AV$258,25,FALSE))))),"") | AC10: =IF('A-1 On-Site Habitat Baseline'!G11="","",IF('A-1 On-Site Habitat Baseline'!G11="Yes",TRUE,FALSE)) -> FALSE | AD10: 1 | AE10: =IF('D-1 Off-Site Habitat Baseline'!G11="","",IF('D-1 Off-Site Habitat Baseline'!G11="Yes",TRUE,FALSE)) | AG10: {=IFERROR(INDEX($BI$10:$BI$259,MATCH(0,IF(TRUE=$BH$10:$BH$259,COUNTIF($AG$9:AG9,$BI$10:$BI$259),""),0)),"")} | AJ10: =IF(BH10=FALSE,"",IF(ISNA(VLOOKUP(AG10,'C-1 On-Site WaterC'' Baseline'!C$1:D$257,2,FALSE)),"",(VLOOKUP(AG10,'C-1 On-Site WaterC'' Baseline'!C$1:D$257,2,FALSE)))) | AP10: =IF(AG10="","",IF(ISNA(VLOOKUP($AG10,'C-1 On-Site WaterC'' Baseline'!C$1:E$257,3,FALSE)),"",(VLOOKUP(AG10,'C-1 On-Site WaterC'' Baseline'!C$1:E$257,3,FALSE)))) | AR10: =IF(AG10="","",IF(ISNA(VLOOKUP($AG10,'C-1 On-Site WaterC'' Baseline'!C$1:AA$257,19,FALSE)),"",(VLOOKUP(AG10,'C-1 On-Site WaterC'' Baseline'!C$1:AA$257,19,FALSE)))) | AT10: =IF(AG10="","",IF(ISNA(VLOOKUP($AG10,'C-1 On-Site WaterC'' Baseline'!C$1:AA$257,20,FALSE)),"",(VLOOKUP(AG10,'C-1 On-Site WaterC'' Baseline'!C$1:AA$257,20,FALSE)))) | AX10: =IF(AJ10="","",AP10-(AR10+AT10)) | AZ10: =IF(OR(AJ10="",AX10=0),"",IF(BL10="No","No",IF(AND(BL10<>"Yes",AJ10<>""),"No ▲","Yes ✓"))) | BE10: =IFERROR(IF(LEN(VLOOKUP($AG10,'C-1 On-Site WaterC'' Baseline'!C$1:AE$257,26,FALSE))=0,"",IF(AG10="","",IF(ISNA(VLOOKUP($AG10,'C-1 On-Site WaterC'' Baseline'!C$1:AE$257,26,FALSE)),"",(VLOOKUP(AG10,'C-1 On-Site WaterC'' Baseline'!C$1:AE$257,26,FALSE))))),"") | BF10: =IFERROR(IF(LEN(VLOOKUP($AG10,'C-1 On-Site WaterC'' Baseline'!C$1:AE$257,27,FALSE))=0,"",IF(AG10="","",IF(ISNA(VLOOKUP($AG10,'C-1 On-Site WaterC'' Baseline'!C$1:AE$257,27,FALSE)),"",(VLOOKUP(AG10,'C-1 On-Site WaterC'' Baseline'!C$1:AE$257,27,FALSE))))),"") | BG10: =IFERROR(IF(LEN(VLOOKUP($AG10,'C-1 On-Site WaterC'' Baseline'!C$1:AE$257,28,FALSE))=0,"",IF(AG10="","",IF(ISNA(VLOOKUP($AG10,'C-1 On-Site WaterC'' Baseline'!C$1:AE$257,28,FALSE)),"",(VLOOKUP(AG10,'C-1 On-Site WaterC'' Baseline'!C$1:AE$257,28,FALSE))))),"") | BH10: =IF('C-1 On-Site WaterC'' Baseline'!AU10="","",IF('C-1 On-Site WaterC'' Baseline'!AU10="Yes",TRUE,FALSE)) -> FALSE | BI10: 1 | BJ10: =IF('F-1 Off-Site WaterC'' Baseline'!AU10="","",IF('F-1 Off-Site WaterC'' Baseline'!AU10="Yes",TRUE,FALSE)) | BK10: =IF(AG10="","",IF(AX10=0,"",IF(AND(AG10<>"",AX10>0,AZ10<>"Yes ✓"),"","Irreplaceable habitat lost, bespoke compensation must be agreed with concenting body ▲"))) | BL10: =IF(AG10="","",IF(LEN(VLOOKUP($AG10,'C-1 On-Site WaterC'' Baseline'!$C$1:$AV$257,25,FALSE))=0,"",VLOOKUP(AG10,'C-1 On-Site WaterC'' Baseline'!$C$1:$AV$257,25,FALSE))) | BM10: =IF(B10="","",IF(LEN(VLOOKUP($B10,'A-1 On-Site Habitat Baseline'!$D$1:$AV$258,22,FALSE))=0,"",(VLOOKUP(B10,'A-1 On-Site Habitat Baseline'!$D$1:$AV$258,22,FALSE))))
B11: {=IFERROR(INDEX($AD$10:$AD$259,MATCH(0,IF(TRUE=$AC$10:$AC$259,COUNTIF($B$9:B10,$AD$10:$AD$259),""),0)),"")} | E11: =IF(B11="","",IF(ISNA(VLOOKUP($B11,'A-1 On-Site Habitat Baseline'!$D$1:$AV$258,45,FALSE)),"",(VLOOKUP(B11,'A-1 On-Site Habitat Baseline'!$D$1:$AV$258,45,FALSE)))) | K11: =IF(B11="","",IF(ISNA(VLOOKUP($B11,'A-1 On-Site Habitat Baseline'!$D$1:$AV$258,5,FALSE)),"",(VLOOKUP(B11,'A-1 On-Site Habitat Baseline'!$D$1:$AV$258,5,FALSE)))) | M11: =IF(B11="","",IF(ISNA(VLOOKUP($B11,'A-1 On-Site Habitat Baseline'!$D$1:$AV$258,16,FALSE)),"",(VLOOKUP(B11,'A-1 On-Site Habitat Baseline'!$D$1:$AV$258,16,FALSE)))) | O11: =IF(B11="","",IF(ISNA(VLOOKUP($B11,'A-1 On-Site Habitat Baseline'!$D$1:$AV$258,17,FALSE)),"",(VLOOKUP(B11,'A-1 On-Site Habitat Baseline'!$D$1:$AV$258,17,FALSE)))) | S11: =IFERROR(K11-(M11+O11),"") | U11: =IF(OR(E11="",S11=0),"",IF(BM11="No","No ▲",IF(AND(BM11<>"Yes",E11<>""),"No ▲","Yes ✓"))) | Z11: =IFERROR(IF(LEN(VLOOKUP($B11,'A-1 On-Site Habitat Baseline'!$D$1:$AV$258,23,FALSE))=0,"",IF(B11="","",IF(ISNA(VLOOKUP($B11,'A-1 On-Site Habitat Baseline'!$D$1:$AV$258,23,FALSE)),"",(VLOOKUP(B11,'A-1 On-Site Habitat Baseline'!$D$1:$AV$258,23,FALSE))))),"") | AA11: =IFERROR(IF(LEN(VLOOKUP($B11,'A-1 On-Site Habitat Baseline'!$D$1:$AV$258,24,FALSE))=0,"",IF(B11="","",IF(ISNA(VLOOKUP($B11,'A-1 On-Site Habitat Baseline'!$D$1:$AV$258,24,FALSE)),"",(VLOOKUP(B11,'A-1 On-Site Habitat Baseline'!$D$1:$AV$258,24,FALSE))))),"") | AB11: =IFERROR(IF(LEN(VLOOKUP($B11,'A-1 On-Site Habitat Baseline'!$D$1:$AV$258,25,FALSE))=0,"",IF(B11="","",IF(ISNA(VLOOKUP($B11,'A-1 On-Site Habitat Baseline'!$D$1:$AV$258,25,FALSE)),"",(VLOOKUP(B11,'A-1 On-Site Habitat Baseline'!$D$1:$AV$258,25,FALSE))))),"") | AC11: =IF('A-1 On-Site Habitat Baseline'!G12="","",IF('A-1 On-Site Habitat Baseline'!G12="Yes",TRUE,FALSE)) -> FALSE | AD11: 2 | AE11: =IF('D-1 Off-Site Habitat Baseline'!G12="","",IF('D-1 Off-Site Habitat Baseline'!G12="Yes",TRUE,FALSE)) | AG11: {=IFERROR(INDEX($BI$10:$BI$259,MATCH(0,IF(TRUE=$BH$10:$BH$259,COUNTIF($AG$9:AG10,$BI$10:$BI$259),""),0)),"")} | AJ11: =IF(BH11=FALSE,"",IF(ISNA(VLOOKUP(AG11,'C-1 On-Site WaterC'' Baseline'!C$1:D$257,2,FALSE)),"",(VLOOKUP(AG11,'C-1 On-Site WaterC'' Baseline'!C$1:D$257,2,FALSE)))) | AP11: =IF(AG11="","",IF(ISNA(VLOOKUP($AG11,'C-1 On-Site WaterC'' Baseline'!C$1:E$257,3,FALSE)),"",(VLOOKUP(AG11,'C-1 On-Site WaterC'' Baseline'!C$1:E$257,3,FALSE)))) | AR11: =IF(AG11="","",IF(ISNA(VLOOKUP($AG11,'C-1 On-Site WaterC'' Baseline'!C$1:AA$257,19,FALSE)),"",(VLOOKUP(AG11,'C-1 On-Site WaterC'' Baseline'!C$1:AA$257,19,FALSE)))) | AT11: =IF(AG11="","",IF(ISNA(VLOOKUP($AG11,'C-1 On-Site WaterC'' Baseline'!C$1:AA$257,20,FALSE)),"",(VLOOKUP(AG11,'C-1 On-Site WaterC'' Baseline'!C$1:AA$257,20,FALSE)))) | AX11: =IF(AJ11="","",AP11-(AR11+AT11)) | AZ11: =IF(OR(AJ11="",AX11=0),"",IF(BL11="No","No",IF(AND(BL11<>"Yes",AJ11<>""),"No ▲","Yes ✓"))) | BE11: =IFERROR(IF(LEN(VLOOKUP($AG11,'C-1 On-Site WaterC'' Baseline'!C$1:AE$257,26,FALSE))=0,"",IF(AG11="","",IF(ISNA(VLOOKUP($AG11,'C-1 On-Site WaterC'' Baseline'!C$1:AE$257,26,FALSE)),"",(VLOOKUP(AG11,'C-1 On-Site WaterC'' Baseline'!C$1:AE$257,26,FALSE))))),"") | BF11: =IFERROR(IF(LEN(VLOOKUP($AG11,'C-1 On-Site WaterC'' Baseline'!C$1:AE$257,27,FALSE))=0,"",IF(AG11="","",IF(ISNA(VLOOKUP($AG11,'C-1 On-Site WaterC'' Baseline'!C$1:AE$257,27,FALSE)),"",(VLOOKUP(AG11,'C-1 On-Site WaterC'' Baseline'!C$1:AE$257,27,FALSE))))),"") | BG11: =IFERROR(IF(LEN(VLOOKUP($AG11,'C-1 On-Site WaterC'' Baseline'!C$1:AE$257,28,FALSE))=0,"",IF(AG11="","",IF(ISNA(VLOOKUP($AG11,'C-1 On-Site WaterC'' Baseline'!C$1:AE$257,28,FALSE)),"",(VLOOKUP(AG11,'C-1 On-Site WaterC'' Baseline'!C$1:AE$257,28,FALSE))))),"") | BH11: =IF('C-1 On-Site WaterC'' Baseline'!AU11="","",IF('C-1 On-Site WaterC'' Baseline'!AU11="Yes",TRUE,FALSE)) | BI11: 2 | BJ11: =IF('F-1 Off-Site WaterC'' Baseline'!AU11="","",IF('F-1 Off-Site WaterC'' Baseline'!AU11="Yes",TRUE,FALSE)) | BK11: =IF(AG11="","",IF(AX11=0,"",IF(AND(AG11<>"",AX11>0,AZ11<>"Yes ✓"),"","Irreplaceable habitat lost, bespoke compensation must be agreed with concenting body ▲"))) | BL11: =IF(AG11="","",IF(LEN(VLOOKUP($AG11,'C-1 On-Site WaterC'' Baseline'!$C$1:$AV$257,25,FALSE))=0,"",VLOOKUP(AG11,'C-1 On-Site WaterC'' Baseline'!$C$1:$AV$257,25,FALSE))) | BM11: =IF(B11="","",IF(LEN(VLOOKUP($B11,'A-1 On-Site Habitat Baseline'!$D$1:$AV$258,22,FALSE))=0,"",(VLOOKUP(B11,'A-1 On-Site Habitat Baseline'!$D$1:$AV$258,22,FALSE))))
B12: {=IFERROR(INDEX($AD$10:$AD$259,MATCH(0,IF(TRUE=$AC$10:$AC$259,COUNTIF($B$9:B11,$AD$10:$AD$259),""),0)),"")} | E12: =IF(B12="","",IF(ISNA(VLOOKUP($B12,'A-1 On-Site Habitat Baseline'!$D$1:$AV$258,45,FALSE)),"",(VLOOKUP(B12,'A-1 On-Site Habitat Baseline'!$D$1:$AV$258,45,FALSE)))) | K12: =IF(B12="","",IF(ISNA(VLOOKUP($B12,'A-1 On-Site Habitat Baseline'!$D$1:$AV$258,5,FALSE)),"",(VLOOKUP(B12,'A-1 On-Site Habitat Baseline'!$D$1:$AV$258,5,FALSE)))) | M12: =IF(B12="","",IF(ISNA(VLOOKUP($B12,'A-1 On-Site Habitat Baseline'!$D$1:$AV$258,16,FALSE)),"",(VLOOKUP(B12,'A-1 On-Site Habitat Baseline'!$D$1:$AV$258,16,FALSE)))) | O12: =IF(B12="","",IF(ISNA(VLOOKUP($B12,'A-1 On-Site Habitat Baseline'!$D$1:$AV$258,17,FALSE)),"",(VLOOKUP(B12,'A-1 On-Site Habitat Baseline'!$D$1:$AV$258,17,FALSE)))) | S12: =IFERROR(K12-(M12+O12),"") | U12: =IF(OR(E12="",S12=0),"",IF(BM12="No","No ▲",IF(AND(BM12<>"Yes",E12<>""),"No ▲","Yes ✓"))) | Z12: =IFERROR(IF(LEN(VLOOKUP($B12,'A-1 On-Site Habitat Baseline'!$D$1:$AV$258,23,FALSE))=0,"",IF(B12="","",IF(ISNA(VLOOKUP($B12,'A-1 On-Site Habitat Baseline'!$D$1:$AV$258,23,FALSE)),"",(VLOOKUP(B12,'A-1 On-Site Habitat Baseline'!$D$1:$AV$258,23,FALSE))))),"") | AA12: =IFERROR(IF(LEN(VLOOKUP($B12,'A-1 On-Site Habitat Baseline'!$D$1:$AV$258,24,FALSE))=0,"",IF(B12="","",IF(ISNA(VLOOKUP($B12,'A-1 On-Site Habitat Baseline'!$D$1:$AV$258,24,FALSE)),"",(VLOOKUP(B12,'A-1 On-Site Habitat Baseline'!$D$1:$AV$258,24,FALSE))))),"") | AB12: =IFERROR(IF(LEN(VLOOKUP($B12,'A-1 On-Site Habitat Baseline'!$D$1:$AV$258,25,FALSE))=0,"",IF(B12="","",IF(ISNA(VLOOKUP($B12,'A-1 On-Site Habitat Baseline'!$D$1:$AV$258,25,FALSE)),"",(VLOOKUP(B12,'A-1 On-Site Habitat Baseline'!$D$1:$AV$258,25,FALSE))))),"") | AC12: =IF('A-1 On-Site Habitat Baseline'!G13="","",IF('A-1 On-Site Habitat Baseline'!G13="Yes",TRUE,FALSE)) -> FALSE | AD12: 3 | AE12: =IF('D-1 Off-Site Habitat Baseline'!G13="","",IF('D-1 Off-Site Habitat Baseline'!G13="Yes",TRUE,FALSE)) | AG12: {=IFERROR(INDEX($BI$10:$BI$259,MATCH(0,IF(TRUE=$BH$10:$BH$259,COUNTIF($AG$9:AG11,$BI$10:$BI$259),""),0)),"")} | AJ12: =IF(BH12=FALSE,"",IF(ISNA(VLOOKUP(AG12,'C-1 On-Site WaterC'' Baseline'!C$1:D$257,2,FALSE)),"",(VLOOKUP(AG12,'C-1 On-Site WaterC'' Baseline'!C$1:D$257,2,FALSE)))) | AP12: =IF(AG12="","",IF(ISNA(VLOOKUP($AG12,'C-1 On-Site WaterC'' Baseline'!C$1:E$257,3,FALSE)),"",(VLOOKUP(AG12,'C-1 On-Site WaterC'' Baseline'!C$1:E$257,3,FALSE)))) | AR12: =IF(AG12="","",IF(ISNA(VLOOKUP($AG12,'C-1 On-Site WaterC'' Baseline'!C$1:AA$257,19,FALSE)),"",(VLOOKUP(AG12,'C-1 On-Site WaterC'' Baseline'!C$1:AA$257,19,FALSE)))) | AT12: =IF(AG12="","",IF(ISNA(VLOOKUP($AG12,'C-1 On-Site WaterC'' Baseline'!C$1:AA$257,20,FALSE)),"",(VLOOKUP(AG12,'C-1 On-Site WaterC'' Baseline'!C$1:AA$257,20,FALSE)))) | AX12: =IF(AJ12="","",AP12-(AR12+AT12)) | AZ12: =IF(OR(AJ12="",AX12=0),"",IF(BL12="No","No",IF(AND(BL12<>"Yes",AJ12<>""),"No ▲","Yes ✓"))) | BE12: =IFERROR(IF(LEN(VLOOKUP($AG12,'C-1 On-Site WaterC'' Baseline'!C$1:AE$257,26,FALSE))=0,"",IF(AG12="","",IF(ISNA(VLOOKUP($AG12,'C-1 On-Site WaterC'' Baseline'!C$1:AE$257,26,FALSE)),"",(VLOOKUP(AG12,'C-1 On-Site WaterC'' Baseline'!C$1:AE$257,26,FALSE))))),"") | BF12: =IFERROR(IF(LEN(VLOOKUP($AG12,'C-1 On-Site WaterC'' Baseline'!C$1:AE$257,27,FALSE))=0,"",IF(AG12="","",IF(ISNA(VLOOKUP($AG12,'C-1 On-Site WaterC'' Baseline'!C$1:AE$257,27,FALSE)),"",(VLOOKUP(AG12,'C-1 On-Site WaterC'' Baseline'!C$1:AE$257,27,FALSE))))),"") | BG12: =IFERROR(IF(LEN(VLOOKUP($AG12,'C-1 On-Site WaterC'' Baseline'!C$1:AE$257,28,FALSE))=0,"",IF(AG12="","",IF(ISNA(VLOOKUP($AG12,'C-1 On-Site WaterC'' Baseline'!C$1:AE$257,28,FALSE)),"",(VLOOKUP(AG12,'C-1 On-Site WaterC'' Baseline'!C$1:AE$257,28,FALSE))))),"") | BH12: =IF('C-1 On-Site WaterC'' Baseline'!AU12="","",IF('C-1 On-Site WaterC'' Baseline'!AU12="Yes",TRUE,FALSE)) | BI12: 3 | BJ12: =IF('F-1 Off-Site WaterC'' Baseline'!AU12="","",IF('F-1 Off-Site WaterC'' Baseline'!AU12="Yes",TRUE,FALSE)) | BK12: =IF(AG12="","",IF(AX12=0,"",IF(AND(AG12<>"",AX12>0,AZ12<>"Yes ✓"),"","Irreplaceable habitat lost, bespoke compensation must be agreed with concenting body ▲"))) | BL12: =IF(AG12="","",IF(LEN(VLOOKUP($AG12,'C-1 On-Site WaterC'' Baseline'!$C$1:$AV$257,25,FALSE))=0,"",VLOOKUP(AG12,'C-1 On-Site WaterC'' Baseline'!$C$1:$AV$257,25,FALSE))) | BM12: =IF(B12="","",IF(LEN(VLOOKUP($B12,'A-1 On-Site Habitat Baseline'!$D$1:$AV$258,22,FALSE))=0,"",(VLOOKUP(B12,'A-1 On-Site Habitat Baseline'!$D$1:$AV$258,22,FALSE))))
B13: {=IFERROR(INDEX($AD$10:$AD$259,MATCH(0,IF(TRUE=$AC$10:$AC$259,COUNTIF($B$9:B12,$AD$10:$AD$259),""),0)),"")} | E13: =IF(B13="","",IF(ISNA(VLOOKUP($B13,'A-1 On-Site Habitat Baseline'!$D$1:$AV$258,45,FALSE)),"",(VLOOKUP(B13,'A-1 On-Site Habitat Baseline'!$D$1:$AV$258,45,FALSE)))) | K13: =IF(B13="","",IF(ISNA(VLOOKUP($B13,'A-1 On-Site Habitat Baseline'!$D$1:$AV$258,5,FALSE)),"",(VLOOKUP(B13,'A-1 On-Site Habitat Baseline'!$D$1:$AV$258,5,FALSE)))) | M13: =IF(B13="","",IF(ISNA(VLOOKUP($B13,'A-1 On-Site Habitat Baseline'!$D$1:$AV$258,16,FALSE)),"",(VLOOKUP(B13,'A-1 On-Site Habitat Baseline'!$D$1:$AV$258,16,FALSE)))) | O13: =IF(B13="","",IF(ISNA(VLOOKUP($B13,'A-1 On-Site Habitat Baseline'!$D$1:$AV$258,17,FALSE)),"",(VLOOKUP(B13,'A-1 On-Site Habitat Baseline'!$D$1:$AV$258,17,FALSE)))) | S13: =IFERROR(K13-(M13+O13),"") | U13: =IF(OR(E13="",S13=0),"",IF(BM13="No","No ▲",IF(AND(BM13<>"Yes",E13<>""),"No ▲","Yes ✓"))) | Z13: =IFERROR(IF(LEN(VLOOKUP($B13,'A-1 On-Site Habitat Baseline'!$D$1:$AV$258,23,FALSE))=0,"",IF(B13="","",IF(ISNA(VLOOKUP($B13,'A-1 On-Site Habitat Baseline'!$D$1:$AV$258,23,FALSE)),"",(VLOOKUP(B13,'A-1 On-Site Habitat Baseline'!$D$1:$AV$258,23,FALSE))))),"") | AA13: =IFERROR(IF(LEN(VLOOKUP($B13,'A-1 On-Site Habitat Baseline'!$D$1:$AV$258,24,FALSE))=0,"",IF(B13="","",IF(ISNA(VLOOKUP($B13,'A-1 On-Site Habitat Baseline'!$D$1:$AV$258,24,FALSE)),"",(VLOOKUP(B13,'A-1 On-Site Habitat Baseline'!$D$1:$AV$258,24,FALSE))))),"") | AB13: =IFERROR(IF(LEN(VLOOKUP($B13,'A-1 On-Site Habitat Baseline'!$D$1:$AV$258,25,FALSE))=0,"",IF(B13="","",IF(ISNA(VLOOKUP($B13,'A-1 On-Site Habitat Baseline'!$D$1:$AV$258,25,FALSE)),"",(VLOOKUP(B13,'A-1 On-Site Habitat Baseline'!$D$1:$AV$258,25,FALSE))))),"") | AC13: =IF('A-1 On-Site Habitat Baseline'!G14="","",IF('A-1 On-Site Habitat Baseline'!G14="Yes",TRUE,FALSE)) -> FALSE | AD13: 4 | AE13: =IF('D-1 Off-Site Habitat Baseline'!G14="","",IF('D-1 Off-Site Habitat Baseline'!G14="Yes",TRUE,FALSE)) | AG13: {=IFERROR(INDEX($BI$10:$BI$259,MATCH(0,IF(TRUE=$BH$10:$BH$259,COUNTIF($AG$9:AG12,$BI$10:$BI$259),""),0)),"")} | AJ13: =IF(BH13=FALSE,"",IF(ISNA(VLOOKUP(AG13,'C-1 On-Site WaterC'' Baseline'!C$1:D$257,2,FALSE)),"",(VLOOKUP(AG13,'C-1 On-Site WaterC'' Baseline'!C$1:D$257,2,FALSE)))) | AP13: =IF(AG13="","",IF(ISNA(VLOOKUP($AG13,'C-1 On-Site WaterC'' Baseline'!C$1:E$257,3,FALSE)),"",(VLOOKUP(AG13,'C-1 On-Site WaterC'' Baseline'!C$1:E$257,3,FALSE)))) | AR13: =IF(AG13="","",IF(ISNA(VLOOKUP($AG13,'C-1 On-Site WaterC'' Baseline'!C$1:AA$257,19,FALSE)),"",(VLOOKUP(AG13,'C-1 On-Site WaterC'' Baseline'!C$1:AA$257,19,FALSE)))) | AT13: =IF(AG13="","",IF(ISNA(VLOOKUP($AG13,'C-1 On-Site WaterC'' Baseline'!C$1:AA$257,20,FALSE)),"",(VLOOKUP(AG13,'C-1 On-Site WaterC'' Baseline'!C$1:AA$257,20,FALSE)))) | AX13: =IF(AJ13="","",AP13-(AR13+AT13)) | AZ13: =IF(OR(AJ13="",AX13=0),"",IF(BL13="No","No",IF(AND(BL13<>"Yes",AJ13<>""),"No ▲","Yes ✓"))) | BE13: =IFERROR(IF(LEN(VLOOKUP($AG13,'C-1 On-Site WaterC'' Baseline'!C$1:AE$257,26,FALSE))=0,"",IF(AG13="","",IF(ISNA(VLOOKUP($AG13,'C-1 On-Site WaterC'' Baseline'!C$1:AE$257,26,FALSE)),"",(VLOOKUP(AG13,'C-1 On-Site WaterC'' Baseline'!C$1:AE$257,26,FALSE))))),"") | BF13: =IFERROR(IF(LEN(VLOOKUP($AG13,'C-1 On-Site WaterC'' Baseline'!C$1:AE$257,27,FALSE))=0,"",IF(AG13="","",IF(ISNA(VLOOKUP($AG13,'C-1 On-Site WaterC'' Baseline'!C$1:AE$257,27,FALSE)),"",(VLOOKUP(AG13,'C-1 On-Site WaterC'' Baseline'!C$1:AE$257,27,FALSE))))),"") | BG13: =IFERROR(IF(LEN(VLOOKUP($AG13,'C-1 On-Site WaterC'' Baseline'!C$1:AE$257,28,FALSE))=0,"",IF(AG13="","",IF(ISNA(VLOOKUP($AG13,'C-1 On-Site WaterC'' Baseline'!C$1:AE$257,28,FALSE)),"",(VLOOKUP(AG13,'C-1 On-Site WaterC'' Baseline'!C$1:AE$257,28,FALSE))))),"") | BH13: =IF('C-1 On-Site WaterC'' Baseline'!AU13="","",IF('C-1 On-Site WaterC'' Baseline'!AU13="Yes",TRUE,FALSE)) | BI13: 4 | BJ13: =IF('F-1 Off-Site WaterC'' Baseline'!AU13="","",IF('F-1 Off-Site WaterC'' Baseline'!AU13="Yes",TRUE,FALSE)) | BK13: =IF(AG13="","",IF(AX13=0,"",IF(AND(AG13<>"",AX13>0,AZ13<>"Yes ✓"),"","Irreplaceable habitat lost, bespoke compensation must be agreed with concenting body ▲"))) | BL13: =IF(AG13="","",IF(LEN(VLOOKUP($AG13,'C-1 On-Site WaterC'' Baseline'!$C$1:$AV$257,25,FALSE))=0,"",VLOOKUP(AG13,'C-1 On-Site WaterC'' Baseline'!$C$1:$AV$257,25,FALSE))) | BM13: =IF(B13="","",IF(LEN(VLOOKUP($B13,'A-1 On-Site Habitat Baseline'!$D$1:$AV$258,22,FALSE))=0,"",(VLOOKUP(B13,'A-1 On-Site Habitat Baseline'!$D$1:$AV$258,22,FALSE))))
B14: {=IFERROR(INDEX($AD$10:$AD$259,MATCH(0,IF(TRUE=$AC$10:$AC$259,COUNTIF($B$9:B13,$AD$10:$AD$259),""),0)),"")} | E14: =IF(B14="","",IF(ISNA(VLOOKUP($B14,'A-1 On-Site Habitat Baseline'!$D$1:$AV$258,45,FALSE)),"",(VLOOKUP(B14,'A-1 On-Site Habitat Baseline'!$D$1:$AV$258,45,FALSE)))) | K14: =IF(B14="","",IF(ISNA(VLOOKUP($B14,'A-1 On-Site Habitat Baseline'!$D$1:$AV$258,5,FALSE)),"",(VLOOKUP(B14,'A-1 On-Site Habitat Baseline'!$D$1:$AV$258,5,FALSE)))) | M14: =IF(B14="","",IF(ISNA(VLOOKUP($B14,'A-1 On-Site Habitat Baseline'!$D$1:$AV$258,16,FALSE)),"",(VLOOKUP(B14,'A-1 On-Site Habitat Baseline'!$D$1:$AV$258,16,FALSE)))) | O14: =IF(B14="","",IF(ISNA(VLOOKUP($B14,'A-1 On-Site Habitat Baseline'!$D$1:$AV$258,17,FALSE)),"",(VLOOKUP(B14,'A-1 On-Site Habitat Baseline'!$D$1:$AV$258,17,FALSE)))) | S14: =IFERROR(K14-(M14+O14),"") | U14: =IF(OR(E14="",S14=0),"",IF(BM14="No","No ▲",IF(AND(BM14<>"Yes",E14<>""),"No ▲","Yes ✓"))) | Z14: =IFERROR(IF(LEN(VLOOKUP($B14,'A-1 On-Site Habitat Baseline'!$D$1:$AV$258,23,FALSE))=0,"",IF(B14="","",IF(ISNA(VLOOKUP($B14,'A-1 On-Site Habitat Baseline'!$D$1:$AV$258,23,FALSE)),"",(VLOOKUP(B14,'A-1 On-Site Habitat Baseline'!$D$1:$AV$258,23,FALSE))))),"") | AA14: =IFERROR(IF(LEN(VLOOKUP($B14,'A-1 On-Site Habitat Baseline'!$D$1:$AV$258,24,FALSE))=0,"",IF(B14="","",IF(ISNA(VLOOKUP($B14,'A-1 On-Site Habitat Baseline'!$D$1:$AV$258,24,FALSE)),"",(VLOOKUP(B14,'A-1 On-Site Habitat Baseline'!$D$1:$AV$258,24,FALSE))))),"") | AB14: =IFERROR(IF(LEN(VLOOKUP($B14,'A-1 On-Site Habitat Baseline'!$D$1:$AV$258,25,FALSE))=0,"",IF(B14="","",IF(ISNA(VLOOKUP($B14,'A-1 On-Site Habitat Baseline'!$D$1:$AV$258,25,FALSE)),"",(VLOOKUP(B14,'A-1 On-Site Habitat Baseline'!$D$1:$AV$258,25,FALSE))))),"") | AC14: =IF('A-1 On-Site Habitat Baseline'!G15="","",IF('A-1 On-Site Habitat Baseline'!G15="Yes",TRUE,FALSE)) -> FALSE | AD14: 5 | AE14: =IF('D-1 Off-Site Habitat Baseline'!G15="","",IF('D-1 Off-Site Habitat Baseline'!G15="Yes",TRUE,FALSE)) | AG14: {=IFERROR(INDEX($BI$10:$BI$259,MATCH(0,IF(TRUE=$BH$10:$BH$259,COUNTIF($AG$9:AG13,$BI$10:$BI$259),""),0)),"")} | AJ14: =IF(BH14=FALSE,"",IF(ISNA(VLOOKUP(AG14,'C-1 On-Site WaterC'' Baseline'!C$1:D$257,2,FALSE)),"",(VLOOKUP(AG14,'C-1 On-Site WaterC'' Baseline'!C$1:D$257,2,FALSE)))) | AP14: =IF(AG14="","",IF(ISNA(VLOOKUP($AG14,'C-1 On-Site WaterC'' Baseline'!C$1:E$257,3,FALSE)),"",(VLOOKUP(AG14,'C-1 On-Site WaterC'' Baseline'!C$1:E$257,3,FALSE)))) | AR14: =IF(AG14="","",IF(ISNA(VLOOKUP($AG14,'C-1 On-Site WaterC'' Baseline'!C$1:AA$257,19,FALSE)),"",(VLOOKUP(AG14,'C-1 On-Site WaterC'' Baseline'!C$1:AA$257,19,FALSE)))) | AT14: =IF(AG14="","",IF(ISNA(VLOOKUP($AG14,'C-1 On-Site WaterC'' Baseline'!C$1:AA$257,20,FALSE)),"",(VLOOKUP(AG14,'C-1 On-Site WaterC'' Baseline'!C$1:AA$257,20,FALSE)))) | AX14: =IF(AJ14="","",AP14-(AR14+AT14)) | AZ14: =IF(OR(AJ14="",AX14=0),"",IF(BL14="No","No",IF(AND(BL14<>"Yes",AJ14<>""),"No ▲","Yes ✓"))) | BE14: =IFERROR(IF(LEN(VLOOKUP($AG14,'C-1 On-Site WaterC'' Baseline'!C$1:AE$257,26,FALSE))=0,"",IF(AG14="","",IF(ISNA(VLOOKUP($AG14,'C-1 On-Site WaterC'' Baseline'!C$1:AE$257,26,FALSE)),"",(VLOOKUP(AG14,'C-1 On-Site WaterC'' Baseline'!C$1:AE$257,26,FALSE))))),"") | BF14: =IFERROR(IF(LEN(VLOOKUP($AG14,'C-1 On-Site WaterC'' Baseline'!C$1:AE$257,27,FALSE))=0,"",IF(AG14="","",IF(ISNA(VLOOKUP($AG14,'C-1 On-Site WaterC'' Baseline'!C$1:AE$257,27,FALSE)),"",(VLOOKUP(AG14,'C-1 On-Site WaterC'' Baseline'!C$1:AE$257,27,FALSE))))),"") | BG14: =IFERROR(IF(LEN(VLOOKUP($AG14,'C-1 On-Site WaterC'' Baseline'!C$1:AE$257,28,FALSE))=0,"",IF(AG14="","",IF(ISNA(VLOOKUP($AG14,'C-1 On-Site WaterC'' Baseline'!C$1:AE$257,28,FALSE)),"",(VLOOKUP(AG14,'C-1 On-Site WaterC'' Baseline'!C$1:AE$257,28,FALSE))))),"") | BH14: =IF('C-1 On-Site WaterC'' Baseline'!AU14="","",IF('C-1 On-Site WaterC'' Baseline'!AU14="Yes",TRUE,FALSE)) | BI14: 5 | BJ14: =IF('F-1 Off-Site WaterC'' Baseline'!AU14="","",IF('F-1 Off-Site WaterC'' Baseline'!AU14="Yes",TRUE,FALSE)) | BK14: =IF(AG14="","",IF(AX14=0,"",IF(AND(AG14<>"",AX14>0,AZ14<>"Yes ✓"),"","Irreplaceable habitat lost, bespoke compensation must be agreed with concenting body ▲"))) | BL14: =IF(AG14="","",IF(LEN(VLOOKUP($AG14,'C-1 On-Site WaterC'' Baseline'!$C$1:$AV$257,25,FALSE))=0,"",VLOOKUP(AG14,'C-1 On-Site WaterC'' Baseline'!$C$1:$AV$257,25,FALSE))) | BM14: =IF(B14="","",IF(LEN(VLOOKUP($B14,'A-1 On-Site Habitat Baseline'!$D$1:$AV$258,22,FALSE))=0,"",(VLOOKUP(B14,'A-1 On-Site Habitat Baseline'!$D$1:$AV$258,22,FALSE))))
B15: {=IFERROR(INDEX($AD$10:$AD$259,MATCH(0,IF(TRUE=$AC$10:$AC$259,COUNTIF($B$9:B14,$AD$10:$AD$259),""),0)),"")} | E15: =IF(B15="","",IF(ISNA(VLOOKUP($B15,'A-1 On-Site Habitat Baseline'!$D$1:$AV$258,45,FALSE)),"",(VLOOKUP(B15,'A-1 On-Site Habitat Baseline'!$D$1:$AV$258,45,FALSE)))) | K15: =IF(B15="","",IF(ISNA(VLOOKUP($B15,'A-1 On-Site Habitat Baseline'!$D$1:$AV$258,5,FALSE)),"",(VLOOKUP(B15,'A-1 On-Site Habitat Baseline'!$D$1:$AV$258,5,FALSE)))) | M15: =IF(B15="","",IF(ISNA(VLOOKUP($B15,'A-1 On-Site Habitat Baseline'!$D$1:$AV$258,16,FALSE)),"",(VLOOKUP(B15,'A-1 On-Site Habitat Baseline'!$D$1:$AV$258,16,FALSE)))) | O15: =IF(B15="","",IF(ISNA(VLOOKUP($B15,'A-1 On-Site Habitat Baseline'!$D$1:$AV$258,17,FALSE)),"",(VLOOKUP(B15,'A-1 On-Site Habitat Baseline'!$D$1:$AV$258,17,FALSE)))) | S15: =IFERROR(K15-(M15+O15),"") | U15: =IF(OR(E15="",S15=0),"",IF(BM15="No","No ▲",IF(AND(BM15<>"Yes",E15<>""),"No ▲","Yes ✓"))) | Z15: =IFERROR(IF(LEN(VLOOKUP($B15,'A-1 On-Site Habitat Baseline'!$D$1:$AV$258,23,FALSE))=0,"",IF(B15="","",IF(ISNA(VLOOKUP($B15,'A-1 On-Site Habitat Baseline'!$D$1:$AV$258,23,FALSE)),"",(VLOOKUP(B15,'A-1 On-Site Habitat Baseline'!$D$1:$AV$258,23,FALSE))))),"") | AA15: =IFERROR(IF(LEN(VLOOKUP($B15,'A-1 On-Site Habitat Baseline'!$D$1:$AV$258,24,FALSE))=0,"",IF(B15="","",IF(ISNA(VLOOKUP($B15,'A-1 On-Site Habitat Baseline'!$D$1:$AV$258,24,FALSE)),"",(VLOOKUP(B15,'A-1 On-Site Habitat Baseline'!$D$1:$AV$258,24,FALSE))))),"") | AB15: =IFERROR(IF(LEN(VLOOKUP($B15,'A-1 On-Site Habitat Baseline'!$D$1:$AV$258,25,FALSE))=0,"",IF(B15="","",IF(ISNA(VLOOKUP($B15,'A-1 On-Site Habitat Baseline'!$D$1:$AV$258,25,FALSE)),"",(VLOOKUP(B15,'A-1 On-Site Habitat Baseline'!$D$1:$AV$258,25,FALSE))))),"") | AC15: =IF('A-1 On-Site Habitat Baseline'!G16="","",IF('A-1 On-Site Habitat Baseline'!G16="Yes",TRUE,FALSE)) -> FALSE | AD15: 6 | AE15: =IF('D-1 Off-Site Habitat Baseline'!G16="","",IF('D-1 Off-Site Habitat Baseline'!G16="Yes",TRUE,FALSE)) | AG15: {=IFERROR(INDEX($BI$10:$BI$259,MATCH(0,IF(TRUE=$BH$10:$BH$259,COUNTIF($AG$9:AG14,$BI$10:$BI$259),""),0)),"")} | AJ15: =IF(BH15=FALSE,"",IF(ISNA(VLOOKUP(AG15,'C-1 On-Site WaterC'' Baseline'!C$1:D$257,2,FALSE)),"",(VLOOKUP(AG15,'C-1 On-Site WaterC'' Baseline'!C$1:D$257,2,FALSE)))) | AP15: =IF(AG15="","",IF(ISNA(VLOOKUP($AG15,'C-1 On-Site WaterC'' Baseline'!C$1:E$257,3,FALSE)),"",(VLOOKUP(AG15,'C-1 On-Site WaterC'' Baseline'!C$1:E$257,3,FALSE)))) | AR15: =IF(AG15="","",IF(ISNA(VLOOKUP($AG15,'C-1 On-Site WaterC'' Baseline'!C$1:AA$257,19,FALSE)),"",(VLOOKUP(AG15,'C-1 On-Site WaterC'' Baseline'!C$1:AA$257,19,FALSE)))) | AT15: =IF(AG15="","",IF(ISNA(VLOOKUP($AG15,'C-1 On-Site WaterC'' Baseline'!C$1:AA$257,20,FALSE)),"",(VLOOKUP(AG15,'C-1 On-Site WaterC'' Baseline'!C$1:AA$257,20,FALSE)))) | AX15: =IF(AJ15="","",AP15-(AR15+AT15)) | AZ15: =IF(OR(AJ15="",AX15=0),"",IF(BL15="No","No",IF(AND(BL15<>"Yes",AJ15<>""),"No ▲","Yes ✓"))) | BE15: =IFERROR(IF(LEN(VLOOKUP($AG15,'C-1 On-Site WaterC'' Baseline'!C$1:AE$257,26,FALSE))=0,"",IF(AG15="","",IF(ISNA(VLOOKUP($AG15,'C-1 On-Site WaterC'' Baseline'!C$1:AE$257,26,FALSE)),"",(VLOOKUP(AG15,'C-1 On-Site WaterC'' Baseline'!C$1:AE$257,26,FALSE))))),"") | BF15: =IFERROR(IF(LEN(VLOOKUP($AG15,'C-1 On-Site WaterC'' Baseline'!C$1:AE$257,27,FALSE))=0,"",IF(AG15="","",IF(ISNA(VLOOKUP($AG15,'C-1 On-Site WaterC'' Baseline'!C$1:AE$257,27,FALSE)),"",(VLOOKUP(AG15,'C-1 On-Site WaterC'' Baseline'!C$1:AE$257,27,FALSE))))),"") | BG15: =IFERROR(IF(LEN(VLOOKUP($AG15,'C-1 On-Site WaterC'' Baseline'!C$1:AE$257,28,FALSE))=0,"",IF(AG15="","",IF(ISNA(VLOOKUP($AG15,'C-1 On-Site WaterC'' Baseline'!C$1:AE$257,28,FALSE)),"",(VLOOKUP(AG15,'C-1 On-Site WaterC'' Baseline'!C$1:AE$257,28,FALSE))))),"") | BH15: =IF('C-1 On-Site WaterC'' Baseline'!AU15="","",IF('C-1 On-Site WaterC'' Baseline'!AU15="Yes",TRUE,FALSE)) | BI15: 6 | BJ15: =IF('F-1 Off-Site WaterC'' Baseline'!AU15="","",IF('F-1 Off-Site WaterC'' Baseline'!AU15="Yes",TRUE,FALSE)) | BK15: =IF(AG15="","",IF(AX15=0,"",IF(AND(AG15<>"",AX15>0,AZ15<>"Yes ✓"),"","Irreplaceable habitat lost, bespoke compensation must be agreed with concenting body ▲"))) | BL15: =IF(AG15="","",IF(LEN(VLOOKUP($AG15,'C-1 On-Site WaterC'' Baseline'!$C$1:$AV$257,25,FALSE))=0,"",VLOOKUP(AG15,'C-1 On-Site WaterC'' Baseline'!$C$1:$AV$257,25,FALSE))) | BM15: =IF(B15="","",IF(LEN(VLOOKUP($B15,'A-1 On-Site Habitat Baseline'!$D$1:$AV$258,22,FALSE))=0,"",(VLOOKUP(B15,'A-1 On-Site Habitat Baseline'!$D$1:$AV$258,22,FALSE))))
B16: {=IFERROR(INDEX($AD$10:$AD$259,MATCH(0,IF(TRUE=$AC$10:$AC$259,COUNTIF($B$9:B15,$AD$10:$AD$259),""),0)),"")} | E16: =IF(B16="","",IF(ISNA(VLOOKUP($B16,'A-1 On-Site Habitat Baseline'!$D$1:$AV$258,45,FALSE)),"",(VLOOKUP(B16,'A-1 On-Site Habitat Baseline'!$D$1:$AV$258,45,FALSE)))) | K16: =IF(B16="","",IF(ISNA(VLOOKUP($B16,'A-1 On-Site Habitat Baseline'!$D$1:$AV$258,5,FALSE)),"",(VLOOKUP(B16,'A-1 On-Site Habitat Baseline'!$D$1:$AV$258,5,FALSE)))) | M16: =IF(B16="","",IF(ISNA(VLOOKUP($B16,'A-1 On-Site Habitat Baseline'!$D$1:$AV$258,16,FALSE)),"",(VLOOKUP(B16,'A-1 On-Site Habitat Baseline'!$D$1:$AV$258,16,FALSE)))) | O16: =IF(B16="","",IF(ISNA(VLOOKUP($B16,'A-1 On-Site Habitat Baseline'!$D$1:$AV$258,17,FALSE)),"",(VLOOKUP(B16,'A-1 On-Site Habitat Baseline'!$D$1:$AV$258,17,FALSE)))) | S16: =IFERROR(K16-(M16+O16),"") | U16: =IF(OR(E16="",S16=0),"",IF(BM16="No","No ▲",IF(AND(BM16<>"Yes",E16<>""),"No ▲","Yes ✓"))) | Z16: =IFERROR(IF(LEN(VLOOKUP($B16,'A-1 On-Site Habitat Baseline'!$D$1:$AV$258,23,FALSE))=0,"",IF(B16="","",IF(ISNA(VLOOKUP($B16,'A-1 On-Site Habitat Baseline'!$D$1:$AV$258,23,FALSE)),"",(VLOOKUP(B16,'A-1 On-Site Habitat Baseline'!$D$1:$AV$258,23,FALSE))))),"") | AA16: =IFERROR(IF(LEN(VLOOKUP($B16,'A-1 On-Site Habitat Baseline'!$D$1:$AV$258,24,FALSE))=0,"",IF(B16="","",IF(ISNA(VLOOKUP($B16,'A-1 On-Site Habitat Baseline'!$D$1:$AV$258,24,FALSE)),"",(VLOOKUP(B16,'A-1 On-Site Habitat Baseline'!$D$1:$AV$258,24,FALSE))))),"") | AB16: =IFERROR(IF(LEN(VLOOKUP($B16,'A-1 On-Site Habitat Baseline'!$D$1:$AV$258,25,FALSE))=0,"",IF(B16="","",IF(ISNA(VLOOKUP($B16,'A-1 On-Site Habitat Baseline'!$D$1:$AV$258,25,FALSE)),"",(VLOOKUP(B16,'A-1 On-Site Habitat Baseline'!$D$1:$AV$258,25,FALSE))))),"") | AC16: =IF('A-1 On-Site Habitat Baseline'!G17="","",IF('A-1 On-Site Habitat Baseline'!G17="Yes",TRUE,FALSE)) -> FALSE | AD16: 7 | AE16: =IF('D-1 Off-Site Habitat Baseline'!G17="","",IF('D-1 Off-Site Habitat Baseline'!G17="Yes",TRUE,FALSE)) | AG16: {=IFERROR(INDEX($BI$10:$BI$259,MATCH(0,IF(TRUE=$BH$10:$BH$259,COUNTIF($AG$9:AG15,$BI$10:$BI$259),""),0)),"")} | AJ16: =IF(BH16=FALSE,"",IF(ISNA(VLOOKUP(AG16,'C-1 On-Site WaterC'' Baseline'!C$1:D$257,2,FALSE)),"",(VLOOKUP(AG16,'C-1 On-Site WaterC'' Baseline'!C$1:D$257,2,FALSE)))) | AP16: =IF(AG16="","",IF(ISNA(VLOOKUP($AG16,'C-1 On-Site WaterC'' Baseline'!C$1:E$257,3,FALSE)),"",(VLOOKUP(AG16,'C-1 On-Site WaterC'' Baseline'!C$1:E$257,3,FALSE)))) | AR16: =IF(AG16="","",IF(ISNA(VLOOKUP($AG16,'C-1 On-Site WaterC'' Baseline'!C$1:AA$257,19,FALSE)),"",(VLOOKUP(AG16,'C-1 On-Site WaterC'' Baseline'!C$1:AA$257,19,FALSE)))) | AT16: =IF(AG16="","",IF(ISNA(VLOOKUP($AG16,'C-1 On-Site WaterC'' Baseline'!C$1:AA$257,20,FALSE)),"",(VLOOKUP(AG16,'C-1 On-Site WaterC'' Baseline'!C$1:AA$257,20,FALSE)))) | AX16: =IF(AJ16="","",AP16-(AR16+AT16)) | AZ16: =IF(OR(AJ16="",AX16=0),"",IF(BL16="No","No",IF(AND(BL16<>"Yes",AJ16<>""),"No ▲","Yes ✓"))) | BE16: =IFERROR(IF(LEN(VLOOKUP($AG16,'C-1 On-Site WaterC'' Baseline'!C$1:AE$257,26,FALSE))=0,"",IF(AG16="","",IF(ISNA(VLOOKUP($AG16,'C-1 On-Site WaterC'' Baseline'!C$1:AE$257,26,FALSE)),"",(VLOOKUP(AG16,'C-1 On-Site WaterC'' Baseline'!C$1:AE$257,26,FALSE))))),"") | BF16: =IFERROR(IF(LEN(VLOOKUP($AG16,'C-1 On-Site WaterC'' Baseline'!C$1:AE$257,27,FALSE))=0,"",IF(AG16="","",IF(ISNA(VLOOKUP($AG16,'C-1 On-Site WaterC'' Baseline'!C$1:AE$257,27,FALSE)),"",(VLOOKUP(AG16,'C-1 On-Site WaterC'' Baseline'!C$1:AE$257,27,FALSE))))),"") | BG16: =IFERROR(IF(LEN(VLOOKUP($AG16,'C-1 On-Site WaterC'' Baseline'!C$1:AE$257,28,FALSE))=0,"",IF(AG16="","",IF(ISNA(VLOOKUP($AG16,'C-1 On-Site WaterC'' Baseline'!C$1:AE$257,28,FALSE)),"",(VLOOKUP(AG16,'C-1 On-Site WaterC'' Baseline'!C$1:AE$257,28,FALSE))))),"") | BH16: =IF('C-1 On-Site WaterC'' Baseline'!AU16="","",IF('C-1 On-Site WaterC'' Baseline'!AU16="Yes",TRUE,FALSE)) | BI16: 7 | BJ16: =IF('F-1 Off-Site WaterC'' Baseline'!AU16="","",IF('F-1 Off-Site WaterC'' Baseline'!AU16="Yes",TRUE,FALSE)) | BK16: =IF(AG16="","",IF(AX16=0,"",IF(AND(AG16<>"",AX16>0,AZ16<>"Yes ✓"),"","Irreplaceable habitat lost, bespoke compensation must be agreed with concenting body ▲"))) | BL16: =IF(AG16="","",IF(LEN(VLOOKUP($AG16,'C-1 On-Site WaterC'' Baseline'!$C$1:$AV$257,25,FALSE))=0,"",VLOOKUP(AG16,'C-1 On-Site WaterC'' Baseline'!$C$1:$AV$257,25,FALSE))) | BM16: =IF(B16="","",IF(LEN(VLOOKUP($B16,'A-1 On-Site Habitat Baseline'!$D$1:$AV$258,22,FALSE))=0,"",(VLOOKUP(B16,'A-1 On-Site Habitat Baseline'!$D$1:$AV$258,22,FALSE))))
B17: {=IFERROR(INDEX($AD$10:$AD$259,MATCH(0,IF(TRUE=$AC$10:$AC$259,COUNTIF($B$9:B16,$AD$10:$AD$259),""),0)),"")} | E17: =IF(B17="","",IF(ISNA(VLOOKUP($B17,'A-1 On-Site Habitat Baseline'!$D$1:$AV$258,45,FALSE)),"",(VLOOKUP(B17,'A-1 On-Site Habitat Baseline'!$D$1:$AV$258,45,FALSE)))) | K17: =IF(B17="","",IF(ISNA(VLOOKUP($B17,'A-1 On-Site Habitat Baseline'!$D$1:$AV$258,5,FALSE)),"",(VLOOKUP(B17,'A-1 On-Site Habitat Baseline'!$D$1:$AV$258,5,FALSE)))) | M17: =IF(B17="","",IF(ISNA(VLOOKUP($B17,'A-1 On-Site Habitat Baseline'!$D$1:$AV$258,16,FALSE)),"",(VLOOKUP(B17,'A-1 On-Site Habitat Baseline'!$D$1:$AV$258,16,FALSE)))) | O17: =IF(B17="","",IF(ISNA(VLOOKUP($B17,'A-1 On-Site Habitat Baseline'!$D$1:$AV$258,17,FALSE)),"",(VLOOKUP(B17,'A-1 On-Site Habitat Baseline'!$D$1:$AV$258,17,FALSE)))) | S17: =IFERROR(K17-(M17+O17),"") | U17: =IF(OR(E17="",S17=0),"",IF(BM17="No","No ▲",IF(AND(BM17<>"Yes",E17<>""),"No ▲","Yes ✓"))) | Z17: =IFERROR(IF(LEN(VLOOKUP($B17,'A-1 On-Site Habitat Baseline'!$D$1:$AV$258,23,FALSE))=0,"",IF(B17="","",IF(ISNA(VLOOKUP($B17,'A-1 On-Site Habitat Baseline'!$D$1:$AV$258,23,FALSE)),"",(VLOOKUP(B17,'A-1 On-Site Habitat Baseline'!$D$1:$AV$258,23,FALSE))))),"") | AA17: =IFERROR(IF(LEN(VLOOKUP($B17,'A-1 On-Site Habitat Baseline'!$D$1:$AV$258,24,FALSE))=0,"",IF(B17="","",IF(ISNA(VLOOKUP($B17,'A-1 On-Site Habitat Baseline'!$D$1:$AV$258,24,FALSE)),"",(VLOOKUP(B17,'A-1 On-Site Habitat Baseline'!$D$1:$AV$258,24,FALSE))))),"") | AB17: =IFERROR(IF(LEN(VLOOKUP($B17,'A-1 On-Site Habitat Baseline'!$D$1:$AV$258,25,FALSE))=0,"",IF(B17="","",IF(ISNA(VLOOKUP($B17,'A-1 On-Site Habitat Baseline'!$D$1:$AV$258,25,FALSE)),"",(VLOOKUP(B17,'A-1 On-Site Habitat Baseline'!$D$1:$AV$258,25,FALSE))))),"") | AC17: =IF('A-1 On-Site Habitat Baseline'!G18="","",IF('A-1 On-Site Habitat Baseline'!G18="Yes",TRUE,FALSE)) -> FALSE | AD17: 8 | AE17: =IF('D-1 Off-Site Habitat Baseline'!G18="","",IF('D-1 Off-Site Habitat Baseline'!G18="Yes",TRUE,FALSE)) | AG17: {=IFERROR(INDEX($BI$10:$BI$259,MATCH(0,IF(TRUE=$BH$10:$BH$259,COUNTIF($AG$9:AG16,$BI$10:$BI$259),""),0)),"")} | AJ17: =IF(BH17=FALSE,"",IF(ISNA(VLOOKUP(AG17,'C-1 On-Site WaterC'' Baseline'!C$1:D$257,2,FALSE)),"",(VLOOKUP(AG17,'C-1 On-Site WaterC'' Baseline'!C$1:D$257,2,FALSE)))) | AP17: =IF(AG17="","",IF(ISNA(VLOOKUP($AG17,'C-1 On-Site WaterC'' Baseline'!C$1:E$257,3,FALSE)),"",(VLOOKUP(AG17,'C-1 On-Site WaterC'' Baseline'!C$1:E$257,3,FALSE)))) | AR17: =IF(AG17="","",IF(ISNA(VLOOKUP($AG17,'C-1 On-Site WaterC'' Baseline'!C$1:AA$257,19,FALSE)),"",(VLOOKUP(AG17,'C-1 On-Site WaterC'' Baseline'!C$1:AA$257,19,FALSE)))) | AT17: =IF(AG17="","",IF(ISNA(VLOOKUP($AG17,'C-1 On-Site WaterC'' Baseline'!C$1:AA$257,20,FALSE)),"",(VLOOKUP(AG17,'C-1 On-Site WaterC'' Baseline'!C$1:AA$257,20,FALSE)))) | AX17: =IF(AJ17="","",AP17-(AR17+AT17)) | AZ17: =IF(OR(AJ17="",AX17=0),"",IF(BL17="No","No",IF(AND(BL17<>"Yes",AJ17<>""),"No ▲","Yes ✓"))) | BE17: =IFERROR(IF(LEN(VLOOKUP($AG17,'C-1 On-Site WaterC'' Baseline'!C$1:AE$257,26,FALSE))=0,"",IF(AG17="","",IF(ISNA(VLOOKUP($AG17,'C-1 On-Site WaterC'' Baseline'!C$1:AE$257,26,FALSE)),"",(VLOOKUP(AG17,'C-1 On-Site WaterC'' Baseline'!C$1:AE$257,26,FALSE))))),"") | BF17: =IFERROR(IF(LEN(VLOOKUP($AG17,'C-1 On-Site WaterC'' Baseline'!C$1:AE$257,27,FALSE))=0,"",IF(AG17="","",IF(ISNA(VLOOKUP($AG17,'C-1 On-Site WaterC'' Baseline'!C$1:AE$257,27,FALSE)),"",(VLOOKUP(AG17,'C-1 On-Site WaterC'' Baseline'!C$1:AE$257,27,FALSE))))),"") | BG17: =IFERROR(IF(LEN(VLOOKUP($AG17,'C-1 On-Site WaterC'' Baseline'!C$1:AE$257,28,FALSE))=0,"",IF(AG17="","",IF(ISNA(VLOOKUP($AG17,'C-1 On-Site WaterC'' Baseline'!C$1:AE$257,28,FALSE)),"",(VLOOKUP(AG17,'C-1 On-Site WaterC'' Baseline'!C$1:AE$257,28,FALSE))))),"") | BH17: =IF('C-1 On-Site WaterC'' Baseline'!AU17="","",IF('C-1 On-Site WaterC'' Baseline'!AU17="Yes",TRUE,FALSE)) | BI17: 8 | BJ17: =IF('F-1 Off-Site WaterC'' Baseline'!AU17="","",IF('F-1 Off-Site WaterC'' Baseline'!AU17="Yes",TRUE,FALSE)) | BK17: =IF(AG17="","",IF(AX17=0,"",IF(AND(AG17<>"",AX17>0,AZ17<>"Yes ✓"),"","Irreplaceable habitat lost, bespoke compensation must be agreed with concenting body ▲"))) | BL17: =IF(AG17="","",IF(LEN(VLOOKUP($AG17,'C-1 On-Site WaterC'' Baseline'!$C$1:$AV$257,25,FALSE))=0,"",VLOOKUP(AG17,'C-1 On-Site WaterC'' Baseline'!$C$1:$AV$257,25,FALSE))) | BM17: =IF(B17="","",IF(LEN(VLOOKUP($B17,'A-1 On-Site Habitat Baseline'!$D$1:$AV$258,22,FALSE))=0,"",(VLOOKUP(B17,'A-1 On-Site Habitat Baseline'!$D$1:$AV$258,22,FALSE))))
