Workbook

Sheet Summary
B2: Harvest Year | C2: ='Field by Field'!B2 -> 2026
F4: Soild Digestate | G4: Liquid Digestate | H4: FYM | J4: Maufactured N
B5: Production of Organic Manures | F5: 4800 | G5: 18750 | H5: 1500
B6: Requirement as planned | F6: ='Field by Field'!AM4 -> 4796.8267 | G6: ='Field by Field'!AS4 -> 18770.98 | H6: ='Field by Field'!BA4 -> 1502.34 | J6: ='Field by Field'!CD4 -> 0
B7: Balance | F7: =F5-F6 -> 3.1733144 | G7: =G5-G6 -> -20.98 | H7: =H5-H6 -> -2.34
B9: Crop Requirements Total | F9: Soild Digestate | G9: Liquid Digestate | H9: FYM | J9: Maufactured N | L9: Total Area | Q9: N | R9: P | S9: K
B10: Maize | C10: Mz | F10: =SUMIF('Field by Field'!$F$6:$F$130,Summary!C10,'Field by Field'!$AM$6:$AM$130) -> 4691.8267 | G10: =SUMIF('Field by Field'!$F$6:$F$130,Summary!C10,'Field by Field'!$AS$6:$AS$130) -> 1160.55 | H10: =SUMIF('Field by Field'!$F$6:$F$130,Summary!C10,'Field by Field'!$BA$6:$BA$130) -> 154.44 | J10: =SUMIF('Field by Field'!$F$6:$F$130,Summary!C10,'Field by Field'!$CD$6:$CD$130) -> 0 | L10: =SUMIF('Field by Field'!$F$6:$F$122,Summary!C10,'Field by Field'!$C$6:$C$122) -> 234.31289 | Q10: =SUMIF('Field by Field'!$F$6:$F$125,Summary!C10,'Field by Field'!$P$6:$P$125) -> 5497.5802 | R10: =SUMIF('Field by Field'!$F$6:$F$125,Summary!C10,'Field by Field'!$Q$6:$Q$125) -> 10883.073 | S10: =SUMIF('Field by Field'!$F$6:$F$125,Summary!C10,'Field by Field'!$R$6:$R$125) -> 17241.548
B11: Winter Wheat | C11: WW1 | F11: =SUMIF('Field by Field'!$F$6:$F$130,Summary!C11,'Field by Field'!$AM$6:$AM$130) -> 0 | G11: =SUMIF('Field by Field'!$F$6:$F$130,Summary!C11,'Field by Field'!$AS$6:$AS$130) -> 1680.6 | H11: =SUMIF('Field by Field'!$F$6:$F$130,Summary!C11,'Field by Field'!$BA$6:$BA$130) -> 0 | J11: =SUMIF('Field by Field'!$F$6:$F$130,Summary!C11,'Field by Field'!$CD$6:$CD$130) -> 0 | L11: =SUMIF('Field by Field'!$F$6:$F$122,Summary!C11,'Field by Field'!$C$6:$C$122) -> 270.52 | Q11: =SUMIF('Field by Field'!$F$6:$F$125,Summary!C11,'Field by Field'!$P$6:$P$125) -> 1915.884 | R11: =SUMIF('Field by Field'!$F$6:$F$125,Summary!C11,'Field by Field'!$Q$6:$Q$125) -> 2067.138 | S11: =SUMIF('Field by Field'!$F$6:$F$125,Summary!C11,'Field by Field'!$R$6:$R$125) -> 4520.814
B12: Spring Barley | C12: S Bar | F12: =SUMIF('Field by Field'!$F$6:$F$130,Summary!C12,'Field by Field'!$AM$6:$AM$130) -> 0 | G12: =SUMIF('Field by Field'!$F$6:$F$130,Summary!C12,'Field by Field'!$AS$6:$AS$130) -> 0 | H12: =SUMIF('Field by Field'!$F$6:$F$130,Summary!C12,'Field by Field'!$BA$6:$BA$130) -> 0 | J12: =SUMIF('Field by Field'!$F$6:$F$130,Summary!C12,'Field by Field'!$CD$6:$CD$130) -> 0 | L12: =SUMIF('Field by Field'!$F$6:$F$122,Summary!C12,'Field by Field'!$C$6:$C$122) -> 0 | Q12: =SUMIF('Field by Field'!$F$6:$F$125,Summary!C12,'Field by Field'!$P$6:$P$125) -> 0 | R12: =SUMIF('Field by Field'!$F$6:$F$125,Summary!C12,'Field by Field'!$Q$6:$Q$125) -> 0 | S12: =SUMIF('Field by Field'!$F$6:$F$125,Summary!C12,'Field by Field'!$R$6:$R$125) -> 0
B13: Grass | C13: Grass | F13: =SUMIF('Field by Field'!$F$6:$F$130,Summary!C13,'Field by Field'!$AM$6:$AM$130) -> 0 | G13: =SUMIF('Field by Field'!$F$6:$F$130,Summary!C13,'Field by Field'!$AS$6:$AS$130) -> 12668.23 | H13: =SUMIF('Field by Field'!$F$6:$F$130,Summary!C13,'Field by Field'!$BA$6:$BA$130) -> 0 | J13: =SUMIF('Field by Field'!$F$6:$F$130,Summary!C13,'Field by Field'!$CD$6:$CD$130) -> 0 | L13: =SUMIF('Field by Field'!$F$6:$F$122,Summary!C13,'Field by Field'!$C$6:$C$122) -> 202.99 | Q13: =SUMIF('Field by Field'!$F$6:$F$125,Summary!C13,'Field by Field'!$P$6:$P$125) -> 14441.782 | R13: =SUMIF('Field by Field'!$F$6:$F$125,Summary!C13,'Field by Field'!$Q$6:$Q$125) -> 15581.923 | S13: =SUMIF('Field by Field'!$F$6:$F$125,Summary!C13,'Field by Field'!$R$6:$R$125) -> 34077.539
B14: Rye | C14: Rye | F14: =SUMIF('Field by Field'!$F$6:$F$130,Summary!C14,'Field by Field'!$AM$6:$AM$130) -> 0 | G14: =SUMIF('Field by Field'!$F$6:$F$130,Summary!C14,'Field by Field'!$AS$6:$AS$130) -> 654 | H14: =SUMIF('Field by Field'!$F$6:$F$130,Summary!C14,'Field by Field'!$BA$6:$BA$130) -> 0 | J14: =SUMIF('Field by Field'!$F$6:$F$130,Summary!C14,'Field by Field'!$CD$6:$CD$130) -> 0 | L14: =SUMIF('Field by Field'!$F$6:$F$122,Summary!C14,'Field by Field'!$C$6:$C$122) -> 81.52 | Q14: =SUMIF('Field by Field'!$F$6:$F$125,Summary!C14,'Field by Field'!$P$6:$P$125) -> 745.56 | R14: =SUMIF('Field by Field'!$F$6:$F$125,Summary!C14,'Field by Field'!$Q$6:$Q$125) -> 804.42 | S14: =SUMIF('Field by Field'!$F$6:$F$125,Summary!C14,'Field by Field'!$R$6:$R$125) -> 1759.26
B15: Oats | C15: Oats | F15: =SUMIF('Field by Field'!$F$6:$F$130,Summary!C15,'Field by Field'!$AM$6:$AM$130) -> 0 | G15: =SUMIF('Field by Field'!$F$6:$F$130,Summary!C15,'Field by Field'!$AS$6:$AS$130) -> 0 | H15: =SUMIF('Field by Field'!$F$6:$F$130,Summary!C15,'Field by Field'!$BA$6:$BA$130) -> 0 | J15: =SUMIF('Field by Field'!$F$6:$F$130,Summary!C15,'Field by Field'!$CD$6:$CD$130) -> 0 | L15: =SUMIF('Field by Field'!$F$6:$F$122,Summary!C15,'Field by Field'!$C$6:$C$122) -> 0 | Q15: =SUMIF('Field by Field'!$F$6:$F$125,Summary!C15,'Field by Field'!$P$6:$P$125) -> 0 | R15: =SUMIF('Field by Field'!$F$6:$F$125,Summary!C15,'Field by Field'!$Q$6:$Q$125) -> 0 | S15: =SUMIF('Field by Field'!$F$6:$F$125,Summary!C15,'Field by Field'!$R$6:$R$125) -> 0
B16: Pernament Pasture | C16: PP | F16: =SUMIF('Field by Field'!$F$6:$F$130,Summary!C16,'Field by Field'!$AM$6:$AM$130) -> 105 | G16: =SUMIF('Field by Field'!$F$6:$F$130,Summary!C16,'Field by Field'!$AS$6:$AS$130) -> 2607.6 | H16: =SUMIF('Field by Field'!$F$6:$F$130,Summary!C16,'Field by Field'!$BA$6:$BA$130) -> 0 | J16: =SUMIF('Field by Field'!$F$6:$F$130,Summary!C16,'Field by Field'!$CD$6:$CD$130) -> 0 | L16: =SUMIF('Field by Field'!$F$6:$F$122,Summary!C16,'Field by Field'!$C$6:$C$122) -> 247.05 | Q16: =SUMIF('Field by Field'!$F$6:$F$125,Summary!C16,'Field by Field'!$P$6:$P$125) -> 3064.014 | R16: =SUMIF('Field by Field'!$F$6:$F$125,Summary!C16,'Field by Field'!$Q$6:$Q$125) -> 3407.898 | S16: =SUMIF('Field by Field'!$F$6:$F$125,Summary!C16,'Field by Field'!$R$6:$R$125) -> 7297.944
B17: Lucerne | C17: Lucerne | F17: =SUMIF('Field by Field'!$F$6:$F$130,Summary!C17,'Field by Field'!$AM$6:$AM$130) -> 0 | G17: =SUMIF('Field by Field'!$F$6:$F$130,Summary!C17,'Field by Field'!$AS$6:$AS$130) -> 0 | H17: =SUMIF('Field by Field'!$F$6:$F$130,Summary!C17,'Field by Field'!$BA$6:$BA$130) -> 1347.9 | J17: =SUMIF('Field by Field'!$F$6:$F$130,Summary!C17,'Field by Field'!$CD$6:$CD$130) -> 0 | L17: =SUMIF('Field by Field'!$F$6:$F$122,Summary!C17,'Field by Field'!$C$6:$C$122) -> 60.18 | Q17: =SUMIF('Field by Field'!$F$6:$F$125,Summary!C17,'Field by Field'!$P$6:$P$125) -> 808.74 | R17: =SUMIF('Field by Field'!$F$6:$F$125,Summary!C17,'Field by Field'!$Q$6:$Q$125) -> 4313.28 | S17: =SUMIF('Field by Field'!$F$6:$F$125,Summary!C17,'Field by Field'!$R$6:$R$125) -> 12670.26
B18: Down | C18: Down | F18: =SUMIF('Field by Field'!$F$6:$F$130,Summary!C18,'Field by Field'!$AM$6:$AM$130) -> 0 | G18: =SUMIF('Field by Field'!$F$6:$F$130,Summary!C18,'Field by Field'!$AS$6:$AS$130) -> 0 | H18: =SUMIF('Field by Field'!$F$6:$F$130,Summary!C18,'Field by Field'!$BA$6:$BA$130) -> 0 | J18: =SUMIF('[1]Field by Field'!$F$6:$F$130,[1]Summary!C18,'[1]Field by Field'!$CH$6:$CH$130) -> 0 | L18: =SUMIF('Field by Field'!$F$6:$F$122,Summary!C18,'Field by Field'!$C$6:$C$122) -> 145.69 | Q18: =SUMIF('Field by Field'!$F$6:$F$125,Summary!C18,'Field by Field'!$P$6:$P$125) -> 0 | R18: =SUMIF('Field by Field'!$F$6:$F$125,Summary!C18,'Field by Field'!$Q$6:$Q$125) -> 0 | S18: =SUMIF('Field by Field'!$F$6:$F$125,Summary!C18,'Field by Field'!$R$6:$R$125) -> 0
B19: Winter Bird Cover | C19: WBC | F19: =SUMIF('Field by Field'!$F$6:$F$130,Summary!C19,'Field by Field'!$AM$6:$AM$130) -> 0 | G19: =SUMIF('Field by Field'!$F$6:$F$130,Summary!C19,'Field by Field'!$AS$6:$AS$130) -> 0 | H19: =SUMIF('Field by Field'!$F$6:$F$130,Summary!C19,'Field by Field'!$BA$6:$BA$130) -> 0 | J19: =SUMIF('[1]Field by Field'!$F$6:$F$130,[1]Summary!C19,'[1]Field by Field'!$CH$6:$CH$130) -> 0 | L19: =SUMIF('Field by Field'!$F$6:$F$122,Summary!C19,'Field by Field'!$C$6:$C$122) -> 7.83 | Q19: =SUMIF('Field by Field'!$F$6:$F$125,Summary!C19,'Field by Field'!$P$6:$P$125) -> 0 | R19: =SUMIF('Field by Field'!$F$6:$F$125,Summary!C19,'Field by Field'!$Q$6:$Q$125) -> 0 | S19: =SUMIF('Field by Field'!$F$6:$F$125,Summary!C19,'Field by Field'!$R$6:$R$125) -> 0
L20: =SUM(L10:L19) -> 1250.0929 | N20: Check | O20: =L20-(SUM('Field by Field'!C6:C125)) -> 0 | Q20: =SUM(Q10:Q19) -> 26473.56 | R20: =SUM(R10:R19) -> 37057.732 | S20: =SUM(S10:S19) -> 77567.364
B21: Nutrient Applied by catchment | F21: N | G21: P | H21: K
B22: Kennett | F22: =SUMIF('Field by Field'!$D$6:$D$130,Summary!$B$22,'Field by Field'!P6:P130) -> 10639.593 | G22: =SUMIF('Field by Field'!$D$6:$D$130,Summary!$B$22,'Field by Field'!Q6:Q130) -> 12908.467 | H22: =SUMIF('Field by Field'!$D$6:$D$130,Summary!$B$22,'Field by Field'!R6:R130) -> 27601.547 | Q22: =Q20-F24 -> 0 | R22: =R20-G24 -> 0 | S22: =S20-H24 -> 0
B23: Avon | F23: =SUMIF('Field by Field'!$D$6:$D$130,Summary!$B$23,'Field by Field'!P6:P130) -> 15833.967 | G23: =SUMIF('Field by Field'!$D$6:$D$130,Summary!$B$23,'Field by Field'!Q6:Q130) -> 24149.266 | H23: =SUMIF('Field by Field'!$D$6:$D$130,Summary!$B$23,'Field by Field'!R6:R130) -> 49965.817
B24: Total | F24: =SUM(F22:F23) -> 26473.56 | G24: =SUM(G22:G23) -> 37057.732 | H24: =SUM(H22:H23) -> 77567.364 | R24: =R20/1.23 -> 30128.238
B26: Crop Need by Catchment | F26: N | G26: P | H26: K
B27: Kennett | F27: =SUMIF('Field by Field'!$D$6:$D$130,Summary!$B$27,'Field by Field'!AE6:AE130) -> 42787.9 | G27: =SUMIF('Field by Field'!$D$6:$D$130,Summary!$B$27,'Field by Field'!AF6:AF130) -> 13229.65 | H27: =SUMIF('Field by Field'!$D$6:$D$130,Summary!$B$27,'Field by Field'!AG6:AG130) -> 33860.55
B28: Avon | F28: =SUMIF('Field by Field'!$D$6:$D$130,Summary!$B$28,'Field by Field'!AE6:AE130) -> 129143.09 | G28: =SUMIF('Field by Field'!$D$6:$D$130,Summary!$B$28,'Field by Field'!AF6:AF130) -> 30889.109 | H28: =SUMIF('Field by Field'!$D$6:$D$130,Summary!$B$28,'Field by Field'!AG6:AG130) -> 81050.942
B29: Total | F29: =SUM(F27:F28) -> 171930.99 | G29: =SUM(G27:G28) -> 44118.759 | H29: =SUM(H27:H28) -> 114911.49
B31: Deficit | F31: N | G31: P | H31: K
B32: Kennett | F32: =F27-F22 -> 32148.307 | G32: =G27-G22 -> 321.1835 | H32: =H27-H22 -> 6259.0025
B33: Avon | F33: =F28-F23 -> 113309.12 | G33: =G28-G23 -> 6739.8431 | H33: =H28-H23 -> 31085.126
B34: Total | F34: =SUM(F32:F33) -> 145457.43 | G34: =SUM(G32:G33) -> 7061.0266 | H34: =SUM(H32:H33) -> 37344.128
B36: Nutrient Applied by catchment - 2025 | F36: N | G36: P | H36: K
B37: Kennett | F37: 2001.384 | G37: 4074.375 | H37: 4722.564
B38: Avon | F38: 12934.152 | G38: 24210.168 | H38: 34107.612
B39: Total | F39: 14935.536 | G39: 28284.543 | H39: 38830.176
B42: Deficit based on 2025 manure applications | F42: N | G42: P | H42: K
B43: Kennett | F43: =F27-F37 -> 40786.516 | G43: =G27-G37 -> 9155.275 | H43: =H27-H37 -> 29137.986
B44: Avon | F44: =F28-F38 -> 116208.94 | G44: =G28-G38 -> 6678.9409 | H44: =H28-H38 -> 46943.33
B45: Total | F45: =F43+F44 -> 156995.45 | G45: =G43+G44 -> 15834.216 | H45: =H43+H44 -> 76081.316

Sheet Field by Field
B2: 2026 | H2: Balance to Allocate (Kg/ha Nutrient) | L2: Application / ha | P2: Total Field Application | T2: SNS | W2: Soil Indicies | AA2: Crop Requirements per ha | AE2: Crop Requirements total field | AI2: Organic Manure Application | BC2: Base Fert Application | BO2: Axan 24% N + 15% S | BV2: Urea N46% | CB2: Manufactured N
AI3: Solid Digestate (kg/t) | AM3: =Summary!F5 -> 4800 | AN3: production | AO3: Liquid Digestate (kg/m3) | AS3: =Summary!G5 -> 18750 | AV3: production | AW3: FYM (kg/t) | BA3: =Summary!H5 -> 1500 | BB3: production | BC3: TSP | BI3: MOP | BL3: £/t | BM3: Total | BO3: Axan 24% N + 15% S | BS3: £/t | BT3: Total | BV3: Urea N46% | BY3: £/t | BZ3: Total | CB3: Nitrogen | CE3: £/t | CF3: Total
AI4: Value | AJ4: 0.87 | AK4: 1.91 | AL4: 2.7 | AM4: =(SUM(AM6:AM130)) -> 4796.8267 | AN4: requirement | AO4: Value | AP4: 1.14 | AQ4: 1.23 | AR4: 2.69 | AS4: =(SUM(AS6:AS130)) -> 18770.98 | AU4: =AS4*AT4 -> 0 | AV4: requirement | AW4: Value | AX4: 0.6 | AY4: 3.2 | AZ4: 9.4 | BA4: =(SUM(BA6:BA130)) -> 1502.34 | BB4: requirement | BD4: 0.46 | BE4: =(SUM(BE6:BE130))/1000 -> 47.295443 | BG4: =BE4*BF4 -> 0 | BJ4: 0.6 | BK4: =(SUM(BK6:BK130))/1000 -> 0 | BM4: =BK4*BL4 -> 0 | BP4: 0.24 | BQ4: 0.15 | BR4: =(SUM(BR6:BR130))/1000 -> 0 | BT4: =BR4*BS4 -> 0 | BW4: 0.46 | BX4: =(SUM(BX6:BX130))/1000 -> 0 | BZ4: =BX4*BY4 -> 0 | CC4: 1 | CD4: =(SUM(CD6:CD130))/1000 -> 0 | CF4: =CD4*CE4 -> 0
A5: original line | B5: Field | C5: Area | D5: Catchment | E5: Crop 2025 | F5: Crop 2026 | H5: N | I5: P | J5: K | L5: N | M5: P | N5: K | P5: N | Q5: P | R5: K | T5: N | V5: OM % | W5: P | X5: K | Y5: Date | AA5: N | AB5: P | AC5: K | AE5: N | AF5: P | AG5: K | AI5: Rate / ha Apply | AJ5: N | AK5: P | AL5: K | AM5: Total Product | AO5: Rate / ha Apply | AP5: N | AQ5: P | AR5: K | AS5: Total Product | AT5: £/ha | AU5: £ | AW5: Rate / ha Apply | AX5: N | AY5: P | AZ5: K | BA5: Total Product | BC5: Product | BD5: P | BE5: Total Product | BF5: £/ha | BG5: £ | BI5: Product | BJ5: K | BK5: Total Product | BL5: £/ha | BO5: Product | BP5: N | BQ5: S | BR5: Total Product | BS5: £/ha | BT5: £ | BV5: Product | BW5: N | BX5: Total Product | BY5: £/ha | BZ5: £ | CB5: Product | CC5: N | CD5: Total Product | CE5: £/ha | CF5: £
A6: 1 | B6: 55 Acres | C6: 21.62 | D6: Avon | E6: WW1 | F6: Mz | H6: =AA6-L6 -> 73.9 | I6: =AB6-M6 -> -2.3 | J6: =AC6-N6 -> 79 | L6: =(SUMIF($AJ$5:$CD$5,L$5,$AJ6:$CD6)) -> 26.1 | M6: =(SUMIF($AJ$5:$CD$5,M$5,$AJ6:$CD6)) -> 57.3 | N6: =(SUMIF($AJ$5:$CD$5,N$5,$AJ6:$CD6)) -> 81 | P6: =L6*$C6 -> 564.282 | Q6: =M6*$C6 -> 1238.826 | R6: =N6*$C6 -> 1751.22 | T6: 1 | W6: 2- | X6: 2 | Y6: 44896 | AA6: 100 | AB6: 55 | AC6: 160 | AE6: =AA6*C6 -> 2162 | AF6: =AB6*C6 -> 1189.1 | AG6: =AC6*C6 -> 3459.2 | AI6: 30 | AJ6: =AI6*$AJ$4 -> 26.1 | AK6: =AI6*$AK$4 -> 57.3 | AL6: =AI6*$AL$4 -> 81 | AM6: =AI6*C6 -> 648.6 | AP6: =AO6*$AP$4 -> 0 | AQ6: =AO6*$AQ$4 -> 0 | AR6: =AO6*$AR$4 -> 0 | AS6: =AO6*$C6 -> 0 | AX6: =AW6*$AX$4 -> 0 | AY6: =AW6*$AY$4 -> 0 | AZ6: =AW6*$AZ$4 -> 0 | BA6: =AW6*$C6 -> 0 | BD6: =BC6*$BD$4 -> 0 | BE6: =BA6*$C6 -> 0 | BJ6: =BI6*$BJ$4 -> 0 | BK6: =BH6*$C6 -> 0 | BP6: =BO6*$BP$4 -> 0 | BQ6: =BO6*$BQ$4 -> 0 | BR6: =BO6*$C6 -> 0 | BW6: =BV6*$BW$4 -> 0 | BX6: =BV6*$C6 -> 0 | CC6: =CB6*$CC$4 -> 0 | CD6: =CB6*$C6 -> 0
A7: 2 | B7: 70 Acres | C7: 27.44 | D7: Avon | E7: WW1 | F7: Mz | H7: =AA7-L7 -> 73.9 | I7: =AB7-M7 -> -2.3 | J7: =AC7-N7 -> 64 | L7: =(SUMIF($AJ$5:$CD$5,L$5,$AJ7:$CD7)) -> 26.1 | M7: =(SUMIF($AJ$5:$CD$5,M$5,$AJ7:$CD7)) -> 57.3 | N7: =(SUMIF($AJ$5:$CD$5,N$5,$AJ7:$CD7)) -> 81 | P7: =L7*$C7 -> 716.184 | Q7: =M7*$C7 -> 1572.312 | R7: =N7*$C7 -> 2222.64 | T7: 1 | W7: 2- | X7: 2+ | Y7: 44896 | AA7: 100 | AB7: 55 | AC7: 145 | AE7: =AA7*C7 -> 2744 | AF7: =AB7*C7 -> 1509.2 | AG7: =AC7*C7 -> 3978.8 | AI7: 30 | AJ7: =AI7*$AJ$4 -> 26.1 | AK7: =AI7*$AK$4 -> 57.3 | AL7: =AI7*$AL$4 -> 81 | AM7: =AI7*C7 -> 823.2 | AP7: =AO7*$AP$4 -> 0 | AQ7: =AO7*$AQ$4 -> 0 | AR7: =AO7*$AR$4 -> 0 | AS7: =AO7*$C7 -> 0 | AX7: =AW7*$AX$4 -> 0 | AY7: =AW7*$AY$4 -> 0 | AZ7: =AW7*$AZ$4 -> 0 | BA7: =AW7*$C7 -> 0 | BD7: =BC7*$BD$4 -> 0 | BE7: =BA7*$C7 -> 0 | BJ7: =BI7*$BJ$4 -> 0 | BK7: =BH7*$C7 -> 0 | BP7: =BO7*$BP$4 -> 0 | BQ7: =BO7*$BQ$4 -> 0 | BR7: =BO7*$C7 -> 0 | BW7: =BV7*$BW$4 -> 0 | BX7: =BV7*$C7 -> 0 | CC7: =CB7*$CC$4 -> 0 | CD7: =CB7*$C7 -> 0
A8: 3 | B8: Barn Field W | C8: 15 | D8: Avon | E8: Grass | F8: Grass | H8: =AA8-L8 -> 227.92 | I8: =AB8-M8 -> 1.44 | J8: =AC8-N8 -> -83.68 | L8: =(SUMIF($AJ$5:$CD$5,L$5,$AJ8:$CD8)) -> 82.08 | M8: =(SUMIF($AJ$5:$CD$5,M$5,$AJ8:$CD8)) -> 88.56 | N8: =(SUMIF($AJ$5:$CD$5,N$5,$AJ8:$CD8)) -> 193.68 | P8: =L8*$C8 -> 1231.2 | Q8: =M8*$C8 -> 1328.4 | R8: =N8*$C8 -> 2905.2 | T8: 2 | W8: 2- | X8: 3- | Y8: 44958 | AA8: 310 | AB8: 90 | AC8: 110 | AE8: =AA8*C8 -> 4650 | AF8: =AB8*C8 -> 1350 | AG8: =AC8*C8 -> 1650 | AJ8: =AI8*$AJ$4 -> 0 | AK8: =AI8*$AK$4 -> 0 | AL8: =AI8*$AL$4 -> 0 | AM8: =AI8*C8 -> 0 | AO8: 72 | AP8: =AO8*$AP$4 -> 82.08 | AQ8: =AO8*$AQ$4 -> 88.56 | AR8: =AO8*$AR$4 -> 193.68 | AS8: =AO8*$C8 -> 1080 | AX8: =AW8*$AX$4 -> 0 | AY8: =AW8*$AY$4 -> 0 | AZ8: =AW8*$AZ$4 -> 0 | BA8: =AW8*$C8 -> 0 | BD8: =BC8*$BD$4 -> 0 | BE8: =BA8*$C8 -> 0 | BJ8: =BI8*$BJ$4 -> 0 | BK8: =BH8*$C8 -> 0 | BP8: =BO8*$BP$4 -> 0 | BQ8: =BO8*$BQ$4 -> 0 | BR8: =BO8*$C8 -> 0 | BW8: =BV8*$BW$4 -> 0 | BX8: =BV8*$C8 -> 0 | CC8: =CB8*$CC$4 -> 0 | CD8: =CB8*$C8 -> 0
A9: 4 | B9: Barn Field E | C9: 33.84 | D9: Avon | E9: WW1 | F9: Rye | H9: =AA9-L9 -> 90 | I9: =AB9-M9 -> 0 | J9: =AC9-N9 -> 0 | L9: =(SUMIF($AJ$5:$CD$5,L$5,$AJ9:$CD9)) -> 0 | M9: =(SUMIF($AJ$5:$CD$5,M$5,$AJ9:$CD9)) -> 0 | N9: =(SUMIF($AJ$5:$CD$5,N$5,$AJ9:$CD9)) -> 0 | P9: =L9*$C9 -> 0 | Q9: =M9*$C9 -> 0 | R9: =N9*$C9 -> 0 | T9: 1 | W9: 5 | X9: 3 | Y9: 44958 | AA9: 90 | AB9: 0 | AC9: 0 | AE9: =AA9*C9 -> 3045.6 | AF9: =AB9*C9 -> 0 | AG9: =AC9*C9 -> 0 | AJ9: =AI9*$AJ$4 -> 0 | AK9: =AI9*$AK$4 -> 0 | AL9: =AI9*$AL$4 -> 0 | AM9: =AI9*C9 -> 0 | AP9: =AO9*$AP$4 -> 0 | AQ9: =AO9*$AQ$4 -> 0 | AR9: =AO9*$AR$4 -> 0 | AS9: =AO9*$C9 -> 0 | AX9: =AW9*$AX$4 -> 0 | AY9: =AW9*$AY$4 -> 0 | AZ9: =AW9*$AZ$4 -> 0 | BA9: =AW9*$C9 -> 0 | BD9: =BC9*$BD$4 -> 0 | BE9: =BA9*$C9 -> 0 | BJ9: =BI9*$BJ$4 -> 0 | BK9: =BH9*$C9 -> 0 | BP9: =BO9*$BP$4 -> 0 | BQ9: =BO9*$BQ$4 -> 0 | BR9: =BO9*$C9 -> 0 | BW9: =BV9*$BW$4 -> 0 | BX9: =BV9*$C9 -> 0 | CC9: =CB9*$CC$4 -> 0 | CD9: =CB9*$C9 -> 0
A10: 5 | B10: Beeches | C10: 6.42 | D10: Avon | E10: Mz | F10: WW1 | H10: =AA10-L10 -> 168.7 | I10: =AB10-M10 -> -0.35 | J10: =AC10-N10 -> -51.05 | L10: =(SUMIF($AJ$5:$CD$5,L$5,$AJ10:$CD10)) -> 51.3 | M10: =(SUMIF($AJ$5:$CD$5,M$5,$AJ10:$CD10)) -> 55.35 | N10: =(SUMIF($AJ$5:$CD$5,N$5,$AJ10:$CD10)) -> 121.05 | P10: =L10*$C10 -> 329.346 | Q10: =M10*$C10 -> 355.347 | R10: =N10*$C10 -> 777.141 | T10: 1 | W10: 2+ | X10: 2 | Y10: 44896 | AA10: 220 | AB10: 55 | AC10: 70 | AE10: =AA10*C10 -> 1412.4 | AF10: =AB10*C10 -> 353.1 | AG10: =AC10*C10 -> 449.4 | AJ10: =AI10*$AJ$4 -> 0 | AK10: =AI10*$AK$4 -> 0 | AL10: =AI10*$AL$4 -> 0 | AM10: =AI10*C10 -> 0 | AO10: 45 | AP10: =AO10*$AP$4 -> 51.3 | AQ10: =AO10*$AQ$4 -> 55.35 | AR10: =AO10*$AR$4 -> 121.05 | AS10: =AO10*$C10 -> 288.9 | AX10: =AW10*$AX$4 -> 0 | AY10: =AW10*$AY$4 -> 0 | AZ10: =AW10*$AZ$4 -> 0 | BA10: =AW10*$C10 -> 0 | BD10: =BC10*$BD$4 -> 0 | BE10: =BA10*$C10 -> 0 | BJ10: =BI10*$BJ$4 -> 0 | BK10: =BH10*$C10 -> 0 | BP10: =BO10*$BP$4 -> 0 | BQ10: =BO10*$BQ$4 -> 0 | BR10: =BO10*$C10 -> 0 | BW10: =BV10*$BW$4 -> 0 | BX10: =BV10*$C10 -> 0 | CC10: =CB10*$CC$4 -> 0 | CD10: =CB10*$C10 -> 0
A11: 6 | B11: Black Barn | C11: 4.27 | D11: Avon | E11: WBC | F11: WBC | H11: =AA11-L11 -> 0 | I11: =AB11-M11 -> 0 | J11: =AC11-N11 -> 0 | L11: =(SUMIF($AJ$5:$CD$5,L$5,$AJ11:$CD11)) -> 0 | M11: =(SUMIF($AJ$5:$CD$5,M$5,$AJ11:$CD11)) -> 0 | N11: =(SUMIF($AJ$5:$CD$5,N$5,$AJ11:$CD11)) -> 0 | P11: =L11*$C11 -> 0 | Q11: =M11*$C11 -> 0 | R11: =N11*$C11 -> 0 | W11: 4 | X11: 3- | Y11: 44866 | AE11: =AA11*C11 -> 0 | AF11: =AB11*C11 -> 0 | AG11: =AC11*C11 -> 0 | AJ11: =AI11*$AJ$4 -> 0 | AK11: =AI11*$AK$4 -> 0 | AL11: =AI11*$AL$4 -> 0 | AM11: =AI11*C11 -> 0 | AP11: =AO11*$AP$4 -> 0 | AQ11: =AO11*$AQ$4 -> 0 | AR11: =AO11*$AR$4 -> 0 | AS11: =AO11*$C11 -> 0 | AX11: =AW11*$AX$4 -> 0 | AY11: =AW11*$AY$4 -> 0 | AZ11: =AW11*$AZ$4 -> 0 | BA11: =AW11*$C11 -> 0 | BD11: =BC11*$BD$4 -> 0 | BE11: =BA11*$C11 -> 0 | BJ11: =BI11*$BJ$4 -> 0 | BK11: =BH11*$C11 -> 0 | BP11: =BO11*$BP$4 -> 0 | BQ11: =BO11*$BQ$4 -> 0 | BR11: =BO11*$C11 -> 0 | BW11: =BV11*$BW$4 -> 0 | BX11: =BV11*$C11 -> 0 | CC11: =CB11*$CC$4 -> 0 | CD11: =CB11*$C11 -> 0
A12: 7 | B12: Butts | C12: 5.1 | D12: Avon | E12: Grass | F12: Grass | H12: =AA12-L12 -> 292.9 | I12: =AB12-M12 -> 1.55 | J12: =AC12-N12 -> 69.65 | L12: =(SUMIF($AJ$5:$CD$5,L$5,$AJ12:$CD12)) -> 17.1 | M12: =(SUMIF($AJ$5:$CD$5,M$5,$AJ12:$CD12)) -> 18.45 | N12: =(SUMIF($AJ$5:$CD$5,N$5,$AJ12:$CD12)) -> 40.35 | P12: =L12*$C12 -> 87.21 | Q12: =M12*$C12 -> 94.095 | R12: =N12*$C12 -> 205.785 | T12: 2 | W12: 3- | X12: 3 | Y12: 44866 | AA12: 310 | AB12: 20 | AC12: 110 | AE12: =AA12*C12 -> 1581 | AF12: =AB12*C12 -> 102 | AG12: =AC12*C12 -> 561 | AJ12: =AI12*$AJ$4 -> 0 | AK12: =AI12*$AK$4 -> 0 | AL12: =AI12*$AL$4 -> 0 | AM12: =AI12*C12 -> 0 | AO12: 15 | AP12: =AO12*$AP$4 -> 17.1 | AQ12: =AO12*$AQ$4 -> 18.45 | AR12: =AO12*$AR$4 -> 40.35 | AS12: =AO12*$C12 -> 76.5 | AX12: =AW12*$AX$4 -> 0 | AY12: =AW12*$AY$4 -> 0 | AZ12: =AW12*$AZ$4 -> 0 | BA12: =AW12*$C12 -> 0 | BD12: =BC12*$BD$4 -> 0 | BE12: =BA12*$C12 -> 0 | BJ12: =BI12*$BJ$4 -> 0 | BK12: =BH12*$C12 -> 0 | BP12: =BO12*$BP$4 -> 0 | BQ12: =BO12*$BQ$4 -> 0 | BR12: =BO12*$C12 -> 0 | BW12: =BV12*$BW$4 -> 0 | BX12: =BV12*$C12 -> 0 | CC12: =CB12*$CC$4 -> 0 | CD12: =CB12*$C12 -> 0
A13: 8 | B13: Castle Barn | C13: 6.43 | D13: Avon | E13: Grass | F13: Mz | H13: =AA13-L13 -> 100 | I13: =AB13-M13 -> 0 | J13: =AC13-N13 -> 110 | L13: =(SUMIF($AJ$5:$CD$5,L$5,$AJ13:$CD13)) -> 0 | M13: =(SUMIF($AJ$5:$CD$5,M$5,$AJ13:$CD13)) -> 0 | N13: =(SUMIF($AJ$5:$CD$5,N$5,$AJ13:$CD13)) -> 0 | P13: =L13*$C13 -> 0 | Q13: =M13*$C13 -> 0 | R13: =N13*$C13 -> 0 | T13: 1 | W13: 4 | X13: 3- | Y13: 44958 | AA13: 100 | AB13: 0 | AC13: 110 | AE13: =AA13*C13 -> 643 | AF13: =AB13*C13 -> 0 | AG13: =AC13*C13 -> 707.3 | AJ13: =AI13*$AJ$4 -> 0 | AK13: =AI13*$AK$4 -> 0 | AL13: =AI13*$AL$4 -> 0 | AM13: =AI13*C13 -> 0 | AP13: =AO13*$AP$4 -> 0 | AQ13: =AO13*$AQ$4 -> 0 | AR13: =AO13*$AR$4 -> 0 | AS13: =AO13*$C13 -> 0 | AX13: =AW13*$AX$4 -> 0 | AY13: =AW13*$AY$4 -> 0 | AZ13: =AW13*$AZ$4 -> 0 | BA13: =AW13*$C13 -> 0 | BD13: =BC13*$BD$4 -> 0 | BE13: =BA13*$C13 -> 0 | BJ13: =BI13*$BJ$4 -> 0 | BK13: =BH13*$C13 -> 0 | BP13: =BO13*$BP$4 -> 0 | BQ13: =BO13*$BQ$4 -> 0 | BR13: =BO13*$C13 -> 0 | BW13: =BV13*$BW$4 -> 0 | BX13: =BV13*$C13 -> 0 | CC13: =CB13*$CC$4 -> 0 | CD13: =CB13*$C13 -> 0
A14: 9 | B14: China Copse | C14: 7.77 | D14: Avon | E14: Grass | F14: Grass | H14: =AA14-L14 -> 292.9 | I14: =AB14-M14 -> 1.55 | J14: =AC14-N14 -> 69.65 | L14: =(SUMIF($AJ$5:$CD$5,L$5,$AJ14:$CD14)) -> 17.1 | M14: =(SUMIF($AJ$5:$CD$5,M$5,$AJ14:$CD14)) -> 18.45 | N14: =(SUMIF($AJ$5:$CD$5,N$5,$AJ14:$CD14)) -> 40.35 | P14: =L14*$C14 -> 132.867 | Q14: =M14*$C14 -> 143.3565 | R14: =N14*$C14 -> 313.5195 | T14: 2 | W14: 3+ | X14: 3 | Y14: 44896 | AA14: 310 | AB14: 20 | AC14: 110 | AE14: =AA14*C14 -> 2408.7 | AF14: =AB14*C14 -> 155.4 | AG14: =AC14*C14 -> 854.7 | AJ14: =AI14*$AJ$4 -> 0 | AK14: =AI14*$AK$4 -> 0 | AL14: =AI14*$AL$4 -> 0 | AM14: =AI14*C14 -> 0 | AO14: 15 | AP14: =AO14*$AP$4 -> 17.1 | AQ14: =AO14*$AQ$4 -> 18.45 | AR14: =AO14*$AR$4 -> 40.35 | AS14: =AO14*$C14 -> 116.55 | AX14: =AW14*$AX$4 -> 0 | AY14: =AW14*$AY$4 -> 0 | AZ14: =AW14*$AZ$4 -> 0 | BA14: =AW14*$C14 -> 0 | BD14: =BC14*$BD$4 -> 0 | BE14: =BA14*$C14 -> 0 | BJ14: =BI14*$BJ$4 -> 0 | BK14: =BH14*$C14 -> 0 | BP14: =BO14*$BP$4 -> 0 | BQ14: =BO14*$BQ$4 -> 0 | BR14: =BO14*$C14 -> 0 | BW14: =BV14*$BW$4 -> 0 | BX14: =BV14*$C14 -> 0 | CC14: =CB14*$CC$4 -> 0 | CD14: =CB14*$C14 -> 0
A15: 10 | B15: Cold Blow Field | C15: 13.71 | D15: Avon | E15: Grass | F15: Grass | H15: =AA15-L15 -> 207.4 | I15: =AB15-M15 -> 9.3 | J15: =AC15-N15 -> 77.9 | L15: =(SUMIF($AJ$5:$CD$5,L$5,$AJ15:$CD15)) -> 102.6 | M15: =(SUMIF($AJ$5:$CD$5,M$5,$AJ15:$CD15)) -> 110.7 | N15: =(SUMIF($AJ$5:$CD$5,N$5,$AJ15:$CD15)) -> 242.1 | P15: =L15*$C15 -> 1406.646 | Q15: =M15*$C15 -> 1517.697 | R15: =N15*$C15 -> 3319.191 | T15: 2 | W15: 1- | X15: 2- | Y15: 44958 | AA15: 310 | AB15: 120 | AC15: 320 | AE15: =AA15*C15 -> 4250.1 | AF15: =AB15*C15 -> 1645.2 | AG15: =AC15*C15 -> 4387.2 | AJ15: =AI15*$AJ$4 -> 0 | AK15: =AI15*$AK$4 -> 0 | AL15: =AI15*$AL$4 -> 0 | AM15: =AI15*C15 -> 0 | AO15: 90 | AP15: =AO15*$AP$4 -> 102.6 | AQ15: =AO15*$AQ$4 -> 110.7 | AR15: =AO15*$AR$4 -> 242.1 | AS15: =AO15*$C15 -> 1233.9 | AX15: =AW15*$AX$4 -> 0 | AY15: =AW15*$AY$4 -> 0 | AZ15: =AW15*$AZ$4 -> 0 | BA15: =AW15*$C15 -> 0 | BD15: =BC15*$BD$4 -> 0 | BE15: =BA15*$C15 -> 0 | BJ15: =BI15*$BJ$4 -> 0 | BK15: =BH15*$C15 -> 0 | BP15: =BO15*$BP$4 -> 0 | BQ15: =BO15*$BQ$4 -> 0 | BR15: =BO15*$C15 -> 0 | BW15: =BV15*$BW$4 -> 0 | BX15: =BV15*$C15 -> 0 | CC15: =CB15*$CC$4 -> 0 | CD15: =CB15*$C15 -> 0
A16: 11 | B16: Common | C16: 16 | D16: Kennett | E16: Grass | F16: Grass | H16: =AA16-L16 -> 196 | I16: =AB16-M16 -> -3 | J16: =AC16-N16 -> -69 | L16: =(SUMIF($AJ$5:$CD$5,L$5,$AJ16:$CD16)) -> 114 | M16: =(SUMIF($AJ$5:$CD$5,M$5,$AJ16:$CD16)) -> 123 | N16: =(SUMIF($AJ$5:$CD$5,N$5,$AJ16:$CD16)) -> 269 | P16: =L16*$C16 -> 1824 | Q16: =M16*$C16 -> 1968 | R16: =N16*$C16 -> 4304 | T16: 2 | W16: 1 | X16: 2+ | Y16: 44896 | AA16: 310 | AB16: 120 | AC16: 200 | AE16: =AA16*C16 -> 4960 | AF16: =AB16*C16 -> 1920 | AG16: =AC16*C16 -> 3200 | AJ16: =AI16*$AJ$4 -> 0 | AK16: =AI16*$AK$4 -> 0 | AL16: =AI16*$AL$4 -> 0 | AM16: =AI16*C16 -> 0 | AO16: 100 | AP16: =AO16*$AP$4 -> 114 | AQ16: =AO16*$AQ$4 -> 123 | AR16: =AO16*$AR$4 -> 269 | AS16: =AO16*$C16 -> 1600 | AX16: =AW16*$AX$4 -> 0 | AY16: =AW16*$AY$4 -> 0 | AZ16: =AW16*$AZ$4 -> 0 | BA16: =AW16*$C16 -> 0 | BD16: =BC16*$BD$4 -> 0 | BE16: =BA16*$C16 -> 0 | BJ16: =BI16*$BJ$4 -> 0 | BK16: =BH16*$C16 -> 0 | BP16: =BO16*$BP$4 -> 0 | BQ16: =BO16*$BQ$4 -> 0 | BR16: =BO16*$C16 -> 0 | BW16: =BV16*$BW$4 -> 0 | BX16: =BV16*$C16 -> 0 | CC16: =CB16*$CC$4 -> 0 | CD16: =CB16*$C16 -> 0
A17: 12 | B17: Coombes | C17: 9.03 | D17: Avon | E17: Mz | F17: WW1 | H17: =AA17-L17 -> 220 | I17: =AB17-M17 -> 0 | J17: =AC17-N17 -> 0 | L17: =(SUMIF($AJ$5:$CD$5,L$5,$AJ17:$CD17)) -> 0 | M17: =(SUMIF($AJ$5:$CD$5,M$5,$AJ17:$CD17)) -> 0 | N17: =(SUMIF($AJ$5:$CD$5,N$5,$AJ17:$CD17)) -> 0 | P17: =L17*$C17 -> 0 | Q17: =M17*$C17 -> 0 | R17: =N17*$C17 -> 0 | T17: 1 | W17: 3+ | X17: 3 | Y17: 44896 | AA17: 220 | AB17: 0 | AC17: 0 | AE17: =AA17*C17 -> 1986.6 | AF17: =AB17*C17 -> 0 | AG17: =AC17*C17 -> 0 | AJ17: =AI17*$AJ$4 -> 0 | AK17: =AI17*$AK$4 -> 0 | AL17: =AI17*$AL$4 -> 0 | AM17: =AI17*C17 -> 0 | AP17: =AO17*$AP$4 -> 0 | AQ17: =AO17*$AQ$4 -> 0 | AR17: =AO17*$AR$4 -> 0 | AS17: =AO17*$C17 -> 0 | AX17: =AW17*$AX$4 -> 0 | AY17: =AW17*$AY$4 -> 0 | AZ17: =AW17*$AZ$4 -> 0 | BA17: =AW17*$C17 -> 0 | BD17: =BC17*$BD$4 -> 0 | BE17: =BA17*$C17 -> 0 | BJ17: =BI17*$BJ$4 -> 0 | BK17: =BH17*$C17 -> 0 | BP17: =BO17*$BP$4 -> 0 | BQ17: =BO17*$BQ$4 -> 0 | BR17: =BO17*$C17 -> 0 | BW17: =BV17*$BW$4 -> 0 | BX17: =BV17*$C17 -> 0 | CC17: =CB17*$CC$4 -> 0 | CD17: =CB17*$C17 -> 0
A18: 13 | B18: Corner Sharcott | C18: 4.03 | D18: Avon | E18: Mz | F18: WW1 | H18: =AA18-L18 -> 220 | I18: =AB18-M18 -> 0 | J18: =AC18-N18 -> 115 | L18: =(SUMIF($AJ$5:$CD$5,L$5,$AJ18:$CD18)) -> 0 | M18: =(SUMIF($AJ$5:$CD$5,M$5,$AJ18:$CD18)) -> 0 | N18: =(SUMIF($AJ$5:$CD$5,N$5,$AJ18:$CD18)) -> 0 | P18: =L18*$C18 -> 0 | Q18: =M18*$C18 -> 0 | R18: =N18*$C18 -> 0 | T18: 1 | W18: 3 | X18: 1+ | Y18: 44958 | AA18: 220 | AB18: 0 | AC18: 115 | AE18: =AA18*C18 -> 886.6 | AF18: =AB18*C18 -> 0 | AG18: =AC18*C18 -> 463.45 | AJ18: =AI18*$AJ$4 -> 0 | AK18: =AI18*$AK$4 -> 0 | AL18: =AI18*$AL$4 -> 0 | AM18: =AI18*C18 -> 0 | AP18: =AO18*$AP$4 -> 0 | AQ18: =AO18*$AQ$4 -> 0 | AR18: =AO18*$AR$4 -> 0 | AS18: =AO18*$C18 -> 0 | AX18: =AW18*$AX$4 -> 0 | AY18: =AW18*$AY$4 -> 0 | AZ18: =AW18*$AZ$4 -> 0 | BA18: =AW18*$C18 -> 0 | BD18: =BC18*$BD$4 -> 0 | BE18: =BA18*$C18 -> 0 | BJ18: =BI18*$BJ$4 -> 0 | BK18: =BH18*$C18 -> 0 | BP18: =BO18*$BP$4 -> 0 | BQ18: =BO18*$BQ$4 -> 0 | BR18: =BO18*$C18 -> 0 | BW18: =BV18*$BW$4 -> 0 | BX18: =BV18*$C18 -> 0 | CC18: =CB18*$CC$4 -> 0 | CD18: =CB18*$C18 -> 0
A19: 14 | B19: Crab Ground | C19: 3.76 | D19: Avon | E19: Grass | F19: Grass | H19: =AA19-L19 -> 310 | I19: =AB19-M19 -> 20 | J19: =AC19-N19 -> 255 | L19: =(SUMIF($AJ$5:$CD$5,L$5,$AJ19:$CD19)) -> 0 | M19: =(SUMIF($AJ$5:$CD$5,M$5,$AJ19:$CD19)) -> 0 | N19: =(SUMIF($AJ$5:$CD$5,N$5,$AJ19:$CD19)) -> 0 | P19: =L19*$C19 -> 0 | Q19: =M19*$C19 -> 0 | R19: =N19*$C19 -> 0 | T19: 2 | W19: 3 | X19: 2 | Y19: 44866 | AA19: 310 | AB19: 20 | AC19: 255 | AE19: =AA19*C19 -> 1165.6 | AF19: =AB19*C19 -> 75.2 | AG19: =AC19*C19 -> 958.8 | AJ19: =AI19*$AJ$4 -> 0 | AK19: =AI19*$AK$4 -> 0 | AL19: =AI19*$AL$4 -> 0 | AM19: =AI19*C19 -> 0 | AP19: =AO19*$AP$4 -> 0 | AQ19: =AO19*$AQ$4 -> 0 | AR19: =AO19*$AR$4 -> 0 | AS19: =AO19*$C19 -> 0 | AX19: =AW19*$AX$4 -> 0 | AY19: =AW19*$AY$4 -> 0 | AZ19: =AW19*$AZ$4 -> 0 | BA19: =AW19*$C19 -> 0 | BD19: =BC19*$BD$4 -> 0 | BE19: =BA19*$C19 -> 0 | BJ19: =BI19*$BJ$4 -> 0 | BK19: =BH19*$C19 -> 0 | BP19: =BO19*$BP$4 -> 0 | BQ19: =BO19*$BQ$4 -> 0 | BR19: =BO19*$C19 -> 0 | BW19: =BV19*$BW$4 -> 0 | BX19: =BV19*$C19 -> 0 | CC19: =CB19*$CC$4 -> 0 | CD19: =CB19*$C19 -> 0
A20: 15 | B20: Dray Track 19 Acre | C20: 7.54 | D20: Avon | E20: Mz | F20: WW1 | H20: =AA20-L20 -> 220 | I20: =AB20-M20 -> 0 | J20: =AC20-N20 -> 0 | L20: =(SUMIF($AJ$5:$CD$5,L$5,$AJ20:$CD20)) -> 0 | M20: =(SUMIF($AJ$5:$CD$5,M$5,$AJ20:$CD20)) -> 0 | N20: =(SUMIF($AJ$5:$CD$5,N$5,$AJ20:$CD20)) -> 0 | P20: =L20*$C20 -> 0 | Q20: =M20*$C20 -> 0 | R20: =N20*$C20 -> 0 | T20: 1 | W20: 3 | X20: 3- | Y20: 44866 | AA20: 220 | AB20: 0 | AC20: 0 | AE20: =AA20*C20 -> 1658.8 | AF20: =AB20*C20 -> 0 | AG20: =AC20*C20 -> 0 | AJ20: =AI20*$AJ$4 -> 0 | AK20: =AI20*$AK$4 -> 0 | AL20: =AI20*$AL$4 -> 0 | AM20: =AI20*C20 -> 0 | AP20: =AO20*$AP$4 -> 0 | AQ20: =AO20*$AQ$4 -> 0 | AR20: =AO20*$AR$4 -> 0 | AS20: =AO20*$C20 -> 0 | AX20: =AW20*$AX$4 -> 0 | AY20: =AW20*$AY$4 -> 0 | AZ20: =AW20*$AZ$4 -> 0 | BA20: =AW20*$C20 -> 0 | BD20: =BC20*$BD$4 -> 0 | BE20: =BA20*$C20 -> 0 | BJ20: =BI20*$BJ$4 -> 0 | BK20: =BH20*$C20 -> 0 | BP20: =BO20*$BP$4 -> 0 | BQ20: =BO20*$BQ$4 -> 0 | BR20: =BO20*$C20 -> 0 | BW20: =BV20*$BW$4 -> 0 | BX20: =BV20*$C20 -> 0 | CC20: =CB20*$CC$4 -> 0 | CD20: =CB20*$C20 -> 0
A21: 16 | B21: Draycott Brow | C21: 13 | D21: Avon | E21: Lucerne | F21: Mz | H21: =AA21-L21 -> 91.3 | I21: =AB21-M21 -> 0.9 | J21: =AC21-N21 -> 118 | L21: =(SUMIF($AJ$5:$CD$5,L$5,$AJ21:$CD21)) -> 8.7 | M21: =(SUMIF($AJ$5:$CD$5,M$5,$AJ21:$CD21)) -> 19.1 | N21: =(SUMIF($AJ$5:$CD$5,N$5,$AJ21:$CD21)) -> 27 | P21: =L21*$C21 -> 113.1 | Q21: =M21*$C21 -> 248.3 | R21: =N21*$C21 -> 351 | T21: 1 | W21: 3 | X21: 2+ | Y21: 44866 | AA21: 100 | AB21: 20 | AC21: 145 | AE21: =AA21*C21 -> 1300 | AF21: =AB21*C21 -> 260 | AG21: =AC21*C21 -> 1885 | AI21: 10 | AJ21: =AI21*$AJ$4 -> 8.7 | AK21: =AI21*$AK$4 -> 19.1 | AL21: =AI21*$AL$4 -> 27 | AM21: =AI21*C21 -> 130 | AP21: =AO21*$AP$4 -> 0 | AQ21: =AO21*$AQ$4 -> 0 | AR21: =AO21*$AR$4 -> 0 | AS21: =AO21*$C21 -> 0 | AX21: =AW21*$AX$4 -> 0 | AY21: =AW21*$AY$4 -> 0 | AZ21: =AW21*$AZ$4 -> 0 | BA21: =AW21*$C21 -> 0 | BD21: =BC21*$BD$4 -> 0 | BE21: =BA21*$C21 -> 0 | BJ21: =BI21*$BJ$4 -> 0 | BK21: =BH21*$C21 -> 0 | BP21: =BO21*$BP$4 -> 0 | BQ21: =BO21*$BQ$4 -> 0 | BR21: =BO21*$C21 -> 0 | BW21: =BV21*$BW$4 -> 0 | BX21: =BV21*$C21 -> 0 | CC21: =CB21*$CC$4 -> 0 | CD21: =CB21*$C21 -> 0
A22: 17 | B22: Edgeleys | C22: 3.35 | D22: Avon | E22: Grass | F22: Grass | H22: =AA22-L22 -> 227.92 | I22: =AB22-M22 -> 1.44 | J22: =AC22-N22 -> -83.68 | L22: =(SUMIF($AJ$5:$CD$5,L$5,$AJ22:$CD22)) -> 82.08 | M22: =(SUMIF($AJ$5:$CD$5,M$5,$AJ22:$CD22)) -> 88.56 | N22: =(SUMIF($AJ$5:$CD$5,N$5,$AJ22:$CD22)) -> 193.68 | P22: =L22*$C22 -> 274.968 | Q22: =M22*$C22 -> 296.676 | R22: =N22*$C22 -> 648.828 | T22: 2 | W22: 2- | X22: 3- | Y22: 44896 | AA22: 310 | AB22: 90 | AC22: 110 | AE22: =AA22*C22 -> 1038.5 | AF22: =AB22*C22 -> 301.5 | AG22: =AC22*C22 -> 368.5 | AJ22: =AI22*$AJ$4 -> 0 | AK22: =AI22*$AK$4 -> 0 | AL22: =AI22*$AL$4 -> 0 | AM22: =AI22*C22 -> 0 | AO22: 72 | AP22: =AO22*$AP$4 -> 82.08 | AQ22: =AO22*$AQ$4 -> 88.56 | AR22: =AO22*$AR$4 -> 193.68 | AS22: =AO22*$C22 -> 241.2 | AX22: =AW22*$AX$4 -> 0 | AY22: =AW22*$AY$4 -> 0 | AZ22: =AW22*$AZ$4 -> 0 | BA22: =AW22*$C22 -> 0 | BD22: =BC22*$BD$4 -> 0 | BE22: =BA22*$C22 -> 0 | BJ22: =BI22*$BJ$4 -> 0 | BK22: =BH22*$C22 -> 0 | BP22: =BO22*$BP$4 -> 0 | BQ22: =BO22*$BQ$4 -> 0 | BR22: =BO22*$C22 -> 0 | BW22: =BV22*$BW$4 -> 0 | BX22: =BV22*$C22 -> 0 | CC22: =CB22*$CC$4 -> 0 | CD22: =CB22*$C22 -> 0
A23: 18 | B23: F. Horn/Fellows | C23: 15.46 | D23: Avon | E23: WW1 | F23: Mz | H23: =AA23-L23 -> 91.3 | I23: =AB23-M23 -> 0.9 | J23: =AC23-N23 -> 133 | L23: =(SUMIF($AJ$5:$CD$5,L$5,$AJ23:$CD23)) -> 8.7 | M23: =(SUMIF($AJ$5:$CD$5,M$5,$AJ23:$CD23)) -> 19.1 | N23: =(SUMIF($AJ$5:$CD$5,N$5,$AJ23:$CD23)) -> 27 | P23: =L23*$C23 -> 134.502 | Q23: =M23*$C23 -> 295.286 | R23: =N23*$C23 -> 417.42 | T23: 1 | W23: 3 | X23: 2 | Y23: 44958 | AA23: 100 | AB23: 20 | AC23: 160 | AE23: =AA23*C23 -> 1546 | AF23: =AB23*C23 -> 309.2 | AG23: =AC23*C23 -> 2473.6 | AI23: 10 | AJ23: =AI23*$AJ$4 -> 8.7 | AK23: =AI23*$AK$4 -> 19.1 | AL23: =AI23*$AL$4 -> 27 | AM23: =AI23*C23 -> 154.6 | AP23: =AO23*$AP$4 -> 0 | AQ23: =AO23*$AQ$4 -> 0 | AR23: =AO23*$AR$4 -> 0 | AS23: =AO23*$C23 -> 0 | AX23: =AW23*$AX$4 -> 0 | AY23: =AW23*$AY$4 -> 0 | AZ23: =AW23*$AZ$4 -> 0 | BA23: =AW23*$C23 -> 0 | BD23: =BC23*$BD$4 -> 0 | BE23: =BA23*$C23 -> 0 | BJ23: =BI23*$BJ$4 -> 0 | BK23: =BH23*$C23 -> 0 | BP23: =BO23*$BP$4 -> 0 | BQ23: =BO23*$BQ$4 -> 0 | BR23: =BO23*$C23 -> 0 | BW23: =BV23*$BW$4 -> 0 | BX23: =BV23*$C23 -> 0 | CC23: =CB23*$CC$4 -> 0 | CD23: =CB23*$C23 -> 0
A24: 19 | B24: Figury | C24: 8.29 | D24: Avon | E24: WW1 | F24: Mz | H24: =AA24-L24 -> 57.1 | I24: =AB24-M24 -> -1 | J24: =AC24-N24 -> 52.3 | L24: =(SUMIF($AJ$5:$CD$5,L$5,$AJ24:$CD24)) -> 42.9 | M24: =(SUMIF($AJ$5:$CD$5,M$5,$AJ24:$CD24)) -> 56 | N24: =(SUMIF($AJ$5:$CD$5,N$5,$AJ24:$CD24)) -> 107.7 | P24: =L24*$C24 -> 355.641 | Q24: =M24*$C24 -> 464.24 | R24: =N24*$C24 -> 892.833 | T24: 1 | W24: 2+ | X24: 2 | Y24: 44896 | AA24: 100 | AB24: 55 | AC24: 160 | AE24: =AA24*C24 -> 829 | AF24: =AB24*C24 -> 455.95 | AG24: =AC24*C24 -> 1326.4 | AI24: 10 | AJ24: =AI24*$AJ$4 -> 8.7 | AK24: =AI24*$AK$4 -> 19.1 | AL24: =AI24*$AL$4 -> 27 | AM24: =AI24*C24 -> 82.9 | AO24: 30 | AP24: =AO24*$AP$4 -> 34.2 | AQ24: =AO24*$AQ$4 -> 36.9 | AR24: =AO24*$AR$4 -> 80.7 | AS24: =AO24*$C24 -> 248.7 | AX24: =AW24*$AX$4 -> 0 | AY24: =AW24*$AY$4 -> 0 | AZ24: =AW24*$AZ$4 -> 0 | BA24: =AW24*$C24 -> 0 | BD24: =BC24*$BD$4 -> 0 | BE24: =BA24*$C24 -> 0 | BJ24: =BI24*$BJ$4 -> 0 | BK24: =BH24*$C24 -> 0 | BP24: =BO24*$BP$4 -> 0 | BQ24: =BO24*$BQ$4 -> 0 | BR24: =BO24*$C24 -> 0 | BW24: =BV24*$BW$4 -> 0 | BX24: =BV24*$C24 -> 0 | CC24: =CB24*$CC$4 -> 0 | CD24: =CB24*$C24 -> 0 | CE24: =CB24*($CE$4/1000) -> 0 | CF24: =CE24*$C24 -> 0
A25: 20 | B25: Gopher Reversion | C25: 3.6 | D25: Kennett | E25: Grass | F25: Grass | H25: =AA25-L25 -> 227.92 | I25: =AB25-M25 -> 1.44 | J25: =AC25-N25 -> 61.32 | L25: =(SUMIF($AJ$5:$CD$5,L$5,$AJ25:$CD25)) -> 82.08 | M25: =(SUMIF($AJ$5:$CD$5,M$5,$AJ25:$CD25)) -> 88.56 | N25: =(SUMIF($AJ$5:$CD$5,N$5,$AJ25:$CD25)) -> 193.68 | P25: =L25*$C25 -> 295.488 | Q25: =M25*$C25 -> 318.816 | R25: =N25*$C25 -> 697.248 | T25: 2 | W25: 2 | X25: 2 | AA25: 310 | AB25: 90 | AC25: 255 | AE25: =AA25*C25 -> 1116 | AF25: =AB25*C25 -> 324 | AG25: =AC25*C25 -> 918 | AJ25: =AI25*$AJ$4 -> 0 | AK25: =AI25*$AK$4 -> 0 | AL25: =AI25*$AL$4 -> 0 | AM25: =AI25*C25 -> 0 | AO25: 72 | AP25: =AO25*$AP$4 -> 82.08 | AQ25: =AO25*$AQ$4 -> 88.56 | AR25: =AO25*$AR$4 -> 193.68 | AS25: =AO25*$C25 -> 259.2 | AX25: =AW25*$AX$4 -> 0 | AY25: =AW25*$AY$4 -> 0 | AZ25: =AW25*$AZ$4 -> 0 | BA25: =AW25*$C25 -> 0 | BD25: =BC25*$BD$4 -> 0 | BE25: =BA25*$C25 -> 0 | BJ25: =BI25*$BJ$4 -> 0 | BK25: =BH25*$C25 -> 0 | BP25: =BO25*$BP$4 -> 0 | BQ25: =BO25*$BQ$4 -> 0 | BR25: =BO25*$C25 -> 0 | BW25: =BV25*$BW$4 -> 0 | BX25: =BV25*$C25 -> 0 | CC25: =CB25*$CC$4 -> 0 | CD25: =CB25*$C25 -> 0
A26: 21 | B26: Gopher Reversion | C26: 6.53 | D26: Avon | E26: Grass | F26: Grass | H26: =AA26-L26 -> 230.2 | I26: =AB26-M26 -> 3.9 | J26: =AC26-N26 -> 66.7 | L26: =(SUMIF($AJ$5:$CD$5,L$5,$AJ26:$CD26)) -> 79.8 | M26: =(SUMIF($AJ$5:$CD$5,M$5,$AJ26:$CD26)) -> 86.1 | N26: =(SUMIF($AJ$5:$CD$5,N$5,$AJ26:$CD26)) -> 188.3 | P26: =L26*$C26 -> 521.094 | Q26: =M26*$C26 -> 562.233 | R26: =N26*$C26 -> 1229.599 | T26: 2 | W26: 2 | X26: 2 | AA26: 310 | AB26: 90 | AC26: 255 | AE26: =AA26*C26 -> 2024.3 | AF26: =AB26*C26 -> 587.7 | AG26: =AC26*C26 -> 1665.15 | AJ26: =AI26*$AJ$4 -> 0 | AK26: =AI26*$AK$4 -> 0 | AL26: =AI26*$AL$4 -> 0 | AM26: =AI26*C26 -> 0 | AO26: 70 | AP26: =AO26*$AP$4 -> 79.8 | AQ26: =AO26*$AQ$4 -> 86.1 | AR26: =AO26*$AR$4 -> 188.3 | AS26: =AO26*$C26 -> 457.1 | AX26: =AW26*$AX$4 -> 0 | AY26: =AW26*$AY$4 -> 0 | AZ26: =AW26*$AZ$4 -> 0 | BA26: =AW26*$C26 -> 0 | BD26: =BC26*$BD$4 -> 0 | BE26: =BA26*$C26 -> 0 | BJ26: =BI26*$BJ$4 -> 0 | BK26: =BH26*$C26 -> 0 | BP26: =BO26*$BP$4 -> 0 | BQ26: =BO26*$BQ$4 -> 0 | BR26: =BO26*$C26 -> 0 | BW26: =BV26*$BW$4 -> 0 | BX26: =BV26*$C26 -> 0 | CC26: =CB26*$CC$4 -> 0 | CD26: =CB26*$C26 -> 0
A27: 22 | B27: Heart Field | C27: 19.96 | D27: Avon | E27: Grass | F27: WW1 | H27: =AA27-L27 -> 168.7 | I27: =AB27-M27 -> -0.35 | J27: =AC27-N27 -> -36.05 | L27: =(SUMIF($AJ$5:$CD$5,L$5,$AJ27:$CD27)) -> 51.3 | M27: =(SUMIF($AJ$5:$CD$5,M$5,$AJ27:$CD27)) -> 55.35 | N27: =(SUMIF($AJ$5:$CD$5,N$5,$AJ27:$CD27)) -> 121.05 | P27: =L27*$C27 -> 1023.948 | Q27: =M27*$C27 -> 1104.786 | R27: =N27*$C27 -> 2416.158 | T27: 1 | W27: 2 | X27: 2 | AA27: 220 | AB27: 55 | AC27: 85 | AE27: =AA27*C27 -> 4391.2 | AF27: =AB27*C27 -> 1097.8 | AG27: =AC27*C27 -> 1696.6 | AJ27: =AI27*$AJ$4 -> 0 | AK27: =AI27*$AK$4 -> 0 | AL27: =AI27*$AL$4 -> 0 | AM27: =AI27*C27 -> 0 | AO27: 45 | AP27: =AO27*$AP$4 -> 51.3 | AQ27: =AO27*$AQ$4 -> 55.35 | AR27: =AO27*$AR$4 -> 121.05 | AS27: =AO27*$C27 -> 898.2 | AX27: =AW27*$AX$4 -> 0 | AY27: =AW27*$AY$4 -> 0 | AZ27: =AW27*$AZ$4 -> 0 | BA27: =AW27*$C27 -> 0 | BD27: =BC27*$BD$4 -> 0 | BE27: =BA27*$C27 -> 0 | BJ27: =BI27*$BJ$4 -> 0 | BK27: =BH27*$C27 -> 0 | BP27: =BO27*$BP$4 -> 0 | BQ27: =BO27*$BQ$4 -> 0 | BR27: =BO27*$C27 -> 0 | BW27: =BV27*$BW$4 -> 0 | BX27: =BV27*$C27 -> 0 | CC27: =CB27*$CC$4 -> 0 | CD27: =CB27*$C27 -> 0
A28: 23 | B28: Hollow Tree | C28: 4.3 | D28: Avon | E28: Mz | F28: WW1 | H28: =AA28-L28 -> 168.7 | I28: =AB28-M28 -> -0.35 | J28: =AC28-N28 -> -36.05 | L28: =(SUMIF($AJ$5:$CD$5,L$5,$AJ28:$CD28)) -> 51.3 | M28: =(SUMIF($AJ$5:$CD$5,M$5,$AJ28:$CD28)) -> 55.35 | N28: =(SUMIF($AJ$5:$CD$5,N$5,$AJ28:$CD28)) -> 121.05 | P28: =L28*$C28 -> 220.59 | Q28: =M28*$C28 -> 238.005 | R28: =N28*$C28 -> 520.515 | T28: 1 | W28: 2 | X28: 2- | AA28: 220 | AB28: 55 | AC28: 85 | AE28: =AA28*C28 -> 946 | AF28: =AB28*C28 -> 236.5 | AG28: =AC28*C28 -> 365.5 | AJ28: =AI28*$AJ$4 -> 0 | AK28: =AI28*$AK$4 -> 0 | AL28: =AI28*$AL$4 -> 0 | AM28: =AI28*C28 -> 0 | AO28: 45 | AP28: =AO28*$AP$4 -> 51.3 | AQ28: =AO28*$AQ$4 -> 55.35 | AR28: =AO28*$AR$4 -> 121.05 | AS28: =AO28*$C28 -> 193.5 | AX28: =AW28*$AX$4 -> 0 | AY28: =AW28*$AY$4 -> 0 | AZ28: =AW28*$AZ$4 -> 0 | BA28: =AW28*$C28 -> 0 | BD28: =BC28*$BD$4 -> 0 | BE28: =BA28*$C28 -> 0 | BJ28: =BI28*$BJ$4 -> 0 | BK28: =BH28*$C28 -> 0 | BP28: =BO28*$BP$4 -> 0 | BQ28: =BO28*$BQ$4 -> 0 | BR28: =BO28*$C28 -> 0 | BW28: =BV28*$BW$4 -> 0 | BX28: =BV28*$C28 -> 0 | CC28: =CB28*$CC$4 -> 0 | CD28: =CB28*$C28 -> 0
A29: 24 | B29: Horseley | C29: 6.98 | D29: Avon | E29: Mz | F29: WW1 | H29: =AA29-L29 -> 220 | I29: =AB29-M29 -> 0 | J29: =AC29-N29 -> 55 | L29: =(SUMIF($AJ$5:$CD$5,L$5,$AJ29:$CD29)) -> 0 | M29: =(SUMIF($AJ$5:$CD$5,M$5,$AJ29:$CD29)) -> 0 | N29: =(SUMIF($AJ$5:$CD$5,N$5,$AJ29:$CD29)) -> 0 | P29: =L29*$C29 -> 0 | Q29: =M29*$C29 -> 0 | R29: =N29*$C29 -> 0 | T29: 1 | W29: 3+ | X29: 2+ | Y29: 44866 | AA29: 220 | AB29: 0 | AC29: 55 | AE29: =AA29*C29 -> 1535.6 | AF29: =AB29*C29 -> 0 | AG29: =AC29*C29 -> 383.9 | AJ29: =AI29*$AJ$4 -> 0 | AK29: =AI29*$AK$4 -> 0 | AL29: =AI29*$AL$4 -> 0 | AM29: =AI29*C29 -> 0 | AP29: =AO29*$AP$4 -> 0 | AQ29: =AO29*$AQ$4 -> 0 | AR29: =AO29*$AR$4 -> 0 | AS29: =AO29*$C29 -> 0 | AX29: =AW29*$AX$4 -> 0 | AY29: =AW29*$AY$4 -> 0 | AZ29: =AW29*$AZ$4 -> 0 | BA29: =AW29*$C29 -> 0 | BD29: =BC29*$BD$4 -> 0 | BE29: =BA29*$C29 -> 0 | BJ29: =BI29*$BJ$4 -> 0 | BK29: =BH29*$C29 -> 0 | BP29: =BO29*$BP$4 -> 0 | BQ29: =BO29*$BQ$4 -> 0 | BR29: =BO29*$C29 -> 0 | BW29: =BV29*$BW$4 -> 0 | BX29: =BV29*$C29 -> 0 | CC29: =CB29*$CC$4 -> 0 | CD29: =CB29*$C29 -> 0
A30: 25 | B30: Hospital Field | C30: 9.5 | D30: Avon | E30: Mz | F30: WW1 | H30: =AA30-L30 -> 220 | I30: =AB30-M30 -> 0 | J30: =AC30-N30 -> 0 | L30: =(SUMIF($AJ$5:$CD$5,L$5,$AJ30:$CD30)) -> 0 | M30: =(SUMIF($AJ$5:$CD$5,M$5,$AJ30:$CD30)) -> 0 | N30: =(SUMIF($AJ$5:$CD$5,N$5,$AJ30:$CD30)) -> 0 | P30: =L30*$C30 -> 0 | Q30: =M30*$C30 -> 0 | R30: =N30*$C30 -> 0 | T30: 1 | W30: 4 | X30: 3+ | Y30: 44958 | AA30: 220 | AB30: 0 | AC30: 0 | AE30: =AA30*C30 -> 2090 | AF30: =AB30*C30 -> 0 | AG30: =AC30*C30 -> 0 | AJ30: =AI30*$AJ$4 -> 0 | AK30: =AI30*$AK$4 -> 0 | AL30: =AI30*$AL$4 -> 0 | AM30: =AI30*C30 -> 0 | AP30: =AO30*$AP$4 -> 0 | AQ30: =AO30*$AQ$4 -> 0 | AR30: =AO30*$AR$4 -> 0 | AS30: =AO30*$C30 -> 0 | AX30: =AW30*$AX$4 -> 0 | AY30: =AW30*$AY$4 -> 0 | AZ30: =AW30*$AZ$4 -> 0 | BA30: =AW30*$C30 -> 0 | BD30: =BC30*$BD$4 -> 0 | BE30: =BA30*$C30 -> 0 | BJ30: =BI30*$BJ$4 -> 0 | BK30: =BH30*$C30 -> 0 | BP30: =BO30*$BP$4 -> 0 | BQ30: =BO30*$BQ$4 -> 0 | BR30: =BO30*$C30 -> 0 | BW30: =BV30*$BW$4 -> 0 | BX30: =BV30*$C30 -> 0 | CC30: =CB30*$CC$4 -> 0 | CD30: =CB30*$C30 -> 0
A31: 26 | B31: Inlands | C31: 17 | D31: Avon | E31: ww1 | F31: Mz | H31: =AA31-L31 -> 89.56 | I31: =AB31-M31 -> -2.92 | J31: =AC31-N31 -> 142.6 | L31: =(SUMIF($AJ$5:$CD$5,L$5,$AJ31:$CD31)) -> 10.44 | M31: =(SUMIF($AJ$5:$CD$5,M$5,$AJ31:$CD31)) -> 22.92 | N31: =(SUMIF($AJ$5:$CD$5,N$5,$AJ31:$CD31)) -> 32.4 | P31: =L31*$C31 -> 177.48 | Q31: =M31*$C31 -> 389.64 | R31: =N31*$C31 -> 550.8 | T31: 1 | W31: 3- | X31: 2- | Y31: 44958 | AA31: 100 | AB31: 20 | AC31: 175 | AE31: =AA31*C31 -> 1700 | AF31: =AB31*C31 -> 340 | AG31: =AC31*C31 -> 2975 | AI31: 12 | AJ31: =AI31*$AJ$4 -> 10.44 | AK31: =AI31*$AK$4 -> 22.92 | AL31: =AI31*$AL$4 -> 32.4 | AM31: =AI31*C31 -> 204 | AP31: =AO31*$AP$4 -> 0 | AQ31: =AO31*$AQ$4 -> 0 | AR31: =AO31*$AR$4 -> 0 | AS31: =AO31*$C31 -> 0 | AX31: =AW31*$AX$4 -> 0 | AY31: =AW31*$AY$4 -> 0 | AZ31: =AW31*$AZ$4 -> 0 | BA31: =AW31*$C31 -> 0 | BD31: =BC31*$BD$4 -> 0 | BE31: =BA31*$C31 -> 0 | BJ31: =BI31*$BJ$4 -> 0 | BK31: =BH31*$C31 -> 0 | BP31: =BO31*$BP$4 -> 0 | BQ31: =BO31*$BQ$4 -> 0 | BR31: =BO31*$C31 -> 0 | BW31: =BV31*$BW$4 -> 0 | BX31: =BV31*$C31 -> 0 | CC31: =CB31*$CC$4 -> 0 | CD31: =CB31*$C31 -> 0
A32: 27 | B32: Lisburn | C32: 11.78 | D32: Avon | E32: Grass | F32: Grass | H32: =AA32-L32 -> 292.9 | I32: =AB32-M32 -> 1.55 | J32: =AC32-N32 -> 69.65 | L32: =(SUMIF($AJ$5:$CD$5,L$5,$AJ32:$CD32)) -> 17.1 | M32: =(SUMIF($AJ$5:$CD$5,M$5,$AJ32:$CD32)) -> 18.45 | N32: =(SUMIF($AJ$5:$CD$5,N$5,$AJ32:$CD32)) -> 40.35 | P32: =L32*$C32 -> 201.438 | Q32: =M32*$C32 -> 217.341 | R32: =N32*$C32 -> 475.323 | T32: 2 | W32: 3- | X32: 3- | Y32: 44958 | AA32: 310 | AB32: 20 | AC32: 110 | AE32: =AA32*C32 -> 3651.8 | AF32: =AB32*C32 -> 235.6 | AG32: =AC32*C32 -> 1295.8 | AJ32: =AI32*$AJ$4 -> 0 | AK32: =AI32*$AK$4 -> 0 | AL32: =AI32*$AL$4 -> 0 | AM32: =AI32*C32 -> 0 | AO32: 15 | AP32: =AO32*$AP$4 -> 17.1 | AQ32: =AO32*$AQ$4 -> 18.45 | AR32: =AO32*$AR$4 -> 40.35 | AS32: =AO32*$C32 -> 176.7 | AX32: =AW32*$AX$4 -> 0 | AY32: =AW32*$AY$4 -> 0 | AZ32: =AW32*$AZ$4 -> 0 | BA32: =AW32*$C32 -> 0 | BD32: =BC32*$BD$4 -> 0 | BE32: =BA32*$C32 -> 0 | BJ32: =BI32*$BJ$4 -> 0 | BK32: =BH32*$C32 -> 0 | BP32: =BO32*$BP$4 -> 0 | BQ32: =BO32*$BQ$4 -> 0 | BR32: =BO32*$C32 -> 0 | BW32: =BV32*$BW$4 -> 0 | BX32: =BV32*$C32 -> 0 | CC32: =CB32*$CC$4 -> 0 | CD32: =CB32*$C32 -> 0
A33: 28 | B33: Lower Hatfield | C33: 5.72 | D33: Avon | E33: Lucerne | F33: Mz | H33: =AA33-L33 -> 83.8 | I33: =AB33-M33 -> -1.4 | J33: =AC33-N33 -> -48.8 | L33: =(SUMIF($AJ$5:$CD$5,L$5,$AJ33:$CD33)) -> 16.2 | M33: =(SUMIF($AJ$5:$CD$5,M$5,$AJ33:$CD33)) -> 86.4 | N33: =(SUMIF($AJ$5:$CD$5,N$5,$AJ33:$CD33)) -> 253.8 | P33: =L33*$C33 -> 92.664 | Q33: =M33*$C33 -> 494.208 | R33: =N33*$C33 -> 1451.736 | T33: 1 | W33: 1 | X33: 1+ | Y33: 44896 | AA33: 100 | AB33: 85 | AC33: 205 | AE33: =AA33*C33 -> 572 | AF33: =AB33*C33 -> 486.2 | AG33: =AC33*C33 -> 1172.6 | AJ33: =AI33*$AJ$4 -> 0 | AK33: =AI33*$AK$4 -> 0 | AL33: =AI33*$AL$4 -> 0 | AM33: =AI33*C33 -> 0 | AP33: =AO33*$AP$4 -> 0 | AQ33: =AO33*$AQ$4 -> 0 | AR33: =AO33*$AR$4 -> 0 | AS33: =AO33*$C33 -> 0 | AW33: 27 | AX33: =AW33*$AX$4 -> 16.2 | AY33: =AW33*$AY$4 -> 86.4 | AZ33: =AW33*$AZ$4 -> 253.8 | BA33: =AW33*$C33 -> 154.44 | BD33: =BC33*$BD$4 -> 0 | BE33: =BA33*$C33 -> 883.3968 | BJ33: =BI33*$BJ$4 -> 0 | BK33: =BH33*$C33 -> 0 | BP33: =BO33*$BP$4 -> 0 | BQ33: =BO33*$BQ$4 -> 0 | BR33: =BO33*$C33 -> 0 | BW33: =BV33*$BW$4 -> 0 | BX33: =BV33*$C33 -> 0 | CC33: =CB33*$CC$4 -> 0 | CD33: =CB33*$C33 -> 0
A34: 29 | B34: Middle N | C34: 10 | D34: Avon | E34: Grass | F34: Grass | H34: =AA34-L34 -> 227.92 | I34: =AB34-M34 -> 1.44 | J34: =AC34-N34 -> 61.32 | L34: =(SUMIF($AJ$5:$CD$5,L$5,$AJ34:$CD34)) -> 82.08 | M34: =(SUMIF($AJ$5:$CD$5,M$5,$AJ34:$CD34)) -> 88.56 | N34: =(SUMIF($AJ$5:$CD$5,N$5,$AJ34:$CD34)) -> 193.68 | P34: =L34*$C34 -> 820.8 | Q34: =M34*$C34 -> 885.6 | R34: =N34*$C34 -> 1936.8 | T34: 2 | W34: 2 | X34: 2 | AA34: 310 | AB34: 90 | AC34: 255 | AE34: =AA34*C34 -> 3100 | AF34: =AB34*C34 -> 900 | AG34: =AC34*C34 -> 2550 | AJ34: =AI34*$AJ$4 -> 0 | AK34: =AI34*$AK$4 -> 0 | AL34: =AI34*$AL$4 -> 0 | AM34: =AI34*C34 -> 0 | AO34: 72 | AP34: =AO34*$AP$4 -> 82.08 | AQ34: =AO34*$AQ$4 -> 88.56 | AR34: =AO34*$AR$4 -> 193.68 | AS34: =AO34*$C34 -> 720 | AX34: =AW34*$AX$4 -> 0 | AY34: =AW34*$AY$4 -> 0 | AZ34: =AW34*$AZ$4 -> 0 | BA34: =AW34*$C34 -> 0 | BD34: =BC34*$BD$4 -> 0 | BE34: =BA34*$C34 -> 0 | BJ34: =BI34*$BJ$4 -> 0 | BK34: =BH34*$C34 -> 0 | BP34: =BO34*$BP$4 -> 0 | BQ34: =BO34*$BQ$4 -> 0 | BR34: =BO34*$C34 -> 0 | BW34: =BV34*$BW$4 -> 0 | BX34: =BV34*$C34 -> 0 | CC34: =CB34*$CC$4 -> 0 | CD34: =CB34*$C34 -> 0
A35: 30 | B35: Middle S | C35: 7.49 | D35: Avon | E35: Grass | F35: Grass | H35: =AA35-L35 -> 227.92 | I35: =AB35-M35 -> 1.44 | J35: =AC35-N35 -> 61.32 | L35: =(SUMIF($AJ$5:$CD$5,L$5,$AJ35:$CD35)) -> 82.08 | M35: =(SUMIF($AJ$5:$CD$5,M$5,$AJ35:$CD35)) -> 88.56 | N35: =(SUMIF($AJ$5:$CD$5,N$5,$AJ35:$CD35)) -> 193.68 | P35: =L35*$C35 -> 614.7792 | Q35: =M35*$C35 -> 663.3144 | R35: =N35*$C35 -> 1450.6632 | T35: 2 | W35: 2 | X35: 2 | AA35: 310 | AB35: 90 | AC35: 255 | AE35: =AA35*C35 -> 2321.9 | AF35: =AB35*C35 -> 674.1 | AG35: =AC35*C35 -> 1909.95 | AJ35: =AI35*$AJ$4 -> 0 | AK35: =AI35*$AK$4 -> 0 | AL35: =AI35*$AL$4 -> 0 | AM35: =AI35*C35 -> 0 | AO35: 72 | AP35: =AO35*$AP$4 -> 82.08 | AQ35: =AO35*$AQ$4 -> 88.56 | AR35: =AO35*$AR$4 -> 193.68 | AS35: =AO35*$C35 -> 539.28 | AX35: =AW35*$AX$4 -> 0 | AY35: =AW35*$AY$4 -> 0 | AZ35: =AW35*$AZ$4 -> 0 | BA35: =AW35*$C35 -> 0 | BD35: =BC35*$BD$4 -> 0 | BE35: =BA35*$C35 -> 0 | BJ35: =BI35*$BJ$4 -> 0 | BK35: =BH35*$C35 -> 0 | BP35: =BO35*$BP$4 -> 0 | BQ35: =BO35*$BQ$4 -> 0 | BR35: =BO35*$C35 -> 0 | BW35: =BV35*$BW$4 -> 0 | BX35: =BV35*$C35 -> 0 | CC35: =CB35*$CC$4 -> 0 | CD35: =CB35*$C35 -> 0
A36: 31 | B36: Mortimers | C36: 14.89 | D36: Avon | E36: Mz | F36: WW1 | H36: =AA36-L36 -> 220 | I36: =AB36-M36 -> 0 | J36: =AC36-N36 -> 0 | L36: =(SUMIF($AJ$5:$CD$5,L$5,$AJ36:$CD36)) -> 0 | M36: =(SUMIF($AJ$5:$CD$5,M$5,$AJ36:$CD36)) -> 0 | N36: =(SUMIF($AJ$5:$CD$5,N$5,$AJ36:$CD36)) -> 0 | P36: =L36*$C36 -> 0 | Q36: =M36*$C36 -> 0 | R36: =N36*$C36 -> 0 | T36: 1 | W36: 3 | X36: 3+ | Y36: 44866 | AA36: 220 | AB36: 0 | AC36: 0 | AE36: =AA36*C36 -> 3275.8 | AF36: =AB36*C36 -> 0 | AG36: =AC36*C36 -> 0 | AJ36: =AI36*$AJ$4 -> 0 | AK36: =AI36*$AK$4 -> 0 | AL36: =AI36*$AL$4 -> 0 | AM36: =AI36*C36 -> 0 | AP36: =AO36*$AP$4 -> 0 | AQ36: =AO36*$AQ$4 -> 0 | AR36: =AO36*$AR$4 -> 0 | AS36: =AO36*$C36 -> 0 | AX36: =AW36*$AX$4 -> 0 | AY36: =AW36*$AY$4 -> 0 | AZ36: =AW36*$AZ$4 -> 0 | BA36: =AW36*$C36 -> 0 | BD36: =BC36*$BD$4 -> 0 | BE36: =BA36*$C36 -> 0 | BJ36: =BI36*$BJ$4 -> 0 | BK36: =BH36*$C36 -> 0 | BP36: =BO36*$BP$4 -> 0 | BQ36: =BO36*$BQ$4 -> 0 | BR36: =BO36*$C36 -> 0 | BW36: =BV36*$BW$4 -> 0 | BX36: =BV36*$C36 -> 0 | CC36: =CB36*$CC$4 -> 0 | CD36: =CB36*$C36 -> 0
A37: 32 | B37: Oare Cottage | C37: 4.94 | D37: Avon | E37: Lucerne | F37: Mz | H37: =AA37-L37 -> 9.8 | I37: =AB37-M37 -> -7.8 | J37: =AC37-N37 -> 67.2 | L37: =(SUMIF($AJ$5:$CD$5,L$5,$AJ37:$CD37)) -> 40.2 | M37: =(SUMIF($AJ$5:$CD$5,M$5,$AJ37:$CD37)) -> 62.8 | N37: =(SUMIF($AJ$5:$CD$5,N$5,$AJ37:$CD37)) -> 107.8 | P37: =L37*$C37 -> 198.588 | Q37: =M37*$C37 -> 310.232 | R37: =N37*$C37 -> 532.532 | T37: 1 | W37: 2 | X37: 2- | AA37: 50 | AB37: 55 | AC37: 175 | AE37: =AA37*C37 -> 247 | AF37: =AB37*C37 -> 271.7 | AG37: =AC37*C37 -> 864.5 | AI37: 20 | AJ37: =AI37*$AJ$4 -> 17.4 | AK37: =AI37*$AK$4 -> 38.2 | AL37: =AI37*$AL$4 -> 54 | AM37: =AI37*C37 -> 98.8 | AO37: 20 | AP37: =AO37*$AP$4 -> 22.8 | AQ37: =AO37*$AQ$4 -> 24.6 | AR37: =AO37*$AR$4 -> 53.8 | AS37: =AO37*$C37 -> 98.8 | AX37: =AW37*$AX$4 -> 0 | AY37: =AW37*$AY$4 -> 0 | AZ37: =AW37*$AZ$4 -> 0 | BA37: =AW37*$C37 -> 0 | BD37: =BC37*$BD$4 -> 0 | BE37: =BA37*$C37 -> 0 | BJ37: =BI37*$BJ$4 -> 0 | BK37: =BH37*$C37 -> 0 | BP37: =BO37*$BP$4 -> 0 | BQ37: =BO37*$BQ$4 -> 0 | BR37: =BO37*$C37 -> 0 | BW37: =BV37*$BW$4 -> 0 | BX37: =BV37*$C37 -> 0 | CC37: =CB37*$CC$4 -> 0 | CD37: =CB37*$C37 -> 0
A38: 33 | B38: Oare Field & A & B | C38: 9.7 | D38: Avon | E38: Lucerne | F38: Mz | H38: =AA38-L38 -> 9.8 | I38: =AB38-M38 -> -7.8 | J38: =AC38-N38 -> 67.2 | L38: =(SUMIF($AJ$5:$CD$5,L$5,$AJ38:$CD38)) -> 40.2 | M38: =(SUMIF($AJ$5:$CD$5,M$5,$AJ38:$CD38)) -> 62.8 | N38: =(SUMIF($AJ$5:$CD$5,N$5,$AJ38:$CD38)) -> 107.8 | P38: =L38*$C38 -> 389.94 | Q38: =M38*$C38 -> 609.16 | R38: =N38*$C38 -> 1045.66 | T38: 1 | W38: 2 | X38: 2- | AA38: 50 | AB38: 55 | AC38: 175 | AE38: =AA38*C38 -> 485 | AF38: =AB38*C38 -> 533.5 | AG38: =AC38*C38 -> 1697.5 | AI38: 20 | AJ38: =AI38*$AJ$4 -> 17.4 | AK38: =AI38*$AK$4 -> 38.2 | AL38: =AI38*$AL$4 -> 54 | AM38: =AI38*C38 -> 194 | AO38: 20 | AP38: =AO38*$AP$4 -> 22.8 | AQ38: =AO38*$AQ$4 -> 24.6 | AR38: =AO38*$AR$4 -> 53.8 | AS38: =AO38*$C38 -> 194 | AX38: =AW38*$AX$4 -> 0 | AY38: =AW38*$AY$4 -> 0 | AZ38: =AW38*$AZ$4 -> 0 | BA38: =AW38*$C38 -> 0 | BD38: =BC38*$BD$4 -> 0 | BE38: =BA38*$C38 -> 0 | BJ38: =BI38*$BJ$4 -> 0 | BK38: =BH38*$C38 -> 0 | BP38: =BO38*$BP$4 -> 0 | BQ38: =BO38*$BQ$4 -> 0 | BR38: =BO38*$C38 -> 0 | BW38: =BV38*$BW$4 -> 0 | BX38: =BV38*$C38 -> 0 | CC38: =CB38*$CC$4 -> 0 | CD38: =CB38*$C38 -> 0
A39: 34 | B39: Opp Black Barn | C39: 8.25 | D39: Avon | E39: WW1 | F39: Grass | H39: =AA39-L39 -> 292.9 | I39: =AB39-M39 -> 1.55 | J39: =AC39-N39 -> 69.65 | L39: =(SUMIF($AJ$5:$CD$5,L$5,$AJ39:$CD39)) -> 17.1 | M39: =(SUMIF($AJ$5:$CD$5,M$5,$AJ39:$CD39)) -> 18.45 | N39: =(SUMIF($AJ$5:$CD$5,N$5,$AJ39:$CD39)) -> 40.35 | P39: =L39*$C39 -> 141.075 | Q39: =M39*$C39 -> 152.2125 | R39: =N39*$C39 -> 332.8875 | T39: 2 | W39: 3+ | X39: 3- | Y39: 44896 | AA39: 310 | AB39: 20 | AC39: 110 | AE39: =AA39*C39 -> 2557.5 | AF39: =AB39*C39 -> 165 | AG39: =AC39*C39 -> 907.5 | AJ39: =AI39*$AJ$4 -> 0 | AK39: =AI39*$AK$4 -> 0 | AL39: =AI39*$AL$4 -> 0 | AM39: =AI39*C39 -> 0 | AO39: 15 | AP39: =AO39*$AP$4 -> 17.1 | AQ39: =AO39*$AQ$4 -> 18.45 | AR39: =AO39*$AR$4 -> 40.35 | AS39: =AO39*$C39 -> 123.75 | AX39: =AW39*$AX$4 -> 0 | AY39: =AW39*$AY$4 -> 0 | AZ39: =AW39*$AZ$4 -> 0 | BA39: =AW39*$C39 -> 0 | BD39: =BC39*$BD$4 -> 0 | BE39: =BA39*$C39 -> 0 | BJ39: =BI39*$BJ$4 -> 0 | BK39: =BH39*$C39 -> 0 | BP39: =BO39*$BP$4 -> 0 | BQ39: =BO39*$BQ$4 -> 0 | BR39: =BO39*$C39 -> 0 | BW39: =BV39*$BW$4 -> 0 | BX39: =BV39*$C39 -> 0 | CC39: =CB39*$CC$4 -> 0 | CD39: =CB39*$C39 -> 0
A40: 35 | B40: Opp China Cottage | C40: 7.56 | D40: Avon | E40: WW1 | F40: Grass | H40: =AA40-L40 -> 292.9 | I40: =AB40-M40 -> 1.55 | J40: =AC40-N40 -> 159.65 | L40: =(SUMIF($AJ$5:$CD$5,L$5,$AJ40:$CD40)) -> 17.1 | M40: =(SUMIF($AJ$5:$CD$5,M$5,$AJ40:$CD40)) -> 18.45 | N40: =(SUMIF($AJ$5:$CD$5,N$5,$AJ40:$CD40)) -> 40.35 | P40: =L40*$C40 -> 129.276 | Q40: =M40*$C40 -> 139.482 | R40: =N40*$C40 -> 305.046 | W40: 3 | X40: 2+ | Y40: 44896 | AA40: 310 | AB40: 20 | AC40: 200 | AE40: =AA40*C40 -> 2343.6 | AF40: =AB40*C40 -> 151.2 | AG40: =AC40*C40 -> 1512 | AJ40: =AI40*$AJ$4 -> 0 | AK40: =AI40*$AK$4 -> 0 | AL40: =AI40*$AL$4 -> 0 | AM40: =AI40*C40 -> 0 | AO40: 15 | AP40: =AO40*$AP$4 -> 17.1 | AQ40: =AO40*$AQ$4 -> 18.45 | AR40: =AO40*$AR$4 -> 40.35 | AS40: =AO40*$C40 -> 113.4 | AX40: =AW40*$AX$4 -> 0 | AY40: =AW40*$AY$4 -> 0 | AZ40: =AW40*$AZ$4 -> 0 | BA40: =AW40*$C40 -> 0 | BD40: =BC40*$BD$4 -> 0 | BE40: =BA40*$C40 -> 0 | BJ40: =BI40*$BJ$4 -> 0 | BK40: =BH40*$C40 -> 0 | BP40: =BO40*$BP$4 -> 0 | BQ40: =BO40*$BQ$4 -> 0 | BR40: =BO40*$C40 -> 0 | BW40: =BV40*$BW$4 -> 0 | BX40: =BV40*$C40 -> 0 | CC40: =CB40*$CC$4 -> 0 | CD40: =CB40*$C40 -> 0
A41: 36 | B41: Opp West Stowell | C41: 11.2 | D41: Avon | E41: Mz | F41: WW1 | H41: =AA41-L41 -> 220 | I41: =AB41-M41 -> 0 | J41: =AC41-N41 -> 0 | L41: =(SUMIF($AJ$5:$CD$5,L$5,$AJ41:$CD41)) -> 0 | M41: =(SUMIF($AJ$5:$CD$5,M$5,$AJ41:$CD41)) -> 0 | N41: =(SUMIF($AJ$5:$CD$5,N$5,$AJ41:$CD41)) -> 0 | P41: =L41*$C41 -> 0 | Q41: =M41*$C41 -> 0 | R41: =N41*$C41 -> 0 | T41: 1 | W41: 4 | X41: 4 | Y41: 44958 | AA41: 220 | AB41: 0 | AC41: 0 | AE41: =AA41*C41 -> 2464 | AF41: =AB41*C41 -> 0 | AG41: =AC41*C41 -> 0 | AJ41: =AI41*$AJ$4 -> 0 | AK41: =AI41*$AK$4 -> 0 | AL41: =AI41*$AL$4 -> 0 | AM41: =AI41*C41 -> 0 | AP41: =AO41*$AP$4 -> 0 | AQ41: =AO41*$AQ$4 -> 0 | AR41: =AO41*$AR$4 -> 0 | AS41: =AO41*$C41 -> 0 | AX41: =AW41*$AX$4 -> 0 | AY41: =AW41*$AY$4 -> 0 | AZ41: =AW41*$AZ$4 -> 0 | BA41: =AW41*$C41 -> 0 | BD41: =BC41*$BD$4 -> 0 | BE41: =BA41*$C41 -> 0 | BJ41: =BI41*$BJ$4 -> 0 | BK41: =BH41*$C41 -> 0 | BP41: =BO41*$BP$4 -> 0 | BQ41: =BO41*$BQ$4 -> 0 | BR41: =BO41*$C41 -> 0 | BW41: =BV41*$BW$4 -> 0 | BX41: =BV41*$C41 -> 0 | CC41: =CB41*$CC$4 -> 0 | CD41: =CB41*$C41 -> 0
A42: 37 | B42: Opp W/S Farm | C42: 6.17 | D42: Avon | E42: Mz | F42: ww1 | H42: =AA42-L42 -> 220 | I42: =AB42-M42 -> 0 | J42: =AC42-N42 -> 0 | L42: =(SUMIF($AJ$5:$CD$5,L$5,$AJ42:$CD42)) -> 0 | M42: =(SUMIF($AJ$5:$CD$5,M$5,$AJ42:$CD42)) -> 0 | N42: =(SUMIF($AJ$5:$CD$5,N$5,$AJ42:$CD42)) -> 0 | P42: =L42*$C42 -> 0 | Q42: =M42*$C42 -> 0 | R42: =N42*$C42 -> 0 | T42: 1 | W42: 4 | X42: 3 | Y42: 44896 | AA42: 220 | AB42: 0 | AC42: 0 | AE42: =AA42*C42 -> 1357.4 | AF42: =AB42*C42 -> 0 | AG42: =AC42*C42 -> 0 | AJ42: =AI42*$AJ$4 -> 0 | AK42: =AI42*$AK$4 -> 0 | AL42: =AI42*$AL$4 -> 0 | AM42: =AI42*C42 -> 0 | AP42: =AO42*$AP$4 -> 0 | AQ42: =AO42*$AQ$4 -> 0 | AR42: =AO42*$AR$4 -> 0 | AS42: =AO42*$C42 -> 0 | AX42: =AW42*$AX$4 -> 0 | AY42: =AW42*$AY$4 -> 0 | AZ42: =AW42*$AZ$4 -> 0 | BA42: =AW42*$C42 -> 0 | BD42: =BC42*$BD$4 -> 0 | BE42: =BA42*$C42 -> 0 | BJ42: =BI42*$BJ$4 -> 0 | BK42: =BH42*$C42 -> 0 | BP42: =BO42*$BP$4 -> 0 | BQ42: =BO42*$BQ$4 -> 0 | BR42: =BO42*$C42 -> 0 | BW42: =BV42*$BW$4 -> 0 | BX42: =BV42*$C42 -> 0 | CC42: =CB42*$CC$4 -> 0 | CD42: =CB42*$C42 -> 0
A43: 38 | B43: Orchard | C43: 7.5 | D43: Avon | E43: Mz | F43: WW1 | H43: =AA43-L43 -> 174.4 | I43: =AB43-M43 -> 5.8 | J43: =AC43-N43 -> -37.6 | L43: =(SUMIF($AJ$5:$CD$5,L$5,$AJ43:$CD43)) -> 45.6 | M43: =(SUMIF($AJ$5:$CD$5,M$5,$AJ43:$CD43)) -> 49.2 | N43: =(SUMIF($AJ$5:$CD$5,N$5,$AJ43:$CD43)) -> 107.6 | P43: =L43*$C43 -> 342 | Q43: =M43*$C43 -> 369 | R43: =N43*$C43 -> 807 | T43: 1 | W43: 2+ | X43: 2 | Y43: 44896 | AA43: 220 | AB43: 55 | AC43: 70 | AE43: =AA43*C43 -> 1650 | AF43: =AB43*C43 -> 412.5 | AG43: =AC43*C43 -> 525 | AJ43: =AI43*$AJ$4 -> 0 | AK43: =AI43*$AK$4 -> 0 | AL43: =AI43*$AL$4 -> 0 | AM43: =AI43*C43 -> 0 | AO43: 40 | AP43: =AO43*$AP$4 -> 45.6 | AQ43: =AO43*$AQ$4 -> 49.2 | AR43: =AO43*$AR$4 -> 107.6 | AS43: =AO43*$C43 -> 300 | AX43: =AW43*$AX$4 -> 0 | AY43: =AW43*$AY$4 -> 0 | AZ43: =AW43*$AZ$4 -> 0 | BA43: =AW43*$C43 -> 0 | BD43: =BC43*$BD$4 -> 0 | BE43: =BA43*$C43 -> 0 | BJ43: =BI43*$BJ$4 -> 0 | BK43: =BH43*$C43 -> 0 | BP43: =BO43*$BP$4 -> 0 | BQ43: =BO43*$BQ$4 -> 0 | BR43: =BO43*$C43 -> 0 | BW43: =BV43*$BW$4 -> 0 | BX43: =BV43*$C43 -> 0 | CC43: =CB43*$CC$4 -> 0 | CD43: =CB43*$C43 -> 0
A44: 39 | B44: Over Road | C44: 5.81 | D44: Avon | E44: Mz | F44: WW1 | H44: =AA44-L44 -> 220 | I44: =AB44-M44 -> 0 | J44: =AC44-N44 -> 55 | L44: =(SUMIF($AJ$5:$CD$5,L$5,$AJ44:$CD44)) -> 0 | M44: =(SUMIF($AJ$5:$CD$5,M$5,$AJ44:$CD44)) -> 0 | N44: =(SUMIF($AJ$5:$CD$5,N$5,$AJ44:$CD44)) -> 0 | P44: =L44*$C44 -> 0 | Q44: =M44*$C44 -> 0 | R44: =N44*$C44 -> 0 | T44: 1 | W44: 4 | X44: 2+ | Y44: 44896 | AA44: 220 | AB44: 0 | AC44: 55 | AE44: =AA44*C44 -> 1278.2 | AF44: =AB44*C44 -> 0 | AG44: =AC44*C44 -> 319.55 | AJ44: =AI44*$AJ$4 -> 0 | AK44: =AI44*$AK$4 -> 0 | AL44: =AI44*$AL$4 -> 0 | AM44: =AI44*C44 -> 0 | AP44: =AO44*$AP$4 -> 0 | AQ44: =AO44*$AQ$4 -> 0 | AR44: =AO44*$AR$4 -> 0 | AS44: =AO44*$C44 -> 0 | AX44: =AW44*$AX$4 -> 0 | AY44: =AW44*$AY$4 -> 0 | AZ44: =AW44*$AZ$4 -> 0 | BA44: =AW44*$C44 -> 0 | BD44: =BC44*$BD$4 -> 0 | BE44: =BA44*$C44 -> 0 | BJ44: =BI44*$BJ$4 -> 0 | BK44: =BH44*$C44 -> 0 | BP44: =BO44*$BP$4 -> 0 | BQ44: =BO44*$BQ$4 -> 0 | BR44: =BO44*$C44 -> 0 | BW44: =BV44*$BW$4 -> 0 | BX44: =BV44*$C44 -> 0 | CC44: =CB44*$CC$4 -> 0 | CD44: =CB44*$C44 -> 0
A45: 40 | B45: Part of Browns | C45: 8.5 | D45: Avon | E45: Mz | F45: WW1 | H45: =AA45-L45 -> 220 | I45: =AB45-M45 -> 0 | J45: =AC45-N45 -> 70 | L45: =(SUMIF($AJ$5:$CD$5,L$5,$AJ45:$CD45)) -> 0 | M45: =(SUMIF($AJ$5:$CD$5,M$5,$AJ45:$CD45)) -> 0 | N45: =(SUMIF($AJ$5:$CD$5,N$5,$AJ45:$CD45)) -> 0 | P45: =L45*$C45 -> 0 | Q45: =M45*$C45 -> 0 | R45: =N45*$C45 -> 0 | T45: 1 | W45: 5 | X45: 2 | Y45: 44896 | AA45: 220 | AB45: 0 | AC45: 70 | AE45: =AA45*C45 -> 1870 | AF45: =AB45*C45 -> 0 | AG45: =AC45*C45 -> 595 | AJ45: =AI45*$AJ$4 -> 0 | AK45: =AI45*$AK$4 -> 0 | AL45: =AI45*$AL$4 -> 0 | AM45: =AI45*C45 -> 0 | AP45: =AO45*$AP$4 -> 0 | AQ45: =AO45*$AQ$4 -> 0 | AR45: =AO45*$AR$4 -> 0 | AS45: =AO45*$C45 -> 0 | AX45: =AW45*$AX$4 -> 0 | AY45: =AW45*$AY$4 -> 0 | AZ45: =AW45*$AZ$4 -> 0 | BA45: =AW45*$C45 -> 0 | BD45: =BC45*$BD$4 -> 0 | BE45: =BA45*$C45 -> 0 | BJ45: =BI45*$BJ$4 -> 0 | BK45: =BH45*$C45 -> 0 | BP45: =BO45*$BP$4 -> 0 | BQ45: =BO45*$BQ$4 -> 0 | BR45: =BO45*$C45 -> 0 | BW45: =BV45*$BW$4 -> 0 | BX45: =BV45*$C45 -> 0 | CC45: =CB45*$CC$4 -> 0 | CD45: =CB45*$C45 -> 0
A46: 41 | B46: Penning Brow | C46: 8.5 | D46: Avon | E46: Lucerne | F46: Mz | H46: =AA46-L46 -> 89.56 | I46: =AB46-M46 -> -2.92 | J46: =AC46-N46 -> 112.6 | L46: =(SUMIF($AJ$5:$CD$5,L$5,$AJ46:$CD46)) -> 10.44 | M46: =(SUMIF($AJ$5:$CD$5,M$5,$AJ46:$CD46)) -> 22.92 | N46: =(SUMIF($AJ$5:$CD$5,N$5,$AJ46:$CD46)) -> 32.4 | P46: =L46*$C46 -> 88.74 | Q46: =M46*$C46 -> 194.82 | R46: =N46*$C46 -> 275.4 | T46: 1 | W46: 3- | X46: 2+ | Y46: 44896 | AA46: 100 | AB46: 20 | AC46: 145 | AE46: =AA46*C46 -> 850 | AF46: =AB46*C46 -> 170 | AG46: =AC46*C46 -> 1232.5 | AI46: 12 | AJ46: =AI46*$AJ$4 -> 10.44 | AK46: =AI46*$AK$4 -> 22.92 | AL46: =AI46*$AL$4 -> 32.4 | AM46: =AI46*C46 -> 102 | AP46: =AO46*$AP$4 -> 0 | AQ46: =AO46*$AQ$4 -> 0 | AR46: =AO46*$AR$4 -> 0 | AS46: =AO46*$C46 -> 0 | AX46: =AW46*$AX$4 -> 0 | AY46: =AW46*$AY$4 -> 0 | AZ46: =AW46*$AZ$4 -> 0 | BA46: =AW46*$C46 -> 0 | BD46: =BC46*$BD$4 -> 0 | BE46: =BA46*$C46 -> 0 | BJ46: =BI46*$BJ$4 -> 0 | BK46: =BH46*$C46 -> 0 | BP46: =BO46*$BP$4 -> 0 | BQ46: =BO46*$BQ$4 -> 0 | BR46: =BO46*$C46 -> 0 | BW46: =BV46*$BW$4 -> 0 | BX46: =BV46*$C46 -> 0 | CC46: =CB46*$CC$4 -> 0 | CD46: =CB46*$C46 -> 0
A47: 42 | B47: Pitpenning/Barn Kennett | C47: 8.9 | D47: Kennett | E47: Oats | F47: Rye | H47: =AA47-L47 -> 90 | I47: =AB47-M47 -> 0 | J47: =AC47-N47 -> 35 | L47: =(SUMIF($AJ$5:$CD$5,L$5,$AJ47:$CD47)) -> 0 | M47: =(SUMIF($AJ$5:$CD$5,M$5,$AJ47:$CD47)) -> 0 | N47: =(SUMIF($AJ$5:$CD$5,N$5,$AJ47:$CD47)) -> 0 | P47: =L47*$C47 -> 0 | Q47: =M47*$C47 -> 0 | R47: =N47*$C47 -> 0 | T47: 1 | W47: 4 | X47: 2+ | Y47: 44958 | AA47: 90 | AB47: 0 | AC47: 35 | AE47: =AA47*C47 -> 801 | AF47: =AB47*C47 -> 0 | AG47: =AC47*C47 -> 311.5 | AJ47: =AI47*$AJ$4 -> 0 | AK47: =AI47*$AK$4 -> 0 | AL47: =AI47*$AL$4 -> 0 | AM47: =AI47*C47 -> 0 | AP47: =AO47*$AP$4 -> 0 | AQ47: =AO47*$AQ$4 -> 0 | AR47: =AO47*$AR$4 -> 0 | AS47: =AO47*$C47 -> 0 | AX47: =AW47*$AX$4 -> 0 | AY47: =AW47*$AY$4 -> 0 | AZ47: =AW47*$AZ$4 -> 0 | BA47: =AW47*$C47 -> 0 | BD47: =BC47*$BD$4 -> 0 | BE47: =BA47*$C47 -> 0 | BJ47: =BI47*$BJ$4 -> 0 | BK47: =BH47*$C47 -> 0 | BP47: =BO47*$BP$4 -> 0 | BQ47: =BO47*$BQ$4 -> 0 | BR47: =BO47*$C47 -> 0 | BW47: =BV47*$BW$4 -> 0 | BX47: =BV47*$C47 -> 0 | CC47: =CB47*$CC$4 -> 0 | CD47: =CB47*$C47 -> 0
A48: 43 | B48: Pitpenning/Barn Avon | C48: 6.1 | D48: Avon | E48: Oats | F48: Rye | H48: =AA48-L48 -> 90 | I48: =AB48-M48 -> 0 | J48: =AC48-N48 -> 35 | L48: =(SUMIF($AJ$5:$CD$5,L$5,$AJ48:$CD48)) -> 0 | M48: =(SUMIF($AJ$5:$CD$5,M$5,$AJ48:$CD48)) -> 0 | N48: =(SUMIF($AJ$5:$CD$5,N$5,$AJ48:$CD48)) -> 0 | P48: =L48*$C48 -> 0 | Q48: =M48*$C48 -> 0 | R48: =N48*$C48 -> 0 | T48: 1 | W48: 4 | X48: 2+ | Y48: 44958 | AA48: 90 | AB48: 0 | AC48: 35 | AE48: =AA48*C48 -> 549 | AF48: =AB48*C48 -> 0 | AG48: =AC48*C48 -> 213.5 | AJ48: =AI48*$AJ$4 -> 0 | AK48: =AI48*$AK$4 -> 0 | AL48: =AI48*$AL$4 -> 0 | AM48: =AI48*C48 -> 0 | AP48: =AO48*$AP$4 -> 0 | AQ48: =AO48*$AQ$4 -> 0 | AR48: =AO48*$AR$4 -> 0 | AS48: =AO48*$C48 -> 0 | AX48: =AW48*$AX$4 -> 0 | AY48: =AW48*$AY$4 -> 0 | AZ48: =AW48*$AZ$4 -> 0 | BA48: =AW48*$C48 -> 0 | BD48: =BC48*$BD$4 -> 0 | BE48: =BA48*$C48 -> 0 | BJ48: =BI48*$BJ$4 -> 0 | BK48: =BH48*$C48 -> 0 | BP48: =BO48*$BP$4 -> 0 | BQ48: =BO48*$BQ$4 -> 0 | BR48: =BO48*$C48 -> 0 | BW48: =BV48*$BW$4 -> 0 | BX48: =BV48*$C48 -> 0 | CC48: =CB48*$CC$4 -> 0 | CD48: =CB48*$C48 -> 0
A49: 44 | B49: Railway | C49: 13.32 | D49: Avon | E49: Mz | F49: WW1 | H49: =AA49-L49 -> 220 | I49: =AB49-M49 -> 0 | J49: =AC49-N49 -> 70 | L49: =(SUMIF($AJ$5:$CD$5,L$5,$AJ49:$CD49)) -> 0 | M49: =(SUMIF($AJ$5:$CD$5,M$5,$AJ49:$CD49)) -> 0 | N49: =(SUMIF($AJ$5:$CD$5,N$5,$AJ49:$CD49)) -> 0 | P49: =L49*$C49 -> 0 | Q49: =M49*$C49 -> 0 | R49: =N49*$C49 -> 0 | T49: 1 | W49: 3- | X49: 2 | Y49: 44896 | AA49: 220 | AB49: 0 | AC49: 70 | AE49: =AA49*C49 -> 2930.4 | AF49: =AB49*C49 -> 0 | AG49: =AC49*C49 -> 932.4 | AJ49: =AI49*$AJ$4 -> 0 | AK49: =AI49*$AK$4 -> 0 | AL49: =AI49*$AL$4 -> 0 | AM49: =AI49*C49 -> 0 | AP49: =AO49*$AP$4 -> 0 | AQ49: =AO49*$AQ$4 -> 0 | AR49: =AO49*$AR$4 -> 0 | AS49: =AO49*$C49 -> 0 | AX49: =AW49*$AX$4 -> 0 | AY49: =AW49*$AY$4 -> 0 | AZ49: =AW49*$AZ$4 -> 0 | BA49: =AW49*$C49 -> 0 | BD49: =BC49*$BD$4 -> 0 | BE49: =BA49*$C49 -> 0 | BJ49: =BI49*$BJ$4 -> 0 | BK49: =BH49*$C49 -> 0 | BP49: =BO49*$BP$4 -> 0 | BQ49: =BO49*$BQ$4 -> 0 | BR49: =BO49*$C49 -> 0 | BW49: =BV49*$BW$4 -> 0 | BX49: =BV49*$C49 -> 0 | CC49: =CB49*$CC$4 -> 0 | CD49: =CB49*$C49 -> 0
A50: 45 | B50: Round Copse | C50: 6.19 | D50: Avon | E50: Mz | F50: WW1 | H50: =AA50-L50 -> 220 | I50: =AB50-M50 -> 0 | J50: =AC50-N50 -> 0 | L50: =(SUMIF($AJ$5:$CD$5,L$5,$AJ50:$CD50)) -> 0 | M50: =(SUMIF($AJ$5:$CD$5,M$5,$AJ50:$CD50)) -> 0 | N50: =(SUMIF($AJ$5:$CD$5,N$5,$AJ50:$CD50)) -> 0 | P50: =L50*$C50 -> 0 | Q50: =M50*$C50 -> 0 | R50: =N50*$C50 -> 0 | T50: 1 | W50: 3 | X50: 3 | Y50: 44866 | AA50: 220 | AB50: 0 | AC50: 0 | AE50: =AA50*C50 -> 1361.8 | AF50: =AB50*C50 -> 0 | AG50: =AC50*C50 -> 0 | AJ50: =AI50*$AJ$4 -> 0 | AK50: =AI50*$AK$4 -> 0 | AL50: =AI50*$AL$4 -> 0 | AM50: =AI50*C50 -> 0 | AP50: =AO50*$AP$4 -> 0 | AQ50: =AO50*$AQ$4 -> 0 | AR50: =AO50*$AR$4 -> 0 | AS50: =AO50*$C50 -> 0 | AX50: =AW50*$AX$4 -> 0 | AY50: =AW50*$AY$4 -> 0 | AZ50: =AW50*$AZ$4 -> 0 | BA50: =AW50*$C50 -> 0 | BD50: =BC50*$BD$4 -> 0 | BE50: =BA50*$C50 -> 0 | BJ50: =BI50*$BJ$4 -> 0 | BK50: =BH50*$C50 -> 0 | BP50: =BO50*$BP$4 -> 0 | BQ50: =BO50*$BQ$4 -> 0 | BR50: =BO50*$C50 -> 0 | BW50: =BV50*$BW$4 -> 0 | BX50: =BV50*$C50 -> 0 | CC50: =CB50*$CC$4 -> 0 | CD50: =CB50*$C50 -> 0
A51: 46 | B51: Shaws Bacon Cps | C51: 4.32 | D51: Avon | E51: Mz | F51: WW1 | H51: =AA51-L51 -> 220 | I51: =AB51-M51 -> 0 | J51: =AC51-N51 -> 70 | L51: =(SUMIF($AJ$5:$CD$5,L$5,$AJ51:$CD51)) -> 0 | M51: =(SUMIF($AJ$5:$CD$5,M$5,$AJ51:$CD51)) -> 0 | N51: =(SUMIF($AJ$5:$CD$5,N$5,$AJ51:$CD51)) -> 0 | P51: =L51*$C51 -> 0 | Q51: =M51*$C51 -> 0 | R51: =N51*$C51 -> 0 | T51: 1 | W51: 3+ | X51: 2 | Y51: 44866 | AA51: 220 | AB51: 0 | AC51: 70 | AE51: =AA51*C51 -> 950.4 | AF51: =AB51*C51 -> 0 | AG51: =AC51*C51 -> 302.4 | AJ51: =AI51*$AJ$4 -> 0 | AK51: =AI51*$AK$4 -> 0 | AL51: =AI51*$AL$4 -> 0 | AM51: =AI51*C51 -> 0 | AP51: =AO51*$AP$4 -> 0 | AQ51: =AO51*$AQ$4 -> 0 | AR51: =AO51*$AR$4 -> 0 | AS51: =AO51*$C51 -> 0 | AX51: =AW51*$AX$4 -> 0 | AY51: =AW51*$AY$4 -> 0 | AZ51: =AW51*$AZ$4 -> 0 | BA51: =AW51*$C51 -> 0 | BD51: =BC51*$BD$4 -> 0 | BE51: =BA51*$C51 -> 0 | BJ51: =BI51*$BJ$4 -> 0 | BK51: =BH51*$C51 -> 0 | BP51: =BO51*$BP$4 -> 0 | BQ51: =BO51*$BQ$4 -> 0 | BR51: =BO51*$C51 -> 0 | BW51: =BV51*$BW$4 -> 0 | BX51: =BV51*$C51 -> 0 | CC51: =CB51*$CC$4 -> 0 | CD51: =CB51*$C51 -> 0
A52: 47 | B52: Sheep Unit | C52: 40.08 | D52: Avon | E52: ww1 | F52: Lucerne | H52: =AA52-L52 -> -16.5 | I52: =AB52-M52 -> 72 | J52: =AC52-N52 -> -33.5 | L52: =(SUMIF($AJ$5:$CD$5,L$5,$AJ52:$CD52)) -> 16.5 | M52: =(SUMIF($AJ$5:$CD$5,M$5,$AJ52:$CD52)) -> 88 | N52: =(SUMIF($AJ$5:$CD$5,N$5,$AJ52:$CD52)) -> 258.5 | P52: =L52*$C52 -> 661.32 | Q52: =M52*$C52 -> 3527.04 | R52: =N52*$C52 -> 10360.68 | W52: 2- | X52: 3- | Y52: 44896 | AA52: 0 | AB52: 160 | AC52: 225 | AE52: =AA52*C52 -> 0 | AF52: =AB52*C52 -> 6412.8 | AG52: =AC52*C52 -> 9018 | AJ52: =AI52*$AJ$4 -> 0 | AK52: =AI52*$AK$4 -> 0 | AL52: =AI52*$AL$4 -> 0 | AM52: =AI52*C52 -> 0 | AP52: =AO52*$AP$4 -> 0 | AQ52: =AO52*$AQ$4 -> 0 | AR52: =AO52*$AR$4 -> 0 | AS52: =AO52*$C52 -> 0 | AW52: 27.5 | AX52: =AW52*$AX$4 -> 16.5 | AY52: =AW52*$AY$4 -> 88 | AZ52: =AW52*$AZ$4 -> 258.5 | BA52: =AW52*$C52 -> 1102.2 | BD52: =BC52*$BD$4 -> 0 | BE52: =BA52*$C52 -> 44176.176 | BJ52: =BI52*$BJ$4 -> 0 | BK52: =BH52*$C52 -> 0 | BP52: =BO52*$BP$4 -> 0 | BQ52: =BO52*$BQ$4 -> 0 | BR52: =BO52*$C52 -> 0 | BW52: =BV52*$BW$4 -> 0 | BX52: =BV52*$C52 -> 0 | CC52: =CB52*$CC$4 -> 0 | CD52: =CB52*$C52 -> 0
A53: 48 | B53: Stowell Park | C53: 14.98 | D53: Avon | E53: pp | F53: pp | H53: =AA53-L53 -> 80 | I53: =AB53-M53 -> 20 | J53: =AC53-N53 -> 0 | L53: =(SUMIF($AJ$5:$CD$5,L$5,$AJ53:$CD53)) -> 0 | M53: =(SUMIF($AJ$5:$CD$5,M$5,$AJ53:$CD53)) -> 0 | N53: =(SUMIF($AJ$5:$CD$5,N$5,$AJ53:$CD53)) -> 0 | P53: =L53*$C53 -> 0 | Q53: =M53*$C53 -> 0 | R53: =N53*$C53 -> 0 | T53: 2 | W53: 2 | X53: 2 | AA53: 80 | AB53: 20 | AC53: 0 | AE53: =AA53*C53 -> 1198.4 | AF53: =AB53*C53 -> 299.6 | AG53: =AC53*C53 -> 0 | AJ53: =AI53*$AJ$4 -> 0 | AK53: =AI53*$AK$4 -> 0 | AL53: =AI53*$AL$4 -> 0 | AM53: =AI53*C53 -> 0 | AP53: =AO53*$AP$4 -> 0 | AQ53: =AO53*$AQ$4 -> 0 | AR53: =AO53*$AR$4 -> 0 | AS53: =AO53*$C53 -> 0 | AX53: =AW53*$AX$4 -> 0 | AY53: =AW53*$AY$4 -> 0 | AZ53: =AW53*$AZ$4 -> 0 | BA53: =AW53*$C53 -> 0 | BD53: =BC53*$BD$4 -> 0 | BE53: =BA53*$C53 -> 0 | BJ53: =BI53*$BJ$4 -> 0 | BK53: =BH53*$C53 -> 0 | BP53: =BO53*$BP$4 -> 0 | BQ53: =BO53*$BQ$4 -> 0 | BR53: =BO53*$C53 -> 0 | BW53: =BV53*$BW$4 -> 0 | BX53: =BV53*$C53 -> 0 | CC53: =CB53*$CC$4 -> 0 | CD53: =CB53*$C53 -> 0
A54: 49 | B54: Sidelands | C54: 6.75 | D54: Avon | E54: Grass | F54: Mz | H54: =AA54-L54 -> 73.9 | I54: =AB54-M54 -> -2.3 | J54: =AC54-N54 -> 64 | L54: =(SUMIF($AJ$5:$CD$5,L$5,$AJ54:$CD54)) -> 26.1 | M54: =(SUMIF($AJ$5:$CD$5,M$5,$AJ54:$CD54)) -> 57.3 | N54: =(SUMIF($AJ$5:$CD$5,N$5,$AJ54:$CD54)) -> 81 | P54: =L54*$C54 -> 176.175 | Q54: =M54*$C54 -> 386.775 | R54: =N54*$C54 -> 546.75 | T54: 1 | W54: 2- | X54: 2+ | Y54: 44896 | AA54: 100 | AB54: 55 | AC54: 145 | AE54: =AA54*C54 -> 675 | AF54: =AB54*C54 -> 371.25 | AG54: =AC54*C54 -> 978.75 | AI54: 30 | AJ54: =AI54*$AJ$4 -> 26.1 | AK54: =AI54*$AK$4 -> 57.3 | AL54: =AI54*$AL$4 -> 81 | AM54: =AI54*C54 -> 202.5 | AP54: =AO54*$AP$4 -> 0 | AQ54: =AO54*$AQ$4 -> 0 | AR54: =AO54*$AR$4 -> 0 | AS54: =AO54*$C54 -> 0 | AX54: =AW54*$AX$4 -> 0 | AY54: =AW54*$AY$4 -> 0 | AZ54: =AW54*$AZ$4 -> 0 | BA54: =AW54*$C54 -> 0 | BD54: =BC54*$BD$4 -> 0 | BE54: =BA54*$C54 -> 0 | BJ54: =BI54*$BJ$4 -> 0 | BK54: =BH54*$C54 -> 0 | BP54: =BO54*$BP$4 -> 0 | BQ54: =BO54*$BQ$4 -> 0 | BR54: =BO54*$C54 -> 0 | BW54: =BV54*$BW$4 -> 0 | BX54: =BV54*$C54 -> 0 | CC54: =CB54*$CC$4 -> 0 | CD54: =CB54*$C54 -> 0
A55: 50 | B55: Sunnyhill Longfield | C55: 9.05 | D55: Avon | E55: WW1 | F55: Rye | H55: =AA55-L55 -> 90 | I55: =AB55-M55 -> 0 | J55: =AC55-N55 -> 0 | L55: =(SUMIF($AJ$5:$CD$5,L$5,$AJ55:$CD55)) -> 0 | M55: =(SUMIF($AJ$5:$CD$5,M$5,$AJ55:$CD55)) -> 0 | N55: =(SUMIF($AJ$5:$CD$5,N$5,$AJ55:$CD55)) -> 0 | P55: =L55*$C55 -> 0 | Q55: =M55*$C55 -> 0 | R55: =N55*$C55 -> 0 | T55: 1 | W55: 4 | X55: 3+ | Y55: 44958 | AA55: 90 | AB55: 0 | AC55: 0 | AE55: =AA55*C55 -> 814.5 | AF55: =AB55*C55 -> 0 | AG55: =AC55*C55 -> 0 | AJ55: =AI55*$AJ$4 -> 0 | AK55: =AI55*$AK$4 -> 0 | AL55: =AI55*$AL$4 -> 0 | AM55: =AI55*C55 -> 0 | AP55: =AO55*$AP$4 -> 0 | AQ55: =AO55*$AQ$4 -> 0 | AR55: =AO55*$AR$4 -> 0 | AS55: =AO55*$C55 -> 0 | AX55: =AW55*$AX$4 -> 0 | AY55: =AW55*$AY$4 -> 0 | AZ55: =AW55*$AZ$4 -> 0 | BA55: =AW55*$C55 -> 0 | BD55: =BC55*$BD$4 -> 0 | BE55: =BA55*$C55 -> 0 | BJ55: =BI55*$BJ$4 -> 0 | BK55: =BH55*$C55 -> 0 | BP55: =BO55*$BP$4 -> 0 | BQ55: =BO55*$BQ$4 -> 0 | BR55: =BO55*$C55 -> 0 | BW55: =BV55*$BW$4 -> 0 | BX55: =BV55*$C55 -> 0 | CC55: =CB55*$CC$4 -> 0 | CD55: =CB55*$C55 -> 0
A56: 51 | B56: Tarrants Hill | C56: 29.91 | D56: Kennett | E56: Grass | F56: Grass | H56: =AA56-L56 -> 196 | I56: =AB56-M56 -> -3 | J56: =AC56-N56 -> -14 | L56: =(SUMIF($AJ$5:$CD$5,L$5,$AJ56:$CD56)) -> 114 | M56: =(SUMIF($AJ$5:$CD$5,M$5,$AJ56:$CD56)) -> 123 | N56: =(SUMIF($AJ$5:$CD$5,N$5,$AJ56:$CD56)) -> 269 | P56: =L56*$C56 -> 3409.74 | Q56: =M56*$C56 -> 3678.93 | R56: =N56*$C56 -> 8045.79 | W56: 1+ | X56: 2 | Y56: 44896 | AA56: 310 | AB56: 120 | AC56: 255 | AE56: =AA56*C56 -> 9272.1 | AF56: =AB56*C56 -> 3589.2 | AG56: =AC56*C56 -> 7627.05 | AJ56: =AI56*$AJ$4 -> 0 | AK56: =AI56*$AK$4 -> 0 | AL56: =AI56*$AL$4 -> 0 | AM56: =AI56*C56 -> 0 | AO56: 100 | AP56: =AO56*$AP$4 -> 114 | AQ56: =AO56*$AQ$4 -> 123 | AR56: =AO56*$AR$4 -> 269 | AS56: =AO56*$C56 -> 2991 | AX56: =AW56*$AX$4 -> 0 | AY56: =AW56*$AY$4 -> 0 | AZ56: =AW56*$AZ$4 -> 0 | BA56: =AW56*$C56 -> 0 | BD56: =BC56*$BD$4 -> 0 | BE56: =BA56*$C56 -> 0 | BJ56: =BI56*$BJ$4 -> 0 | BK56: =BH56*$C56 -> 0 | BP56: =BO56*$BP$4 -> 0 | BQ56: =BO56*$BQ$4 -> 0 | BR56: =BO56*$C56 -> 0 | BW56: =BV56*$BW$4 -> 0 | BX56: =BV56*$C56 -> 0 | CC56: =CB56*$CC$4 -> 0 | CD56: =CB56*$C56 -> 0
A57: 52 | B57: Terry's Field | C57: 6.96 | D57: Avon | E57: Mz | F57: WW1 | H57: =AA57-L57 -> 220 | I57: =AB57-M57 -> 0 | J57: =AC57-N57 -> 55 | L57: =(SUMIF($AJ$5:$CD$5,L$5,$AJ57:$CD57)) -> 0 | M57: =(SUMIF($AJ$5:$CD$5,M$5,$AJ57:$CD57)) -> 0 | N57: =(SUMIF($AJ$5:$CD$5,N$5,$AJ57:$CD57)) -> 0 | P57: =L57*$C57 -> 0 | Q57: =M57*$C57 -> 0 | R57: =N57*$C57 -> 0 | T57: 1 | W57: 4 | X57: 2+ | Y57: 44896 | AA57: 220 | AB57: 0 | AC57: 55 | AE57: =AA57*C57 -> 1531.2 | AF57: =AB57*C57 -> 0 | AG57: =AC57*C57 -> 382.8 | AJ57: =AI57*$AJ$4 -> 0 | AK57: =AI57*$AK$4 -> 0 | AL57: =AI57*$AL$4 -> 0 | AM57: =AI57*C57 -> 0 | AP57: =AO57*$AP$4 -> 0 | AQ57: =AO57*$AQ$4 -> 0 | AR57: =AO57*$AR$4 -> 0 | AS57: =AO57*$C57 -> 0 | AX57: =AW57*$AX$4 -> 0 | AY57: =AW57*$AY$4 -> 0 | AZ57: =AW57*$AZ$4 -> 0 | BA57: =AW57*$C57 -> 0 | BD57: =BC57*$BD$4 -> 0 | BE57: =BA57*$C57 -> 0 | BJ57: =BI57*$BJ$4 -> 0 | BK57: =BH57*$C57 -> 0 | BP57: =BO57*$BP$4 -> 0 | BQ57: =BO57*$BQ$4 -> 0 | BR57: =BO57*$C57 -> 0 | BW57: =BV57*$BW$4 -> 0 | BX57: =BV57*$C57 -> 0 | CC57: =CB57*$CC$4 -> 0 | CD57: =CB57*$C57 -> 0
A58: 53 | B58: Top Orchard | C58: 6 | D58: Avon | E58: Mz | F58: WW1 | H58: =AA58-L58 -> 220 | I58: =AB58-M58 -> 0 | J58: =AC58-N58 -> 85 | L58: =(SUMIF($AJ$5:$CD$5,L$5,$AJ58:$CD58)) -> 0 | M58: =(SUMIF($AJ$5:$CD$5,M$5,$AJ58:$CD58)) -> 0 | N58: =(SUMIF($AJ$5:$CD$5,N$5,$AJ58:$CD58)) -> 0 | P58: =L58*$C58 -> 0 | Q58: =M58*$C58 -> 0 | R58: =N58*$C58 -> 0 | T58: 1 | W58: 3- | X58: 2- | Y58: 44896 | AA58: 220 | AB58: 0 | AC58: 85 | AE58: =AA58*C58 -> 1320 | AF58: =AB58*C58 -> 0 | AG58: =AC58*C58 -> 510 | AJ58: =AI58*$AJ$4 -> 0 | AK58: =AI58*$AK$4 -> 0 | AL58: =AI58*$AL$4 -> 0 | AM58: =AI58*C58 -> 0 | AP58: =AO58*$AP$4 -> 0 | AQ58: =AO58*$AQ$4 -> 0 | AR58: =AO58*$AR$4 -> 0 | AS58: =AO58*$C58 -> 0 | AX58: =AW58*$AX$4 -> 0 | AY58: =AW58*$AY$4 -> 0 | AZ58: =AW58*$AZ$4 -> 0 | BA58: =AW58*$C58 -> 0 | BD58: =BC58*$BD$4 -> 0 | BE58: =BA58*$C58 -> 0 | BJ58: =BI58*$BJ$4 -> 0 | BK58: =BH58*$C58 -> 0 | BP58: =BO58*$BP$4 -> 0 | BQ58: =BO58*$BQ$4 -> 0 | BR58: =BO58*$C58 -> 0 | BW58: =BV58*$BW$4 -> 0 | BX58: =BV58*$C58 -> 0 | CC58: =CB58*$CC$4 -> 0 | CD58: =CB58*$C58 -> 0
A59: 54 | B59: Tunnel Lagoon | C59: 6 | D59: Avon | E59: Grass | F59: Grass | H59: =AA59-L59 -> 310 | I59: =AB59-M59 -> 0 | J59: =AC59-N59 -> 0 | L59: =(SUMIF($AJ$5:$CD$5,L$5,$AJ59:$CD59)) -> 0 | M59: =(SUMIF($AJ$5:$CD$5,M$5,$AJ59:$CD59)) -> 0 | N59: =(SUMIF($AJ$5:$CD$5,N$5,$AJ59:$CD59)) -> 0 | P59: =L59*$C59 -> 0 | Q59: =M59*$C59 -> 0 | R59: =N59*$C59 -> 0 | T59: 2 | W59: 4 | X59: 5 | Y59: 44958 | AA59: 310 | AB59: 0 | AC59: 0 | AE59: =AA59*C59 -> 1860 | AF59: =AB59*C59 -> 0 | AG59: =AC59*C59 -> 0 | AJ59: =AI59*$AJ$4 -> 0 | AK59: =AI59*$AK$4 -> 0 | AL59: =AI59*$AL$4 -> 0 | AM59: =AI59*C59 -> 0 | AP59: =AO59*$AP$4 -> 0 | AQ59: =AO59*$AQ$4 -> 0 | AR59: =AO59*$AR$4 -> 0 | AS59: =AO59*$C59 -> 0 | AX59: =AW59*$AX$4 -> 0 | AY59: =AW59*$AY$4 -> 0 | AZ59: =AW59*$AZ$4 -> 0 | BA59: =AW59*$C59 -> 0 | BD59: =BC59*$BD$4 -> 0 | BE59: =BA59*$C59 -> 0 | BJ59: =BI59*$BJ$4 -> 0 | BK59: =BH59*$C59 -> 0 | BP59: =BO59*$BP$4 -> 0 | BQ59: =BO59*$BQ$4 -> 0 | BR59: =BO59*$C59 -> 0 | BW59: =BV59*$BW$4 -> 0 | BX59: =BV59*$C59 -> 0 | CC59: =CB59*$CC$4 -> 0 | CD59: =CB59*$C59 -> 0
A60: 55 | B60: Upper Hatfield | C60: 7.26 | D60: Avon | E60: Lucerne | F60: Mz | H60: =AA60-L60 -> 60.85 | I60: =AB60-M60 -> -0.95 | J60: =AC60-N60 -> 83.5 | L60: =(SUMIF($AJ$5:$CD$5,L$5,$AJ60:$CD60)) -> 39.15 | M60: =(SUMIF($AJ$5:$CD$5,M$5,$AJ60:$CD60)) -> 85.95 | N60: =(SUMIF($AJ$5:$CD$5,N$5,$AJ60:$CD60)) -> 121.5 | P60: =L60*$C60 -> 284.229 | Q60: =M60*$C60 -> 623.997 | R60: =N60*$C60 -> 882.09 | T60: 1 | W60: 1+ | X60: 1+ | Y60: 44896 | AA60: 100 | AB60: 85 | AC60: 205 | AE60: =AA60*C60 -> 726 | AF60: =AB60*C60 -> 617.1 | AG60: =AC60*C60 -> 1488.3 | AI60: 45 | AJ60: =AI60*$AJ$4 -> 39.15 | AK60: =AI60*$AK$4 -> 85.95 | AL60: =AI60*$AL$4 -> 121.5 | AM60: =AI60*C60 -> 326.7 | AP60: =AO60*$AP$4 -> 0 | AQ60: =AO60*$AQ$4 -> 0 | AR60: =AO60*$AR$4 -> 0 | AS60: =AO60*$C60 -> 0 | AX60: =AW60*$AX$4 -> 0 | AY60: =AW60*$AY$4 -> 0 | AZ60: =AW60*$AZ$4 -> 0 | BA60: =AW60*$C60 -> 0 | BD60: =BC60*$BD$4 -> 0 | BE60: =BA60*$C60 -> 0 | BJ60: =BI60*$BJ$4 -> 0 | BK60: =BH60*$C60 -> 0 | BP60: =BO60*$BP$4 -> 0 | BQ60: =BO60*$BQ$4 -> 0 | BR60: =BO60*$C60 -> 0 | BW60: =BV60*$BW$4 -> 0 | BX60: =BV60*$C60 -> 0 | CC60: =CB60*$CC$4 -> 0 | CD60: =CB60*$C60 -> 0
A61: 56 | B61: West Stowell Track Rt | C61: 6.66 | D61: Avon | E61: Mz | F61: WW1 | H61: =AA61-L61 -> 220 | I61: =AB61-M61 -> 0 | J61: =AC61-N61 -> 55 | L61: =(SUMIF($AJ$5:$CD$5,L$5,$AJ61:$CD61)) -> 0 | M61: =(SUMIF($AJ$5:$CD$5,M$5,$AJ61:$CD61)) -> 0 | N61: =(SUMIF($AJ$5:$CD$5,N$5,$AJ61:$CD61)) -> 0 | P61: =L61*$C61 -> 0 | Q61: =M61*$C61 -> 0 | R61: =N61*$C61 -> 0 | T61: 1 | W61: 3- | X61: 2+ | Y61: 44866 | AA61: 220 | AB61: 0 | AC61: 55 | AE61: =AA61*C61 -> 1465.2 | AF61: =AB61*C61 -> 0 | AG61: =AC61*C61 -> 366.3 | AJ61: =AI61*$AJ$4 -> 0 | AK61: =AI61*$AK$4 -> 0 | AL61: =AI61*$AL$4 -> 0 | AM61: =AI61*C61 -> 0 | AP61: =AO61*$AP$4 -> 0 | AQ61: =AO61*$AQ$4 -> 0 | AR61: =AO61*$AR$4 -> 0 | AS61: =AO61*$C61 -> 0 | AX61: =AW61*$AX$4 -> 0 | AY61: =AW61*$AY$4 -> 0 | AZ61: =AW61*$AZ$4 -> 0 | BA61: =AW61*$C61 -> 0 | BD61: =BC61*$BD$4 -> 0 | BE61: =BA61*$C61 -> 0 | BJ61: =BI61*$BJ$4 -> 0 | BK61: =BH61*$C61 -> 0 | BP61: =BO61*$BP$4 -> 0 | BQ61: =BO61*$BQ$4 -> 0 | BR61: =BO61*$C61 -> 0 | BW61: =BV61*$BW$4 -> 0 | BX61: =BV61*$C61 -> 0 | CC61: =CB61*$CC$4 -> 0 | CD61: =CB61*$C61 -> 0
A62: 57 | B62: West Stowell Track Lft | C62: 7.23 | D62: Avon | E62: Mz | F62: WW1 | H62: =AA62-L62 -> 220 | I62: =AB62-M62 -> 0 | J62: =AC62-N62 -> 55 | L62: =(SUMIF($AJ$5:$CD$5,L$5,$AJ62:$CD62)) -> 0 | M62: =(SUMIF($AJ$5:$CD$5,M$5,$AJ62:$CD62)) -> 0 | N62: =(SUMIF($AJ$5:$CD$5,N$5,$AJ62:$CD62)) -> 0 | P62: =L62*$C62 -> 0 | Q62: =M62*$C62 -> 0 | R62: =N62*$C62 -> 0 | T62: 1 | W62: 3- | X62: 2+ | Y62: 44866 | AA62: 220 | AB62: 0 | AC62: 55 | AE62: =AA62*C62 -> 1590.6 | AF62: =AB62*C62 -> 0 | AG62: =AC62*C62 -> 397.65 | AJ62: =AI62*$AJ$4 -> 0 | AK62: =AI62*$AK$4 -> 0 | AL62: =AI62*$AL$4 -> 0 | AM62: =AI62*C62 -> 0 | AP62: =AO62*$AP$4 -> 0 | AQ62: =AO62*$AQ$4 -> 0 | AR62: =AO62*$AR$4 -> 0 | AS62: =AO62*$C62 -> 0 | AX62: =AW62*$AX$4 -> 0 | AY62: =AW62*$AY$4 -> 0 | AZ62: =AW62*$AZ$4 -> 0 | BA62: =AW62*$C62 -> 0 | BD62: =BC62*$BD$4 -> 0 | BE62: =BA62*$C62 -> 0 | BJ62: =BI62*$BJ$4 -> 0 | BK62: =BH62*$C62 -> 0 | BP62: =BO62*$BP$4 -> 0 | BQ62: =BO62*$BQ$4 -> 0 | BR62: =BO62*$C62 -> 0 | BW62: =BV62*$BW$4 -> 0 | BX62: =BV62*$C62 -> 0 | CC62: =CB62*$CC$4 -> 0 | CD62: =CB62*$C62 -> 0
A63: 58 | B63: Waynes | C63: 3.86 | D63: Avon | E63: Grass | F63: Grass | H63: =AA63-L63 -> 224.5 | I63: =AB63-M63 -> -2.25 | J63: =AC63-N63 -> 128.25 | L63: =(SUMIF($AJ$5:$CD$5,L$5,$AJ63:$CD63)) -> 85.5 | M63: =(SUMIF($AJ$5:$CD$5,M$5,$AJ63:$CD63)) -> 92.25 | N63: =(SUMIF($AJ$5:$CD$5,N$5,$AJ63:$CD63)) -> 201.75 | P63: =L63*$C63 -> 330.03 | Q63: =M63*$C63 -> 356.085 | R63: =N63*$C63 -> 778.755 | T63: 2 | W63: 2+ | X63: 1- | Y63: 44958 | AA63: 310 | AB63: 90 | AC63: 330 | AE63: =AA63*C63 -> 1196.6 | AF63: =AB63*C63 -> 347.4 | AG63: =AC63*C63 -> 1273.8 | AJ63: =AI63*$AJ$4 -> 0 | AK63: =AI63*$AK$4 -> 0 | AL63: =AI63*$AL$4 -> 0 | AM63: =AI63*C63 -> 0 | AO63: 75 | AP63: =AO63*$AP$4 -> 85.5 | AQ63: =AO63*$AQ$4 -> 92.25 | AR63: =AO63*$AR$4 -> 201.75 | AS63: =AO63*$C63 -> 289.5 | AX63: =AW63*$AX$4 -> 0 | AY63: =AW63*$AY$4 -> 0 | AZ63: =AW63*$AZ$4 -> 0 | BA63: =AW63*$C63 -> 0 | BD63: =BC63*$BD$4 -> 0 | BE63: =BA63*$C63 -> 0 | BJ63: =BI63*$BJ$4 -> 0 | BK63: =BH63*$C63 -> 0 | BP63: =BO63*$BP$4 -> 0 | BQ63: =BO63*$BQ$4 -> 0 | BR63: =BO63*$C63 -> 0 | BW63: =BV63*$BW$4 -> 0 | BX63: =BV63*$C63 -> 0 | CC63: =CB63*$CC$4 -> 0 | CD63: =CB63*$C63 -> 0
A64: 59 | B64: Wick Fields | C64: 12 | D64: Avon | E64: Grass | F64: Grass | H64: =AA64-L64 -> 224.5 | I64: =AB64-M64 -> -2.25 | J64: =AC64-N64 -> -91.75 | L64: =(SUMIF($AJ$5:$CD$5,L$5,$AJ64:$CD64)) -> 85.5 | M64: =(SUMIF($AJ$5:$CD$5,M$5,$AJ64:$CD64)) -> 92.25 | N64: =(SUMIF($AJ$5:$CD$5,N$5,$AJ64:$CD64)) -> 201.75 | P64: =L64*$C64 -> 1026 | Q64: =M64*$C64 -> 1107 | R64: =N64*$C64 -> 2421 | T64: 2 | W64: 2- | X64: 3- | Y64: 44896 | AA64: 310 | AB64: 90 | AC64: 110 | AE64: =AA64*C64 -> 3720 | AF64: =AB64*C64 -> 1080 | AG64: =AC64*C64 -> 1320 | AJ64: =AI64*$AJ$4 -> 0 | AK64: =AI64*$AK$4 -> 0 | AL64: =AI64*$AL$4 -> 0 | AM64: =AI64*C64 -> 0 | AO64: 75 | AP64: =AO64*$AP$4 -> 85.5 | AQ64: =AO64*$AQ$4 -> 92.25 | AR64: =AO64*$AR$4 -> 201.75 | AS64: =AO64*$C64 -> 900 | AX64: =AW64*$AX$4 -> 0 | AY64: =AW64*$AY$4 -> 0 | AZ64: =AW64*$AZ$4 -> 0 | BA64: =AW64*$C64 -> 0 | BD64: =BC64*$BD$4 -> 0 | BE64: =BA64*$C64 -> 0 | BJ64: =BI64*$BJ$4 -> 0 | BK64: =BH64*$C64 -> 0 | BP64: =BO64*$BP$4 -> 0 | BQ64: =BO64*$BQ$4 -> 0 | BR64: =BO64*$C64 -> 0 | BW64: =BV64*$BW$4 -> 0 | BX64: =BV64*$C64 -> 0 | CC64: =CB64*$CC$4 -> 0 | CD64: =CB64*$C64 -> 0
A65: 60 | B65: Waights | C65: =56/2.471 -> 22.66289 | D65: Avon | E65: Mz | F65: Mz | H65: =AA65-L65 -> 73.9 | I65: =AB65-M65 -> -2.3 | J65: =AC65-N65 -> 124 | L65: =(SUMIF($AJ$5:$CD$5,L$5,$AJ65:$CD65)) -> 26.1 | M65: =(SUMIF($AJ$5:$CD$5,M$5,$AJ65:$CD65)) -> 57.3 | N65: =(SUMIF($AJ$5:$CD$5,N$5,$AJ65:$CD65)) -> 81 | P65: =L65*$C65 -> 591.50142 | Q65: =M65*$C65 -> 1298.5836 | R65: =N65*$C65 -> 1835.6941 | T65: 1 | W65: 2+ | X65: 1- | AA65: 100 | AB65: 55 | AC65: 205 | AE65: =AA65*C65 -> 2266.289 | AF65: =AB65*C65 -> 1246.4589 | AG65: =AC65*C65 -> 4645.8924 | AI65: 30 | AJ65: =AI65*$AJ$4 -> 26.1 | AK65: =AI65*$AK$4 -> 57.3 | AL65: =AI65*$AL$4 -> 81 | AM65: =AI65*C65 -> 679.88669 | AP65: =AO65*$AP$4 -> 0 | AQ65: =AO65*$AQ$4 -> 0 | AR65: =AO65*$AR$4 -> 0 | AS65: =AO65*$C65 -> 0 | AX65: =AW65*$AX$4 -> 0 | AY65: =AW65*$AY$4 -> 0 | AZ65: =AW65*$AZ$4 -> 0 | BA65: =AW65*$C65 -> 0 | BD65: =BC65*$BD$4 -> 0 | BE65: =BA65*$C65 -> 0 | BJ65: =BI65*$BJ$4 -> 0 | BK65: =BH65*$C65 -> 0 | BP65: =BO65*$BP$4 -> 0 | BQ65: =BO65*$BQ$4 -> 0 | BR65: =BO65*$C65 -> 0 | BW65: =BV65*$BW$4 -> 0 | BX65: =BV65*$C65 -> 0 | CC65: =CB65*$CC$4 -> 0 | CD65: =CB65*$C65 -> 0
A66: 61 | B66: Woodside | C66: 18.27 | D66: Avon | E66: Grass | F66: Mz | H66: =AA66-L66 -> 89.56 | I66: =AB66-M66 -> -2.92 | J66: =AC66-N66 -> 77.6 | L66: =(SUMIF($AJ$5:$CD$5,L$5,$AJ66:$CD66)) -> 10.44 | M66: =(SUMIF($AJ$5:$CD$5,M$5,$AJ66:$CD66)) -> 22.92 | N66: =(SUMIF($AJ$5:$CD$5,N$5,$AJ66:$CD66)) -> 32.4 | P66: =L66*$C66 -> 190.7388 | Q66: =M66*$C66 -> 418.7484 | R66: =N66*$C66 -> 591.948 | T66: 1 | W66: 3 | X66: 3 | Y66: 44958 | AA66: 100 | AB66: 20 | AC66: 110 | AE66: =AA66*C66 -> 1827 | AF66: =AB66*C66 -> 365.4 | AG66: =AC66*C66 -> 2009.7 | AI66: 12 | AJ66: =AI66*$AJ$4 -> 10.44 | AK66: =AI66*$AK$4 -> 22.92 | AL66: =AI66*$AL$4 -> 32.4 | AM66: =AI66*C66 -> 219.24 | AP66: =AO66*$AP$4 -> 0 | AQ66: =AO66*$AQ$4 -> 0 | AR66: =AO66*$AR$4 -> 0 | AS66: =AO66*$C66 -> 0 | AX66: =AW66*$AX$4 -> 0 | AY66: =AW66*$AY$4 -> 0 | AZ66: =AW66*$AZ$4 -> 0 | BA66: =AW66*$C66 -> 0 | BD66: =BC66*$BD$4 -> 0 | BE66: =BA66*$C66 -> 0 | BJ66: =BI66*$BJ$4 -> 0 | BK66: =BH66*$C66 -> 0 | BP66: =BO66*$BP$4 -> 0 | BQ66: =BO66*$BQ$4 -> 0 | BR66: =BO66*$C66 -> 0 | BW66: =BV66*$BW$4 -> 0 | BX66: =BV66*$C66 -> 0 | CC66: =CB66*$CC$4 -> 0 | CD66: =CB66*$C66 -> 0
A67: 62 | B67: Ws Big Meadow | C67: 3.56 | D67: Avon | E67: WBC | F67: WBC | H67: =AA67-L67 -> 0 | I67: =AB67-M67 -> 0 | J67: =AC67-N67 -> 0 | L67: =(SUMIF($AJ$5:$CD$5,L$5,$AJ67:$CD67)) -> 0 | M67: =(SUMIF($AJ$5:$CD$5,M$5,$AJ67:$CD67)) -> 0 | N67: =(SUMIF($AJ$5:$CD$5,N$5,$AJ67:$CD67)) -> 0 | P67: =L67*$C67 -> 0 | Q67: =M67*$C67 -> 0 | R67: =N67*$C67 -> 0 | W67: 3 | X67: 2+ | Y67: 44866 | AE67: =AA67*C67 -> 0 | AF67: =AB67*C67 -> 0 | AG67: =AC67*C67 -> 0 | AJ67: =AI67*$AJ$4 -> 0 | AK67: =AI67*$AK$4 -> 0 | AL67: =AI67*$AL$4 -> 0 | AM67: =AI67*C67 -> 0 | AP67: =AO67*$AP$4 -> 0 | AQ67: =AO67*$AQ$4 -> 0 | AR67: =AO67*$AR$4 -> 0 | AS67: =AO67*$C67 -> 0 | AX67: =AW67*$AX$4 -> 0 | AY67: =AW67*$AY$4 -> 0 | AZ67: =AW67*$AZ$4 -> 0 | BA67: =AW67*$C67 -> 0 | BD67: =BC67*$BD$4 -> 0 | BE67: =BA67*$C67 -> 0 | BJ67: =BI67*$BJ$4 -> 0 | BK67: =BH67*$C67 -> 0 | BP67: =BO67*$BP$4 -> 0 | BQ67: =BO67*$BQ$4 -> 0 | BR67: =BO67*$C67 -> 0 | BW67: =BV67*$BW$4 -> 0 | BX67: =BV67*$C67 -> 0 | CC67: =CB67*$CC$4 -> 0 | CD67: =CB67*$C67 -> 0
A68: 63 | B68: Six Trees, West Overton | C68: 11 | D68: Kennett | E68: Lucerne | F68: Lucerne | H68: =AA68-L68 -> 0 | I68: =AB68-M68 -> 0 | J68: =AC68-N68 -> 225 | L68: =(SUMIF($AJ$5:$CD$5,L$5,$AJ68:$CD68)) -> 0 | M68: =(SUMIF($AJ$5:$CD$5,M$5,$AJ68:$CD68)) -> 0 | N68: =(SUMIF($AJ$5:$CD$5,N$5,$AJ68:$CD68)) -> 0 | P68: =L68*$C68 -> 0 | Q68: =M68*$C68 -> 0 | R68: =N68*$C68 -> 0 | W68: 4 | X68: 2 | AA68: 0 | AB68: 0 | AC68: 225 | AE68: =AA68*C68 -> 0 | AF68: =AB68*C68 -> 0 | AG68: =AC68*C68 -> 2475 | AJ68: =AI68*$AJ$4 -> 0 | AK68: =AI68*$AK$4 -> 0 | AL68: =AI68*$AL$4 -> 0 | AM68: =AI68*C68 -> 0 | AP68: =AO68*$AP$4 -> 0 | AQ68: =AO68*$AQ$4 -> 0 | AR68: =AO68*$AR$4 -> 0 | AS68: =AO68*$C68 -> 0 | AX68: =AW68*$AX$4 -> 0 | AY68: =AW68*$AY$4 -> 0 | AZ68: =AW68*$AZ$4 -> 0 | BA68: =AW68*$C68 -> 0 | BD68: =BC68*$BD$4 -> 0 | BE68: =BA68*$C68 -> 0 | BJ68: =BI68*$BJ$4 -> 0 | BK68: =BH68*$C68 -> 0 | BP68: =BO68*$BP$4 -> 0 | BQ68: =BO68*$BQ$4 -> 0 | BR68: =BO68*$C68 -> 0 | BW68: =BV68*$BW$4 -> 0 | BX68: =BV68*$C68 -> 0 | CC68: =CB68*$CC$4 -> 0 | CD68: =CB68*$C68 -> 0
A69: 64 | B69: Cafe Down, West Overton | C69: 9.1 | D69: Kennett | E69: lucerne | F69: Lucerne | H69: =AA69-L69 -> -16.2 | I69: =AB69-M69 -> 73.6 | J69: =AC69-N69 -> 71.2 | L69: =(SUMIF($AJ$5:$CD$5,L$5,$AJ69:$CD69)) -> 16.2 | M69: =(SUMIF($AJ$5:$CD$5,M$5,$AJ69:$CD69)) -> 86.4 | N69: =(SUMIF($AJ$5:$CD$5,N$5,$AJ69:$CD69)) -> 253.8 | P69: =L69*$C69 -> 147.42 | Q69: =M69*$C69 -> 786.24 | R69: =N69*$C69 -> 2309.58 | W69: 2 | X69: 1 | AA69: 0 | AB69: 160 | AC69: 325 | AE69: =AA69*C69 -> 0 | AF69: =AB69*C69 -> 1456 | AG69: =AC69*C69 -> 2957.5 | AJ69: =AI69*$AJ$4 -> 0 | AK69: =AI69*$AK$4 -> 0 | AL69: =AI69*$AL$4 -> 0 | AM69: =AI69*C69 -> 0 | AP69: =AO69*$AP$4 -> 0 | AQ69: =AO69*$AQ$4 -> 0 | AR69: =AO69*$AR$4 -> 0 | AS69: =AO69*$C69 -> 0 | AW69: 27 | AX69: =AW69*$AX$4 -> 16.2 | AY69: =AW69*$AY$4 -> 86.4 | AZ69: =AW69*$AZ$4 -> 253.8 | BA69: =AW69*$C69 -> 245.7 | BD69: =BC69*$BD$4 -> 0 | BE69: =BA69*$C69 -> 2235.87 | BJ69: =BI69*$BJ$4 -> 0 | BK69: =BH69*$C69 -> 0 | BP69: =BO69*$BP$4 -> 0 | BQ69: =BO69*$BQ$4 -> 0 | BR69: =BO69*$C69 -> 0 | BW69: =BV69*$BW$4 -> 0 | BX69: =BV69*$C69 -> 0 | CC69: =CB69*$CC$4 -> 0 | CD69: =CB69*$C69 -> 0
A70: 65 | B70: Whymans, West Overton | C70: 24.32 | D70: Kennett | E70: Mz | F70: WW1 | H70: =AA70-L70 -> 220 | I70: =AB70-M70 -> 0 | J70: =AC70-N70 -> 70 | L70: =(SUMIF($AJ$5:$CD$5,L$5,$AJ70:$CD70)) -> 0 | M70: =(SUMIF($AJ$5:$CD$5,M$5,$AJ70:$CD70)) -> 0 | N70: =(SUMIF($AJ$5:$CD$5,N$5,$AJ70:$CD70)) -> 0 | P70: =L70*$C70 -> 0 | Q70: =M70*$C70 -> 0 | R70: =N70*$C70 -> 0 | T70: 1 | W70: 4 | X70: 2 | AA70: 220 | AB70: 0 | AC70: 70 | AE70: =AA70*C70 -> 5350.4 | AF70: =AB70*C70 -> 0 | AG70: =AC70*C70 -> 1702.4 | AJ70: =AI70*$AJ$4 -> 0 | AK70: =AI70*$AK$4 -> 0 | AL70: =AI70*$AL$4 -> 0 | AM70: =AI70*C70 -> 0 | AP70: =AO70*$AP$4 -> 0 | AQ70: =AO70*$AQ$4 -> 0 | AR70: =AO70*$AR$4 -> 0 | AS70: =AO70*$C70 -> 0 | AX70: =AW70*$AX$4 -> 0 | AY70: =AW70*$AY$4 -> 0 | AZ70: =AW70*$AZ$4 -> 0 | BA70: =AW70*$C70 -> 0 | BD70: =BC70*$BD$4 -> 0 | BE70: =BA70*$C70 -> 0 | BJ70: =BI70*$BJ$4 -> 0 | BK70: =BH70*$C70 -> 0 | BP70: =BO70*$BP$4 -> 0 | BQ70: =BO70*$BQ$4 -> 0 | BR70: =BO70*$C70 -> 0 | BW70: =BV70*$BW$4 -> 0 | BX70: =BV70*$C70 -> 0 | CC70: =CB70*$CC$4 -> 0 | CD70: =CB70*$C70 -> 0
A71: 66 | B71: Beechy Brow, West Overton | C71: 15.14 | D71: Kennett | E71: Grass | F71: Grass | H71: =AA71-L71 -> 224.5 | I71: =AB71-M71 -> -2.25 | J71: =AC71-N71 -> 53.25 | L71: =(SUMIF($AJ$5:$CD$5,L$5,$AJ71:$CD71)) -> 85.5 | M71: =(SUMIF($AJ$5:$CD$5,M$5,$AJ71:$CD71)) -> 92.25 | N71: =(SUMIF($AJ$5:$CD$5,N$5,$AJ71:$CD71)) -> 201.75 | P71: =L71*$C71 -> 1294.47 | Q71: =M71*$C71 -> 1396.665 | R71: =N71*$C71 -> 3054.495 | W71: 2 | X71: 2 | AA71: 310 | AB71: 90 | AC71: 255 | AE71: =AA71*C71 -> 4693.4 | AF71: =AB71*C71 -> 1362.6 | AG71: =AC71*C71 -> 3860.7 | AJ71: =AI71*$AJ$4 -> 0 | AK71: =AI71*$AK$4 -> 0 | AL71: =AI71*$AL$4 -> 0 | AM71: =AI71*C71 -> 0 | AO71: 75 | AP71: =AO71*$AP$4 -> 85.5 | AQ71: =AO71*$AQ$4 -> 92.25 | AR71: =AO71*$AR$4 -> 201.75 | AS71: =AO71*$C71 -> 1135.5 | AX71: =AW71*$AX$4 -> 0 | AY71: =AW71*$AY$4 -> 0 | AZ71: =AW71*$AZ$4 -> 0 | BA71: =AW71*$C71 -> 0 | BD71: =BC71*$BD$4 -> 0 | BE71: =BA71*$C71 -> 0 | BJ71: =BI71*$BJ$4 -> 0 | BK71: =BH71*$C71 -> 0 | BP71: =BO71*$BP$4 -> 0 | BQ71: =BO71*$BQ$4 -> 0 | BR71: =BO71*$C71 -> 0 | BW71: =BV71*$BW$4 -> 0 | BX71: =BV71*$C71 -> 0 | CC71: =CB71*$CC$4 -> 0 | CD71: =CB71*$C71 -> 0
A72: 67 | B72: Lurkley Hill, West Overton | C72: 19 | D72: Kennett | E72: Mz | F72: WW1 | H72: =AA72-L72 -> 220 | I72: =AB72-M72 -> 0 | J72: =AC72-N72 -> 0 | L72: =(SUMIF($AJ$5:$CD$5,L$5,$AJ72:$CD72)) -> 0 | M72: =(SUMIF($AJ$5:$CD$5,M$5,$AJ72:$CD72)) -> 0 | N72: =(SUMIF($AJ$5:$CD$5,N$5,$AJ72:$CD72)) -> 0 | P72: =L72*$C72 -> 0 | Q72: =M72*$C72 -> 0 | R72: =N72*$C72 -> 0 | T72: 1 | W72: 5 | X72: 3 | AA72: 220 | AB72: 0 | AC72: 0 | AE72: =AA72*C72 -> 4180 | AF72: =AB72*C72 -> 0 | AG72: =AC72*C72 -> 0 | AJ72: =AI72*$AJ$4 -> 0 | AK72: =AI72*$AK$4 -> 0 | AL72: =AI72*$AL$4 -> 0 | AM72: =AI72*C72 -> 0 | AP72: =AO72*$AP$4 -> 0 | AQ72: =AO72*$AQ$4 -> 0 | AR72: =AO72*$AR$4 -> 0 | AS72: =AO72*$C72 -> 0 | AX72: =AW72*$AX$4 -> 0 | AY72: =AW72*$AY$4 -> 0 | AZ72: =AW72*$AZ$4 -> 0 | BA72: =AW72*$C72 -> 0 | BD72: =BC72*$BD$4 -> 0 | BE72: =BA72*$C72 -> 0 | BJ72: =BI72*$BJ$4 -> 0 | BK72: =BH72*$C72 -> 0 | BP72: =BO72*$BP$4 -> 0 | BQ72: =BO72*$BQ$4 -> 0 | BR72: =BO72*$C72 -> 0 | BW72: =BV72*$BW$4 -> 0 | BX72: =BV72*$C72 -> 0 | CC72: =CB72*$CC$4 -> 0 | CD72: =CB72*$C72 -> 0
A73: 68 | B73: Hill Barn, West Overton | C73: 41.27 | D73: Kennett | E73: Rye | F73: Mz | H73: =AA73-L73 -> -34.5 | I73: =AB73-M73 -> -1.65 | J73: =AC73-N73 -> -24.35 | L73: =(SUMIF($AJ$5:$CD$5,L$5,$AJ73:$CD73)) -> 34.5 | M73: =(SUMIF($AJ$5:$CD$5,M$5,$AJ73:$CD73)) -> 56.65 | N73: =(SUMIF($AJ$5:$CD$5,N$5,$AJ73:$CD73)) -> 94.35 | P73: =L73*$C73 -> 1423.815 | Q73: =M73*$C73 -> 2337.9455 | R73: =N73*$C73 -> 3893.8245 | T73: 1 | W73: 2 | X73: 2- | AB73: 55 | AC73: 70 | AE73: =AA73*C73 -> 0 | AF73: =AB73*C73 -> 2269.85 | AG73: =AC73*C73 -> 2888.9 | AI73: 20 | AJ73: =AI73*$AJ$4 -> 17.4 | AK73: =AI73*$AK$4 -> 38.2 | AL73: =AI73*$AL$4 -> 54 | AM73: =AI73*C73 -> 825.4 | AO73: 15 | AP73: =AO73*$AP$4 -> 17.1 | AQ73: =AO73*$AQ$4 -> 18.45 | AR73: =AO73*$AR$4 -> 40.35 | AS73: =AO73*$C73 -> 619.05 | AX73: =AW73*$AX$4 -> 0 | AY73: =AW73*$AY$4 -> 0 | AZ73: =AW73*$AZ$4 -> 0 | BA73: =AW73*$C73 -> 0 | BD73: =BC73*$BD$4 -> 0 | BE73: =BA73*$C73 -> 0 | BJ73: =BI73*$BJ$4 -> 0 | BK73: =BH73*$C73 -> 0 | BP73: =BO73*$BP$4 -> 0 | BQ73: =BO73*$BQ$4 -> 0 | BR73: =BO73*$C73 -> 0 | BW73: =BV73*$BW$4 -> 0 | BX73: =BV73*$C73 -> 0 | CC73: =CB73*$CC$4 -> 0 | CD73: =CB73*$C73 -> 0
A74: 69 | B74: Pumphries, West Overton | C74: 25 | D74: Kennett | E74: Oats | F74: WW1 | H74: =AA74-L74 -> 220 | I74: =AB74-M74 -> 0 | J74: =AC74-N74 -> 70 | L74: =(SUMIF($AJ$5:$CD$5,L$5,$AJ74:$CD74)) -> 0 | M74: =(SUMIF($AJ$5:$CD$5,M$5,$AJ74:$CD74)) -> 0 | N74: =(SUMIF($AJ$5:$CD$5,N$5,$AJ74:$CD74)) -> 0 | P74: =L74*$C74 -> 0 | Q74: =M74*$C74 -> 0 | R74: =N74*$C74 -> 0 | T74: 1 | W74: 4 | X74: 2 | AA74: 220 | AB74: 0 | AC74: 70 | AE74: =AA74*C74 -> 5500 | AF74: =AB74*C74 -> 0 | AG74: =AC74*C74 -> 1750 | AJ74: =AI74*$AJ$4 -> 0 | AK74: =AI74*$AK$4 -> 0 | AL74: =AI74*$AL$4 -> 0 | AM74: =AI74*C74 -> 0 | AP74: =AO74*$AP$4 -> 0 | AQ74: =AO74*$AQ$4 -> 0 | AR74: =AO74*$AR$4 -> 0 | AS74: =AO74*$C74 -> 0 | AX74: =AW74*$AX$4 -> 0 | AY74: =AW74*$AY$4 -> 0 | AZ74: =AW74*$AZ$4 -> 0 | BA74: =AW74*$C74 -> 0 | BD74: =BC74*$BD$4 -> 0 | BE74: =BA74*$C74 -> 0 | BJ74: =BI74*$BJ$4 -> 0 | BK74: =BH74*$C74 -> 0 | BP74: =BO74*$BP$4 -> 0 | BQ74: =BO74*$BQ$4 -> 0 | BR74: =BO74*$C74 -> 0 | BW74: =BV74*$BW$4 -> 0 | BX74: =BV74*$C74 -> 0 | CC74: =CB74*$CC$4 -> 0 | CD74: =CB74*$C74 -> 0
A75: 70 | B75: New West woods | C75: 16.35 | D75: Avon | E75: Oats | F75: Rye | H75: =AA75-L75 -> 44.4 | I75: =AB75-M75 -> 5.8 | J75: =AC75-N75 -> 52.4 | L75: =(SUMIF($AJ$5:$CD$5,L$5,$AJ75:$CD75)) -> 45.6 | M75: =(SUMIF($AJ$5:$CD$5,M$5,$AJ75:$CD75)) -> 49.2 | N75: =(SUMIF($AJ$5:$CD$5,N$5,$AJ75:$CD75)) -> 107.6 | P75: =L75*$C75 -> 745.56 | Q75: =M75*$C75 -> 804.42 | R75: =N75*$C75 -> 1759.26 | T75: 1 | W75: 2 | X75: 2 | AA75: 90 | AB75: 55 | AC75: 160 | AE75: =AA75*C75 -> 1471.5 | AF75: =AB75*C75 -> 899.25 | AG75: =AC75*C75 -> 2616 | AJ75: =AI75*$AJ$4 -> 0 | AK75: =AI75*$AK$4 -> 0 | AL75: =AI75*$AL$4 -> 0 | AM75: =AI75*C75 -> 0 | AO75: 40 | AP75: =AO75*$AP$4 -> 45.6 | AQ75: =AO75*$AQ$4 -> 49.2 | AR75: =AO75*$AR$4 -> 107.6 | AS75: =AO75*$C75 -> 654 | AX75: =AW75*$AX$4 -> 0 | AY75: =AW75*$AY$4 -> 0 | AZ75: =AW75*$AZ$4 -> 0 | BA75: =AW75*$C75 -> 0 | BD75: =BC75*$BD$4 -> 0 | BE75: =BA75*$C75 -> 0 | BJ75: =BI75*$BJ$4 -> 0 | BK75: =BH75*$C75 -> 0 | BP75: =BO75*$BP$4 -> 0 | BQ75: =BO75*$BQ$4 -> 0 | BR75: =BO75*$C75 -> 0 | BW75: =BV75*$BW$4 -> 0 | BX75: =BV75*$C75 -> 0 | CC75: =CB75*$CC$4 -> 0 | CD75: =CB75*$C75 -> 0
A76: 71 | B76: Camp Mead | C76: 9.24 | D76: Kennett | E76: Down | F76: Down | H76: =AA76-L76 -> 0 | I76: =AB76-M76 -> 0 | J76: =AC76-N76 -> 0 | L76: =(SUMIF($AJ$5:$CD$5,L$5,$AJ76:$CD76)) -> 0 | M76: =(SUMIF($AJ$5:$CD$5,M$5,$AJ76:$CD76)) -> 0 | N76: =(SUMIF($AJ$5:$CD$5,N$5,$AJ76:$CD76)) -> 0 | P76: =L76*$C76 -> 0 | Q76: =M76*$C76 -> 0 | R76: =N76*$C76 -> 0 | T76: 2 | AE76: =AA76*C76 -> 0 | AF76: =AB76*C76 -> 0 | AG76: =AC76*C76 -> 0 | AJ76: =AI76*$AJ$4 -> 0 | AK76: =AI76*$AK$4 -> 0 | AL76: =AI76*$AL$4 -> 0 | AM76: =AI76*C76 -> 0 | AP76: =AO76*$AP$4 -> 0 | AQ76: =AO76*$AQ$4 -> 0 | AR76: =AO76*$AR$4 -> 0 | AS76: =AO76*$C76 -> 0 | AX76: =AW76*$AX$4 -> 0 | AY76: =AW76*$AY$4 -> 0 | AZ76: =AW76*$AZ$4 -> 0 | BA76: =AW76*$C76 -> 0 | BD76: =BC76*$BD$4 -> 0 | BE76: =BA76*$C76 -> 0 | BJ76: =BI76*$BJ$4 -> 0 | BK76: =BH76*$C76 -> 0 | BP76: =BO76*$BP$4 -> 0 | BQ76: =BO76*$BQ$4 -> 0 | BR76: =BO76*$C76 -> 0 | BW76: =BV76*$BW$4 -> 0 | BX76: =BV76*$C76 -> 0 | CC76: =CB76*$CC$4 -> 0 | CD76: =CB76*$C76 -> 0
A77: 72 | B77: Camp Mead | C77: 1.13 | D77: Avon | E77: Down | F77: Down | H77: =AA77-L77 -> 0 | I77: =AB77-M77 -> 0 | J77: =AC77-N77 -> 0 | L77: =(SUMIF($AJ$5:$CD$5,L$5,$AJ77:$CD77)) -> 0 | M77: =(SUMIF($AJ$5:$CD$5,M$5,$AJ77:$CD77)) -> 0 | N77: =(SUMIF($AJ$5:$CD$5,N$5,$AJ77:$CD77)) -> 0 | P77: =L77*$C77 -> 0 | Q77: =M77*$C77 -> 0 | R77: =N77*$C77 -> 0 | T77: 2 | AE77: =AA77*C77 -> 0 | AF77: =AB77*C77 -> 0 | AG77: =AC77*C77 -> 0 | AJ77: =AI77*$AJ$4 -> 0 | AK77: =AI77*$AK$4 -> 0 | AL77: =AI77*$AL$4 -> 0 | AM77: =AI77*C77 -> 0 | AP77: =AO77*$AP$4 -> 0 | AQ77: =AO77*$AQ$4 -> 0 | AR77: =AO77*$AR$4 -> 0 | AS77: =AO77*$C77 -> 0 | AX77: =AW77*$AX$4 -> 0 | AY77: =AW77*$AY$4 -> 0 | AZ77: =AW77*$AZ$4 -> 0 | BA77: =AW77*$C77 -> 0 | BD77: =BC77*$BD$4 -> 0 | BE77: =BA77*$C77 -> 0 | BJ77: =BI77*$BJ$4 -> 0 | BK77: =BH77*$C77 -> 0 | BP77: =BO77*$BP$4 -> 0 | BQ77: =BO77*$BQ$4 -> 0 | BR77: =BO77*$C77 -> 0 | BW77: =BV77*$BW$4 -> 0 | BX77: =BV77*$C77 -> 0 | CC77: =CB77*$CC$4 -> 0 | CD77: =CB77*$C77 -> 0
A78: 73 | B78: Little Down | C78: 4.29 | D78: Kennett | E78: Down | F78: Down | H78: =AA78-L78 -> 0 | I78: =AB78-M78 -> 0 | J78: =AC78-N78 -> 0 | L78: =(SUMIF($AJ$5:$CD$5,L$5,$AJ78:$CD78)) -> 0 | M78: =(SUMIF($AJ$5:$CD$5,M$5,$AJ78:$CD78)) -> 0 | N78: =(SUMIF($AJ$5:$CD$5,N$5,$AJ78:$CD78)) -> 0 | P78: =L78*$C78 -> 0 | Q78: =M78*$C78 -> 0 | R78: =N78*$C78 -> 0 | T78: 2 | AE78: =AA78*C78 -> 0 | AF78: =AB78*C78 -> 0 | AG78: =AC78*C78 -> 0 | AJ78: =AI78*$AJ$4 -> 0 | AK78: =AI78*$AK$4 -> 0 | AL78: =AI78*$AL$4 -> 0 | AM78: =AI78*C78 -> 0 | AP78: =AO78*$AP$4 -> 0 | AQ78: =AO78*$AQ$4 -> 0 | AR78: =AO78*$AR$4 -> 0 | AS78: =AO78*$C78 -> 0 | AX78: =AW78*$AX$4 -> 0 | AY78: =AW78*$AY$4 -> 0 | AZ78: =AW78*$AZ$4 -> 0 | BA78: =AW78*$C78 -> 0 | BD78: =BC78*$BD$4 -> 0 | BE78: =BA78*$C78 -> 0 | BJ78: =BI78*$BJ$4 -> 0 | BK78: =BH78*$C78 -> 0 | BP78: =BO78*$BP$4 -> 0 | BQ78: =BO78*$BQ$4 -> 0 | BR78: =BO78*$C78 -> 0 | BW78: =BV78*$BW$4 -> 0 | BX78: =BV78*$C78 -> 0 | CC78: =CB78*$CC$4 -> 0 | CD78: =CB78*$C78 -> 0
A79: 74 | B79: Wick Down | C79: 10.83 | D79: Avon | E79: Down | F79: Down | H79: =AA79-L79 -> 0 | I79: =AB79-M79 -> 0 | J79: =AC79-N79 -> 0 | L79: =(SUMIF($AJ$5:$CD$5,L$5,$AJ79:$CD79)) -> 0 | M79: =(SUMIF($AJ$5:$CD$5,M$5,$AJ79:$CD79)) -> 0 | N79: =(SUMIF($AJ$5:$CD$5,N$5,$AJ79:$CD79)) -> 0 | P79: =L79*$C79 -> 0 | Q79: =M79*$C79 -> 0 | R79: =N79*$C79 -> 0 | T79: 2 | AE79: =AA79*C79 -> 0 | AF79: =AB79*C79 -> 0 | AG79: =AC79*C79 -> 0 | AJ79: =AI79*$AJ$4 -> 0 | AK79: =AI79*$AK$4 -> 0 | AL79: =AI79*$AL$4 -> 0 | AM79: =AI79*C79 -> 0 | AP79: =AO79*$AP$4 -> 0 | AQ79: =AO79*$AQ$4 -> 0 | AR79: =AO79*$AR$4 -> 0 | AS79: =AO79*$C79 -> 0 | AX79: =AW79*$AX$4 -> 0 | AY79: =AW79*$AY$4 -> 0 | AZ79: =AW79*$AZ$4 -> 0 | BA79: =AW79*$C79 -> 0 | BD79: =BC79*$BD$4 -> 0 | BE79: =BA79*$C79 -> 0 | BJ79: =BI79*$BJ$4 -> 0 | BK79: =BH79*$C79 -> 0 | BP79: =BO79*$BP$4 -> 0 | BQ79: =BO79*$BQ$4 -> 0 | BR79: =BO79*$C79 -> 0 | BW79: =BV79*$BW$4 -> 0 | BX79: =BV79*$C79 -> 0 | CC79: =CB79*$CC$4 -> 0 | CD79: =CB79*$C79 -> 0
A80: 75 | B80: Stud Paddocks | C80: 9.5 | D80: Avon | E80: pp | F80: pp | H80: =AA80-L80 -> 80 | I80: =AB80-M80 -> 20 | J80: =AC80-N80 -> 0 | L80: =(SUMIF($AJ$5:$CD$5,L$5,$AJ80:$CD80)) -> 0 | M80: =(SUMIF($AJ$5:$CD$5,M$5,$AJ80:$CD80)) -> 0 | N80: =(SUMIF($AJ$5:$CD$5,N$5,$AJ80:$CD80)) -> 0 | P80: =L80*$C80 -> 0 | Q80: =M80*$C80 -> 0 | R80: =N80*$C80 -> 0 | T80: 2 | W80: 2 | X80: 2 | AA80: 80 | AB80: 20 | AC80: 0 | AE80: =AA80*C80 -> 760 | AF80: =AB80*C80 -> 190 | AG80: =AC80*C80 -> 0 | AJ80: =AI80*$AJ$4 -> 0 | AK80: =AI80*$AK$4 -> 0 | AL80: =AI80*$AL$4 -> 0 | AM80: =AI80*C80 -> 0 | AP80: =AO80*$AP$4 -> 0 | AQ80: =AO80*$AQ$4 -> 0 | AR80: =AO80*$AR$4 -> 0 | AS80: =AO80*$C80 -> 0 | AX80: =AW80*$AX$4 -> 0 | AY80: =AW80*$AY$4 -> 0 | AZ80: =AW80*$AZ$4 -> 0 | BA80: =AW80*$C80 -> 0 | BD80: =BC80*$BD$4 -> 0 | BE80: =BA80*$C80 -> 0 | BJ80: =BI80*$BJ$4 -> 0 | BK80: =BH80*$C80 -> 0 | BP80: =BO80*$BP$4 -> 0 | BQ80: =BO80*$BQ$4 -> 0 | BR80: =BO80*$C80 -> 0 | BW80: =BV80*$BW$4 -> 0 | BX80: =BV80*$C80 -> 0 | CC80: =CB80*$CC$4 -> 0 | CD80: =CB80*$C80 -> 0
A81: 76 | B81: Lady Bird | C81: 1.98 | D81: Avon | E81: pp | F81: pp | H81: =AA81-L81 -> 80 | I81: =AB81-M81 -> 20 | J81: =AC81-N81 -> 0 | L81: =(SUMIF($AJ$5:$CD$5,L$5,$AJ81:$CD81)) -> 0 | M81: =(SUMIF($AJ$5:$CD$5,M$5,$AJ81:$CD81)) -> 0 | N81: =(SUMIF($AJ$5:$CD$5,N$5,$AJ81:$CD81)) -> 0 | P81: =L81*$C81 -> 0 | Q81: =M81*$C81 -> 0 | R81: =N81*$C81 -> 0 | T81: 2 | W81: 2 | X81: 2 | AA81: 80 | AB81: 20 | AC81: 0 | AE81: =AA81*C81 -> 158.4 | AF81: =AB81*C81 -> 39.6 | AG81: =AC81*C81 -> 0 | AJ81: =AI81*$AJ$4 -> 0 | AK81: =AI81*$AK$4 -> 0 | AL81: =AI81*$AL$4 -> 0 | AM81: =AI81*C81 -> 0 | AP81: =AO81*$AP$4 -> 0 | AQ81: =AO81*$AQ$4 -> 0 | AR81: =AO81*$AR$4 -> 0 | AS81: =AO81*$C81 -> 0 | AX81: =AW81*$AX$4 -> 0 | AY81: =AW81*$AY$4 -> 0 | AZ81: =AW81*$AZ$4 -> 0 | BA81: =AW81*$C81 -> 0 | BD81: =BC81*$BD$4 -> 0 | BE81: =BA81*$C81 -> 0 | BJ81: =BI81*$BJ$4 -> 0 | BK81: =BH81*$C81 -> 0 | BP81: =BO81*$BP$4 -> 0 | BQ81: =BO81*$BQ$4 -> 0 | BR81: =BO81*$C81 -> 0 | BW81: =BV81*$BW$4 -> 0 | BX81: =BV81*$C81 -> 0 | CC81: =CB81*$CC$4 -> 0 | CD81: =CB81*$C81 -> 0
A82: 77 | B82: Kings | C82: 3.76 | D82: Avon | E82: pp | F82: pp | H82: =AA82-L82 -> 80 | I82: =AB82-M82 -> 20 | J82: =AC82-N82 -> 0 | L82: =(SUMIF($AJ$5:$CD$5,L$5,$AJ82:$CD82)) -> 0 | M82: =(SUMIF($AJ$5:$CD$5,M$5,$AJ82:$CD82)) -> 0 | N82: =(SUMIF($AJ$5:$CD$5,N$5,$AJ82:$CD82)) -> 0 | P82: =L82*$C82 -> 0 | Q82: =M82*$C82 -> 0 | R82: =N82*$C82 -> 0 | T82: 2 | W82: 2 | X82: 2 | AA82: 80 | AB82: 20 | AC82: 0 | AE82: =AA82*C82 -> 300.8 | AF82: =AB82*C82 -> 75.2 | AG82: =AC82*C82 -> 0 | AJ82: =AI82*$AJ$4 -> 0 | AK82: =AI82*$AK$4 -> 0 | AL82: =AI82*$AL$4 -> 0 | AM82: =AI82*C82 -> 0 | AP82: =AO82*$AP$4 -> 0 | AQ82: =AO82*$AQ$4 -> 0 | AR82: =AO82*$AR$4 -> 0 | AS82: =AO82*$C82 -> 0 | AX82: =AW82*$AX$4 -> 0 | AY82: =AW82*$AY$4 -> 0 | AZ82: =AW82*$AZ$4 -> 0 | BA82: =AW82*$C82 -> 0 | BD82: =BC82*$BD$4 -> 0 | BE82: =BA82*$C82 -> 0 | BJ82: =BI82*$BJ$4 -> 0 | BK82: =BH82*$C82 -> 0 | BP82: =BO82*$BP$4 -> 0 | BQ82: =BO82*$BQ$4 -> 0 | BR82: =BO82*$C82 -> 0 | BW82: =BV82*$BW$4 -> 0 | BX82: =BV82*$C82 -> 0 | CC82: =CB82*$CC$4 -> 0 | CD82: =CB82*$C82 -> 0
A83: 78 | B83: West Down | C83: 23.1 | D83: Avon | E83: Down | F83: Down | H83: =AA83-L83 -> 0 | I83: =AB83-M83 -> 0 | J83: =AC83-N83 -> 0 | L83: =(SUMIF($AJ$5:$CD$5,L$5,$AJ83:$CD83)) -> 0 | M83: =(SUMIF($AJ$5:$CD$5,M$5,$AJ83:$CD83)) -> 0 | N83: =(SUMIF($AJ$5:$CD$5,N$5,$AJ83:$CD83)) -> 0 | P83: =L83*$C83 -> 0 | Q83: =M83*$C83 -> 0 | R83: =N83*$C83 -> 0 | T83: 2 | AE83: =AA83*C83 -> 0 | AF83: =AB83*C83 -> 0 | AG83: =AC83*C83 -> 0 | AJ83: =AI83*$AJ$4 -> 0 | AK83: =AI83*$AK$4 -> 0 | AL83: =AI83*$AL$4 -> 0 | AM83: =AI83*C83 -> 0 | AP83: =AO83*$AP$4 -> 0 | AQ83: =AO83*$AQ$4 -> 0 | AR83: =AO83*$AR$4 -> 0 | AS83: =AO83*$C83 -> 0 | AX83: =AW83*$AX$4 -> 0 | AY83: =AW83*$AY$4 -> 0 | AZ83: =AW83*$AZ$4 -> 0 | BA83: =AW83*$C83 -> 0 | BD83: =BC83*$BD$4 -> 0 | BE83: =BA83*$C83 -> 0 | BJ83: =BI83*$BJ$4 -> 0 | BK83: =BH83*$C83 -> 0 | BP83: =BO83*$BP$4 -> 0 | BQ83: =BO83*$BQ$4 -> 0 | BR83: =BO83*$C83 -> 0 | BW83: =BV83*$BW$4 -> 0 | BX83: =BV83*$C83 -> 0 | CC83: =CB83*$CC$4 -> 0 | CD83: =CB83*$C83 -> 0
A84: 79 | B84: Middle Down | C84: 14.7 | D84: Avon | E84: Down | F84: Down | H84: =AA84-L84 -> 0 | I84: =AB84-M84 -> 0 | J84: =AC84-N84 -> 0 | L84: =(SUMIF($AJ$5:$CD$5,L$5,$AJ84:$CD84)) -> 0 | M84: =(SUMIF($AJ$5:$CD$5,M$5,$AJ84:$CD84)) -> 0 | N84: =(SUMIF($AJ$5:$CD$5,N$5,$AJ84:$CD84)) -> 0 | P84: =L84*$C84 -> 0 | Q84: =M84*$C84 -> 0 | R84: =N84*$C84 -> 0 | T84: 2 | AE84: =AA84*C84 -> 0 | AF84: =AB84*C84 -> 0 | AG84: =AC84*C84 -> 0 | AJ84: =AI84*$AJ$4 -> 0 | AK84: =AI84*$AK$4 -> 0 | AL84: =AI84*$AL$4 -> 0 | AM84: =AI84*C84 -> 0 | AP84: =AO84*$AP$4 -> 0 | AQ84: =AO84*$AQ$4 -> 0 | AR84: =AO84*$AR$4 -> 0 | AS84: =AO84*$C84 -> 0 | AX84: =AW84*$AX$4 -> 0 | AY84: =AW84*$AY$4 -> 0 | AZ84: =AW84*$AZ$4 -> 0 | BA84: =AW84*$C84 -> 0 | BD84: =BC84*$BD$4 -> 0 | BE84: =BA84*$C84 -> 0 | BJ84: =BI84*$BJ$4 -> 0 | BK84: =BH84*$C84 -> 0 | BP84: =BO84*$BP$4 -> 0 | BQ84: =BO84*$BQ$4 -> 0 | BR84: =BO84*$C84 -> 0 | BW84: =BV84*$BW$4 -> 0 | BX84: =BV84*$C84 -> 0 | CC84: =CB84*$CC$4 -> 0 | CD84: =CB84*$C84 -> 0
A85: 80 | B85: Draycott Down | C85: 22.82 | D85: Avon | E85: Down | F85: Down | H85: =AA85-L85 -> 0 | I85: =AB85-M85 -> 0 | J85: =AC85-N85 -> 0 | L85: =(SUMIF($AJ$5:$CD$5,L$5,$AJ85:$CD85)) -> 0 | M85: =(SUMIF($AJ$5:$CD$5,M$5,$AJ85:$CD85)) -> 0 | N85: =(SUMIF($AJ$5:$CD$5,N$5,$AJ85:$CD85)) -> 0 | P85: =L85*$C85 -> 0 | Q85: =M85*$C85 -> 0 | R85: =N85*$C85 -> 0 | T85: 2 | AE85: =AA85*C85 -> 0 | AF85: =AB85*C85 -> 0 | AG85: =AC85*C85 -> 0 | AJ85: =AI85*$AJ$4 -> 0 | AK85: =AI85*$AK$4 -> 0 | AL85: =AI85*$AL$4 -> 0 | AM85: =AI85*C85 -> 0 | AP85: =AO85*$AP$4 -> 0 | AQ85: =AO85*$AQ$4 -> 0 | AR85: =AO85*$AR$4 -> 0 | AS85: =AO85*$C85 -> 0 | AX85: =AW85*$AX$4 -> 0 | AY85: =AW85*$AY$4 -> 0 | AZ85: =AW85*$AZ$4 -> 0 | BA85: =AW85*$C85 -> 0 | BD85: =BC85*$BD$4 -> 0 | BE85: =BA85*$C85 -> 0 | BJ85: =BI85*$BJ$4 -> 0 | BK85: =BH85*$C85 -> 0 | BP85: =BO85*$BP$4 -> 0 | BQ85: =BO85*$BQ$4 -> 0 | BR85: =BO85*$C85 -> 0 | BW85: =BV85*$BW$4 -> 0 | BX85: =BV85*$C85 -> 0 | CC85: =CB85*$CC$4 -> 0 | CD85: =CB85*$C85 -> 0
A86: 81 | B86: Rollo Down | C86: 3.01 | D86: Avon | E86: Down | F86: Down | H86: =AA86-L86 -> 0 | I86: =AB86-M86 -> 0 | J86: =AC86-N86 -> 0 | L86: =(SUMIF($AJ$5:$CD$5,L$5,$AJ86:$CD86)) -> 0 | M86: =(SUMIF($AJ$5:$CD$5,M$5,$AJ86:$CD86)) -> 0 | N86: =(SUMIF($AJ$5:$CD$5,N$5,$AJ86:$CD86)) -> 0 | P86: =L86*$C86 -> 0 | Q86: =M86*$C86 -> 0 | R86: =N86*$C86 -> 0 | T86: 2 | AE86: =AA86*C86 -> 0 | AF86: =AB86*C86 -> 0 | AG86: =AC86*C86 -> 0 | AJ86: =AI86*$AJ$4 -> 0 | AK86: =AI86*$AK$4 -> 0 | AL86: =AI86*$AL$4 -> 0 | AM86: =AI86*C86 -> 0 | AP86: =AO86*$AP$4 -> 0 | AQ86: =AO86*$AQ$4 -> 0 | AR86: =AO86*$AR$4 -> 0 | AS86: =AO86*$C86 -> 0 | AX86: =AW86*$AX$4 -> 0 | AY86: =AW86*$AY$4 -> 0 | AZ86: =AW86*$AZ$4 -> 0 | BA86: =AW86*$C86 -> 0 | BD86: =BC86*$BD$4 -> 0 | BE86: =BA86*$C86 -> 0 | BJ86: =BI86*$BJ$4 -> 0 | BK86: =BH86*$C86 -> 0 | BP86: =BO86*$BP$4 -> 0 | BQ86: =BO86*$BQ$4 -> 0 | BR86: =BO86*$C86 -> 0 | BW86: =BV86*$BW$4 -> 0 | BX86: =BV86*$C86 -> 0 | CC86: =CB86*$CC$4 -> 0 | CD86: =CB86*$C86 -> 0
A87: 82 | B87: Draycott Top | C87: 13.62 | D87: Avon | E87: Down | F87: Down | H87: =AA87-L87 -> 0 | I87: =AB87-M87 -> 0 | J87: =AC87-N87 -> 0 | L87: =(SUMIF($AJ$5:$CD$5,L$5,$AJ87:$CD87)) -> 0 | M87: =(SUMIF($AJ$5:$CD$5,M$5,$AJ87:$CD87)) -> 0 | N87: =(SUMIF($AJ$5:$CD$5,N$5,$AJ87:$CD87)) -> 0 | P87: =L87*$C87 -> 0 | Q87: =M87*$C87 -> 0 | R87: =N87*$C87 -> 0 | T87: 2 | AE87: =AA87*C87 -> 0 | AF87: =AB87*C87 -> 0 | AG87: =AC87*C87 -> 0 | AJ87: =AI87*$AJ$4 -> 0 | AK87: =AI87*$AK$4 -> 0 | AL87: =AI87*$AL$4 -> 0 | AM87: =AI87*C87 -> 0 | AP87: =AO87*$AP$4 -> 0 | AQ87: =AO87*$AQ$4 -> 0 | AR87: =AO87*$AR$4 -> 0 | AS87: =AO87*$C87 -> 0 | AX87: =AW87*$AX$4 -> 0 | AY87: =AW87*$AY$4 -> 0 | AZ87: =AW87*$AZ$4 -> 0 | BA87: =AW87*$C87 -> 0 | BD87: =BC87*$BD$4 -> 0 | BE87: =BA87*$C87 -> 0 | BJ87: =BI87*$BJ$4 -> 0 | BK87: =BH87*$C87 -> 0 | BP87: =BO87*$BP$4 -> 0 | BQ87: =BO87*$BQ$4 -> 0 | BR87: =BO87*$C87 -> 0 | BW87: =BV87*$BW$4 -> 0 | BX87: =BV87*$C87 -> 0 | CC87: =CB87*$CC$4 -> 0 | CD87: =CB87*$C87 -> 0
A88: 83 | B88: Resevoir | C88: 8.24 | D88: Kennett | E88: Down | F88: Down | H88: =AA88-L88 -> 0 | I88: =AB88-M88 -> 0 | J88: =AC88-N88 -> 0 | L88: =(SUMIF($AJ$5:$CD$5,L$5,$AJ88:$CD88)) -> 0 | M88: =(SUMIF($AJ$5:$CD$5,M$5,$AJ88:$CD88)) -> 0 | N88: =(SUMIF($AJ$5:$CD$5,N$5,$AJ88:$CD88)) -> 0 | P88: =L88*$C88 -> 0 | Q88: =M88*$C88 -> 0 | R88: =N88*$C88 -> 0 | T88: 2 | AE88: =AA88*C88 -> 0 | AF88: =AB88*C88 -> 0 | AG88: =AC88*C88 -> 0 | AJ88: =AI88*$AJ$4 -> 0 | AK88: =AI88*$AK$4 -> 0 | AL88: =AI88*$AL$4 -> 0 | AM88: =AI88*C88 -> 0 | AP88: =AO88*$AP$4 -> 0 | AQ88: =AO88*$AQ$4 -> 0 | AR88: =AO88*$AR$4 -> 0 | AS88: =AO88*$C88 -> 0 | AX88: =AW88*$AX$4 -> 0 | AY88: =AW88*$AY$4 -> 0 | AZ88: =AW88*$AZ$4 -> 0 | BA88: =AW88*$C88 -> 0 | BD88: =BC88*$BD$4 -> 0 | BE88: =BA88*$C88 -> 0 | BJ88: =BI88*$BJ$4 -> 0 | BK88: =BH88*$C88 -> 0 | BP88: =BO88*$BP$4 -> 0 | BQ88: =BO88*$BQ$4 -> 0 | BR88: =BO88*$C88 -> 0 | BW88: =BV88*$BW$4 -> 0 | BX88: =BV88*$C88 -> 0 | CC88: =CB88*$CC$4 -> 0 | CD88: =CB88*$C88 -> 0
A89: 84 | B89: Gopher | C89: 5.98 | D89: Kennett | E89: Down | F89: Down | H89: =AA89-L89 -> 0 | I89: =AB89-M89 -> 0 | J89: =AC89-N89 -> 0 | L89: =(SUMIF($AJ$5:$CD$5,L$5,$AJ89:$CD89)) -> 0 | M89: =(SUMIF($AJ$5:$CD$5,M$5,$AJ89:$CD89)) -> 0 | N89: =(SUMIF($AJ$5:$CD$5,N$5,$AJ89:$CD89)) -> 0 | P89: =L89*$C89 -> 0 | Q89: =M89*$C89 -> 0 | R89: =N89*$C89 -> 0 | T89: 2 | AE89: =AA89*C89 -> 0 | AF89: =AB89*C89 -> 0 | AG89: =AC89*C89 -> 0 | AJ89: =AI89*$AJ$4 -> 0 | AK89: =AI89*$AK$4 -> 0 | AL89: =AI89*$AL$4 -> 0 | AM89: =AI89*C89 -> 0 | AP89: =AO89*$AP$4 -> 0 | AQ89: =AO89*$AQ$4 -> 0 | AR89: =AO89*$AR$4 -> 0 | AS89: =AO89*$C89 -> 0 | AX89: =AW89*$AX$4 -> 0 | AY89: =AW89*$AY$4 -> 0 | AZ89: =AW89*$AZ$4 -> 0 | BA89: =AW89*$C89 -> 0 | BD89: =BC89*$BD$4 -> 0 | BE89: =BA89*$C89 -> 0 | BJ89: =BI89*$BJ$4 -> 0 | BK89: =BH89*$C89 -> 0 | BP89: =BO89*$BP$4 -> 0 | BQ89: =BO89*$BQ$4 -> 0 | BR89: =BO89*$C89 -> 0 | BW89: =BV89*$BW$4 -> 0 | BX89: =BV89*$C89 -> 0 | CC89: =CB89*$CC$4 -> 0 | CD89: =CB89*$C89 -> 0
A90: 85 | B90: Wardens | C90: 24 | D90: Kennett | E90: Down | F90: Down | H90: =AA90-L90 -> 0 | I90: =AB90-M90 -> 0 | J90: =AC90-N90 -> 0 | L90: =(SUMIF($AJ$5:$CD$5,L$5,$AJ90:$CD90)) -> 0 | M90: =(SUMIF($AJ$5:$CD$5,M$5,$AJ90:$CD90)) -> 0 | N90: =(SUMIF($AJ$5:$CD$5,N$5,$AJ90:$CD90)) -> 0 | P90: =L90*$C90 -> 0 | Q90: =M90*$C90 -> 0 | R90: =N90*$C90 -> 0 | T90: 2 | AE90: =AA90*C90 -> 0 | AF90: =AB90*C90 -> 0 | AG90: =AC90*C90 -> 0 | AJ90: =AI90*$AJ$4 -> 0 | AK90: =AI90*$AK$4 -> 0 | AL90: =AI90*$AL$4 -> 0 | AM90: =AI90*C90 -> 0 | AP90: =AO90*$AP$4 -> 0 | AQ90: =AO90*$AQ$4 -> 0 | AR90: =AO90*$AR$4 -> 0 | AS90: =AO90*$C90 -> 0 | AX90: =AW90*$AX$4 -> 0 | AY90: =AW90*$AY$4 -> 0 | AZ90: =AW90*$AZ$4 -> 0 | BA90: =AW90*$C90 -> 0 | BD90: =BC90*$BD$4 -> 0 | BE90: =BA90*$C90 -> 0 | BJ90: =BI90*$BJ$4 -> 0 | BK90: =BH90*$C90 -> 0 | BP90: =BO90*$BP$4 -> 0 | BQ90: =BO90*$BQ$4 -> 0 | BR90: =BO90*$C90 -> 0 | BW90: =BV90*$BW$4 -> 0 | BX90: =BV90*$C90 -> 0 | CC90: =CB90*$CC$4 -> 0 | CD90: =CB90*$C90 -> 0
A91: 86 | B91: Puckridge | C91: 4.73 | D91: Kennett | E91: Down | F91: Down | H91: =AA91-L91 -> 0 | I91: =AB91-M91 -> 0 | J91: =AC91-N91 -> 0 | L91: =(SUMIF($AJ$5:$CD$5,L$5,$AJ91:$CD91)) -> 0 | M91: =(SUMIF($AJ$5:$CD$5,M$5,$AJ91:$CD91)) -> 0 | N91: =(SUMIF($AJ$5:$CD$5,N$5,$AJ91:$CD91)) -> 0 | P91: =L91*$C91 -> 0 | Q91: =M91*$C91 -> 0 | R91: =N91*$C91 -> 0 | T91: 2 | AE91: =AA91*C91 -> 0 | AF91: =AB91*C91 -> 0 | AG91: =AC91*C91 -> 0 | AJ91: =AI91*$AJ$4 -> 0 | AK91: =AI91*$AK$4 -> 0 | AL91: =AI91*$AL$4 -> 0 | AM91: =AI91*C91 -> 0 | AP91: =AO91*$AP$4 -> 0 | AQ91: =AO91*$AQ$4 -> 0 | AR91: =AO91*$AR$4 -> 0 | AS91: =AO91*$C91 -> 0 | AX91: =AW91*$AX$4 -> 0 | AY91: =AW91*$AY$4 -> 0 | AZ91: =AW91*$AZ$4 -> 0 | BA91: =AW91*$C91 -> 0 | BD91: =BC91*$BD$4 -> 0 | BE91: =BA91*$C91 -> 0 | BJ91: =BI91*$BJ$4 -> 0 | BK91: =BH91*$C91 -> 0 | BP91: =BO91*$BP$4 -> 0 | BQ91: =BO91*$BQ$4 -> 0 | BR91: =BO91*$C91 -> 0 | BW91: =BV91*$BW$4 -> 0 | BX91: =BV91*$C91 -> 0 | CC91: =CB91*$CC$4 -> 0 | CD91: =CB91*$C91 -> 0
A92: 87 | B92: Footpath | C92: 5.2 | D92: Avon | E92: pp | F92: pp | H92: =AA92-L92 -> 80 | I92: =AB92-M92 -> 20 | J92: =AC92-N92 -> 0 | L92: =(SUMIF($AJ$5:$CD$5,L$5,$AJ92:$CD92)) -> 0 | M92: =(SUMIF($AJ$5:$CD$5,M$5,$AJ92:$CD92)) -> 0 | N92: =(SUMIF($AJ$5:$CD$5,N$5,$AJ92:$CD92)) -> 0 | P92: =L92*$C92 -> 0 | Q92: =M92*$C92 -> 0 | R92: =N92*$C92 -> 0 | T92: 2 | W92: 2 | X92: 2 | AA92: 80 | AB92: 20 | AC92: 0 | AE92: =AA92*C92 -> 416 | AF92: =AB92*C92 -> 104 | AG92: =AC92*C92 -> 0 | AJ92: =AI92*$AJ$4 -> 0 | AK92: =AI92*$AK$4 -> 0 | AL92: =AI92*$AL$4 -> 0 | AM92: =AI92*C92 -> 0 | AP92: =AO92*$AP$4 -> 0 | AQ92: =AO92*$AQ$4 -> 0 | AR92: =AO92*$AR$4 -> 0 | AS92: =AO92*$C92 -> 0 | AX92: =AW92*$AX$4 -> 0 | AY92: =AW92*$AY$4 -> 0 | AZ92: =AW92*$AZ$4 -> 0 | BA92: =AW92*$C92 -> 0 | BD92: =BC92*$BD$4 -> 0 | BE92: =BA92*$C92 -> 0 | BJ92: =BI92*$BJ$4 -> 0 | BK92: =BH92*$C92 -> 0 | BP92: =BO92*$BP$4 -> 0 | BQ92: =BO92*$BQ$4 -> 0 | BR92: =BO92*$C92 -> 0 | BW92: =BV92*$BW$4 -> 0 | BX92: =BV92*$C92 -> 0 | CC92: =CB92*$CC$4 -> 0 | CD92: =CB92*$C92 -> 0
A93: 88 | B93: Hamiltons | C93: 14 | D93: Avon | E93: pp | F93: pp | H93: =AA93-L93 -> 83.525 | I93: =AB93-M93 -> 4.15 | J93: =AC93-N93 -> 2.675 | L93: =(SUMIF($AJ$5:$CD$5,L$5,$AJ93:$CD93)) -> 26.475 | M93: =(SUMIF($AJ$5:$CD$5,M$5,$AJ93:$CD93)) -> 35.85 | N93: =(SUMIF($AJ$5:$CD$5,N$5,$AJ93:$CD93)) -> 67.325 | P93: =L93*$C93 -> 370.65 | Q93: =M93*$C93 -> 501.9 | R93: =N93*$C93 -> 942.55 | T93: 2 | W93: 2 | X93: 2 | AA93: 110 | AB93: 40 | AC93: 70 | AE93: =AA93*C93 -> 1540 | AF93: =AB93*C93 -> 560 | AG93: =AC93*C93 -> 980 | AI93: 7.5 | AJ93: =AI93*$AJ$4 -> 6.525 | AK93: =AI93*$AK$4 -> 14.325 | AL93: =AI93*$AL$4 -> 20.25 | AM93: =AI93*C93 -> 105 | AO93: 17.5 | AP93: =AO93*$AP$4 -> 19.95 | AQ93: =AO93*$AQ$4 -> 21.525 | AR93: =AO93*$AR$4 -> 47.075 | AS93: =AO93*$C93 -> 245 | AX93: =AW93*$AX$4 -> 0 | AY93: =AW93*$AY$4 -> 0 | AZ93: =AW93*$AZ$4 -> 0 | BA93: =AW93*$C93 -> 0 | BD93: =BC93*$BD$4 -> 0 | BE93: =BA93*$C93 -> 0 | BJ93: =BI93*$BJ$4 -> 0 | BK93: =BH93*$C93 -> 0 | BP93: =BO93*$BP$4 -> 0 | BQ93: =BO93*$BQ$4 -> 0 | BR93: =BO93*$C93 -> 0 | BW93: =BV93*$BW$4 -> 0 | BX93: =BV93*$C93 -> 0 | CC93: =CB93*$CC$4 -> 0 | CD93: =CB93*$C93 -> 0
A94: 89 | B94: Canal Banks | C94: 4.76 | D94: Avon | E94: pp | F94: pp | H94: =AA94-L94 -> 80 | I94: =AB94-M94 -> 20 | J94: =AC94-N94 -> 0 | L94: =(SUMIF($AJ$5:$CD$5,L$5,$AJ94:$CD94)) -> 0 | M94: =(SUMIF($AJ$5:$CD$5,M$5,$AJ94:$CD94)) -> 0 | N94: =(SUMIF($AJ$5:$CD$5,N$5,$AJ94:$CD94)) -> 0 | P94: =L94*$C94 -> 0 | Q94: =M94*$C94 -> 0 | R94: =N94*$C94 -> 0 | T94: 2 | W94: 2 | X94: 2 | AA94: 80 | AB94: 20 | AC94: 0 | AE94: =AA94*C94 -> 380.8 | AF94: =AB94*C94 -> 95.2 | AG94: =AC94*C94 -> 0 | AJ94: =AI94*$AJ$4 -> 0 | AK94: =AI94*$AK$4 -> 0 | AL94: =AI94*$AL$4 -> 0 | AM94: =AI94*C94 -> 0 | AP94: =AO94*$AP$4 -> 0 | AQ94: =AO94*$AQ$4 -> 0 | AR94: =AO94*$AR$4 -> 0 | AS94: =AO94*$C94 -> 0 | AX94: =AW94*$AX$4 -> 0 | AY94: =AW94*$AY$4 -> 0 | AZ94: =AW94*$AZ$4 -> 0 | BA94: =AW94*$C94 -> 0 | BD94: =BC94*$BD$4 -> 0 | BE94: =BA94*$C94 -> 0 | BJ94: =BI94*$BJ$4 -> 0 | BK94: =BH94*$C94 -> 0 | BP94: =BO94*$BP$4 -> 0 | BQ94: =BO94*$BQ$4 -> 0 | BR94: =BO94*$C94 -> 0 | BW94: =BV94*$BW$4 -> 0 | BX94: =BV94*$C94 -> 0 | CC94: =CB94*$CC$4 -> 0 | CD94: =CB94*$C94 -> 0
A95: 90 | B95: Mercers Mead | C95: 3.25 | D95: Avon | E95: pp | F95: pp | H95: =AA95-L95 -> 80 | I95: =AB95-M95 -> 20 | J95: =AC95-N95 -> 0 | L95: =(SUMIF($AJ$5:$CD$5,L$5,$AJ95:$CD95)) -> 0 | M95: =(SUMIF($AJ$5:$CD$5,M$5,$AJ95:$CD95)) -> 0 | N95: =(SUMIF($AJ$5:$CD$5,N$5,$AJ95:$CD95)) -> 0 | P95: =L95*$C95 -> 0 | Q95: =M95*$C95 -> 0 | R95: =N95*$C95 -> 0 | T95: 2 | W95: 2 | X95: 2 | AA95: 80 | AB95: 20 | AC95: 0 | AE95: =AA95*C95 -> 260 | AF95: =AB95*C95 -> 65 | AG95: =AC95*C95 -> 0 | AJ95: =AI95*$AJ$4 -> 0 | AK95: =AI95*$AK$4 -> 0 | AL95: =AI95*$AL$4 -> 0 | AM95: =AI95*C95 -> 0 | AP95: =AO95*$AP$4 -> 0 | AQ95: =AO95*$AQ$4 -> 0 | AR95: =AO95*$AR$4 -> 0 | AS95: =AO95*$C95 -> 0 | AX95: =AW95*$AX$4 -> 0 | AY95: =AW95*$AY$4 -> 0 | AZ95: =AW95*$AZ$4 -> 0 | BA95: =AW95*$C95 -> 0 | BD95: =BC95*$BD$4 -> 0 | BE95: =BA95*$C95 -> 0 | BJ95: =BI95*$BJ$4 -> 0 | BK95: =BH95*$C95 -> 0 | BP95: =BO95*$BP$4 -> 0 | BQ95: =BO95*$BQ$4 -> 0 | BR95: =BO95*$C95 -> 0 | BW95: =BV95*$BW$4 -> 0 | BX95: =BV95*$C95 -> 0 | CC95: =CB95*$CC$4 -> 0 | CD95: =CB95*$C95 -> 0
A96: 91 | B96: Sadlers | C96: 15 | D96: Avon | E96: pp | F96: pp | H96: =AA96-L96 -> 80 | I96: =AB96-M96 -> 20 | J96: =AC96-N96 -> 0 | L96: =(SUMIF($AJ$5:$CD$5,L$5,$AJ96:$CD96)) -> 0 | M96: =(SUMIF($AJ$5:$CD$5,M$5,$AJ96:$CD96)) -> 0 | N96: =(SUMIF($AJ$5:$CD$5,N$5,$AJ96:$CD96)) -> 0 | P96: =L96*$C96 -> 0 | Q96: =M96*$C96 -> 0 | R96: =N96*$C96 -> 0 | T96: 2 | W96: 2 | X96: 2 | AA96: 80 | AB96: 20 | AC96: 0 | AE96: =AA96*C96 -> 1200 | AF96: =AB96*C96 -> 300 | AG96: =AC96*C96 -> 0 | AJ96: =AI96*$AJ$4 -> 0 | AK96: =AI96*$AK$4 -> 0 | AL96: =AI96*$AL$4 -> 0 | AM96: =AI96*C96 -> 0 | AP96: =AO96*$AP$4 -> 0 | AQ96: =AO96*$AQ$4 -> 0 | AR96: =AO96*$AR$4 -> 0 | AS96: =AO96*$C96 -> 0 | AX96: =AW96*$AX$4 -> 0 | AY96: =AW96*$AY$4 -> 0 | AZ96: =AW96*$AZ$4 -> 0 | BA96: =AW96*$C96 -> 0 | BD96: =BC96*$BD$4 -> 0 | BE96: =BA96*$C96 -> 0 | BJ96: =BI96*$BJ$4 -> 0 | BK96: =BH96*$C96 -> 0 | BP96: =BO96*$BP$4 -> 0 | BQ96: =BO96*$BQ$4 -> 0 | BR96: =BO96*$C96 -> 0 | BW96: =BV96*$BW$4 -> 0 | BX96: =BV96*$C96 -> 0 | CC96: =CB96*$CC$4 -> 0 | CD96: =CB96*$C96 -> 0
A97: 92 | B97: Ash Trees | C97: 7 | D97: Avon | E97: pp | F97: pp | H97: =AA97-L97 -> 80 | I97: =AB97-M97 -> 20 | J97: =AC97-N97 -> 0 | L97: =(SUMIF($AJ$5:$CD$5,L$5,$AJ97:$CD97)) -> 0 | M97: =(SUMIF($AJ$5:$CD$5,M$5,$AJ97:$CD97)) -> 0 | N97: =(SUMIF($AJ$5:$CD$5,N$5,$AJ97:$CD97)) -> 0 | P97: =L97*$C97 -> 0 | Q97: =M97*$C97 -> 0 | R97: =N97*$C97 -> 0 | T97: 2 | W97: 2 | X97: 2 | Y97: 44896 | AA97: 80 | AB97: 20 | AC97: 0 | AE97: =AA97*C97 -> 560 | AF97: =AB97*C97 -> 140 | AG97: =AC97*C97 -> 0 | AJ97: =AI97*$AJ$4 -> 0 | AK97: =AI97*$AK$4 -> 0 | AL97: =AI97*$AL$4 -> 0 | AM97: =AI97*C97 -> 0 | AP97: =AO97*$AP$4 -> 0 | AQ97: =AO97*$AQ$4 -> 0 | AR97: =AO97*$AR$4 -> 0 | AS97: =AO97*$C97 -> 0 | AX97: =AW97*$AX$4 -> 0 | AY97: =AW97*$AY$4 -> 0 | AZ97: =AW97*$AZ$4 -> 0 | BA97: =AW97*$C97 -> 0 | BD97: =BC97*$BD$4 -> 0 | BE97: =BA97*$C97 -> 0 | BJ97: =BI97*$BJ$4 -> 0 | BK97: =BH97*$C97 -> 0 | BP97: =BO97*$BP$4 -> 0 | BQ97: =BO97*$BQ$4 -> 0 | BR97: =BO97*$C97 -> 0 | BW97: =BV97*$BW$4 -> 0 | BX97: =BV97*$C97 -> 0 | CC97: =CB97*$CC$4 -> 0 | CD97: =CB97*$C97 -> 0
A98: 93 | B98: Sanfoin | C98: 7 | D98: Avon | E98: pp | F98: pp | H98: =AA98-L98 -> 80 | I98: =AB98-M98 -> 20 | J98: =AC98-N98 -> 0 | L98: =(SUMIF($AJ$5:$CD$5,L$5,$AJ98:$CD98)) -> 0 | M98: =(SUMIF($AJ$5:$CD$5,M$5,$AJ98:$CD98)) -> 0 | N98: =(SUMIF($AJ$5:$CD$5,N$5,$AJ98:$CD98)) -> 0 | P98: =L98*$C98 -> 0 | Q98: =M98*$C98 -> 0 | R98: =N98*$C98 -> 0 | T98: 2 | W98: 2 | X98: 2 | Y98: 44896 | AA98: 80 | AB98: 20 | AC98: 0 | AE98: =AA98*C98 -> 560 | AF98: =AB98*C98 -> 140 | AG98: =AC98*C98 -> 0 | AJ98: =AI98*$AJ$4 -> 0 | AK98: =AI98*$AK$4 -> 0 | AL98: =AI98*$AL$4 -> 0 | AM98: =AI98*C98 -> 0 | AP98: =AO98*$AP$4 -> 0 | AQ98: =AO98*$AQ$4 -> 0 | AR98: =AO98*$AR$4 -> 0 | AS98: =AO98*$C98 -> 0 | AX98: =AW98*$AX$4 -> 0 | AY98: =AW98*$AY$4 -> 0 | AZ98: =AW98*$AZ$4 -> 0 | BA98: =AW98*$C98 -> 0 | BD98: =BC98*$BD$4 -> 0 | BE98: =BA98*$C98 -> 0 | BJ98: =BI98*$BJ$4 -> 0 | BK98: =BH98*$C98 -> 0 | BP98: =BO98*$BP$4 -> 0 | BQ98: =BO98*$BQ$4 -> 0 | BR98: =BO98*$C98 -> 0 | BW98: =BV98*$BW$4 -> 0 | BX98: =BV98*$C98 -> 0 | CC98: =CB98*$CC$4 -> 0 | CD98: =CB98*$C98 -> 0
A99: 94 | B99: Piggery | C99: 4.7 | D99: Avon | E99: pp | F99: pp | H99: =AA99-L99 -> 80 | I99: =AB99-M99 -> 20 | J99: =AC99-N99 -> 0 | L99: =(SUMIF($AJ$5:$CD$5,L$5,$AJ99:$CD99)) -> 0 | M99: =(SUMIF($AJ$5:$CD$5,M$5,$AJ99:$CD99)) -> 0 | N99: =(SUMIF($AJ$5:$CD$5,N$5,$AJ99:$CD99)) -> 0 | P99: =L99*$C99 -> 0 | Q99: =M99*$C99 -> 0 | R99: =N99*$C99 -> 0 | T99: 2 | W99: 2 | X99: 2 | Y99: 44958 | AA99: 80 | AB99: 20 | AC99: 0 | AE99: =AA99*C99 -> 376 | AF99: =AB99*C99 -> 94 | AG99: =AC99*C99 -> 0 | AJ99: =AI99*$AJ$4 -> 0 | AK99: =AI99*$AK$4 -> 0 | AL99: =AI99*$AL$4 -> 0 | AM99: =AI99*C99 -> 0 | AP99: =AO99*$AP$4 -> 0 | AQ99: =AO99*$AQ$4 -> 0 | AR99: =AO99*$AR$4 -> 0 | AS99: =AO99*$C99 -> 0 | AX99: =AW99*$AX$4 -> 0 | AY99: =AW99*$AY$4 -> 0 | AZ99: =AW99*$AZ$4 -> 0 | BA99: =AW99*$C99 -> 0 | BD99: =BC99*$BD$4 -> 0 | BE99: =BA99*$C99 -> 0 | BJ99: =BI99*$BJ$4 -> 0 | BK99: =BH99*$C99 -> 0 | BP99: =BO99*$BP$4 -> 0 | BQ99: =BO99*$BQ$4 -> 0 | BR99: =BO99*$C99 -> 0 | BW99: =BV99*$BW$4 -> 0 | BX99: =BV99*$C99 -> 0 | CC99: =CB99*$CC$4 -> 0 | CD99: =CB99*$C99 -> 0
A100: 95 | B100: Church | C100: 11.8 | D100: Avon | E100: pp | F100: pp | H100: =AA100-L100 -> 80 | I100: =AB100-M100 -> 20 | J100: =AC100-N100 -> 0 | L100: =(SUMIF($AJ$5:$CD$5,L$5,$AJ100:$CD100)) -> 0 | M100: =(SUMIF($AJ$5:$CD$5,M$5,$AJ100:$CD100)) -> 0 | N100: =(SUMIF($AJ$5:$CD$5,N$5,$AJ100:$CD100)) -> 0 | P100: =L100*$C100 -> 0 | Q100: =M100*$C100 -> 0 | R100: =N100*$C100 -> 0 | T100: 2 | W100: 2 | X100: 2 | Y100: 44896 | AA100: 80 | AB100: 20 | AC100: 0 | AE100: =AA100*C100 -> 944 | AF100: =AB100*C100 -> 236 | AG100: =AC100*C100 -> 0 | AJ100: =AI100*$AJ$4 -> 0 | AK100: =AI100*$AK$4 -> 0 | AL100: =AI100*$AL$4 -> 0 | AM100: =AI100*C100 -> 0 | AP100: =AO100*$AP$4 -> 0 | AQ100: =AO100*$AQ$4 -> 0 | AR100: =AO100*$AR$4 -> 0 | AS100: =AO100*$C100 -> 0 | AX100: =AW100*$AX$4 -> 0 | AY100: =AW100*$AY$4 -> 0 | AZ100: =AW100*$AZ$4 -> 0 | BA100: =AW100*$C100 -> 0 | BD100: =BC100*$BD$4 -> 0 | BE100: =BA100*$C100 -> 0 | BJ100: =BI100*$BJ$4 -> 0 | BK100: =BH100*$C100 -> 0 | BP100: =BO100*$BP$4 -> 0 | BQ100: =BO100*$BQ$4 -> 0 | BR100: =BO100*$C100 -> 0 | BW100: =BV100*$BW$4 -> 0 | BX100: =BV100*$C100 -> 0 | CC100: =CB100*$CC$4 -> 0 | CD100: =CB100*$C100 -> 0
A101: 96 | B101: Bromsdown | C101: 15 | D101: Avon | E101: pp | F101: pp | H101: =AA101-L101 -> 0 | I101: =AB101-M101 -> 20 | J101: =AC101-N101 -> 0 | L101: =(SUMIF($AJ$5:$CD$5,L$5,$AJ101:$CD101)) -> 0 | M101: =(SUMIF($AJ$5:$CD$5,M$5,$AJ101:$CD101)) -> 0 | N101: =(SUMIF($AJ$5:$CD$5,N$5,$AJ101:$CD101)) -> 0 | P101: =L101*$C101 -> 0 | Q101: =M101*$C101 -> 0 | R101: =N101*$C101 -> 0 | T101: 2 | W101: 2 | X101: 2 | AB101: 20 | AC101: 0 | AE101: =AA101*C101 -> 0 | AF101: =AB101*C101 -> 300 | AG101: =AC101*C101 -> 0 | AJ101: =AI101*$AJ$4 -> 0 | AK101: =AI101*$AK$4 -> 0 | AL101: =AI101*$AL$4 -> 0 | AM101: =AI101*C101 -> 0 | AP101: =AO101*$AP$4 -> 0 | AQ101: =AO101*$AQ$4 -> 0 | AR101: =AO101*$AR$4 -> 0 | AS101: =AO101*$C101 -> 0 | AX101: =AW101*$AX$4 -> 0 | AY101: =AW101*$AY$4 -> 0 | AZ101: =AW101*$AZ$4 -> 0 | BA101: =AW101*$C101 -> 0 | BD101: =BC101*$BD$4 -> 0 | BE101: =BA101*$C101 -> 0 | BJ101: =BI101*$BJ$4 -> 0 | BK101: =BH101*$C101 -> 0 | BP101: =BO101*$BP$4 -> 0 | BQ101: =BO101*$BQ$4 -> 0 | BR101: =BO101*$C101 -> 0 | BW101: =BV101*$BW$4 -> 0 | BX101: =BV101*$C101 -> 0 | CC101: =CB101*$CC$4 -> 0 | CD101: =CB101*$C101 -> 0
...
