Workbook

Sheet Summary
B2: Harvest Year | C2: ='Field by Field'!B2 -> 2026
F4: Soild Digestate | G4: Liquid Digestate | H4: FYM | J4: Maufactured N
B5: Production of Organic Manures | F5: 4800 | G5: 18750 | H5: 1500
B6: Requirement as planned | F6: ='Field by Field'!AM4 -> 4796.8267 | G6: ='Field by Field'!AS4 -> 18770.98 | H6: ='Field by Field'!BA4 -> 1502.34 | J6: ='Field by Field'!CD4 -> 0
B7: Balance | F7: =F5-F6 -> 3.1733144 | G7: =G5-G6 -> -20.98 | H7: =H5-H6 -> -2.34
B9: Crop Requirements Total | F9: Soild Digestate | G9: Liquid Digestate | H9: FYM | J9: Maufactured N | L9: Total Area | Q9: N | R9: P | S9: K
B10: Maize | C10: Mz | F10: =SUMIF('Field by Field'!$F$6:$F$130,Summary!C10,'Field by Field'!$AM$6:$AM$130) -> 4691.8267 | G10: =SUMIF('Field by Field'!$F$6:$F$130,Summary!C10,'Field by Field'!$AS$6:$AS$130) -> 1160.55 | H10: =SUMIF('Field by Field'!$F$6:$F$130,Summary!C10,'Field by Field'!$BA$6:$BA$130) -> 154.44 | J10: =SUMIF('Field by Field'!$F$6:$F$130,Summary!C10,'Field by Field'!$CD$6:$CD$130) -> 0 | L10: =SUMIF('Field by Field'!$F$6:$F$122,Summary!C10,'Field by Field'!$C$6:$C$122) -> 234.31289 | Q10: =SUMIF('Field by Field'!$F$6:$F$125,Summary!C10,'Field by Field'!$P$6:$P$125) -> 5497.5802 | R10: =SUMIF('Field by Field'!$F$6:$F$125,Summary!C10,'Field by Field'!$Q$6:$Q$125) -> 10883.073 | S10: =SUMIF('Field by Field'!$F$6:$F$125,Summary!C10,'Field by Field'!$R$6:$R$125) -> 17241.548
B11: Winter Wheat | C11: WW1 | F11: =SUMIF('Field by Field'!$F$6:$F$130,Summary!C11,'Field by Field'!$AM$6:$AM$130) -> 0 | G11: =SUMIF('Field by Field'!$F$6:$F$130,Summary!C11,'Field by Field'!$AS$6:$AS$130) -> 1680.6 | H11: =SUMIF('Field by Field'!$F$6:$F$130,Summary!C11,'Field by Field'!$BA$6:$BA$130) -> 0 | J11: =SUMIF('Field by Field'!$F$6:$F$130,Summary!C11,'Field by Field'!$CD$6:$CD$130) -> 0 | L11: =SUMIF('Field by Field'!$F$6:$F$122,Summary!C11,'Field by Field'!$C$6:$C$122) -> 270.52 | Q11: =SUMIF('Field by Field'!$F$6:$F$125,Summary!C11,'Field by Field'!$P$6:$P$125) -> 1915.884 | R11: =SUMIF('Field by Field'!$F$6:$F$125,Summary!C11,'Field by Field'!$Q$6:$Q$125) -> 2067.138 | S11: =SUMIF('Field by Field'!$F$6:$F$125,Summary!C11,'Field by Field'!$R$6:$R$125) -> 4520.814
B12: Spring Barley | C12: S Bar | F12: =SUMIF('Field by Field'!$F$6:$F$130,Summary!C12,'Field by Field'!$AM$6:$AM$130) -> 0 | G12: =SUMIF('Field by Field'!$F$6:$F$130,Summary!C12,'Field by Field'!$AS$6:$AS$130) -> 0 | H12: =SUMIF('Field by Field'!$F$6:$F$130,Summary!C12,'Field by Field'!$BA$6:$BA$130) -> 0 | J12: =SUMIF('Field by Field'!$F$6:$F$130,Summary!C12,'Field by Field'!$CD$6:$CD$130) -> 0 | L12: =SUMIF('Field by Field'!$F$6:$F$122,Summary!C12,'Field by Field'!$C$6:$C$122) -> 0 | Q12: =SUMIF('Field by Field'!$F$6:$F$125,Summary!C12,'Field by Field'!$P$6:$P$125) -> 0 | R12: =SUMIF('Field by Field'!$F$6:$F$125,Summary!C12,'Field by Field'!$Q$6:$Q$125) -> 0 | S12: =SUMIF('Field by Field'!$F$6:$F$125,Summary!C12,'Field by Field'!$R$6:$R$125) -> 0
B13: Grass | C13: Grass | F13: =SUMIF('Field by Field'!$F$6:$F$130,Summary!C13,'Field by Field'!$AM$6:$AM$130) -> 0 | G13: =SUMIF('Field by Field'!$F$6:$F$130,Summary!C13,'Field by Field'!$AS$6:$AS$130) -> 12668.23 | H13: =SUMIF('Field by Field'!$F$6:$F$130,Summary!C13,'Field by Field'!$BA$6:$BA$130) -> 0 | J13: =SUMIF('Field by Field'!$F$6:$F$130,Summary!C13,'Field by Field'!$CD$6:$CD$130) -> 0 | L13: =SUMIF('Field by Field'!$F$6:$F$122,Summary!C13,'Field by Field'!$C$6:$C$122) -> 202.99 | Q13: =SUMIF('Field by Field'!$F$6:$F$125,Summary!C13,'Field by Field'!$P$6:$P$125) -> 14441.782 | R13: =SUMIF('Field by Field'!$F$6:$F$125,Summary!C13,'Field by Field'!$Q$6:$Q$125) -> 15581.923 | S13: =SUMIF('Field by Field'!$F$6:$F$125,Summary!C13,'Field by Field'!$R$6:$R$125) -> 34077.539
B14: Rye | C14: Rye | F14: =SUMIF('Field by Field'!$F$6:$F$130,Summary!C14,'Field by Field'!$AM$6:$AM$130) -> 0 | G14: =SUMIF('Field by Field'!$F$6:$F$130,Summary!C14,'Field by Field'!$AS$6:$AS$130) -> 654 | H14: =SUMIF('Field by Field'!$F$6:$F$130,Summary!C14,'Field by Field'!$BA$6:$BA$130) -> 0 | J14: =SUMIF('Field by Field'!$F$6:$F$130,Summary!C14,'Field by Field'!$CD$6:$CD$130) -> 0 | L14: =SUMIF('Field by Field'!$F$6:$F$122,Summary!C14,'Field by Field'!$C$6:$C$122) -> 81.52 | Q14: =SUMIF('Field by Field'!$F$6:$F$125,Summary!C14,'Field by Field'!$P$6:$P$125) -> 745.56 | R14: =SUMIF('Field by Field'!$F$6:$F$125,Summary!C14,'Field by Field'!$Q$6:$Q$125) -> 804.42 | S14: =SUMIF('Field by Field'!$F$6:$F$125,Summary!C14,'Field by Field'!$R$6:$R$125) -> 1759.26
B15: Oats | C15: Oats | F15: =SUMIF('Field by Field'!$F$6:$F$130,Summary!C15,'Field by Field'!$AM$6:$AM$130) -> 0 | G15: =SUMIF('Field by Field'!$F$6:$F$130,Summary!C15,'Field by Field'!$AS$6:$AS$130) -> 0 | H15: =SUMIF('Field by Field'!$F$6:$F$130,Summary!C15,'Field by Field'!$BA$6:$BA$130) -> 0 | J15: =SUMIF('Field by Field'!$F$6:$F$130,Summary!C15,'Field by Field'!$CD$6:$CD$130) -> 0 | L15: =SUMIF('Field by Field'!$F$6:$F$122,Summary!C15,'Field by Field'!$C$6:$C$122) -> 0 | Q15: =SUMIF('Field by Field'!$F$6:$F$125,Summary!C15,'Field by Field'!$P$6:$P$125) -> 0 | R15: =SUMIF('Field by Field'!$F$6:$F$125,Summary!C15,'Field by Field'!$Q$6:$Q$125) -> 0 | S15: =SUMIF('Field by Field'!$F$6:$F$125,Summary!C15,'Field by Field'!$R$6:$R$125) -> 0
B16: Pernament Pasture | C16: PP | F16: =SUMIF('Field by Field'!$F$6:$F$130,Summary!C16,'Field by Field'!$AM$6:$AM$130) -> 105 | G16: =SUMIF('Field by Field'!$F$6:$F$130,Summary!C16,'Field by Field'!$AS$6:$AS$130) -> 2607.6 | H16: =SUMIF('Field by Field'!$F$6:$F$130,Summary!C16,'Field by Field'!$BA$6:$BA$130) -> 0 | J16: =SUMIF('Field by Field'!$F$6:$F$130,Summary!C16,'Field by Field'!$CD$6:$CD$130) -> 0 | L16: =SUMIF('Field by Field'!$F$6:$F$122,Summary!C16,'Field by Field'!$C$6:$C$122) -> 247.05 | Q16: =SUMIF('Field by Field'!$F$6:$F$125,Summary!C16,'Field by Field'!$P$6:$P$125) -> 3064.014 | R16: =SUMIF('Field by Field'!$F$6:$F$125,Summary!C16,'Field by Field'!$Q$6:$Q$125) -> 3407.898 | S16: =SUMIF('Field by Field'!$F$6:$F$125,Summary!C16,'Field by Field'!$R$6:$R$125) -> 7297.944
B17: Lucerne | C17: Lucerne | F17: =SUMIF('Field by Field'!$F$6:$F$130,Summary!C17,'Field by Field'!$AM$6:$AM$130) -> 0 | G17: =SUMIF('Field by Field'!$F$6:$F$130,Summary!C17,'Field by Field'!$AS$6:$AS$130) -> 0 | H17: =SUMIF('Field by Field'!$F$6:$F$130,Summary!C17,'Field by Field'!$BA$6:$BA$130) -> 1347.9 | J17: =SUMIF('Field by Field'!$F$6:$F$130,Summary!C17,'Field by Field'!$CD$6:$CD$130) -> 0 | L17: =SUMIF('Field by Field'!$F$6:$F$122,Summary!C17,'Field by Field'!$C$6:$C$122) -> 60.18 | Q17: =SUMIF('Field by Field'!$F$6:$F$125,Summary!C17,'Field by Field'!$P$6:$P$125) -> 808.74 | R17: =SUMIF('Field by Field'!$F$6:$F$125,Summary!C17,'Field by Field'!$Q$6:$Q$125) -> 4313.28 | S17: =SUMIF('Field by Field'!$F$6:$F$125,Summary!C17,'Field by Field'!$R$6:$R$125) -> 12670.26
B18: Down | C18: Down | F18: =SUMIF('Field by Field'!$F$6:$F$130,Summary!C18,'Field by Field'!$AM$6:$AM$130) -> 0 | G18: =SUMIF('Field by Field'!$F$6:$F$130,Summary!C18,'Field by Field'!$AS$6:$AS$130) -> 0 | H18: =SUMIF('Field by Field'!$F$6:$F$130,Summary!C18,'Field by Field'!$BA$6:$BA$130) -> 0 | J18: =SUMIF('[1]Field by Field'!$F$6:$F$130,[1]Summary!C18,'[1]Field by Field'!$CH$6:$CH$130) -> 0 | L18: =SUMIF('Field by Field'!$F$6:$F$122,Summary!C18,'Field by Field'!$C$6:$C$122) -> 145.69 | Q18: =SUMIF('Field by Field'!$F$6:$F$125,Summary!C18,'Field by Field'!$P$6:$P$125) -> 0 | R18: =SUMIF('Field by Field'!$F$6:$F$125,Summary!C18,'Field by Field'!$Q$6:$Q$125) -> 0 | S18: =SUMIF('Field by Field'!$F$6:$F$125,Summary!C18,'Field by Field'!$R$6:$R$125) -> 0
B19: Winter Bird Cover | C19: WBC | F19: =SUMIF('Field by Field'!$F$6:$F$130,Summary!C19,'Field by Field'!$AM$6:$AM$130) -> 0 | G19: =SUMIF('Field by Field'!$F$6:$F$130,Summary!C19,'Field by Field'!$AS$6:$AS$130) -> 0 | H19: =SUMIF('Field by Field'!$F$6:$F$130,Summary!C19,'Field by Field'!$BA$6:$BA$130) -> 0 | J19: =SUMIF('[1]Field by Field'!$F$6:$F$130,[1]Summary!C19,'[1]Field by Field'!$CH$6:$CH$130) -> 0 | L19: =SUMIF('Field by Field'!$F$6:$F$122,Summary!C19,'Field by Field'!$C$6:$C$122) -> 7.83 | Q19: =SUMIF('Field by Field'!$F$6:$F$125,Summary!C19,'Field by Field'!$P$6:$P$125) -> 0 | R19: =SUMIF('Field by Field'!$F$6:$F$125,Summary!C19,'Field by Field'!$Q$6:$Q$125) -> 0 | S19: =SUMIF('Field by Field'!$F$6:$F$125,Summary!C19,'Field by Field'!$R$6:$R$125) -> 0
L20: =SUM(L10:L19) -> 1250.0929 | N20: Check | O20: =L20-(SUM('Field by Field'!C6:C125)) -> 0 | Q20: =SUM(Q10:Q19) -> 26473.56 | R20: =SUM(R10:R19) -> 37057.732 | S20: =SUM(S10:S19) -> 77567.364
B21: Nutrient Applied by catchment | F21: N | G21: P | H21: K
B22: Kennett | F22: =SUMIF('Field by Field'!$D$6:$D$130,Summary!$B$22,'Field by Field'!P6:P130) -> 10639.593 | G22: =SUMIF('Field by Field'!$D$6:$D$130,Summary!$B$22,'Field by Field'!Q6:Q130) -> 12908.467 | H22: =SUMIF('Field by Field'!$D$6:$D$130,Summary!$B$22,'Field by Field'!R6:R130) -> 27601.547 | Q22: =Q20-F24 -> 0 | R22: =R20-G24 -> 0 | S22: =S20-H24 -> 0
B23: Avon | F23: =SUMIF('Field by Field'!$D$6:$D$130,Summary!$B$23,'Field by Field'!P6:P130) -> 15833.967 | G23: =SUMIF('Field by Field'!$D$6:$D$130,Summary!$B$23,'Field by Field'!Q6:Q130) -> 24149.266 | H23: =SUMIF('Field by Field'!$D$6:$D$130,Summary!$B$23,'Field by Field'!R6:R130) -> 49965.817
B24: Total | F24: =SUM(F22:F23) -> 26473.56 | G24: =SUM(G22:G23) -> 37057.732 | H24: =SUM(H22:H23) -> 77567.364 | R24: =R20/1.23 -> 30128.238
B26: Crop Need by Catchment | F26: N | G26: P | H26: K
B27: Kennett | F27: =SUMIF('Field by Field'!$D$6:$D$130,Summary!$B$27,'Field by Field'!AE6:AE130) -> 42787.9 | G27: =SUMIF('Field by Field'!$D$6:$D$130,Summary!$B$27,'Field by Field'!AF6:AF130) -> 13229.65 | H27: =SUMIF('Field by Field'!$D$6:$D$130,Summary!$B$27,'Field by Field'!AG6:AG130) -> 33860.55
B28: Avon | F28: =SUMIF('Field by Field'!$D$6:$D$130,Summary!$B$28,'Field by Field'!AE6:AE130) -> 129143.09 | G28: =SUMIF('Field by Field'!$D$6:$D$130,Summary!$B$28,'Field by Field'!AF6:AF130) -> 30889.109 | H28: =SUMIF('Field by Field'!$D$6:$D$130,Summary!$B$28,'Field by Field'!AG6:AG130) -> 81050.942
B29: Total | F29: =SUM(F27:F28) -> 171930.99 | G29: =SUM(G27:G28) -> 44118.759 | H29: =SUM(H27:H28) -> 114911.49
B31: Deficit | F31: N | G31: P | H31: K
B32: Kennett | F32: =F27-F22 -> 32148.307 | G32: =G27-G22 -> 321.1835 | H32: =H27-H22 -> 6259.0025
B33: Avon | F33: =F28-F23 -> 113309.12 | G33: =G28-G23 -> 6739.8431 | H33: =H28-H23 -> 31085.126
B34: Total | F34: =SUM(F32:F33) -> 145457.43 | G34: =SUM(G32:G33) -> 7061.0266 | H34: =SUM(H32:H33) -> 37344.128
B36: Nutrient Applied by catchment - 2025 | F36: N | G36: P | H36: K
B37: Kennett | F37: 2001.384 | G37: 4074.375 | H37: 4722.564
B38: Avon | F38: 12934.152 | G38: 24210.168 | H38: 34107.612
B39: Total | F39: 14935.536 | G39: 28284.543 | H39: 38830.176
B42: Deficit based on 2025 manure applications | F42: N | G42: P | H42: K
B43: Kennett | F43: =F27-F37 -> 40786.516 | G43: =G27-G37 -> 9155.275 | H43: =H27-H37 -> 29137.986
B44: Avon | F44: =F28-F38 -> 116208.94 | G44: =G28-G38 -> 6678.9409 | H44: =H28-H38 -> 46943.33
B45: Total | F45: =F43+F44 -> 156995.45 | G45: =G43+G44 -> 15834.216 | H45: =H43+H44 -> 76081.316

Sheet Field by Field
B2: 2026 | H2: Balance to Allocate (Kg/ha Nutrient) | L2: Application / ha | P2: Total Field Application | T2: SNS | W2: Soil Indicies | AA2: Crop Requirements per ha | AE2: Crop Requirements total field | AI2: Organic Manure Application | BC2: Base Fert Application | BO2: Axan 24% N + 15% S | BV2: Urea N46% | CB2: Manufactured N
AI3: Solid Digestate (kg/t) | AM3: =Summary!F5 -> 4800 | AN3: production | AO3: Liquid Digestate (kg/m3) | AS3: =Summary!G5 -> 18750 | AV3: production | AW3: FYM (kg/t) | BA3: =Summary!H5 -> 1500 | BB3: production | BC3: TSP | BI3: MOP | BL3: £/t | BM3: Total | BO3: Axan 24% N + 15% S | BS3: £/t | BT3: Total | BV3: Urea N46% | BY3: £/t | BZ3: Total | CB3: Nitrogen | CE3: £/t | CF3: Total
AI4: Value | AJ4: 0.87 | AK4: 1.91 | AL4: 2.7 | AM4: =(SUM(AM6:AM130)) -> 4796.8267 | AN4: requirement | AO4: Value | AP4: 1.14 | AQ4: 1.23 | AR4: 2.69 | AS4: =(SUM(AS6:AS130)) -> 18770.98 | AU4: =AS4*AT4 -> 0 | AV4: requirement | AW4: Value | AX4: 0.6 | AY4: 3.2 | AZ4: 9.4 | BA4: =(SUM(BA6:BA130)) -> 1502.34 | BB4: requirement | BD4: 0.46 | BE4: =(SUM(BE6:BE130))/1000 -> 47.295443 | BG4: =BE4*BF4 -> 0 | BJ4: 0.6 | BK4: =(SUM(BK6:BK130))/1000 -> 0 | BM4: =BK4*BL4 -> 0 | BP4: 0.24 | BQ4: 0.15 | BR4: =(SUM(BR6:BR130))/1000 -> 0 | BT4: =BR4*BS4 -> 0 | BW4: 0.46 | BX4: =(SUM(BX6:BX130))/1000 -> 0 | BZ4: =BX4*BY4 -> 0 | CC4: 1 | CD4: =(SUM(CD6:CD130))/1000 -> 0 | CF4: =CD4*CE4 -> 0
A5: original line | B5: Field | C5: Area | D5: Catchment | E5: Crop 2025 | F5: Crop 2026 | H5: N | I5: P | J5: K | L5: N | M5: P | N5: K | P5: N | Q5: P | R5: K | T5: N | V5: OM % | W5: P | X5: K | Y5: Date | AA5: N | AB5: P | AC5: K | AE5: N | AF5: P | AG5: K | AI5: Rate / ha Apply | AJ5: N | AK5: P | AL5: K | AM5: Total Product | AO5: Rate / ha Apply | AP5: N | AQ5: P | AR5: K | AS5: Total Product | AT5: £/ha | AU5: £ | AW5: Rate / ha Apply | AX5: N | AY5: P | AZ5: K | BA5: Total Product | BC5: Product | BD5: P | BE5: Total Product | BF5: £/ha | BG5: £ | BI5: Product | BJ5: K | BK5: Total Product | BL5: £/ha | BO5: Product | BP5: N | BQ5: S | BR5: Total Product | BS5: £/ha | BT5: £ | BV5: Product | BW5: N | BX5: Total Product | BY5: £/ha | BZ5: £ | CB5: Product | CC5: N | CD5: Total Product | CE5: £/ha | CF5: £
A6: 1 | B6: 55 Acres | C6: 21.62 | D6: Avon | E6: WW1 | F6: Mz | H6: =AA6-L6 -> 73.9 | I6: =AB6-M6 -> -2.3 | J6: =AC6-N6 -> 79 | L6: =(SUMIF($AJ$5:$CD$5,L$5,$AJ6:$CD6)) -> 26.1 | M6: =(SUMIF($AJ$5:$CD$5,M$5,$AJ6:$CD6)) -> 57.3 | N6: =(SUMIF($AJ$5:$CD$5,N$5,$AJ6:$CD6)) -> 81 | P6: =L6*$C6 -> 564.282 | Q6: =M6*$C6 -> 1238.826 | R6: =N6*$C6 -> 1751.22 | T6: 1 | W6: 2- | X6: 2 | Y6: 44896 | AA6: 100 | AB6: 55 | AC6: 160 | AE6: =AA6*C6 -> 2162 | AF6: =AB6*C6 -> 1189.1 | AG6: =AC6*C6 -> 3459.2 | AI6: 30 | AJ6: =AI6*$AJ$4 -> 26.1 | AK6: =AI6*$AK$4 -> 57.3 | AL6: =AI6*$AL$4 -> 81 | AM6: =AI6*C6 -> 648.6 | AP6: =AO6*$AP$4 -> 0 | AQ6: =AO6*$AQ$4 -> 0 | AR6: =AO6*$AR$4 -> 0 | AS6: =AO6*$C6 -> 0 | AX6: =AW6*$AX$4 -> 0 | AY6: =AW6*$AY$4 -> 0 | AZ6: =AW6*$AZ$4 -> 0 | BA6: =AW6*$C6 -> 0 | BD6: =BC6*$BD$4 -> 0 | BE6: =BA6*$C6 -> 0 | BJ6: =BI6*$BJ$4 -> 0 | BK6: =BH6*$C6 -> 0 | BP6: =BO6*$BP$4 -> 0 | BQ6: =BO6*$BQ$4 -> 0 | BR6: =BO6*$C6 -> 0 | BW6: =BV6*$BW$4 -> 0 | BX6: =BV6*$C6 -> 0 | CC6: =CB6*$CC$4 -> 0 | CD6: =CB6*$C6 -> 0
A7: 2 | B7: 70 Acres | C7: 27.44 | D7: Avon | E7: WW1 | F7: Mz | H7: =AA7-L7 -> 73.9 | I7: =AB7-M7 -> -2.3 | J7: =AC7-N7 -> 64 | L7: =(SUMIF($AJ$5:$CD$5,L$5,$AJ7:$CD7)) -> 26.1 | M7: =(SUMIF($AJ$5:$CD$5,M$5,$AJ7:$CD7)) -> 57.3 | N7: =(SUMIF($AJ$5:$CD$5,N$5,$AJ7:$CD7)) -> 81 | P7: =L7*$C7 -> 716.184 | Q7: =M7*$C7 -> 1572.312 | R7: =N7*$C7 -> 2222.64 | T7: 1 | W7: 2- | X7: 2+ | Y7: 44896 | AA7: 100 | AB7: 55 | AC7: 145 | AE7: =AA7*C7 -> 2744 | AF7: =AB7*C7 -> 1509.2 | AG7: =AC7*C7 -> 3978.8 | AI7: 30 | AJ7: =AI7*$AJ$4 -> 26.1 | AK7: =AI7*$AK$4 -> 57.3 | AL7: =AI7*$AL$4 -> 81 | AM7: =AI7*C7 -> 823.2 | AP7: =AO7*$AP$4 -> 0 | AQ7: =AO7*$AQ$4 -> 0 | AR7: =AO7*$AR$4 -> 0 | AS7: =AO7*$C7 -> 0 | AX7: =AW7*$AX$4 -> 0 | AY7: =AW7*$AY$4 -> 0 | AZ7: =AW7*$AZ$4 -> 0 | BA7: =AW7*$C7 -> 0 | BD7: =BC7*$BD$4 -> 0 | BE7: =BA7*$C7 -> 0 | BJ7: =BI7*$BJ$4 -> 0 | BK7: =BH7*$C7 -> 0 | BP7: =BO7*$BP$4 -> 0 | BQ7: =BO7*$BQ$4 -> 0 | BR7: =BO7*$C7 -> 0 | BW7: =BV7*$BW$4 -> 0 | BX7: =BV7*$C7 -> 0 | CC7: =CB7*$CC$4 -> 0 | CD7: =CB7*$C7 -> 0
A8: 3 | B8: Barn Field W | C8: 15 | D8: Avon | E8: Grass | F8: Grass | H8: =AA8-L8 -> 227.92 | I8: =AB8-M8 -> 1.44 | J8: =AC8-N8 -> -83.68 | L8: =(SUMIF($AJ$5:$CD$5,L$5,$AJ8:$CD8)) -> 82.08 | M8: =(SUMIF($AJ$5:$CD$5,M$5,$AJ8:$CD8)) -> 88.56 | N8: =(SUMIF($AJ$5:$CD$5,N$5,$AJ8:$CD8)) -> 193.68 | P8: =L8*$C8 -> 1231.2 | Q8: =M8*$C8 -> 1328.4 | R8: =N8*$C8 -> 2905.2 | T8: 2 | W8: 2- | X8: 3- | Y8: 44958 | AA8: 310 | AB8: 90 | AC8: 110 | AE8: =AA8*C8 -> 4650 | AF8: =AB8*C8 -> 1350 | AG8: =AC8*C8 -> 1650 | AJ8: =AI8*$AJ$4 -> 0 | AK8: =AI8*$AK$4 -> 0 | AL8: =AI8*$AL$4 -> 0 | AM8: =AI8*C8 -> 0 | AO8: 72 | AP8: =AO8*$AP$4 -> 82.08 | AQ8: =AO8*$AQ$4 -> 88.56 | AR8: =AO8*$AR$4 -> 193.68 | AS8: =AO8*$C8 -> 1080 | AX8: =AW8*$AX$4 -> 0 | AY8: =AW8*$AY$4 -> 0 | AZ8: =AW8*$AZ$4 -> 0 | BA8: =AW8*$C8 -> 0 | BD8: =BC8*$BD$4 -> 0 | BE8: =BA8*$C8 -> 0 | BJ8: =BI8*$BJ$4 -> 0 | BK8: =BH8*$C8 -> 0 | BP8: =BO8*$BP$4 -> 0 | BQ8: =BO8*$BQ$4 -> 0 | BR8: =BO8*$C8 -> 0 | BW8: =BV8*$BW$4 -> 0 | BX8: =BV8*$C8 -> 0 | CC8: =CB8*$CC$4 -> 0 | CD8: =CB8*$C8 -> 0
A9: 4 | B9: Barn Field E | C9: 33.84 | D9: Avon | E9: WW1 | F9: Rye | H9: =AA9-L9 -> 90 | I9: =AB9-M9 -> 0 | J9: =AC9-N9 -> 0 | L9: =(SUMIF($AJ$5:$CD$5,L$5,$AJ9:$CD9)) -> 0 | M9: =(SUMIF($AJ$5:$CD$5,M$5,$AJ9:$CD9)) -> 0 | N9: =(SUMIF($AJ$5:$CD$5,N$5,$AJ9:$CD9)) -> 0 | P9: =L9*$C9 -> 0 | Q9: =M9*$C9 -> 0 | R9: =N9*$C9 -> 0 | T9: 1 | W9: 5 | X9: 3 | Y9: 44958 | AA9: 90 | AB9: 0 | AC9: 0 | AE9: =AA9*C9 -> 3045.6 | AF9: =AB9*C9 -> 0 | AG9: =AC9*C9 -> 0 | AJ9: =AI9*$AJ$4 -> 0 | AK9: =AI9*$AK$4 -> 0 | AL9: =AI9*$AL$4 -> 0 | AM9: =AI9*C9 -> 0 | AP9: =AO9*$AP$4 -> 0 | AQ9: =AO9*$AQ$4 -> 0 | AR9: =AO9*$AR$4 -> 0 | AS9: =AO9*$C9 -> 0 | AX9: =AW9*$AX$4 -> 0 | AY9: =AW9*$AY$4 -> 0 | AZ9: =AW9*$AZ$4 -> 0 | BA9: =AW9*$C9 -> 0 | BD9: =BC9*$BD$4 -> 0 | BE9: =BA9*$C9 -> 0 | BJ9: =BI9*$BJ$4 -> 0 | BK9: =BH9*$C9 -> 0 | BP9: =BO9*$BP$4 -> 0 | BQ9: =BO9*$BQ$4 -> 0 | BR9: =BO9*$C9 -> 0 | BW9: =BV9*$BW$4 -> 0 | BX9: =BV9*$C9 -> 0 | CC9: =CB9*$CC$4 -> 0 | CD9: =CB9*$C9 -> 0
A10: 5 | B10: Beeches | C10: 6.42 | D10: Avon | E10: Mz | F10: WW1 | H10: =AA10-L10 -> 168.7 | I10: =AB10-M10 -> -0.35 | J10: =AC10-N10 -> -51.05 | L10: =(SUMIF($AJ$5:$CD$5,L$5,$AJ10:$CD10)) -> 51.3 | M10: =(SUMIF($AJ$5:$CD$5,M$5,$AJ10:$CD10)) -> 55.35 | N10: =(SUMIF($AJ$5:$CD$5,N$5,$AJ10:$CD10)) -> 121.05 | P10: =L10*$C10 -> 329.346 | Q10: =M10*$C10 -> 355.347 | R10: =N10*$C10 -> 777.141 | T10: 1 | W10: 2+ | X10: 2 | Y10: 44896 | AA10: 220 | AB10: 55 | AC10: 70 | AE10: =AA10*C10 -> 1412.4 | AF10: =AB10*C10 -> 353.1 | AG10: =AC10*C10 -> 449.4 | AJ10: =AI10*$AJ$4 -> 0 | AK10: =AI10*$AK$4 -> 0 | AL10: =AI10*$AL$4 -> 0 | AM10: =AI10*C10 -> 0 | AO10: 45 | AP10: =AO10*$AP$4 -> 51.3 | AQ10: =AO10*$AQ$4 -> 55.35 | AR10: =AO10*$AR$4 -> 121.05 | AS10: =AO10*$C10 -> 288.9 | AX10: =AW10*$AX$4 -> 0 | AY10: =AW10*$AY$4 -> 0 | AZ10: =AW10*$AZ$4 -> 0 | BA10: =AW10*$C10 -> 0 | BD10: =BC10*$BD$4 -> 0 | BE10: =BA10*$C10 -> 0 | BJ10: =BI10*$BJ$4 -> 0 | BK10: =BH10*$C10 -> 0 | BP10: =BO10*$BP$4 -> 0 | BQ10: =BO10*$BQ$4 -> 0 | BR10: =BO10*$C10 -> 0 | BW10: =BV10*$BW$4 -> 0 | BX10: =BV10*$C10 -> 0 | CC10: =CB10*$CC$4 -> 0 | CD10: =CB10*$C10 -> 0
A11: 6 | B11: Black Barn | C11: 4.27 | D11: Avon | E11: WBC | F11: WBC | H11: =AA11-L11 -> 0 | I11: =AB11-M11 -> 0 | J11: =AC11-N11 -> 0 | L11: =(SUMIF($AJ$5:$CD$5,L$5,$AJ11:$CD11)) -> 0 | M11: =(SUMIF($AJ$5:$CD$5,M$5,$AJ11:$CD11)) -> 0 | N11: =(SUMIF($AJ$5:$CD$5,N$5,$AJ11:$CD11)) -> 0 | P11: =L11*$C11 -> 0 | Q11: =M11*$C11 -> 0 | R11: =N11*$C11 -> 0 | W11: 4 | X11: 3- | Y11: 44866 | AE11: =AA11*C11 -> 0 | AF11: =AB11*C11 -> 0 | AG11: =AC11*C11 -> 0 | AJ11: =AI11*$AJ$4 -> 0 | AK11: =AI11*$AK$4 -> 0 | AL11: =AI11*$AL$4 -> 0 | AM11: =AI11*C11 -> 0 | AP11: =AO11*$AP$4 -> 0 | AQ11: =AO11*$AQ$4 -> 0 | AR11: =AO11*$AR$4 -> 0 | AS11: =AO11*$C11 -> 0 | AX11: =AW11*$AX$4 -> 0 | AY11: =AW11*$AY$4 -> 0 | AZ11: =AW11*$AZ$4 -> 0 | BA11: =AW11*$C11 -> 0 | BD11: =BC11*$BD$4 -> 0 | BE11: =BA11*$C11 -> 0 | BJ11: =BI11*$BJ$4 -> 0 | BK11: =BH11*$C11 -> 0 | BP11: =BO11*$BP$4 -> 0 | BQ11: =BO11*$BQ$4 -> 0 | BR11: =BO11*$C11 -> 0 | BW11: =BV11*$BW$4 -> 0 | BX11: =BV11*$C11 -> 0 | CC11: =CB11*$CC$4 -> 0 | CD11: =CB11*$C11 -> 0
A12: 7 | B12: Butts | C12: 5.1 | D12: Avon | E12: Grass | F12: Grass | H12: =AA12-L12 -> 292.9 | I12: =AB12-M12 -> 1.55 | J12: =AC12-N12 -> 69.65 | L12: =(SUMIF($AJ$5:$CD$5,L$5,$AJ12:$CD12)) -> 17.1 | M12: =(SUMIF($AJ$5:$CD$5,M$5,$AJ12:$CD12)) -> 18.45 | N12: =(SUMIF($AJ$5:$CD$5,N$5,$AJ12:$CD12)) -> 40.35 | P12: =L12*$C12 -> 87.21 | Q12: =M12*$C12 -> 94.095 | R12: =N12*$C12 -> 205.785 | T12: 2 | W12: 3- | X12: 3 | Y12: 44866 | AA12: 310 | AB12: 20 | AC12: 110 | AE12: =AA12*C12 -> 1581 | AF12: =AB12*C12 -> 102 | AG12: =AC12*C12 -> 561 | AJ12: =AI12*$AJ$4 -> 0 | AK12: =AI12*$AK$4 -> 0 | AL12: =AI12*$AL$4 -> 0 | AM12: =AI12*C12 -> 0 | AO12: 15 | AP12: =AO12*$AP$4 -> 17.1 | AQ12: =AO12*$AQ$4 -> 18.45 | AR12: =AO12*$AR$4 -> 40.35 | AS12: =AO12*$C12 -> 76.5 | AX12: =AW12*$AX$4 -> 0 | AY12: =AW12*$AY$4 -> 0 | AZ12: =AW12*$AZ$4 -> 0 | BA12: =AW12*$C12 -> 0 | BD12: =BC12*$BD$4 -> 0 | BE12: =BA12*$C12 -> 0 | BJ12: =BI12*$BJ$4 -> 0 | BK12: =BH12*$C12 -> 0 | BP12: =BO12*$BP$4 -> 0 | BQ12: =BO12*$BQ$4 -> 0 | BR12: =BO12*$C12 -> 0 | BW12: =BV12*$BW$4 -> 0 | BX12: =BV12*$C12 -> 0 | CC12: =CB12*$CC$4 -> 0 | CD12: =CB12*$C12 -> 0
A13: 8 | B13: Castle Barn | C13: 6.43 | D13: Avon | E13: Grass | F13: Mz | H13: =AA13-L13 -> 100 | I13: =AB13-M13 -> 0 | J13: =AC13-N13 -> 110 | L13: =(SUMIF($AJ$5:$CD$5,L$5,$AJ13:$CD13)) -> 0 | M13: =(SUMIF($AJ$5:$CD$5,M$5,$AJ13:$CD13)) -> 0 | N13: =(SUMIF($AJ$5:$CD$5,N$5,$AJ13:$CD13)) -> 0 | P13: =L13*$C13 -> 0 | Q13: =M13*$C13 -> 0 | R13: =N13*$C13 -> 0 | T13: 1 | W13: 4 | X13: 3- | Y13: 44958 | AA13: 100 | AB13: 0 | AC13: 110 | AE13: =AA13*C13 -> 643 | AF13: =AB13*C13 -> 0 | AG13: =AC13*C13 -> 707.3 | AJ13: =AI13*$AJ$4 -> 0 | AK13: =AI13*$AK$4 -> 0 | AL13: =AI13*$AL$4 -> 0 | AM13: =AI13*C13 -> 0 | AP13: =AO13*$AP$4 -> 0 | AQ13: =AO13*$AQ$4 -> 0 | AR13: =AO13*$AR$4 -> 0 | AS13: =AO13*$C13 -> 0 | AX13: =AW13*$AX$4 -> 0 | AY13: =AW13*$AY$4 -> 0 | AZ13: =AW13*$AZ$4 -> 0 | BA13: =AW13*$C13 -> 0 | BD13: =BC13*$BD$4 -> 0 | BE13: =BA13*$C13 -> 0 | BJ13: =BI13*$BJ$4 -> 0 | BK13: =BH13*$C13 -> 0 | BP13: =BO13*$BP$4 -> 0 | BQ13: =BO13*$BQ$4 -> 0 | BR13: =BO13*$C13 -> 0 | BW13: =BV13*$BW$4 -> 0 | BX13: =BV13*$C13 -> 0 | CC13: =CB13*$CC$4 -> 0 | CD13: =CB13*$C13 -> 0
A14: 9 | B14: China Copse | C14: 7.77 | D14: Avon | E14: Grass | F14: Grass | H14: =AA14-L14 -> 292.9 | I14: =AB14-M14 -> 1.55 | J14: =AC14-N14 -> 69.65 | L14: =(SUMIF($AJ$5:$CD$5,L$5,$AJ14:$CD14)) -> 17.1 | M14: =(SUMIF($AJ$5:$CD$5,M$5,$AJ14:$CD14)) -> 18.45 | N14: =(SUMIF($AJ$5:$CD$5,N$5,$AJ14:$CD14)) -> 40.35 | P14: =L14*$C14 -> 132.867 | Q14: =M14*$C14 -> 143.3565 | R14: =N14*$C14 -> 313.5195 | T14: 2 | W14: 3+ | X14: 3 | Y14: 44896 | AA14: 310 | AB14: 20 | AC14: 110 | AE14: =AA14*C14 -> 2408.7 | AF14: =AB14*C14 -> 155.4 | AG14: =AC14*C14 -> 854.7 | AJ14: =AI14*$AJ$4 -> 0 | AK14: =AI14*$AK$4 -> 0 | AL14: =AI14*$AL$4 -> 0 | AM14: =AI14*C14 -> 0 | AO14: 15 | AP14: =AO14*$AP$4 -> 17.1 | AQ14: =AO14*$AQ$4 -> 18.45 | AR14: =AO14*$AR$4 -> 40.35 | AS14: =AO14*$C14 -> 116.55 | AX14: =AW14*$AX$4 -> 0 | AY14: =AW14*$AY$4 -> 0 | AZ14: =AW14*$AZ$4 -> 0 | BA14: =AW14*$C14 -> 0 | BD14: =BC14*$BD$4 -> 0 | BE14: =BA14*$C14 -> 0 | BJ14: =BI14*$BJ$4 -> 0 | BK14: =BH14*$C14 -> 0 | BP14: =BO14*$BP$4 -> 0 | BQ14: =BO14*$BQ$4 -> 0 | BR14: =BO14*$C14 -> 0 | BW14: =BV14*$BW$4 -> 0 | BX14: =BV14*$C14 -> 0 | CC14: =CB14*$CC$4 -> 0 | CD14: =CB14*$C14 -> 0
A15: 10 | B15: Cold Blow Field | C15: 13.71 | D15: Avon | E15: Grass | F15: Grass | H15: =AA15-L15 -> 207.4 | I15: =AB15-M15 -> 9.3 | J15: =AC15-N15 -> 77.9 | L15: =(SUMIF($AJ$5:$CD$5,L$5,$AJ15:$CD15)) -> 102.6 | M15: =(SUMIF($AJ$5:$CD$5,M$5,$AJ15:$CD15)) -> 110.7 | N15: =(SUMIF($AJ$5:$CD$5,N$5,$AJ15:$CD15)) -> 242.1 | P15: =L15*$C15 -> 1406.646 | Q15: =M15*$C15 -> 1517.697 | R15: =N15*$C15 -> 3319.191 | T15: 2 | W15: 1- | X15: 2- | Y15: 44958 | AA15: 310 | AB15: 120 | AC15: 320 | AE15: =AA15*C15 -> 4250.1 | AF15: =AB15*C15 -> 1645.2 | AG15: =AC15*C15 -> 4387.2 | AJ15: =AI15*$AJ$4 -> 0 | AK15: =AI15*$AK$4 -> 0 | AL15: =AI15*$AL$4 -> 0 | AM15: =AI15*C15 -> 0 | AO15: 90 | AP15: =AO15*$AP$4 -> 102.6 | AQ15: =AO15*$AQ$4 -> 110.7 | AR15: =AO15*$AR$4 -> 242.1 | AS15: =AO15*$C15 -> 1233.9 | AX15: =AW15*$AX$4 -> 0 | AY15: =AW15*$AY$4 -> 0 | AZ15: =AW15*$AZ$4 -> 0 | BA15: =AW15*$C15 -> 0 | BD15: =BC15*$BD$4 -> 0 | BE15: =BA15*$C15 -> 0 | BJ15: =BI15*$BJ$4 -> 0 | BK15: =BH15*$C15 -> 0 | BP15: =BO15*$BP$4 -> 0 | BQ15: =BO15*$BQ$4 -> 0 | BR15: =BO15*$C15 -> 0 | BW15: =BV15*$BW$4 -> 0 | BX15: =BV15*$C15 -> 0 | CC15: =CB15*$CC$4 -> 0 | CD15: =CB15*$C15 -> 0
A16: 11 | B16: Common | C16: 16 | D16: Kennett | E16: Grass | F16: Grass | H16: =AA16-L16 -> 196 | I16: =AB16-M16 -> -3 | J16: =AC16-N16 -> -69 | L16: =(SUMIF($AJ$5:$CD$5,L$5,$AJ16:$CD16)) -> 114 | M16: =(SUMIF($AJ$5:$CD$5,M$5,$AJ16:$CD16)) -> 123 | N16: =(SUMIF($AJ$5:$CD$5,N$5,$AJ16:$CD16)) -> 269 | P16: =L16*$C16 -> 1824 | Q16: =M16*$C16 -> 1968 | R16: =N16*$C16 -> 4304 | T16: 2 | W16: 1 | X16: 2+ | Y16: 44896 | AA16: 310 | AB16: 120 | AC16: 200 | AE16: =AA16*C16 -> 4960 | AF16: =AB16*C16 -> 1920 | AG16: =AC16*C16 -> 3200 | AJ16: =AI16*$AJ$4 -> 0 | AK16: =AI16*$AK$4 -> 0 | AL16: =AI16*$AL$4 -> 0 | AM16: =AI16*C16 -> 0 | AO16: 100 | AP16: =AO16*$AP$4 -> 114 | AQ16: =AO16*$AQ$4 -> 123 | AR16: =AO16*$AR$4 -> 269 | AS16: =AO16*$C16 -> 1600 | AX16: =AW16*$AX$4 -> 0 | AY16: =AW16*$AY$4 -> 0 | AZ16: =AW16*$AZ$4 -> 0 | BA16: =AW16*$C16 -> 0 | BD16: =BC16*$BD$4 -> 0 | BE16: =BA16*$C16 -> 0 | BJ16: =BI16*$BJ$4 -> 0 | BK16: =BH16*$C16 -> 0 | BP16: =BO16*$BP$4 -> 0 | BQ16: =BO16*$BQ$4 -> 0 | BR16: =BO16*$C16 -> 0 | BW16: =BV16*$BW$4 -> 0 | BX16: =BV16*$C16 -> 0 | CC16: =CB16*$CC$4 -> 0 | CD16: =CB16*$C16 -> 0
A17: 12 | B17: Coombes | C17: 9.03 | D17: Avon | E17: Mz | F17: WW1 | H17: =AA17-L17 -> 220 | I17: =AB17-M17 -> 0 | J17: =AC17-N17 -> 0 | L17: =(SUMIF($AJ$5:$CD$5,L$5,$AJ17:$CD17)) -> 0 | M17: =(SUMIF($AJ$5:$CD$5,M$5,$AJ17:$CD17)) -> 0 | N17: =(SUMIF($AJ$5:$CD$5,N$5,$AJ17:$CD17)) -> 0 | P17: =L17*$C17 -> 0 | Q17: =M17*$C17 -> 0 | R17: =N17*$C17 -> 0 | T17: 1 | W17: 3+ | X17: 3 | Y17: 44896 | AA17: 220 | AB17: 0 | AC17: 0 | AE17: =AA17*C17 -> 1986.6 | AF17: =AB17*C17 -> 0 | AG17: =AC17*C17 -> 0 | AJ17: =AI17*$AJ$4 -> 0 | AK17: =AI17*$AK$4 -> 0 | AL17: =AI17*$AL$4 -> 0 | AM17: =AI17*C17 -> 0 | AP17: =AO17*$AP$4 -> 0 | AQ17: =AO17*$AQ$4 -> 0 | AR17: =AO17*$AR$4 -> 0 | AS17: =AO17*$C17 -> 0 | AX17: =AW17*$AX$4 -> 0 | AY17: =AW17*$AY$4 -> 0 | AZ17: =AW17*$AZ$4 -> 0 | BA17: =AW17*$C17 -> 0 | BD17: =BC17*$BD$4 -> 0 | BE17: =BA17*$C17 -> 0 | BJ17: =BI17*$BJ$4 -> 0 | BK17: =BH17*$C17 -> 0 | BP17: =BO17*$BP$4 -> 0 | BQ17: =BO17*$BQ$4 -> 0 | BR17: =BO17*$C17 -> 0 | BW17: =BV17*$BW$4 -> 0 | BX17: =BV17*$C17 -> 0 | CC17: =CB17*$CC$4 -> 0 | CD17: =CB17*$C17 -> 0
A18: 13 | B18: Corner Sharcott | C18: 4.03 | D18: Avon | E18: Mz | F18: WW1 | H18: =AA18-L18 -> 220 | I18: =AB18-M18 -> 0 | J18: =AC18-N18 -> 115 | L18: =(SUMIF($AJ$5:$CD$5,L$5,$AJ18:$CD18)) -> 0 | M18: =(SUMIF($AJ$5:$CD$5,M$5,$AJ18:$CD18)) -> 0 | N18: =(SUMIF($AJ$5:$CD$5,N$5,$AJ18:$CD18)) -> 0 | P18: =L18*$C18 -> 0 | Q18: =M18*$C18 -> 0 | R18: =N18*$C18 -> 0 | T18: 1 | W18: 3 | X18: 1+ | Y18: 44958 | AA18: 220 | AB18: 0 | AC18: 115 | AE18: =AA18*C18 -> 886.6 | AF18: =AB18*C18 -> 0 | AG18: =AC18*C18 -> 463.45 | AJ18: =AI18*$AJ$4 -> 0 | AK18: =AI18*$AK$4 -> 0 | AL18: =AI18*$AL$4 -> 0 | AM18: =AI18*C18 -> 0 | AP18: =AO18*$AP$4 -> 0 | AQ18: =AO18*$AQ$4 -> 0 | AR18: =AO18*$AR$4 -> 0 | AS18: =AO18*$C18 -> 0 | AX18: =AW18*$AX$4 -> 0 | AY18: =AW18*$AY$4 -> 0 | AZ18: =AW18*$AZ$4 -> 0 | BA18: =AW18*$C18 -> 0 | BD18: =BC18*$BD$4 -> 0 | BE18: =BA18*$C18 -> 0 | BJ18: =BI18*$BJ$4 -> 0 | BK18: =BH18*$C18 -> 0 | BP18: =BO18*$BP$4 -> 0 | BQ18: =BO18*$BQ$4 -> 0 | BR18: =BO18*$C18 -> 0 | BW18: =BV18*$BW$4 -> 0 | BX18: =BV18*$C18 -> 0 | CC18: =CB18*$CC$4 -> 0 | CD18: =CB18*$C18 -> 0
A19: 14 | B19: Crab Ground | C19: 3.76 | D19: Avon | E19: Grass | F19: Grass | H19: =AA19-L19 -> 310 | I19: =AB19-M19 -> 20 | J19: =AC19-N19 -> 255 | L19: =(SUMIF($AJ$5:$CD$5,L$5,$AJ19:$CD19)) -> 0 | M19: =(SUMIF($AJ$5:$CD$5,M$5,$AJ19:$CD19)) -> 0 | N19: =(SUMIF($AJ$5:$CD$5,N$5,$AJ19:$CD19)) -> 0 | P19: =L19*$C19 -> 0 | Q19: =M19*$C19 -> 0 | R19: =N19*$C19 -> 0 | T19: 2 | W19: 3 | X19: 2 | Y19: 44866 | AA19: 310 | AB19: 20 | AC19: 255 | AE19: =AA19*C19 -> 1165.6 | AF19: =AB19*C19 -> 75.2 | AG19: =AC19*C19 -> 958.8 | AJ19: =AI19*$AJ$4 -> 0 | AK19: =AI19*$AK$4 -> 0 | AL19: =AI19*$AL$4 -> 0 | AM19: =AI19*C19 -> 0 | AP19: =AO19*$AP$4 -> 0 | AQ19: =AO19*$AQ$4 -> 0 | AR19: =AO19*$AR$4 -> 0 | AS19: =AO19*$C19 -> 0 | AX19: =AW19*$AX$4 -> 0 | AY19: =AW19*$AY$4 -> 0 | AZ19: =AW19*$AZ$4 -> 0 | BA19: =AW19*$C19 -> 0 | BD19: =BC19*$BD$4 -> 0 | BE19: =BA19*$C19 -> 0 | BJ19: =BI19*$BJ$4 -> 0 | BK19: =BH19*$C19 -> 0 | BP19: =BO19*$BP$4 -> 0 | BQ19: =BO19*$BQ$4 -> 0 | BR19: =BO19*$C19 -> 0 | BW19: =BV19*$BW$4 -> 0 | BX19: =BV19*$C19 -> 0 | CC19: =CB19*$CC$4 -> 0 | CD19: =CB19*$C19 -> 0
A20: 15 | B20: Dray Track 19 Acre | C20: 7.54 | D20: Avon | E20: Mz | F20: WW1 | H20: =AA20-L20 -> 220 | I20: =AB20-M20 -> 0 | J20: =AC20-N20 -> 0 | L20: =(SUMIF($AJ$5:$CD$5,L$5,$AJ20:$CD20)) -> 0 | M20: =(SUMIF($AJ$5:$CD$5,M$5,$AJ20:$CD20)) -> 0 | N20: =(SUMIF($AJ$5:$CD$5,N$5,$AJ20:$CD20)) -> 0 | P20: =L20*$C20 -> 0 | Q20: =M20*$C20 -> 0 | R20: =N20*$C20 -> 0 | T20: 1 | W20: 3 | X20: 3- | Y20: 44866 | AA20: 220 | AB20: 0 | AC20: 0 | AE20: =AA20*C20 -> 1658.8 | AF20: =AB20*C20 -> 0 | AG20: =AC20*C20 -> 0 | AJ20: =AI20*$AJ$4 -> 0 | AK20: =AI20*$AK$4 -> 0 | AL20: =AI20*$AL$4 -> 0 | AM20: =AI20*C20 -> 0 | AP20: =AO20*$AP$4 -> 0 | AQ20: =AO20*$AQ$4 -> 0 | AR20: =AO20*$AR$4 -> 0 | AS20: =AO20*$C20 -> 0 | AX20: =AW20*$AX$4 -> 0 | AY20: =AW20*$AY$4 -> 0 | AZ20: =AW20*$AZ$4 -> 0 | BA20: =AW20*$C20 -> 0 | BD20: =BC20*$BD$4 -> 0 | BE20: =BA20*$C20 -> 0 | BJ20: =BI20*$BJ$4 -> 0 | BK20: =BH20*$C20 -> 0 | BP20: =BO20*$BP$4 -> 0 | BQ20: =BO20*$BQ$4 -> 0 | BR20: =BO20*$C20 -> 0 | BW20: =BV20*$BW$4 -> 0 | BX20: =BV20*$C20 -> 0 | CC20: =CB20*$CC$4 -> 0 | CD20: =CB20*$C20 -> 0
A21: 16 | B21: Draycott Brow | C21: 13 | D21: Avon | E21: Lucerne | F21: Mz | H21: =AA21-L21 -> 91.3 | I21: =AB21-M21 -> 0.9 | J21: =AC21-N21 -> 118 | L21: =(SUMIF($AJ$5:$CD$5,L$5,$AJ21:$CD21)) -> 8.7 | M21: =(SUMIF($AJ$5:$CD$5,M$5,$AJ21:$CD21)) -> 19.1 | N21: =(SUMIF($AJ$5:$CD$5,N$5,$AJ21:$CD21)) -> 27 | P21: =L21*$C21 -> 113.1 | Q21: =M21*$C21 -> 248.3 | R21: =N21*$C21 -> 351 | T21: 1 | W21: 3 | X21: 2+ | Y21: 44866 | AA21: 100 | AB21: 20 | AC21: 145 | AE21: =AA21*C21 -> 1300 | AF21: =AB21*C21 -> 260 | AG21: =AC21*C21 -> 1885 | AI21: 10 | AJ21: =AI21*$AJ$4 -> 8.7 | AK21: =AI21*$AK$4 -> 19.1 | AL21: =AI21*$AL$4 -> 27 | AM21: =AI21*C21 -> 130 | AP21: =AO21*$AP$4 -> 0 | AQ21: =AO21*$AQ$4 -> 0 | AR21: =AO21*$AR$4 -> 0 | AS21: =AO21*$C21 -> 0 | AX21: =AW21*$AX$4 -> 0 | AY21: =AW21*$AY$4 -> 0 | AZ21: =AW21*$AZ$4 -> 0 | BA21: =AW21*$C21 -> 0 | BD21: =BC21*$BD$4 -> 0 | BE21: =BA21*$C21 -> 0 | BJ21: =BI21*$BJ$4 -> 0 | BK21: =BH21*$C21 -> 0 | BP21: =BO21*$BP$4 -> 0 | BQ21: =BO21*$BQ$4 -> 0 | BR21: =BO21*$C21 -> 0 | BW21: =BV21*$BW$4 -> 0 | BX21: =BV21*$C21 -> 0 | CC21: =CB21*$CC$4 -> 0 | CD21: =CB21*$C21 -> 0
A22: 17 | B22: Edgeleys | C22: 3.35 | D22: Avon | E22: Grass | F22: Grass | H22: =AA22-L22 -> 227.92 | I22: =AB22-M22 -> 1.44 | J22: =AC22-N22 -> -83.68 | L22: =(SUMIF($AJ$5:$CD$5,L$5,$AJ22:$CD22)) -> 82.08 | M22: =(SUMIF($AJ$5:$CD$5,M$5,$AJ22:$CD22)) -> 88.56 | N22: =(SUMIF($AJ$5:$CD$5,N$5,$AJ22:$CD22)) -> 193.68 | P22: =L22*$C22 -> 274.968 | Q22: =M22*$C22 -> 296.676 | R22: =N22*$C22 -> 648.828 | T22: 2 | W22: 2- | X22: 3- | Y22: 44896 | AA22: 310 | AB22: 90 | AC22: 110 | AE22: =AA22*C22 -> 1038.5 | AF22: =AB22*C22 -> 301.5 | AG22: =AC22*C22 -> 368.5 | AJ22: =AI22*$AJ$4 -> 0 | AK22: =AI22*$AK$4 -> 0 | AL22: =AI22*$AL$4 -> 0 | AM22: =AI22*C22 -> 0 | AO22: 72 | AP22: =AO22*$AP$4 -> 82.08 | AQ22: =AO22*$AQ$4 -> 88.56 | AR22: =AO22*$AR$4 -> 193.68 | AS22: =AO22*$C22 -> 241.2 | AX22: =AW22*$AX$4 -> 0 | AY22: =AW22*$AY$4 -> 0 | AZ22: =AW22*$AZ$4 -> 0 | BA22: =AW22*$C22 -> 0 | BD22: =BC22*$BD$4 -> 0 | BE22: =BA22*$C22 -> 0 | BJ22: =BI22*$BJ$4 -> 0 | BK22: =BH22*$C22 -> 0 | BP22: =BO22*$BP$4 -> 0 | BQ22: =BO22*$BQ$4 -> 0 | BR22: =BO22*$C22 -> 0 | BW22: =BV22*$BW$4 -> 0 | BX22: =BV22*$C22 -> 0 | CC22: =CB22*$CC$4 -> 0 | CD22: =CB22*$C22 -> 0
A23: 18 | B23: F. Horn/Fellows | C23: 15.46 | D23: Avon | E23: WW1 | F23: Mz | H23: =AA23-L23 -> 91.3 | I23: =AB23-M23 -> 0.9 | J23: =AC23-N23 -> 133 | L23: =(SUMIF($AJ$5:$CD$5,L$5,$AJ23:$CD23)) -> 8.7 | M23: =(SUMIF($AJ$5:$CD$5,M$5,$AJ23:$CD23)) -> 19.1 | N23: =(SUMIF($AJ$5:$CD$5,N$5,$AJ23:$CD23)) -> 27 | P23: =L23*$C23 -> 134.502 | Q23: =M23*$C23 -> 295.286 | R23: =N23*$C23 -> 417.42 | T23: 1 | W23: 3 | X23: 2 | Y23: 44958 | AA23: 100 | AB23: 20 | AC23: 160 | AE23: =AA23*C23 -> 1546 | AF23: =AB23*C23 -> 309.2 | AG23: =AC23*C23 -> 2473.6 | AI23: 10 | AJ23: =AI23*$AJ$4 -> 8.7 | AK23: =AI23*$AK$4 -> 19.1 | AL23: =AI23*$AL$4 -> 27 | AM23: =AI23*C23 -> 154.6 | AP23: =AO23*$AP$4 -> 0 | AQ23: =AO23*$AQ$4 -> 0 | AR23: =AO23*$AR$4 -> 0 | AS23: =AO23*$C23 -> 0 | AX23: =AW23*$AX$4 -> 0 | AY23: =AW23*$AY$4 -> 0 | AZ23: =AW23*$AZ$4 -> 0 | BA23: =AW23*$C23 -> 0 | BD23: =BC23*$BD$4 -> 0 | BE23: =BA23*$C23 -> 0 | BJ23: =BI23*$BJ$4 -> 0 | BK23: =BH23*$C23 -> 0 | BP23: =BO23*$BP$4 -> 0 | BQ23: =BO23*$BQ$4 -> 0 | BR23: =BO23*$C23 -> 0 | BW23: =BV23*$BW$4 -> 0 | BX23: =BV23*$C23 -> 0 | CC23: =CB23*$CC$4 -> 0 | CD23: =CB23*$C23 -> 0
A24: 19 | B24: Figury | C24: 8.29 | D24: Avon | E24: WW1 | F24: Mz | H24: =AA24-L24 -> 57.1 | I24: =AB24-M24 -> -1 | J24: =AC24-N24 -> 52.3 | L24: =(SUMIF($AJ$5:$CD$5,L$5,$AJ24:$CD24)) -> 42.9 | M24: =(SUMIF($AJ$5:$CD$5,M$5,$AJ24:$CD24)) -> 56 | N24: =(SUMIF($AJ$5:$CD$5,N$5,$AJ24:$CD24)) -> 107.7 | P24: =L24*$C24 -> 355.641 | Q24: =M24*$C24 -> 464.24 | R24: =N24*$C24 -> 892.833 | T24: 1 | W24: 2+ | X24: 2 | Y24: 44896 | AA24: 100 | AB24: 55 | AC24: 160 | AE24: =AA24*C24 -> 829 | AF24: =AB24*C24 -> 455.95 | AG24: =AC24*C24 -> 1326.4 | AI24: 10 | AJ24: =AI24*$AJ$4 -> 8.7 | AK24: =AI24*$AK$4 -> 19.1 | AL24: =AI24*$AL$4 -> 27 | AM24: =AI24*C24 -> 82.9 | AO24: 30 | AP24: =AO24*$AP$4 -> 34.2 | AQ24: =AO24*$AQ$4 -> 36.9 | AR24: =AO24*$AR$4 -> 80.7 | AS24: =AO24*$C24 -> 248.7 | AX24: =AW24*$AX$4 -> 0 | AY24: =AW24*$AY$4 -> 0 | AZ24: =AW24*$AZ$4 -> 0 | BA24: =AW24*$C24 -> 0 | BD24: =BC24*$BD$4 -> 0 | BE24: =BA24*$C24 -> 0 | BJ24: =BI24*$BJ$4 -> 0 | BK24: =BH24*$C24 -> 0 | BP24: =BO24*$BP$4 -> 0 | BQ24: =BO24*$BQ$4 -> 0 | BR24: =BO24*$C24 -> 0 | BW24: =BV24*$BW$4 -> 0 | BX24: =BV24*$C24 -> 0 | CC24: =CB24*$CC$4 -> 0 | CD24: =CB24*$C24 -> 0 | CE24: =CB24*($CE$4/1000) -> 0 | CF24: =CE24*$C24 -> 0
A25: 20 | B25: Gopher Reversion | C25: 3.6 | D25: Kennett | E25: Grass | F25: Grass | H25: =AA25-L25 -> 227.92 | I25: =AB25-M25 -> 1.44 | J25: =AC25-N25 -> 61.32 | L25: =(SUMIF($AJ$5:$CD$5,L$5,$AJ25:$CD25)) -> 82.08 | M25: =(SUMIF($AJ$5:$CD$5,M$5,$AJ25:$CD25)) -> 88.56 | N25: =(SUMIF($AJ$5:$CD$5,N$5,$AJ25:$CD25)) -> 193.68 | P25: =L25*$C25 -> 295.488 | Q25: =M25*$C25 -> 318.816 | R25: =N25*$C25 -> 697.248 | T25: 2 | W25: 2 | X25: 2 | AA25: 310 | AB25: 90 | AC25: 255 | AE25: =AA25*C25 -> 1116 | AF25: =AB25*C25 -> 324 | AG25: =AC25*C25 -> 918 | AJ25: =AI25*$AJ$4 -> 0 | AK25: =AI25*$AK$4 -> 0 | AL25: =AI25*$AL$4 -> 0 | AM25: =AI25*C25 -> 0 | AO25: 72 | AP25: =AO25*$AP$4 -> 82.08 | AQ25: =AO25*$AQ$4 -> 88.56 | AR25: =AO25*$AR$4 -> 193.68 | AS25: =AO25*$C25 -> 259.2 | AX25: =AW25*$AX$4 -> 0 | AY25: =AW25*$AY$4 -> 0 | AZ25: =AW25*$AZ$4 -> 0 | BA25: =AW25*$C25 -> 0 | BD25: =BC25*$BD$4 -> 0 | BE25: =BA25*$C25 -> 0 | BJ25: =BI25*$BJ$4 -> 0 | BK25: =BH25*$C25 -> 0 | BP25: =BO25*$BP$4 -> 0 | BQ25: =BO25*$BQ$4 -> 0 | BR25: =BO25*$C25 -> 0 | BW25: =BV25*$BW$4 -> 0 | BX25: =BV25*$C25 -> 0 | CC25: =CB25*$CC$4 -> 0 | CD25: =CB25*$C25 -> 0
A26: 21 | B26: Gopher Reversion | C26: 6.53 | D26: Avon | E26: Grass | F26: Grass | H26: =AA26-L26 -> 230.2 | I26: =AB26-M26 -> 3.9 | J26: =AC26-N26 -> 66.7 | L26: =(SUMIF($AJ$5:$CD$5,L$5,$AJ26:$CD26)) -> 79.8 | M26: =(SUMIF($AJ$5:$CD$5,M$5,$AJ26:$CD26)) -> 86.1 | N26: =(SUMIF($AJ$5:$CD$5,N$5,$AJ26:$CD26)) -> 188.3 | P26: =L26*$C26 -> 521.094 | Q26: =M26*$C26 -> 562.233 | R26: =N26*$C26 -> 1229.599 | T26: 2 | W26: 2 | X26: 2 | AA26: 310 | AB26: 90 | AC26: 255 | AE26: =AA26*C26 -> 2024.3 | AF26: =AB26*C26 -> 587.7 | AG26: =AC26*C26 -> 1665.15 | AJ26: =AI26*$AJ$4 -> 0 | AK26: =AI26*$AK$4 -> 0 | AL26: =AI26*$AL$4 -> 0 | AM26: =AI26*C26 -> 0 | AO26: 70 | AP26: =AO26*$AP$4 -> 79.8 | AQ26: =AO26*$AQ$4 -> 86.1 | AR26: =AO26*$AR$4 -> 188.3 | AS26: =AO26*$C26 -> 457.1 | AX26: =AW26*$AX$4 -> 0 | AY26: =AW26*$AY$4 -> 0 | AZ26: =AW26*$AZ$4 -> 0 | BA26: =AW26*$C26 -> 0 | BD26: =BC26*$BD$4 -> 0 | BE26: =BA26*$C26 -> 0 | BJ26: =BI26*$BJ$4 -> 0 | BK26: =BH26*$C26 -> 0 | BP26: =BO26*$BP$4 -> 0 | BQ26: =BO26*$BQ$4 -> 0 | BR26: =BO26*$C26 -> 0 | BW26: =BV26*$BW$4 -> 0 | BX26: =BV26*$C26 -> 0 | CC26: =CB26*$CC$4 -> 0 | CD26: =CB26*$C26 -> 0
A27: 22 | B27: Heart Field | C27: 19.96 | D27: Avon | E27: Grass | F27: WW1 | H27: =AA27-L27 -> 168.7 | I27: =AB27-M27 -> -0.35 | J27: =AC27-N27 -> -36.05 | L27: =(SUMIF($AJ$5:$CD$5,L$5,$AJ27:$CD27)) -> 51.3 | M27: =(SUMIF($AJ$5:$CD$5,M$5,$AJ27:$CD27)) -> 55.35 | N27: =(SUMIF($AJ$5:$CD$5,N$5,$AJ27:$CD27)) -> 121.05 | P27: =L27*$C27 -> 1023.948 | Q27: =M27*$C27 -> 1104.786 | R27: =N27*$C27 -> 2416.158 | T27: 1 | W27: 2 | X27: 2 | AA27: 220 | AB27: 55 | AC27: 85 | AE27: =AA27*C27 -> 4391.2 | AF27: =AB27*C27 -> 1097.8 | AG27: =AC27*C27 -> 1696.6 | AJ27: =AI27*$AJ$4 -> 0 | AK27: =AI27*$AK$4 -> 0 | AL27: =AI27*$AL$4 -> 0 | AM27: =AI27*C27 -> 0 | AO27: 45 | AP27: =AO27*$AP$4 -> 51.3 | AQ27: =AO27*$AQ$4 -> 55.35 | AR27: =AO27*$AR$4 -> 121.05 | AS27: =AO27*$C27 -> 898.2 | AX27: =AW27*$AX$4 -> 0 | AY27: =AW27*$AY$4 -> 0 | AZ27: =AW27*$AZ$4 -> 0 | BA27: =AW27*$C27 -> 0 | BD27: =BC27*$BD$4 -> 0 | BE27: =BA27*$C27 -> 0 | BJ27: =BI27*$BJ$4 -> 0 | BK27: =BH27*$C27 -> 0 | BP27: =BO27*$BP$4 -> 0 | BQ27: =BO27*$BQ$4 -> 0 | BR27: =BO27*$C27 -> 0 | BW27: =BV27*$BW$4 -> 0 | BX27: =BV27*$C27 -> 0 | CC27: =CB27*$CC$4 -> 0 | CD27: =CB27*$C27 -> 0
A28: 23 | B28: Hollow Tree | C28: 4.3 | D28: Avon | E28: Mz | F28: WW1 | H28: =AA28-L28 -> 168.7 | I28: =AB28-M28 -> -0.35 | J28: =AC28-N28 -> -36.05 | L28: =(SUMIF($AJ$5:$CD$5,L$5,$AJ28:$CD28)) -> 51.3 | M28: =(SUMIF($AJ$5:$CD$5,M$5,$AJ28:$CD28)) -> 55.35 | N28: =(SUMIF($AJ$5:$CD$5,N$5,$AJ28:$CD28)) -> 121.05 | P28: =L28*$C28 -> 220.59 | Q28: =M28*$C28 -> 238.005 | R28: =N28*$C28 -> 520.515 | T28: 1 | W28: 2 | X28: 2- | AA28: 220 | AB28: 55 | AC28: 85 | AE28: =AA28*C28 -> 946 | AF28: =AB28*C28 -> 236.5 | AG28: =AC28*C28 -> 365.5 | AJ28: =AI28*$AJ$4 -> 0 | AK28: =AI28*$AK$4 -> 0 | AL28: =AI28*$AL$4 -> 0 | AM28: =AI28*C28 -> 0 | AO28: 45 | AP28: =AO28*$AP$4 -> 51.3 | AQ28: =AO28*$AQ$4 -> 55.35 | AR28: =AO28*$AR$4 -> 121.05 | AS28: =AO28*$C28 -> 193.5 | AX28: =AW28*$AX$4 -> 0 | AY28: =AW28*$AY$4 -> 0 | AZ28: =AW28*$AZ$4 -> 0 | BA28: =AW28*$C28 -> 0 | BD28: =BC28*$BD$4 -> 0 | BE28: =BA28*$C28 -> 0 | BJ28: =BI28*$BJ$4 -> 0 | BK28: =BH28*$C28 -> 0 | BP28: =BO28*$BP$4 -> 0 | BQ28: =BO28*$BQ$4 -> 0 | BR28: =BO28*$C28 -> 0 | BW28: =BV28*$BW$4 -> 0 | BX28: =BV28*$C28 -> 0 | CC28: =CB28*$CC$4 -> 0 | CD28: =CB28*$C28 -> 0
A29: 24 | B29: Horseley | C29: 6.98 | D29: Avon | E29: Mz | F29: WW1 | H29: =AA29-L29 -> 220 | I29: =AB29-M29 -> 0 | J29: =AC29-N29 -> 55 | L29: =(SUMIF($AJ$5:$CD$5,L$5,$AJ29:$CD29)) -> 0 | M29: =(SUMIF($AJ$5:$CD$5,M$5,$AJ29:$CD29)) -> 0 | N29: =(SUMIF($AJ$5:$CD$5,N$5,$AJ29:$CD29)) -> 0 | P29: =L29*$C29 -> 0 | Q29: =M29*$C29 -> 0 | R29: =N29*$C29 -> 0 | T29: 1 | W29: 3+ | X29: 2+ | Y29: 44866 | AA29: 220 | AB29: 0 | AC29: 55 | AE29: =AA29*C29 -> 1535.6 | AF29: =AB29*C29 -> 0 | AG29: =AC29*C29 -> 383.9 | AJ29: =AI29*$AJ$4 -> 0 | AK29: =AI29*$AK$4 -> 0 | AL29: =AI29*$AL$4 -> 0 | AM29: =AI29*C29 -> 0 | AP29: =AO29*$AP$4 -> 0 | AQ29: =AO29*$AQ$4 -> 0 | AR29: =AO29*$AR$4 -> 0 | AS29: =AO29*$C29 -> 0 | AX29: =AW29*$AX$4 -> 0 | AY29: =AW29*$AY$4 -> 0 | AZ29: =AW29*$AZ$4 -> 0 | BA29: =AW29*$C29 -> 0 | BD29: =BC29*$BD$4 -> 0 | BE29: =BA29*$C29 -> 0 | BJ29: =BI29*$BJ$4 -> 0 | BK29: =BH29*$C29 -> 0 | BP29: =BO29*$BP$4 -> 0 | BQ29: =BO29*$BQ$4 -> 0 | BR29: =BO29*$C29 -> 0 | BW29: =BV29*$BW$4 -> 0 | BX29: =BV29*$C29 -> 0 | CC29: =CB29*$CC$4 -> 0 | CD29: =CB29*$C29 -> 0
A30: 25 | B30: Hospital Field | C30: 9.5 | D30: Avon | E30: Mz | F30: WW1 | H30: =AA30-L30 -> 220 | I30: =AB30-M30 -> 0 | J30: =AC30-N30 -> 0 | L30: =(SUMIF($AJ$5:$CD$5,L$5,$AJ30:$CD30)) -> 0 | M30: =(SUMIF($AJ$5:$CD$5,M$5,$AJ30:$CD30)) -> 0 | N30: =(SUMIF($AJ$5:$CD$5,N$5,$AJ30:$CD30)) -> 0 | P30: =L30*$C30 -> 0 | Q30: =M30*$C30 -> 0 | R30: =N30*$C30 -> 0 | T30: 1 | W30: 4 | X30: 3+ | Y30: 44958 | AA30: 220 | AB30: 0 | AC30: 0 | AE30: =AA30*C30 -> 2090 | AF30: =AB30*C30 -> 0 | AG30: =AC30*C30 -> 0 | AJ30: =AI30*$AJ$4 -> 0 | AK30: =AI30*$AK$4 -> 0 | AL30: =AI30*$AL$4 -> 0 | AM30: =AI30*C30 -> 0 | AP30: =AO30*$AP$4 -> 0 | AQ30: =AO30*$AQ$4 -> 0 | AR30: =AO30*$AR$4 -> 0 | AS30: =AO30*$C30 -> 0 | AX30: =AW30*$AX$4 -> 0 | AY30: =AW30*$AY$4 -> 0 | AZ30: =AW30*$AZ$4 -> 0 | BA30: =AW30*$C30 -> 0 | BD30: =BC30*$BD$4 -> 0 | BE30: =BA30*$C30 -> 0 | BJ30: =BI30*$BJ$4 -> 0 | BK30: =BH30*$C30 -> 0 | BP30: =BO30*$BP$4 -> 0 | BQ30: =BO30*$BQ$4 -> 0 | BR30: =BO30*$C30 -> 0 | BW30: =BV30*$BW$4 -> 0 | BX30: =BV30*$C30 -> 0 | CC30: =CB30*$CC$4 -> 0 | CD30: =CB30*$C30 -> 0
A31: 26 | B31: Inlands | C31: 17 | D31: Avon | E31: ww1 | F31: Mz | H31: =AA31-L31 -> 89.56 | I31: =AB31-M31 -> -2.92 | J31: =AC31-N31 -> 142.6 | L31: =(SUMIF($AJ$5:$CD$5,L$5,$AJ31:$CD31)) -> 10.44 | M31: =(SUMIF($AJ$5:$CD$5,M$5,$AJ31:$CD31)) -> 22.92 | N31: =(SUMIF($AJ$5:$CD$5,N$5,$AJ31:$CD31)) -> 32.4 | P31: =L31*$C31 -> 177.48 | Q31: =M31*$C31 -> 389.64 | R31: =N31*$C31 -> 550.8 | T31: 1 | W31: 3- | X31: 2- | Y31: 44958 | AA31: 100 | AB31: 20 | AC31: 175 | AE31: =AA31*C31 -> 1700 | AF31: =AB31*C31 -> 340 | AG31: =AC31*C31 -> 2975 | AI31: 12 | AJ31: =AI31*$AJ$4 -> 10.44 | AK31: =AI31*$AK$4 -> 22.92 | AL31: =AI31*$AL$4 -> 32.4 | AM31: =AI31*C31 -> 204 | AP31: =AO31*$AP$4 -> 0 | AQ31: =AO31*$AQ$4 -> 0 | AR31: =AO31*$AR$4 -> 0 | AS31: =AO31*$C31 -> 0 | AX31: =AW31*$AX$4 -> 0 | AY31: =AW31*$AY$4 -> 0 | AZ31: =AW31*$AZ$4 -> 0 | BA31: =AW31*$C31 -> 0 | BD31: =BC31*$BD$4 -> 0 | BE31: =BA31*$C31 -> 0 | BJ31: =BI31*$BJ$4 -> 0 | BK31: =BH31*$C31 -> 0 | BP31: =BO31*$BP$4 -> 0 | BQ31: =BO31*$BQ$4 -> 0 | BR31: =BO31*$C31 -> 0 | BW31: =BV31*$BW$4 -> 0 | BX31: =BV31*$C31 -> 0 | CC31: =CB31*$CC$4 -> 0 | CD31: =CB31*$C31 -> 0
A32: 27 | B32: Lisburn | C32: 11.78 | D32: Avon | E32: Grass | F32: Grass | H32: =AA32-L32 -> 292.9 | I32: =AB32-M32 -> 1.55 | J32: =AC32-N32 -> 69.65 | L32: =(SUMIF($AJ$5:$CD$5,L$5,$AJ32:$CD32)) -> 17.1 | M32: =(SUMIF($AJ$5:$CD$5,M$5,$AJ32:$CD32)) -> 18.45 | N32: =(SUMIF($AJ$5:$CD$5,N$5,$AJ32:$CD32)) -> 40.35 | P32: =L32*$C32 -> 201.438 | Q32: =M32*$C32 -> 217.341 | R32: =N32*$C32 -> 475.323 | T32: 2 | W32: 3- | X32: 3- | Y32: 44958 | AA32: 310 | AB32: 20 | AC32: 110 | AE32: =AA32*C32 -> 3651.8 | AF32: =AB32*C32 -> 235.6 | AG32: =AC32*C32 -> 1295.8 | AJ32: =AI32*$AJ$4 -> 0 | AK32: =AI32*$AK$4 -> 0 | AL32: =AI32*$AL$4 -> 0 | AM32: =AI32*C32 -> 0 | AO32: 15 | AP32: =AO32*$AP$4 -> 17.1 | AQ32: =AO32*$AQ$4 -> 18.45 | AR32: =AO32*$AR$4 -> 40.35 | AS32: =AO32*$C32 -> 176.7 | AX32: =AW32*$AX$4 -> 0 | AY32: =AW32*$AY$4 -> 0 | AZ32: =AW32*$AZ$4 -> 0 | BA32: =AW32*$C32 -> 0 | BD32: =BC32*$BD$4 -> 0 | BE32: =BA32*$C32 -> 0 | BJ32: =BI32*$BJ$4 -> 0 | BK32: =BH32*$C32 -> 0 | BP32: =BO32*$BP$4 -> 0 | BQ32: =BO32*$BQ$4 -> 0 | BR32: =BO32*$C32 -> 0 | BW32: =BV32*$BW$4 -> 0 | BX32: =BV32*$C32 -> 0 | CC32: =CB32*$CC$4 -> 0 | CD32: =CB32*$C32 -> 0
A33: 28 | B33: Lower Hatfield | C33: 5.72 | D33: Avon | E33: Lucerne | F33: Mz | H33: =AA33-L33 -> 83.8 | I33: =AB33-M33 -> -1.4 | J33: =AC33-N33 -> -48.8 | L33: =(SUMIF($AJ$5:$CD$5,L$5,$AJ33:$CD33)) -> 16.2 | M33: =(SUMIF($AJ$5:$CD$5,M$5,$AJ33:$CD33)) -> 86.4 | N33: =(SUMIF($AJ$5:$CD$5,N$5,$AJ33:$CD33)) -> 253.8 | P33: =L33*$C33 -> 92.664 | Q33: =M33*$C33 -> 494.208 | R33: =N33*$C33 -> 1451.736 | T33: 1 | W33: 1 | X33: 1+ | Y33: 44896 | AA33: 100 | AB33: 85 | AC33: 205 | AE33: =AA33*C33 -> 572 | AF33: =AB33*C33 -> 486.2 | AG33: =AC33*C33 -> 1172.6 | AJ33: =AI33*$AJ$4 -> 0 | AK33: =AI33*$AK$4 -> 0 | AL33: =AI33*$AL$4 -> 0 | AM33: =AI33*C33 -> 0 | AP33: =AO33*$AP$4 -> 0 | AQ33: =AO33*$AQ$4 -> 0 | AR33: =AO33*$AR$4 -> 0 | AS33: =AO33*$C33 -> 0 | AW33: 27 | AX33: =AW33*$AX$4 -> 16.2 | AY33: =AW33*$AY$4 -> 86.4 | AZ33: =AW33*$AZ$4 -> 253.8 | BA33: =AW33*$C33 -> 154.44 | BD33: =BC33*$BD$4 -> 0 | BE33: =BA33*$C33 -> 883.3968 | BJ33: =BI33*$BJ$4 -> 0 | BK33: =BH33*$C33 -> 0 | BP33: =BO33*$BP$4 -> 0 | BQ33: =BO33*$BQ$4 -> 0 | BR33: =BO33*$C33 -> 0 | BW33: =BV33*$BW$4 -> 0 | BX33: =BV33*$C33 -> 0 | CC33: =CB33*$CC$4 -> 0 | CD33: =CB33*$C33 -> 0
A34: 29 | B34: Middle N | C34: 10 | D34: Avon | E34: Grass | F34: Grass | H34: =AA34-L34 -> 227.92 | I34: =AB34-M34 -> 1.44 | J34: =AC34-N34 -> 61.32 | L34: =(SUMIF($AJ$5:$CD$5,L$5,$AJ34:$CD34)) -> 82.08 | M34: =(SUMIF($AJ$5:$CD$5,M$5,$AJ34:$CD34)) -> 88.56 | N34: =(SUMIF($AJ$5:$CD$5,N$5,$AJ34:$CD34)) -> 193.68 | P34: =L34*$C34 -> 820.8 | Q34: =M34*$C34 -> 885.6 | R34: =N34*$C34 -> 1936.8 | T34: 2 | W34: 2 | X34: 2 | AA34: 310 | AB34: 90 | AC34: 255 | AE34: =AA34*C34 -> 3100 | AF34: =AB34*C34 -> 900 | AG34: =AC34*C34 -> 2550 | AJ34: =AI34*$AJ$4 -> 0 | AK34: =AI34*$AK$4 -> 0 | AL34: =AI34*$AL$4 -> 0 | AM34: =AI34*C34 -> 0 | AO34: 72 | AP34: =AO34*$AP$4 -> 82.08 | AQ34: =AO34*$AQ$4 -> 88.56 | AR34: =AO34*$AR$4 -> 193.68 | AS34: =AO34*$C34 -> 720 | AX34: =AW34*$AX$4 -> 0 | AY34: =AW34*$AY$4 -> 0 | AZ34: =AW34*$AZ$4 -> 0 | BA34: =AW34*$C34 -> 0 | BD34: =BC34*$BD$4 -> 0 | BE34: =BA34*$C34 -> 0 | BJ34: =BI34*$BJ$4 -> 0 | BK34: =BH34*$C34 -> 0 | BP34: =BO34*$BP$4 -> 0 | BQ34: =BO34*$BQ$4 -> 0 | BR34: =BO34*$C34 -> 0 | BW34: =BV34*$BW$4 -> 0 | BX34: =BV34*$C34 -> 0 | CC34: =CB34*$CC$4 -> 0 | CD34: =CB34*$C34 -> 0
A35: 30 | B35: Middle S | C35: 7.49 | D35: Avon | E35: Grass | F35: Grass | H35: =AA35-L35 -> 227.92 | I35: =AB35-M35 -> 1.44 | J35: =AC35-N35 -> 61.32 | L35: =(SUMIF($AJ$5:$CD$5,L$5,$AJ35:$CD35)) -> 82.08 | M35: =(SUMIF($AJ$5:$CD$5,M$5,$AJ35:$CD35)) -> 88.56 | N35: =(SUMIF($AJ$5:$CD$5,N$5,$AJ35:$CD35)) -> 193.68 | P35: =L35*$C35 -> 614.7792 | Q35: =M35*$C35 -> 663.3144 | R35: =N35*$C35 -> 1450.6632 | T35: 2 | W35: 2 | X35: 2 | AA35: 310 | AB35: 90 | AC35: 255 | AE35: =AA35*C35 -> 2321.9 | AF35: =AB35*C35 -> 674.1 | AG35: =AC35*C35 -> 1909.95 | AJ35: =AI35*$AJ$4 -> 0 | AK35: =AI35*$AK$4 -> 0 | AL35: =AI35*$AL$4 -> 0 | AM35: =AI35*C35 -> 0 | AO35: 72 | AP35: =AO35*$AP$4 -> 82.08 | AQ35: =AO35*$AQ$4 -> 88.56 | AR35: =AO35*$AR$4 -> 193.68 | AS35: =AO35*$C35 -> 539.28 | AX35: =AW35*$AX$4 -> 0 | AY35: =AW35*$AY$4 -> 0 | AZ35: =AW35*$AZ$4 -> 0 | BA35: =AW35*$C35 -> 0 | BD35: =BC35*$BD$4 -> 0 | BE35: =BA35*$C35 -> 0 | BJ35: =BI35*$BJ$4 -> 0 | BK35: =BH35*$C35 -> 0 | BP35: =BO35*$BP$4 -> 0 | BQ35: =BO35*$BQ$4 -> 0 | BR35: =BO35*$C35 -> 0 | BW35: =BV35*$BW$4 -> 0 | BX35: =BV35*$C35 -> 0 | CC35: =CB35*$CC$4 -> 0 | CD35: =CB35*$C35 -> 0
A36: 31 | B36: Mortimers | C36: 14.89 | D36: Avon | E36: Mz | F36: WW1 | H36: =AA36-L36 -> 220 | I36: =AB36-M36 -> 0 | J36: =AC36-N36 -> 0 | L36: =(SUMIF($AJ$5:$CD$5,L$5,$AJ36:$CD36)) -> 0 | M36: =(SUMIF($AJ$5:$CD$5,M$5,$AJ36:$CD36)) -> 0 | N36: =(SUMIF($AJ$5:$CD$5,N$5,$AJ36:$CD36)) -> 0 | P36: =L36*$C36 -> 0 | Q36: =M36*$C36 -> 0 | R36: =N36*$C36 -> 0 | T36: 1 | W36: 3 | X36: 3+ | Y36: 44866 | AA36: 220 | AB36: 0 | AC36: 0 | AE36: =AA36*C36 -> 3275.8 | AF36: =AB36*C36 -> 0 | AG36: =AC36*C36 -> 0 | AJ36: =AI36*$AJ$4 -> 0 | AK36: =AI36*$AK$4 -> 0 | AL36: =AI36*$AL$4 -> 0 | AM36: =AI36*C36 -> 0 | AP36: =AO36*$AP$4 -> 0 | AQ36: =AO36*$AQ$4 -> 0 | AR36: =AO36*$AR$4 -> 0 | AS36: =AO36*$C36 -> 0 | AX36: =AW36*$AX$4 -> 0 | AY36: =AW36*$AY$4 -> 0 | AZ36: =AW36*$AZ$4 -> 0 | BA36: =AW36*$C36 -> 0 | BD36: =BC36*$BD$4 -> 0 | BE36: =BA36*$C36 -> 0 | BJ36: =BI36*$BJ$4 -> 0 | BK36: =BH36*$C36 -> 0 | BP36: =BO36*$BP$4 -> 0 | BQ36: =BO36*$BQ$4 -> 0 | BR36: =BO36*$C36 -> 0 | BW36: =BV36*$BW$4 -> 0 | BX36: =BV36*$C36 -> 0 | CC36: =CB36*$CC$4 -> 0 | CD36: =CB36*$C36 -> 0
A37: 32 | B37: Oare Cottage | C37: 4.94 | D37: Avon | E37: Lucerne | F37: Mz | H37: =AA37-L37 -> 9.8 | I37: =AB37-M37 -> -7.8 | J37: =AC37-N37 -> 67.2 | L37: =(SUMIF($AJ$5:$CD$5,L$5,$AJ37:$CD37)) -> 40.2 | M37: =(SUMIF($AJ$5:$CD$5,M$5,$AJ37:$CD37)) -> 62.8 | N37: =(SUMIF($AJ$5:$CD$5,N$5,$AJ37:$CD37)) -> 107.8 | P37: =L37*$C37 -> 198.588 | Q37: =M37*$C37 -> 310.232 | R37: =N37*$C37 -> 532.532 | T37: 1 | W37: 2 | X37: 2- | AA37: 50 | AB37: 55 | AC37: 175 | AE37: =AA37*C37 -> 247 | AF37: =AB37*C37 -> 271.7 | AG37: =AC37*C37 -> 864.5 | AI37: 20 | AJ37: =AI37*$AJ$4 -> 17.4 | AK37: =AI37*$AK$4 -> 38.2 | AL37: =AI37*$AL$4 -> 54 | AM37: =AI37*C37 -> 98.8 | AO37: 20 | AP37: =AO37*$AP$4 -> 22.8 | AQ37: =AO37*$AQ$4 -> 24.6 | AR37: =AO37*$AR$4 -> 53.8 | AS37: =AO37*$C37 -> 98.8 | AX37: =AW37*$AX$4 -> 0 | AY37: =AW37*$AY$4 -> 0 | AZ37: =AW37*$AZ$4 -> 0 | BA37: =AW37*$C37 -> 0 | BD37: =BC37*$BD$4 -> 0 | BE37: =BA37*$C37 -> 0 | BJ37: =BI37*$BJ$4 -> 0 | BK37: =BH37*$C37 -> 0 | BP37: =BO37*$BP$4 -> 0 | BQ37: =BO37*$BQ$4 -> 0 | BR37: =BO37*$C37 -> 0 | BW37: =BV37*$BW$4 -> 0 | BX37: =BV37*$C37 -> 0 | CC37: =CB37*$CC$4 -> 0 | CD37: =CB37*$C37 -> 0
A38: 33 | B38: Oare Field & A & B | C38: 9.7 | D38: Avon | E38: Lucerne | F38: Mz | H38: =AA38-L38 -> 9.8 | I38: =AB38-M38 -> -7.8 | J38: =AC38-N38 -> 67.2 | L38: =(SUMIF($AJ$5:$CD$5,L$5,$AJ38:$CD38)) -> 40.2 | M38: =(SUMIF($AJ$5:$CD$5,M$5,$AJ38:$CD38)) -> 62.8 | N38: =(SUMIF($AJ$5:$CD$5,N$5,$AJ38:$CD38)) -> 107.8 | P38: =L38*$C38 -> 389.94 | Q38: =M38*$C38 -> 609.16 | R38: =N38*$C38 -> 1045.66 | T38: 1 | W38: 2 | X38: 2- | AA38: 50 | AB38: 55 | AC38: 175 | AE38: =AA38*C38 -> 485 | AF38: =AB38*C38 -> 533.5 | AG38: =AC38*C38 -> 1697.5 | AI38: 20 | AJ38: =AI38*$AJ$4 -> 17.4 | AK38: =AI38*$AK$4 -> 38.2 | AL38: =AI38*$AL$4 -> 54 | AM38: =AI38*C38 -> 194 | AO38: 20 | AP38: =AO38*$AP$4 -> 22.8 | AQ38: =AO38*$AQ$4 -> 24.6 | AR38: =AO38*$AR$4 -> 53.8 | AS38: =AO38*$C38 -> 194 | AX38: =AW38*$AX$4 -> 0 | AY38: =AW38*$AY$4 -> 0 | AZ38: =AW38*$AZ$4 -> 0 | BA38: =AW38*$C38 -> 0 | BD38: =BC38*$BD$4 -> 0 | BE38: =BA38*$C38 -> 0 | BJ38: =BI38*$BJ$4 -> 0 | BK38: =BH38*$C38 -> 0 | BP38: =BO38*$BP$4 -> 0 | BQ38: =BO38*$BQ$4 -> 0 | BR38: =BO38*$C38 -> 0 | BW38: =BV38*$BW$4 -> 0 | BX38: =BV38*$C38 -> 0 | CC38: =CB38*$CC$4 -> 0 | CD38: =CB38*$C38 -> 0
A39: 34 | B39: Opp Black Barn | C39: 8.25 | D39: Avon | E39: WW1 | F39: Grass | H39: =AA39-L39 -> 292.9 | I39: =AB39-M39 -> 1.55 | J39: =AC39-N39 -> 69.65 | L39: =(SUMIF($AJ$5:$CD$5,L$5,$AJ39:$CD39)) -> 17.1 | M39: =(SUMIF($AJ$5:$CD$5,M$5,$AJ39:$CD39)) -> 18.45 | N39: =(SUMIF($AJ$5:$CD$5,N$5,$AJ39:$CD39)) -> 40.35 | P39: =L39*$C39 -> 141.075 | Q39: =M39*$C39 -> 152.2125 | R39: =N39*$C39 -> 332.8875 | T39: 2 | W39: 3+ | X39: 3- | Y39: 44896 | AA39: 310 | AB39: 20 | AC39: 110 | AE39: =AA39*C39 -> 2557.5 | AF39: =AB39*C39 -> 165 | AG39: =AC39*C39 -> 907.5 | AJ39: =AI39*$AJ$4 -> 0 | AK39: =AI39*$AK$4 -> 0 | AL39: =AI39*$AL$4 -> 0 | AM39: =AI39*C39 -> 0 | AO39: 15 | AP39: =AO39*$AP$4 -> 17.1 | AQ39: =AO39*$AQ$4 -> 18.45 | AR39: =AO39*$AR$4 -> 40.35 | AS39: =AO39*$C39 -> 123.75 | AX39: =AW39*$AX$4 -> 0 | AY39: =AW39*$AY$4 -> 0 | AZ39: =AW39*$AZ$4 -> 0 | BA39: =AW39*$C39 -> 0 | BD39: =BC39*$BD$4 -> 0 | BE39: =BA39*$C39 -> 0 | BJ39: =BI39*$BJ$4 -> 0 | BK39: =BH39*$C39 -> 0 | BP39: =BO39*$BP$4 -> 0 | BQ39: =BO39*$BQ$4 -> 0 | BR39: =BO39*$C39 -> 0 | BW39: =BV39*$BW$4 -> 0 | BX39: =BV39*$C39 -> 0 | CC39: =CB39*$CC$4 -> 0 | CD39: =CB39*$C39 -> 0
A40: 35 | B40: Opp China Cottage | C40: 7.56 | D40: Avon | E40: WW1 | F40: Grass | H40: =AA40-L40 -> 292.9 | I40: =AB40-M40 -> 1.55 | J40: =AC40-N40 -> 159.65 | L40: =(SUMIF($AJ$5:$CD$5,L$5,$AJ40:$CD40)) -> 17.1 | M40: =(SUMIF($AJ$5:$CD$5,M$5,$AJ40:$CD40)) -> 18.45 | N40: =(SUMIF($AJ$5:$CD$5,N$5,$AJ40:$CD40)) -> 40.35 | P40: =L40*$C40 -> 129.276 | Q40: =M40*$C40 -> 139.482 | R40: =N40*$C40 -> 305.046 | W40: 3 | X40: 2+ | Y40: 44896 | AA40: 310 | AB40: 20 | AC40: 200 | AE40: =AA40*C40 -> 2343.6 | AF40: =AB40*C40 -> 151.2 | AG40: =AC40*C40 -> 1512 | AJ40: =AI40*$AJ$4 -> 0 | AK40: =AI40*$AK$4 -> 0 | AL40: =AI40*$AL$4 -> 0 | AM40: =AI40*C40 -> 0 | AO40: 15 | AP40: =AO40*$AP$4 -> 17.1 | AQ40: =AO40*$AQ$4 -> 18.45 | AR40: =AO40*$AR$4 -> 40.35 | AS40: =AO40*$C40 -> 113.4 | AX40: =AW40*$AX$4 -> 0 | AY40: =AW40*$AY$4 -> 0 | AZ40: =AW40*$AZ$4 -> 0 | BA40: =AW40*$C40 -> 0 | BD40: =BC40*$BD$4 -> 0 | BE40: =BA40*$C40 -> 0 | BJ40: =BI40*$BJ$4 -> 0 | BK40: =BH40*$C40 -> 0 | BP40: =BO40*$BP$4 -> 0 | BQ40: =BO40*$BQ$4 -> 0 | BR40: =BO40*$C40 -> 0 | BW40: =BV40*$BW$4 -> 0 | BX40: =BV40*$C40 -> 0 | CC40: =CB40*$CC$4 -> 0 | CD40: =CB40*$C40 -> 0
A41: 36 | B41: Opp West Stowell | C41: 11.2 | D41: Avon | E41: Mz | F41: WW1 | H41: =AA41-L41 -> 220 | I41: =AB41-M41 -> 0 | J41: =AC41-N41 -> 0 | L41: =(SUMIF($AJ$5:$CD$5,L$5,$AJ41:$CD41)) -> 0 | M41: =(SUMIF($AJ$5:$CD$5,M$5,$AJ41:$CD41)) -> 0 | N41: =(SUMIF($AJ$5:$CD$5,N$5,$AJ41:$CD41)) -> 0 | P41: =L41*$C41 -> 0 | Q41: =M41*$C41 -> 0 | R41: =N41*$C41 -> 0 | T41: 1 | W41: 4 | X41: 4 | Y41: 44958 | AA41: 220 | AB41: 0 | AC41: 0 | AE41: =AA41*C41 -> 2464 | AF41: =AB41*C41 -> 0 | AG41: =AC41*C41 -> 0 | AJ41: =AI41*$AJ$4 -> 0 | AK41: =AI41*$AK$4 -> 0 | AL41: =AI41*$AL$4 -> 0 | AM41: =AI41*C41 -> 0 | AP41: =AO41*$AP$4 -> 0 | AQ41: =AO41*$AQ$4 -> 0 | AR41: =AO41*$AR$4 -> 0 | AS41: =AO41*$C41 -> 0 | AX41: =AW41*$AX$4 -> 0 | AY41: =AW41*$AY$4 -> 0 | AZ41: =AW41*$AZ$4 -> 0 | BA41: =AW41*$C41 -> 0 | BD41: =BC41*$BD$4 -> 0 | BE41: =BA41*$C41 -> 0 | BJ41: =BI41*$BJ$4 -> 0 | BK41: =BH41*$C41 -> 0 | BP41: =BO41*$BP$4 -> 0 | BQ41: =BO41*$BQ$4 -> 0 | BR41: =BO41*$C41 -> 0 | BW41: =BV41*$BW$4 -> 0 | BX41: =BV41*$C41 -> 0 | CC41: =CB41*$CC$4 -> 0 | CD41: =CB41*$C41 -> 0
...
