Workbook
Name _: [1]Upgraders!#REF!
Name _: [2]UPGRADERS!#REF!
Name _: [2]UPGRADERS!#REF!
Name _: [3]Upgraders!#REF!
Name _: [1]Upgraders!#REF!
Name _1: [2]UPGRADERS!#REF!
Name _1: [2]UPGRADERS!#REF!
Name _1: [3]Upgraders!#REF!
Name _1: [1]Upgraders!#REF!
Name _1_CAPEX_3: '[2]1_CH4_UPGRADE'!$H$38
Name _1_CAPEX_3: '[2]1_CH4_UPGRADE'!$H$38
Name _1_CAPEX_3: '[3]1_CH4_UPGRADE'!$H$38
Name _1_CAPEX_3: '[1]1_CH4_UPGRADE'!$H$38
Name _1_OPEX_3: '[2]1_CH4_UPGRADE'!$H$58
Name _1_OPEX_3: '[2]1_CH4_UPGRADE'!$H$58
Name _1_OPEX_3: '[3]1_CH4_UPGRADE'!$H$58
Name _1_OPEX_3: '[1]1_CH4_UPGRADE'!$H$58
Name _2_CAPEX_3: '[2]2_CO2_UPGRADE'!$H$23
Name _2_CAPEX_3: '[2]2_CO2_UPGRADE'!$H$23
Name _2_CAPEX_3: '[3]2_CO2_UPGRADE'!$H$23
Name _2_CAPEX_3: '[1]2_CO2_UPGRADE'!$H$23
Name _2_OPEX_3: '[2]2_CO2_UPGRADE'!$H$31
Name _2_OPEX_3: '[2]2_CO2_UPGRADE'!$H$31
Name _2_OPEX_3: '[3]2_CO2_UPGRADE'!$H$31
Name _2_OPEX_3: '[1]2_CO2_UPGRADE'!$H$31
Name _3_CAPEX_3: '[2]3_COMPRESSION'!$H$33
Name _3_CAPEX_3: '[2]3_COMPRESSION'!$H$33
Name _3_CAPEX_3: '[3]3_COMPRESSION'!$H$33
Name _3_CAPEX_3: '[1]3_COMPRESSION'!$H$33
Name _3_OPEX_3: '[2]3_COMPRESSION'!$H$41
Name _3_OPEX_3: '[2]3_COMPRESSION'!$H$41
Name _3_OPEX_3: '[3]3_COMPRESSION'!$H$41
Name _3_OPEX_3: '[1]3_COMPRESSION'!$H$41
Name _4_CAPEX_3: '[2]4_CIVILS'!$H$10
Name _4_CAPEX_3: '[2]4_CIVILS'!$H$10
Name _4_CAPEX_3: '[3]4_CIVILS'!$H$10
Name _4_CAPEX_3: '[1]4_CIVILS'!$H$10
Name _5_CAPEX_6: '[2]5_VIRTUAL-PIPELINE_Budds'!$H$24
Name _5_CAPEX_6: '[2]5_VIRTUAL-PIPELINE_Budds'!$H$24
Name _5_CAPEX_6: '[3]5_VIRTUAL-PIPELINE_Budds'!$H$24
Name _5_CAPEX_6: '[1]5_VIRTUAL-PIPELINE_Budds'!$H$24
Name _5_CAPEX_6b: '[4]5_VIRTUAL-PIPELINE'!$J$24
Name _5_CAPEX_YORKS_1: #REF!
Name _5_CAPEX_YORKS_1: #REF!
Name _5_CAPEX_YORKS_1: #REF!
Name _5_CAPEX_YORKS_1: #REF!
Name _5_OPEX_3a: '[2]5_VIRTUAL-PIPELINE'!$H$30
Name _5_OPEX_3a: '[2]5_VIRTUAL-PIPELINE'!$H$30
Name _5_OPEX_3a: '[3]5_VIRTUAL-PIPELINE'!$H$30
Name _5_OPEX_3a: '[1]5_VIRTUAL-PIPELINE'!$H$30
Name _5_OPEX_3b: '[4]5_VIRTUAL-PIPELINE'!$J$30
Name _6_CAPEX_3: '[2]6_INJECTION-HUB'!$I$13
Name _6_CAPEX_3: '[2]6_INJECTION-HUB'!$I$13
Name _6_CAPEX_3: '[3]6_INJECTION-HUB'!$I$13
Name _6_CAPEX_3: '[1]6_INJECTION-HUB'!$I$13
Name _6_OPEX_3: '[2]6_INJECTION-HUB'!$I$23
Name _6_OPEX_3: '[2]6_INJECTION-HUB'!$I$23
Name _6_OPEX_3: '[3]6_INJECTION-HUB'!$I$23
Name _6_OPEX_3: '[1]6_INJECTION-HUB'!$I$23
Name _ANNUAL_BIOGAS_FLOW_1: '[2]1_CH4_UPGRADE'!#REF!

Sheet Summary
B3: Ashton Keynes- carbon calculator key outputs | F3: Ashton Keynes - carbon calculator key assumptions
B4: Biogas production | C4: ='Energy centre'!E7 -> 20217255 | D4: Nm3 of biogas | F4: 0.1829 | G4: kgCO2e/kWh natural gas emissions (Scope 1, gross CV) | L4: =F4/3.6*1000 -> 50.805556 | M4: gCO2e/MJ (gross CV)
B5: Total Upgraded Biogas supplied | C5: ='Energy centre'!U7 -> 9996036.9 | D5: Nm3 of biomethane | F5: =0.03021-F18 -> 0.029202 | G5: kgCO2e/kWh natural gas emissions (Scope 3, gross CV) | L5: =F5/3.6*1000 -> 8.1116667 | M5: gCO2e/MJ (gross CV)
B6: Energy injected into the grid | C6: ='Energy centre'!U11 -> 1.0727725e+08 | D6: kWh/year (GCV) | F6: =F4+F5 -> 0.212102 | G6: kgCO2e/kWh natural gas emissions (Scope 1 + Scope 3) | L6: =L4+L5 -> 58.917222 | M6: gCO2e/MJ (gross CV)
B7: Total CO2 intensity biomethane | C7: ='Feed + carbon calculator'!FS21 -> -5934781.7 | D7: kg CO2e annually | F7: =7000*0.2686/1000 -> 1.8802 | G7: t/y/car
B8: CO2 that would have been emitted natural gas | C8: =F6*C6 -> 22753719 | D8: kg CO2e annually | F8: 25 | G8: kg/y/tree
B9: results in GHG savings of | C9: =C7-C8 -> -28688501 | D9: kg CO2e annually | F9: =F8/1000 -> 0.025 | G9: t/y/tree
B10: Saving vs natural gas | C10: =(C7-C8)/C8 -> -1.2608269 | F10: 11500 | G10: kWh/y heat demand per average UK household
B11: equivalent to the CO2 sequestered by | C11: =-C9/$F$8 -> 1147540 | D11: mature trees | F11: =100000*0.25*15 -> 375000 | G11: kWh/y per HGV
B12: football pitch = 7700m2; average 1750 trees per hectare = 1348 trees per football field | C12: =C11/1348 -> 851.29084 | D12: football pitches | F12: 87.64 | G12: gCO2eq/MJ diesel emissions
B13: equivalent to the CO2e emissions of | C13: =-C9/$F$7/1000 -> 15258.218 | D13: cars | F13: 2.9 | G13: MWhe/y per household
B14: households heating requirement | C14: =C6/$F$10 -> 9328.4566 | D14: households | F14: 0.499 | G14: Gas to power conversion
B15: if used to generate power | C15: =C6*F14/F13/1000 -> 18459.086 | D15: households
F16: 0.01 | G16: gCH4/MJ
F17: =F16*GHG_Emissions!E46 -> 0.28 | G17: gCO2e/MJ transmission losses
B18: Toggle CO2 capture % (utilisation) | C18: 1 | F18: =F17*3.6/1000 -> 0.001008 | G18: kgCO2e/kWh transmission losses
C21: =C8/C6 -> 0.212102

Sheet Feed + carbon calculator
A1: Ashton Keynes - Carbon Calculator | N1: Sn: Share of feedstock n, in fraction of input to the digester | S1: NPK requirement per hectare of cultivation | V1: Acorn digestate | AM1: N fertiliser embodied emissions (mineral fertiliser requirement after digestate) | AR1: P2O5 fertiliser embodied emissions (mineral fertiliser requirement after digestate) | AW1: K2O fertiliser embodied emissions (mineral fertiliser requirement after digestate) | BB1: Direct N2O emissions | BH1: Indirect N2O emissions | BO1: Lime fertiliser (CaO) | BT1: Seeds | BY1: Pesticide | CD1: On-farm fuel use (assuming diesel) | CJ1: Harvesting of Feedstocks (assuming diesel) | CP1: Ensiling Process | CU1: Eec: emissions from the extraction or cultivation of feedstock n | CX1: Etd,feedstock: emissions from transport of feedstock n to the digester; | DA1: El: annualised emissions from carbon stock changes caused by land-use change, for feedstock n; | DE1: Esca: emission savings from soil carbon accumulation via improved agricultural management | DI1: Biogas Boiler emissions | DL1: CHP1 emissions | DO1: CHP2 emissions | DR1: CHP3 emissions | DU1: Imported Power emissions | DX1: Surplus Energy emissions | EA1: Methane Slip upstream | ED1: Methane Slip downstream | EG1: CO2 Slip downstream | EJ1: Ep: emissions from processing | EM1: Transport to Point of Use | EP1: Injection at Hub | FG1: Etd, product: emissions from transport and distribution of biogas and/or biomethane | FJ1: Eu: emissions from the fuel in use | FM1: Eccs: emission savings from CO2 capture and geological storage | FP1: Eccr: emission savings from CO2 capture and replacement | FS1: E: total emissions from the production of the biogas or biomethane before energy conversion | FV1: Biomethane injected (GCV) | FW1: Biomethane injected (NCV)
A2: Feedstock (Inputs) | B2: Category | C2: Feedstock Mass Input (tonnes) | D2: Dry Matter (%) | E2: Volatile Solids (%) | F2: Methane Content (%) | G2: Specific Methane Yield (Nm3 CH4/tVS) | H2: Biogas Production (Nm3) | I2: Methane Production (Nm3) | J2: kWh (GCV) of Biomethane from feedstocks | K2: kWh (NCV) of Biomethane from feedstocks | L2: MJ (GCV) of Biomethane from feedstocks | M2: MJ (NCV) of Biomethane from feedstocks | N2: % of total | O2: gCO2e/MJ | Q2: Crop yield (tonnes of feedstock per hectare) | R2: Hectares of cultivation | S2: Crop N requirement | T2: Crop P requirement | U2: Crop K requirement | V2: Own Digestate used tonnes/ha | W2: Total digestate used tonnes/y | X2: Total N in own digestate kg/t | Y2: Own digestate used in application 1 tonnes/ha | Z2: N use efficiency in application 1 | AA2: Own digestate used in application 2 tonnes/ha | AB2: N use efficiency in application 2 | AC2: N from own digestate (CAN?) kg/ha | AD2: P in own digestate kg/t | AE2: Available to crop | AF2: Readily available P kg/t | AG2: P from own digestate kg/ha | AH2: K in own digestate kg/t | AI2: Available to crop | AJ2: Readily available K kg/t | AK2: K from own digestate kg/ha | AM2: kg/ha | AN2: kg/year | AO2: kgCO2-eq/kg | AP2: kgCO2e/yr | AQ2: gCO2e/MJ | AR2: kg/ha | AS2: kg/year | AT2: kgCO2-eq/kg | AU2: kgCO2e/yr | AV2: gCO2e/MJ | AW2: kg/ha | AX2: kg/year | AY2: kgCO2-eq/kg | AZ2: kgCO2e/yr | BA2: gCO2e/MJ | BB2: Total synthetic N fertiliser (Kg N/ha) | BC2: Total organic N fertiliser (Kg N/ha) | BD2: Emission factor (kg N2O/kg N.ha) | BE2: CO2e emissions from N2O (kg/yr) | BF2: Emissions (kgCO2e/ton feedstock) | BG2: Emissions (gCO2e/MJ fuel) | BH2: Total synthetic N fertiliser (Kg N/ha) | BI2: Total organic N fertiliser (Kg N/ha) | BJ2: Total N2O Emisssions (kg N2O/ha. yr) | BK2: Annual emissions (kgCO2e/yr) | BL2: Emissions (kgCO2e/ton feedstock) | BM2: Emissions (gCO2e/MJ fuel) | BO2: kg/ha | BP2: kg/year | BQ2: kgCO2-eq/kg | BR2: kgCO2-eq/yr | BS2: gCO2e/MJ | BT2: kg/ha | BU2: kg/year | BV2: kgCO2-eq/kg | BW2: kgCO2-eq/yr | BX2: gCO2e/MJ | BY2: kg/ha | BZ2: kg/year | CA2: kgCO2-eq/kg | CB2: kgCO2-eq/yr | CC2: gCO2e/MJ | CD2: litres/ha | CE2: litres of diesel/year | CF2: kgCO2-eq/litre | CG2: kgCO2-eq/yr | CH2: gCO2e/MJ | CJ2: MJ/tonne of feedstock | CK2: litres of diesel/year | CL2: kgCO2-eq/litre | CM2: kgCO2-eq/yr | CN2: gCO2e/MJ | CP2: MJ per tonne of feedstock | CQ2: gCO2-eq/MJ | CR2: Emissions kgCO2e/y | CS2: gCO2e/MJ | CU2: Emissions kgCO2e/y | CV2: gCO2e/ MJ | CX2: Emissions kgCO2e/y | CY2: gCO2e/ MJ | DA2: Land use change? | DB2: Emissions kgCO2e/y | DC2: gCO2e/ MJ | DE2: Emissions kgCO2e/y | DF2: gCO2e/ MJ | DI2: Emissions kgCO2e/y | DJ2: gCO2e/MJ | DL2: Emissions kgCO2e/y | DM2: gCO2e/MJ | DO2: Emissions kgCO2e/y | DP2: gCO2e/MJ | DR2: Emissions kgCO2e/y | DS2: gCO2e/MJ | DU2: Emissions kgCO2e/y | DV2: gCO2e/MJ | DX2: Emissions kgCO2e/y | DY2: gCO2e/MJ | EA2: Emissions kgCO2e/y | EB2: gCO2e/MJ | ED2: Emissions kgCO2e/y | EE2: gCO2e/MJ | EG2: Emissions kgCO2e/y | EH2: gCO2e/MJ | EJ2: Emissions kgCO2e/y | EK2: gCO2e/ MJ | EM2: Emissions kgCO2e/y | EN2: gCO2e/MJ | EP2: Power requirement at hub kWh/year | EQ2: MJ per kWh | ER2: Power requirement at hub MJ/year | ES2: gCO2-eq/MJ | ET2: Overall hub emissions kgCO2e/year | EU2: Proportion of emissions to this project | EV2: Emissions related to Injection at Hub kgCO2e/year | EW2: Gas supply requirement at hub Sm3/year | EX2: MJth per Sm3 of natural gas (HHV) | EY2: Heat requirement at hub MJ/year | EZ2: gCO2-eq/MJ | FA2: Emissions kgCO2e/y | FB2: Proportion of emissions to this project | FC2: Emissions related to Injection at Hub kgCO2e/y | FD2: Emissions kgCO2e/y | FE2: gCO2e/MJ | FG2: Emissions kgCO2e/y | FH2: gCO2e/ MJ | FJ2: Emissions kgCO2e/y | FK2: gCO2e/ MJ | FM2: Emissions kgCO2e/y | FN2: gCO2e/ MJ | FP2: Emissions kgCO2e/y | FQ2: gCO2e/ MJ | FS2: Emissions kgCO2e/y | FT2: gCO2e/ MJ | FV2: MJ | FW2: MJ
A3: Rye Silage | B3: Product | C3: 15000 | D3: 0.35 | E3: 0.95 | F3: 0.523 | G3: 340 | H3: =IFERROR(I3/F3,0) -> 3242351.8 | I3: =C3*D3*E3*G3 -> 1695750 | J3: =K3*$B$29 -> 18747458 | K3: =I3*$B$26 -> 16863292 | L3: =M3*$B$29 -> 67490850 | M3: =K3*3.6 -> 60707850 | N3: =IFERROR(M3/$M$21,"-") -> 0.14638443 | O3: =FT3 -> -13.02306 | Q3: =(32+40)/2 -> 36 | R3: =C3/Q3 -> 416.66667 | S3: 120 | T3: 85 | U3: 190 | V3: =Y3+AA3 -> 32 | W3: =R3*V3 -> 13333.333 | X3: 7.5 | Y3: =22*$Y$21 -> 22 | Z3: 0.49 | AA3: 10 | AB3: 0.53 | AC3: 120.6 | AD3: 2.6 | AE3: 0.49230769 | AF3: =AD3*AE3 -> 1.28 | AG3: =V3*AF3 -> 40.96 | AH3: 4.6 | AI3: =103/115 -> 0.89565217 | AJ3: =AH3*AI3 -> 4.12 | AK3: =V3*AJ3 -> 131.84 | AM3: =MAX(S3-AC3,0) -> 0 | AN3: =AM3*R3 -> 0 | AO3: =GHG_Emissions!$E$24/1000 -> 5.8806 | AP3: =AN3*AO3 -> 0 | AQ3: =IFERROR((AP3*1000/$FV$3),0) -> 0 | AR3: =MAX(T3-AG3,0) -> 44.04 | AS3: =AR3*R3 -> 18350 | AT3: =GHG_Emissions!$E$25/1000 -> 1.0107 | AU3: =AS3*AT3 -> 18546.345 | AV3: =IFERROR((AU3*1000/$FV$3),0) -> 0.32806002 | AW3: =MAX(U3-AK3,0) -> 58.16 | AX3: =AW3*R3 -> 24233.333 | AY3: =GHG_Emissions!$E$26/1000 -> 0.5761 | AZ3: =AX3*AY3 -> 13960.823 | BA3: =IFERROR((AZ3*1000/$FV$3),0) -> 0.24694828 | BB3: =AM3 -> 0 | BC3: =AC3 -> 120.6 | BD3: =(BB3+BC3)*GHG_Emissions!$E$38*AH3 -> 5.5476 | BE3: =BD3*(44*265/28) -> 2310.1791 | BF3: =BE3/($C3*$D3) -> 0.44003412 | BG3: =IFERROR((BE3*1000/$FV$3),0) -> 0.040863977 | BH3: =AM3 -> 0 | BI3: =AC3 -> 120.6 | BJ3: =(BH3*GHG_Emissions!$E$41+BI3*GHG_Emissions!$E$42)*GHG_Emissions!$E$39+(BH3+BI3)*GHG_Emissions!$E$43*GHG_Emissions!$E$40 -> 0.51255 | BK3: =BJ3*(44/28)*265 -> 213.44046 | BL3: =BK3/($C3*$D3) -> 0.040655327 | BM3: =IFERROR((BK3*1000/$FV$3),0) -> 0.0037754761 | BO3: 0 | BP3: =BO3*$R3 -> 0 | BQ3: =GHG_Emissions!$E$28/1000 -> 0.1295 | BR3: =BP3*BQ3 -> 0 | BS3: =IFERROR((BR3*1000/$FV$3),0) -> 0 | BT3: 120 | BU3: =BT3*$R3 -> 50000 | BV3: =GHG_Emissions!$E$30/1000 -> 0.02899 | BW3: =BU3*BV3 -> 1449.5 | BX3: =IFERROR((BW3*1000/$FV$3),0) -> 0.025639715 | BY3: 4.55 | BZ3: =BY3*$R3 -> 1895.8333 | CA3: =GHG_Emissions!$E$29/1000 -> 10.9713 | CB3: =BZ3*CA3 -> 20799.756 | CC3: =IFERROR((CB3*1000/$FV$3),0) -> 0.36791985 | CD3: 79.18 | CE3: =CD3*$R3 -> 32991.667 | CF3: =EnergyConversions!$B$52*(GHG_Emissions!$C$4+GHG_Emissions!$C$5) -> 3.1220784 | CG3: =CE3*CF3 -> 103002.57 | CH3: =IFERROR((CG3*1000/$FV$3),0) -> 1.8219776 | CJ3: 21.96 | CK3: =CJ3*C3/GHG_Conversions!$G$11 -> 9185.9272 | CL3: =EnergyConversions!$B$52*(GHG_Emissions!$C$4+GHG_Emissions!$C$5) -> 3.1220784 | CM3: =CK3*CL3 -> 28679.185 | CN3: =IFERROR(CM3*1000/$FV$3,0) -> 0.50729639 | CP3: 13.97 | CQ3: =(GHG_Emissions!$E$4+GHG_Emissions!$E$5) -> 87.733333 | CR3: =C3*CP3*CQ3/1000 -> 18384.52 | CS3: =IFERROR((CR3*1000/$FV$3),0) -> 0.32519755 | CU3: =BE3+BK3+AP3+AU3+AZ3+BR3+BW3+CB3+CG3+CM3+CR3 -> 207346.32 | CV3: =IFERROR((CU3*1000/$FV$3),0) -> 3.6676789 | CX3: =SUMIF(Transport!B:B,'Feed + carbon calculator'!A3,Transport!M:M) -> 34643.242 | CY3: =IFERROR(CX3/$FV3*1000,0) -> 0.61279258 | DA3: No | DB3: 0 | DC3: 0 | DE3: 0 | DF3: =IFERROR(DE3/$FV$3*1000,0) -> 0 | DI3: =DI21*$N3 -> 0 | DJ3: =IFERROR(DI3/$FV$3*1000,0) -> 0 | DL3: =$DL$21*$N3 -> 49976.831 | DM3: =IFERROR(DL3/$FV$3*1000,0) -> 0.88402326 | DO3: =$DO$21*$N3 -> 629670.74 | DP3: =IFERROR(DO3/$FV$3*1000,0) -> 11.138033 | DR3: =$DR$21*$N3 -> 0 | DS3: =IFERROR(DR3/$FV$3*1000,0) -> 0 | DU3: =$DU$21*$N3 -> 39825.89 | DV3: =IFERROR(DU3/$FV$3*1000,0) -> 0.70446669 | DX3: =$DX$21*$N3 -> -91549.97 | DY3: =IFERROR(DX3/$FV$3*1000,0) -> -1.6193964 | ED3: =$ED$21*$N3 -> 117546.51 | EE3: =IFERROR(ED3/$FV$3*1000,0) -> 2.0792404 | EG3: =$I$28*7.5%*N3*$EG$24 -> 0 | EH3: =IFERROR(EG3/$FV$3*1000,0) -> 0 | EJ3: =IFERROR(DI3+DL3+DO3+DR3+DU3+DX3+EA3+ED3+EG3,0) -> 745470 | EK3: =IFERROR(EJ3/$FV$3*1000,0) -> 13.186367 | EM3: =$EM$21*N3 -> 52631.763 | EN3: =IFERROR(EM3/$FV$3*1000,0) -> 0.93098544 | FD3: =$FD$21*$N3 -> 19137.743 | FE3: =IFERROR(FD3/$FV$3*1000,0) -> 0.33852106 | FG3: =IFERROR(EM3+FD3,0) -> 71769.506 | FH3: =IFERROR(FG3/$FV$3*1000,0) -> 1.2695065 | FJ3: 0 | FK3: =IFERROR(FJ3/$FV$3*1000,0) -> 0 | FM3: =IFERROR(-$I$28*N3*$FN$23,0) -> 0 | FN3: =IFERROR(FM3/$FV$3*1000,0) -> 0 | FP3: =IFERROR(-$I$28*N3*$FQ$23,0) -> -1867236.3 | FQ3: =IFERROR(FP3/$FV3*1000,0) -> -33.028911 | FS3: =CU3+CX3+DB3+DE3+EJ3+FG3+FJ3+FM3+FP3+EM3+FD3 -> -736237.72 | FT3: =CV3+CY3+DC3+DF3+EK3+FH3+FK3+FN3+FQ3+FE3+EN3 -> -13.02306 | FV3: =$FV$21*N3 -> 56533390 | FW3: =FV3/$B$29 -> 50851642
A4: Maize | B4: Product | C4: 12000 | D4: 0.32 | E4: 0.97 | F4: 0.52 | G4: 370 | H4: =IFERROR(I4/F4,0) -> 2650338.5 | I4: =C4*D4*E4*G4 -> 1378176 | J4: =K4*$B$29 -> 15236501 | K4: =I4*$B$26 -> 13705195 | L4: =M4*$B$29 -> 54851405 | M4: =K4*3.6 -> 49338701 | N4: =IFERROR(M4/$M$21,"-") -> 0.11897008 | O4: =FT4 -> -17.212844 | Q4: =(38+48)/2 -> 43 | R4: =C4/Q4 -> 279.06977 | S4: 100 | T4: 85 | U4: 205 | V4: =Y4+AA4 -> 25 | W4: =R4*V4 -> 6976.7442 | X4: 7.5 | Y4: 25 | Z4: 0.53 | AA4: 0 | AB4: 0 | AC4: 100.011 | AD4: 3.6 | AE4: 0.49230769 | AF4: =AD4*AE4 -> 1.7723077 | AG4: =V4*AF4 -> 44.307692 | AH4: 5.6 | AI4: =103/115 -> 0.89565217 | AJ4: =AH4*AI4 -> 5.0156522 | AK4: =V4*AJ4 -> 125.3913 | AM4: =MAX(S4-AC4,0) -> 0 | AN4: =AM4*R4 -> 0 | AO4: =GHG_Emissions!$E$24/1000 -> 5.8806 | AP4: =AN4*AO4 -> 0 | AQ4: =IFERROR((AP4*1000/$FV$3),0) -> 0 | AR4: =MAX(T4-AG4,0) -> 40.692308 | AS4: =AR4*R4 -> 11355.993 | AT4: =GHG_Emissions!$E$25/1000 -> 1.0107 | AU4: =AS4*AT4 -> 11477.502 | AV4: =IFERROR((AU4*1000/$FV$3),0) -> 0.20302165 | AW4: =MAX(U4-AK4,0) -> 79.608696 | AX4: =AW4*R4 -> 22216.38 | AY4: =GHG_Emissions!$E$26/1000 -> 0.5761 | AZ4: =AX4*AY4 -> 12798.857 | BA4: =IFERROR((AZ4*1000/$FV$3),0) -> 0.22639464 | BB4: =AM4 -> 0 | BC4: =AC4 -> 100.011 | BD4: =(BB4+BC4)*GHG_Emissions!$E$38*AH4 -> 5.600616 | BE4: =BD4*(44*265/28) -> 2332.2565 | BF4: =BE4/($C4*$D4) -> 0.60735847 | BG4: =IFERROR((BE4*1000/$FV$3),0) -> 0.041254496 | BH4: =AM4 -> 0 | BI4: =AC4 -> 100.011 | BJ4: =(BH4*GHG_Emissions!$E$41+BI4*GHG_Emissions!$E$42)*GHG_Emissions!$E$39+(BH4+BI4)*GHG_Emissions!$E$43*GHG_Emissions!$E$40 -> 0.42504675 | BK4: =BJ4*(44/28)*265 -> 177.00161 | BL4: =BK4/($C4*$D4) -> 0.04609417 | BM4: =IFERROR((BK4*1000/$FV$3),0) -> 0.0031309216 | BO4: 0 | BP4: =BO4*$R4 -> 0 | BQ4: =GHG_Emissions!$E$28/1000 -> 0.1295 | BR4: =BP4*BQ4 -> 0 | BS4: =IFERROR((BR4*1000/$FV$3),0) -> 0 | BT4: 25 | BU4: =BT4*$R4 -> 6976.7442 | BV4: =GHG_Emissions!$E$30/1000 -> 0.02899 | BW4: =BU4*BV4 -> 202.25581 | BX4: =IFERROR((BW4*1000/$FV$3),0) -> 0.0035776346 | BY4: 6.7 | BZ4: =BY4*$R4 -> 1869.7674 | CA4: =GHG_Emissions!$E$29/1000 -> 10.9713 | CB4: =BZ4*CA4 -> 20513.78 | CC4: =IFERROR((CB4*1000/$FV$3),0) -> 0.3628613 | CD4: 60.1 | CE4: =CD4*$R4 -> 16772.093 | CF4: =EnergyConversions!$B$52*(GHG_Emissions!$C$4+GHG_Emissions!$C$5) -> 3.1220784 | CG4: =CE4*CF4 -> 52363.789 | CH4: =IFERROR((CG4*1000/$FV$3),0) -> 0.92624535 | CJ4: 21.96 | CK4: =CJ4*C4/GHG_Conversions!$G$11 -> 7348.7417 | CL4: =EnergyConversions!$B$52*(GHG_Emissions!$C$4+GHG_Emissions!$C$5) -> 3.1220784 | CM4: =CK4*CL4 -> 22943.348 | CN4: =IFERROR(CM4*1000/$FV$3,0) -> 0.40583712 | CP4: 13.97 | CQ4: =(GHG_Emissions!$E$4+GHG_Emissions!$E$5) -> 87.733333 | CR4: =C4*CP4*CQ4/1000 -> 14707.616 | CS4: =IFERROR((CR4*1000/$FV$3),0) -> 0.26015804 | CU4: =BE4+BK4+AP4+AU4+AZ4+BR4+BW4+CB4+CG4+CM4+CR4 -> 137516.41 | CV4: =IFERROR((CU4*1000/$FV$3),0) -> 2.4324812 | CX4: =SUMIF(Transport!B:B,'Feed + carbon calculator'!A4,Transport!M:M) -> 27714.594 | CY4: =IFERROR(CX4/$FV4*1000,0) -> 0.60319902 | DA4: No | DB4: 0 | DC4: 0 | DE4: 0 | DF4: =IFERROR(DE4/$FV$3*1000,0) -> 0 | DI4: =DI22*$N4 -> 0 | DJ4: =IFERROR(DI4/$FV$3*1000,0) -> 0 | DL4: =$DL$21*$N4 -> 40617.349 | DM4: =IFERROR(DL4/$FV$3*1000,0) -> 0.71846654 | DO4: =$DO$21*$N4 -> 511748.25 | DP4: =IFERROR(DO4/$FV$3*1000,0) -> 9.0521417 | DR4: =$DR$21*$N4 -> 0 | DS4: =IFERROR(DR4/$FV$3*1000,0) -> 0 | DU4: =$DU$21*$N4 -> 32367.44 | DV4: =IFERROR(DU4/$FV$3*1000,0) -> 0.57253669 | DX4: =$DX$21*$N4 -> -74404.819 | DY4: =IFERROR(DX4/$FV$3*1000,0) -> -1.3161217 | ED4: =$ED$21*$N4 -> 95532.819 | EE4: =IFERROR(ED4/$FV$3*1000,0) -> 1.6898477 | EG4: =$I$28*7.5%*N4*$EG$24 -> 0 | EH4: =IFERROR(EG4/$FV$3*1000,0) -> 0 | EJ4: =IFERROR(DI4+DL4+DO4+DR4+DU4+DX4+EA4+ED4+EG4,0) -> 605861.04 | EK4: =IFERROR(EJ4/$FV$3*1000,0) -> 10.716871 | EM4: =$EM$21*N4 -> 42775.074 | EN4: =IFERROR(EM4/$FV$3*1000,0) -> 0.75663381 | FD4: =$FD$21*$N4 -> 15553.695 | FE4: =IFERROR(FD4/$FV$3*1000,0) -> 0.27512405 | FG4: =IFERROR(EM4+FD4,0) -> 58328.77 | FH4: =IFERROR(FG4/$FV$3*1000,0) -> 1.0317579 | FJ4: 0 | FK4: =IFERROR(FJ4/$FV$3*1000,0) -> 0 | FM4: =IFERROR(-$I$28*N4*$FN$23,0) -> 0 | FN4: =IFERROR(FM4/$FV$3*1000,0) -> 0 | FP4: =IFERROR(-$I$28*N4*$FQ$23,0) -> -1517547 | FQ4: =IFERROR(FP4/$FV4*1000,0) -> -33.028911 | FS4: =CU4+CX4+DB4+DE4+EJ4+FG4+FJ4+FM4+FP4+EM4+FD4 -> -629797.37 | FT4: =CV4+CY4+DC4+DF4+EK4+FH4+FK4+FN4+FQ4+FE4+EN4 -> -17.212844 | FV4: =$FV$21*N4 -> 45946019 | FW4: =FV4/$B$29 -> 41328328
A5: Grass Silage | B5: Product | C5: 14000 | D5: 0.35 | E5: 0.93 | F5: 0.53 | G5: 318 | H5: =IFERROR(I5/F5,0) -> 2734200 | I5: =C5*D5*E5*G5 -> 1449126 | J5: =K5*$B$29 -> 16020893 | K5: =I5*$B$26 -> 14410753 | L5: =M5*$B$29 -> 57675215 | M5: =K5*3.6 -> 51878711 | N5: =IFERROR(M5/$M$21,"-") -> 0.12509479 | O5: =FT5 -> -14.472772 | Q5: =(55+75)/2 -> 65 | R5: =C5/Q5 -> 215.38462 | S5: 300 | T5: 70 | U5: 100 | V5: =Y5+AA5 -> 33 | W5: =R5*V5 -> 7107.6923 | X5: 7.5 | Y5: 18 | Z5: 0.63 | AA5: 15 | AB5: 0.66 | AC5: 159.3 | AD5: 4.6 | AE5: 0.51282051 | AF5: =AD5*AE5 -> 2.3589744 | AG5: =V5*AF5 -> 77.846154 | AH5: 6.6 | AI5: =103/115 -> 0.89565217 | AJ5: =AH5*AI5 -> 5.9113043 | AK5: =V5*AJ5 -> 195.07304 | AM5: =MAX(S5-AC5,0) -> 140.7 | AN5: =AM5*R5 -> 30304.615 | AO5: =GHG_Emissions!$E$24/1000 -> 5.8806 | AP5: =AN5*AO5 -> 178209.32 | AQ5: =IFERROR((AP5*1000/$FV$3),0) -> 3.1522844 | AR5: =MAX(T5-AG5,0) -> 0 | AS5: =AR5*R5 -> 0 | AT5: =GHG_Emissions!$E$25/1000 -> 1.0107 | AU5: =AS5*AT5 -> 0 | AV5: =IFERROR((AU5*1000/$FV$3),0) -> 0 | AW5: =MAX(U5-AK5,0) -> 0 | AX5: =AW5*R5 -> 0 | AY5: =GHG_Emissions!$E$26/1000 -> 0.5761 | AZ5: =AX5*AY5 -> 0 | BA5: =IFERROR((AZ5*1000/$FV$3),0) -> 0 | BB5: =AM5 -> 140.7 | BC5: =AC5 -> 159.3 | BD5: =(BB5+BC5)*GHG_Emissions!$E$38*AH5 -> 19.8 | BE5: =BD5*(44*265/28) -> 8245.2857 | BF5: =BE5/($C5*$D5) -> 1.6827114 | BG5: =IFERROR((BE5*1000/$FV$3),0) -> 0.14584807 | BH5: =AM5 -> 140.7 | BI5: =AC5 -> 159.3 | BJ5: =(BH5*GHG_Emissions!$E$41+BI5*GHG_Emissions!$E$42)*GHG_Emissions!$E$39+(BH5+BI5)*GHG_Emissions!$E$43*GHG_Emissions!$E$40 -> 1.1343 | BK5: =BJ5*(44/28)*265 -> 472.35493 | BL5: =BK5/($C5*$D5) -> 0.096398965 | BM5: =IFERROR((BK5*1000/$FV$3),0) -> 0.0083553265 | BO5: 200 | BP5: =BO5*$R5 -> 43076.923 | BQ5: =GHG_Emissions!$E$28/1000 -> 0.1295 | BR5: =BP5*BQ5 -> 5578.4615 | BS5: =IFERROR((BR5*1000/$FV$3),0) -> 0.098675518 | BT5: 3.3 | BU5: =BT5*$R5 -> 710.76923 | BV5: =GHG_Emissions!$E$30/1000 -> 0.02899 | BW5: =BU5*BV5 -> 20.6052 | BX5: =IFERROR((BW5*1000/$FV$3),0) -> 0.00036447841 | BY5: 0.72 | BZ5: =BY5*$R5 -> 155.07692 | CA5: =GHG_Emissions!$E$29/1000 -> 10.9713 | CB5: =BZ5*CA5 -> 1701.3954 | CC5: =IFERROR((CB5*1000/$FV$3),0) -> 0.030095408 | CD5: 8.45 | CE5: =CD5*$R5 -> 1820 | CF5: =EnergyConversions!$B$52*(GHG_Emissions!$C$4+GHG_Emissions!$C$5) -> 3.1220784 | CG5: =CE5*CF5 -> 5682.1827 | CH5: =IFERROR((CG5*1000/$FV$3),0) -> 0.10051021 | CJ5: 21.96 | CK5: =CJ5*C5/GHG_Conversions!$G$11 -> 8573.532 | CL5: =EnergyConversions!$B$52*(GHG_Emissions!$C$4+GHG_Emissions!$C$5) -> 3.1220784 | CM5: =CK5*CL5 -> 26767.239 | CN5: =IFERROR(CM5*1000/$FV$3,0) -> 0.47347663 | CP5: 13.97 | CQ5: =(GHG_Emissions!$E$4+GHG_Emissions!$E$5) -> 87.733333 | CR5: =C5*CP5*CQ5/1000 -> 17158.885 | CS5: =IFERROR((CR5*1000/$FV$3),0) -> 0.30351772 | CU5: =BE5+BK5+AP5+AU5+AZ5+BR5+BW5+CB5+CG5+CM5+CR5 -> 243835.73 | CV5: =IFERROR((CU5*1000/$FV$3),0) -> 4.3131277 | CX5: =SUMIF(Transport!B:B,'Feed + carbon calculator'!A5,Transport!M:M) -> 32333.693 | CY5: =IFERROR(CX5/$FV5*1000,0) -> 0.66927708 | DA5: No | DB5: 0 | DC5: 0 | DE5: 0 | DF5: =IFERROR(DE5/$FV$3*1000,0) -> 0 | DI5: =DI22*$N5 -> 0 | DJ5: =IFERROR(DI5/$FV$5*1000,0) -> 0 | DL5: =$DL$21*$N5 -> 42708.374 | DM5: =IFERROR(DL5/$FV$5*1000,0) -> 0.88402326 | DO5: =$DO$21*$N5 -> 538093.61 | DP5: =IFERROR(DO5/$FV$5*1000,0) -> 11.138033 | DR5: =$DR$21*$N5 -> 0 | DS5: =IFERROR(DR5/$FV$5*1000,0) -> 0 | DU5: =$DU$21*$N5 -> 34033.751 | DV5: =IFERROR(DU5/$FV$5*1000,0) -> 0.70446669 | DX5: =$DX$21*$N5 -> -78235.26 | DY5: =IFERROR(DX5/$FV$5*1000,0) -> -1.6193964 | ED5: =$ED$21*$N5 -> 100450.95 | EE5: =IFERROR(ED5/$FV$5*1000,0) -> 2.0792404 | EG5: =$I$28*7.5%*N5*$EG$24 -> 0 | EH5: =IFERROR(EG5/$FV$5*1000,0) -> 0 | EJ5: =IFERROR(DI5+DL5+DO5+DR5+DU5+DX5+EA5+ED5+EG5,0) -> 637051.43 | EK5: =IFERROR(EJ5/$FV$3*1000,0) -> 11.268587 | EM5: =$EM$21*N5 -> 44977.182 | EN5: =IFERROR(EM5/$FV$5*1000,0) -> 0.93098544 | FD5: =$FD$21*$N5 -> 16354.416 | FE5: =IFERROR(FD5/$FV$3*1000,0) -> 0.28928773 | FG5: =IFERROR(EM5+FD5,0) -> 61331.598 | FH5: =IFERROR(FG5/$FV$3*1000,0) -> 1.0848739 | FJ5: 0 | FK5: =IFERROR(FJ5/$FV$3*1000,0) -> 0 | FM5: =IFERROR(-$I$28*N5*$FN$23,0) -> 0 | FN5: =IFERROR(FM5/$FV$3*1000,0) -> 0 | FP5: =IFERROR(-$I$28*N5*$FQ$23,0) -> -1595671.9 | FQ5: =IFERROR(FP5/$FV5*1000,0) -> -33.028911 | FS5: =CU5+CX5+DB5+DE5+EJ5+FG5+FJ5+FM5+FP5+EM5+FD5 -> -559787.87 | FT5: =CV5+CY5+DC5+DF5+EK5+FH5+FK5+FN5+FQ5+FE5+EN5 -> -14.472772 | FV5: =$FV$21*N5 -> 48311370 | FW5: =FV5/$B$29 -> 43455956
A6: Straw | B6: Waste/Residue | C6: 20000 | D6: 0.8688 | E6: 0.9156 | F6: 0.61 | G6: 300 | H6: =IFERROR(I6/F6,0) -> 7824327.3 | I6: =C6*D6*E6*G6 -> 4772839.7 | J6: =K6*$B$29 -> 52766394 | K6: =I6*$B$26 -> 47463239 | L6: =M6*$B$29 -> 1.8995902e+08 | M6: =K6*3.6 -> 1.7086766e+08 | N6: =IFERROR(M6/$M$21,"-") -> 0.41201204 | O6: =FT6 -> 11.818839 | CX6: =SUMIF(Transport!B:B,'Feed + carbon calculator'!A6,Transport!M:M) -> 22485.75 | CY6: =IFERROR(CX6/$FV6*1000,0) -> 0.1413147 | DA6: No | DB6: 0 | DC6: 0 | DE6: 0 | DF6: =IFERROR(DE6/$FV$3*1000,0) -> 0 | DI6: =DI23*$N6 -> 0 | DJ6: =IFERROR(DI6/$FV$5*1000,0) -> 0 | DL6: =$DL$21*$N6 -> 140664.25 | DM6: =IFERROR(DL6/$FV$5*1000,0) -> 2.9116179 | DO6: =$DO$21*$N6 -> 1772264.5 | DP6: =IFERROR(DO6/$FV$5*1000,0) -> 36.684211 | DR6: =$DR$21*$N6 -> 0 | DS6: =IFERROR(DR6/$FV$5*1000,0) -> 0 | DU6: =$DU$21*$N6 -> 112093.52 | DV6: =IFERROR(DU6/$FV$6*1000,0) -> 0.70446669 | DX6: =$DX$21*$N6 -> -257675.56 | DY6: =IFERROR(DX6/$FV$6*1000,0) -> -1.6193964 | ED6: =$ED$21*$N6 -> 330845.14 | EE6: =IFERROR(ED6/$FV$5*1000,0) -> 6.8481838 | EG6: =$I$28*7.5%*N6*$EG$24 -> 0 | EH6: =IFERROR(EG6/$FV$6*1000,0) -> 0 | EJ6: =IFERROR(DI6+DL6+DO6+DR6+DU6+DX6+EA6+ED6+EG6,0) -> 2098191.8 | EK6: =IFERROR(EJ6/$FV$3*1000,0) -> 37.114205 | EM6: =$EM$21*N6 -> 148136.79 | EN6: =IFERROR(EM6/$FV$5*1000,0) -> 3.0662925 | FD6: =$FD$21*$N6 -> 53864.886 | FE6: =IFERROR(FD6/$FV$3*1000,0) -> 0.95279774 | FG6: =IFERROR(EM6+FD6,0) -> 202001.68 | FH6: =IFERROR(FG6/$FV$3*1000,0) -> 3.5731393 | FJ6: 0 | FK6: =IFERROR(FJ6/$FV$3*1000,0) -> 0 | FM6: =IFERROR(-$I$28*N6*$FN$23,0) -> 0 | FN6: =IFERROR(FM6/$FV$3*1000,0) -> 0 | FP6: =IFERROR(-$I$28*N6*$FQ$23,0) -> -5255503.2 | FQ6: =IFERROR(FP6/$FV6*1000,0) -> -33.028911 | FS6: =CU6+CX6+DB6+DE6+EJ6+FG6+FJ6+FM6+FP6+EM6+FD6 -> -2730822.2 | FT6: =CV6+CY6+DC6+DF6+EK6+FH6+FK6+FN6+FQ6+FE6+EN6 -> 11.818839 | FV6: =$FV$21*N6 -> 1.5911827e+08 | FW6: =FV6/$B$29 -> 1.4312648e+08
A7: Farm Yard Manure | B7: Waste/Residue | C7: 10000 | D7: 0.25 | E7: 0.8 | F7: 0.525 | G7: 248 | H7: =IFERROR(I7/F7,0) -> 944761.9 | I7: =C7*D7*E7*G7 -> 496000 | J7: =K7*$B$29 -> 5483555.6 | K7: =I7*$B$26 -> 4932444.4 | L7: =M7*$B$29 -> 19740800 | M7: =K7*3.6 -> 17756800 | N7: =IFERROR(M7/$M$21,"-") -> 0.042816853 | O7: =FT7 -> -27.114803 | CX7: =SUMIF(Transport!B:B,'Feed + carbon calculator'!A7,Transport!M:M) -> 20969.929 | CY7: =IFERROR(CX7/$FV7*1000,0) -> 1.2681542 | DA7: No | DB7: 0 | DC7: 0 | DE7: 0 | DF7: =IFERROR(DE7/$FV$3*1000,0) -> 0 | DI7: =DI24*$N7 -> 0 | DJ7: =IFERROR(DI7/$FV$5*1000,0) -> 0 | DL7: =$DL$21*$N7 -> 14618.021 | DM7: =IFERROR(DL7/$FV$5*1000,0) -> 0.3025793 | DO7: =$DO$21*$N7 -> 184176.14 | DP7: =IFERROR(DO7/$FV$5*1000,0) -> 3.8122732 | DR7: =$DR$21*$N7 -> 0 | DS7: =IFERROR(DR7/$FV$5*1000,0) -> 0 | DU7: =$DU$21*$N7 -> 11648.911 | DV7: =IFERROR(DU7/$FV$6*1000,0) -> 0.073209138 | DX7: =$DX$21*$N7 -> -26777.995 | DY7: =IFERROR(DX7/$FV$6*1000,0) -> -0.16828988 | ED7: =$ED$21*$N7 -> 34381.877 | EE7: =IFERROR(ED7/$FV$5*1000,0) -> 0.71167259 | EJ7: =IFERROR(DI7+DL7+DO7+DR7+DU7+DX7+EA7+ED7+EG7,0) -> 218046.95 | EK7: =IFERROR(EJ7/$FV$3*1000,0) -> 3.8569587 | EM7: =$EM$21*N7 -> 15394.577 | EN7: =IFERROR(EM7/$FV$5*1000,0) -> 0.3186533 | FD7: =$FD$21*$N7 -> 5597.7123 | FE7: =IFERROR(FD7/$FV$3*1000,0) -> 0.099016039 | FG7: =IFERROR(EM7+FD7,0) -> 20992.29 | FH7: =IFERROR(FG7/$FV$3*1000,0) -> 0.37132551 | FJ7: 0 | FK7: =IFERROR(FJ7/$FV$3*1000,0) -> 0 | FM7: =IFERROR(-$I$28*N7*$FN$23,0) -> 0 | FN7: =IFERROR(FM7/$FV$3*1000,0) -> 0 | FP7: =IFERROR(-$I$28*N7*$FQ$23,0) -> -546159.05 | FQ7: =IFERROR(FP7/$FV7*1000,0) -> -33.028911 | FS7: =CU7+CX7+DB7+DE7+EJ7+FG7+FJ7+FM7+FP7+EM7+FD7 -> -265157.59 | FT7: =CV7+CY7+DC7+DF7+EK7+FH7+FK7+FN7+FQ7+FE7+EN7 -> -27.114803 | FV7: =$FV$21*N7 -> 16535787 | FW7: =FV7/$B$29 -> 14873899
A8: Poultry Manure | B8: Waste/Residue | C8: 15000 | D8: 0.68 | E8: 0.72 | F8: 0.64 | G8: 233 | H8: =IFERROR(I8/F8,0) -> 2673675 | I8: =C8*D8*E8*G8 -> 1711152 | J8: =K8*$B$29 -> 18917736 | K8: =I8*$B$26 -> 17016456 | L8: =M8*$B$29 -> 68103850 | M8: =K8*3.6 -> 61259242 | N8: =IFERROR(M8/$M$21,"-") -> 0.147714 | O8: =FT8 -> -16.727939 | CX8: =SUMIF(Transport!B:B,'Feed + carbon calculator'!A8,Transport!M:M) -> 15567.058 | CY8: =IFERROR(CX8/$FV8*1000,0) -> 0.27288191 | DE8: 0 | DF8: =IFERROR(DE8/$FV$3*1000,0) -> 0 | DI8: =DI25*$N8 -> 0 | DJ8: =IFERROR(DI8/$FV$5*1000,0) -> 0 | DL8: =$DL$21*$N8 -> 50430.756 | DM8: =IFERROR(DL8/$FV$5*1000,0) -> 1.0438693 | DO8: =$DO$21*$N8 -> 635389.85 | DP8: =IFERROR(DO8/$FV$5*1000,0) -> 13.151974 | DR8: =$DR$21*$N8 -> 0 | DS8: =IFERROR(DR8/$FV$5*1000,0) -> 0 | DU8: =$DU$21*$N8 -> 40187.617 | DV8: =IFERROR(DU8/$FV$6*1000,0) -> 0.25256444 | DX8: =$DX$21*$N8 -> -92381.492 | DY8: =IFERROR(DX8/$FV$6*1000,0) -> -0.58058381 | ED8: =$ED$21*$N8 -> 118614.15 | EE8: =IFERROR(ED8/$FV$5*1000,0) -> 2.4552016 | EG8: =$I$28*7.5%*N8*$EG$24 -> 0 | EH8: =IFERROR(EG8/$FV$8*1000,0) -> 0 | EJ8: =IFERROR(DI8+DL8+DO8+DR8+DU8+DX8+EA8+ED8+EG8,0) -> 752240.89 | EK8: =IFERROR(EJ8/$FV$3*1000,0) -> 13.306134 | EM8: =$EM$21*N8 -> 53109.802 | EN8: =IFERROR(EM8/$FV$5*1000,0) -> 1.099323 | FD8: =$FD$21*$N8 -> 19311.566 | FE8: =IFERROR(FD8/$FV$3*1000,0) -> 0.34159575 | FG8: =IFERROR(EM8+FD8,0) -> 72421.368 | FH8: =IFERROR(FG8/$FV$3*1000,0) -> 1.2810371 | FJ8: 0 | FK8: =IFERROR(FJ8/$FV$3*1000,0) -> 0 | FM8: =IFERROR(-$I$28*N8*$FN$23,0) -> 0 | FN8: =IFERROR(FM8/$FV$3*1000,0) -> 0 | FP8: =IFERROR(-$I$28*N8*$FQ$23,0) -> -1884195.9 | FQ8: =IFERROR(FP8/$FV8*1000,0) -> -33.028911 | FS8: =CU8+CX8+DB8+DE8+EJ8+FG8+FJ8+FM8+FP8+EM8+FD8 -> -971545.18 | FT8: =CV8+CY8+DC8+DF8+EK8+FH8+FK8+FN8+FQ8+FE8+EN8 -> -16.727939 | FV8: =$FV$21*N8 -> 57046866 | FW8: =FV8/$B$29 -> 51313513
A9: Dairy Slurry | B9: Waste/Residue | C9: 5000 | D9: 0.11 | E9: 0.9 | F9: 0.55 | G9: 164 | H9: =IFERROR(I9/F9,0) -> 147600 | I9: =C9*D9*E9*G9 -> 81180 | J9: =K9*$B$29 -> 897490 | K9: =I9*$B$26 -> 807290 | L9: =M9*$B$29 -> 3230964 | M9: =K9*3.6 -> 2906244 | N9: =IFERROR(M9/$M$21,"-") -> 0.0070078067 | O9: =FT9 -> -30.274505 | CX9: =SUMIF(Transport!B:B,'Feed + carbon calculator'!A9,Transport!M:M) -> 5396.58 | CY9: =IFERROR(CX9/$FV9*1000,0) -> 1.9940056 | DE9: 0 | DF9: =IFERROR(DE9/$FV$3*1000,0) -> 0 | DI9: =DI26*$N9 -> 0 | DJ9: =IFERROR(DI9/$FV$5*1000,0) -> 0 | DL9: =$DL$21*$N9 -> 2392.522 | DM9: =IFERROR(DL9/$FV$5*1000,0) -> 0.049522959 | DO9: =$DO$21*$N9 -> 30143.99 | DP9: =IFERROR(DO9/$FV$5*1000,0) -> 0.62395229 | DR9: =$DR$21*$N9 -> 0 | DS9: =IFERROR(DR9/$FV$5*1000,0) -> 0 | DU9: =$DU$21*$N9 -> 1906.5698 | DV9: =IFERROR(DU9/$FV$6*1000,0) -> 0.011982092 | DX9: =$DX$21*$N9 -> -4382.7372 | DY9: =IFERROR(DX9/$FV$6*1000,0) -> -0.027543897 | ED9: =$ED$21*$N9 -> 5627.2597 | EE9: =IFERROR(ED9/$FV$5*1000,0) -> 0.11647899 | EG9: =$I$28*7.5%*N9*$EG$24 -> 0 | EH9: =IFERROR(EG9/$FV$9*1000,0) -> 0 | EJ9: =IFERROR(DI9+DL9+DO9+DR9+DU9+DX9+EA9+ED9+EG9,0) -> 35687.604 | EK9: =IFERROR(EJ9/$FV$3*1000,0) -> 0.63126595 | EM9: =$EM$21*N9 -> 2519.6205 | EN9: =IFERROR(EM9/$FV$5*1000,0) -> 0.05215378 | FD9: =$FD$21*$N9 -> 916.17397 | FE9: =IFERROR(FD9/$FV$3*1000,0) -> 0.016205891 | FG9: =IFERROR(EM9+FD9,0) -> 3435.7945 | FH9: =IFERROR(FG9/$FV$3*1000,0) -> 0.060774606 | FJ9: 0 | FK9: =IFERROR(FJ9/$FV$3*1000,0) -> 0 | FM9: =IFERROR(-$I$28*N9*$FN$23,0) -> 0 | FN9: =IFERROR(FM9/$FV$3*1000,0) -> 0 | FP9: =IFERROR(-$I$28*N9*$FQ$23,0) -> -89389.499 | FQ9: =IFERROR(FP9/$FV9*1000,0) -> -33.028911 | FS9: =CU9+CX9+DB9+DE9+EJ9+FG9+FJ9+FM9+FP9+EM9+FD9 -> -41433.726 | FT9: =CV9+CY9+DC9+DF9+EK9+FH9+FK9+FN9+FQ9+FE9+EN9 -> -30.274505 | FV9: =$FV$21*N9 -> 2706401.6 | FW9: =FV9/$B$29 -> 2434401.5
H10: =IFERROR(I10/F10,0) -> 0 | I10: =C10*D10*E10*G10 -> 0 | J10: =K10*$B$29 -> 0 | K10: =I10*$B$26 -> 0 | L10: =M10*$B$29 -> 0 | M10: =K10*3.6 -> 0 | N10: =IFERROR(M10/$M$21,"-") -> 0 | O10: =FT10 -> 0 | CX10: =SUMIF(Transport!B:B,'Feed + carbon calculator'!A10,Transport!M:M) -> 0 | CY10: =IFERROR(CX10/$FV10*1000,0) -> 0 | DE10: 0 | DF10: =IFERROR(DE10/$FV$3*1000,0) -> 0 | DI10: =DI27*$N10 -> 0 | DJ10: =IFERROR(DI10/$FV$5*1000,0) -> 0 | DL10: =$DL$21*$N10 -> 0 | DM10: =IFERROR(DL10/$FV$5*1000,0) -> 0 | DO10: =$DO$21*$N10 -> 0 | DP10: =IFERROR(DO10/$FV$5*1000,0) -> 0 | DR10: =$DR$21*$N10 -> 0 | DS10: =IFERROR(DR10/$FV$5*1000,0) -> 0 | DU10: =$DU$21*$N10 -> 0 | DV10: =IFERROR(DU10/$FV$6*1000,0) -> 0 | DX10: =$DX$21*$N10 -> 0 | DY10: =IFERROR(DX10/$FV$6*1000,0) -> 0 | ED10: =$ED$21*$N10 -> 0 | EE10: =IFERROR(ED10/$FV$5*1000,0) -> 0 | EG10: =$I$28*7.5%*N10*$EG$24 -> 0 | EH10: =IFERROR(EG10/$FV$10*1000,0) -> 0 | EJ10: =IFERROR(DI10+DL10+DO10+DR10+DU10+DX10+EA10+ED10+EG10,0) -> 0 | EK10: =IFERROR(EJ10/$FV$3*1000,0) -> 0 | EM10: =$EM$21*N10 -> 0 | EN10: =IFERROR(EM10/$FV$5*1000,0) -> 0 | FD10: =$FD$21*$N10 -> 0 | FE10: =IFERROR(FD10/$FV$10*1000,0) -> 0 | FG10: =IFERROR(EM10+FD10,0) -> 0 | FH10: =IFERROR(FG10/$FV$3*1000,0) -> 0 | FJ10: 0 | FK10: =IFERROR(FJ10/$FV$3*1000,0) -> 0 | FM10: =IFERROR(-$I$28*N10*$FN$23,0) -> 0 | FN10: =IFERROR(FM10/$FV$3*1000,0) -> 0 | FP10: =IFERROR(-$I$28*N10*$FQ$23,0) -> 0 | FQ10: =IFERROR(FP10/$FV10*1000,0) -> 0 | FS10: =CU10+CX10+DB10+DE10+EJ10+FG10+FJ10+FM10+FP10+EM10+FD10 -> 0 | FT10: =CV10+CY10+DC10+DF10+EK10+FH10+FK10+FN10+FQ10+FE10+EN10 -> 0 | FV10: =$FV$21*N10 -> 0 | FW10: =FV10/$B$29 -> 0
H11: =IFERROR(I11/F11,0) -> 0 | I11: =C11*D11*E11*G11 -> 0 | J11: =K11*$B$29 -> 0 | K11: =I11*$B$26 -> 0 | L11: =M11*$B$29 -> 0 | M11: =K11*3.6 -> 0 | N11: =IFERROR(M11/$M$21,"-") -> 0 | O11: =FT11 -> 0 | CX11: =SUMIF(Transport!B:B,'Feed + carbon calculator'!A11,Transport!M:M) -> 0 | CY11: =IFERROR(CX11/$FV11*1000,0) -> 0 | DE11: 0 | DF11: =IFERROR(DE11/$FV$3*1000,0) -> 0 | DI11: =DI27*$N11 -> 0 | DJ11: =IFERROR(DI11/$FV$11*1000,0) -> 0 | DL11: =$DL$21*$N11 -> 0 | DM11: =IFERROR(DL11/$FV$5*1000,0) -> 0 | DO11: =$DO$21*$N11 -> 0 | DP11: =IFERROR(DO11/$FV$5*1000,0) -> 0 | DR11: =$DR$21*$N11 -> 0 | DS11: =IFERROR(DR11/$FV$5*1000,0) -> 0 | DU11: =$DU$21*$N11 -> 0 | DV11: =IFERROR(DU11/$FV$6*1000,0) -> 0 | DX11: =$DX$21*$N11 -> 0 | DY11: =IFERROR(DX11/$FV$6*1000,0) -> 0 | ED11: =$ED$21*$N11 -> 0 | EE11: =IFERROR(ED11/$FV$5*1000,0) -> 0 | EG11: =$I$28*7.5%*N11*$EG$24 -> 0 | EH11: =IFERROR(EG11/$FV$11*1000,0) -> 0 | EJ11: =IFERROR(DI11+DL11+DO11+DR11+DU11+DX11+EA11+ED11+EG11,0) -> 0 | EK11: =IFERROR(EJ11/$FV$3*1000,0) -> 0 | EM11: =$EM$21*N11 -> 0 | EN11: =IFERROR(EM11/$FV$11*1000,0) -> 0 | FD11: =$FD$21*$N11 -> 0 | FE11: =IFERROR(FD11/$FV$11*1000,0) -> 0 | FG11: =IFERROR(EM11+FD11,0) -> 0 | FH11: =IFERROR(FG11/$FV$3*1000,0) -> 0 | FJ11: 0 | FK11: =IFERROR(FJ11/$FV$3*1000,0) -> 0 | FM11: =IFERROR(-$I$28*N11*$FN$23,0) -> 0 | FN11: =IFERROR(FM11/$FV$3*1000,0) -> 0 | FP11: =IFERROR(-$I$28*N11*$FQ$23,0) -> 0 | FQ11: =IFERROR(FP11/$FV11*1000,0) -> 0 | FS11: =CU11+CX11+DB11+DE11+EJ11+FG11+FJ11+FM11+FP11+EM11+FD11 -> 0 | FT11: =CV11+CY11+DC11+DF11+EK11+FH11+FK11+FN11+FQ11+FE11+EN11 -> 0 | FV11: =$FV$21*N11 -> 0 | FW11: =FV11/$B$29 -> 0
H12: =IFERROR(I12/F12,0) -> 0 | I12: =C12*D12*E12*G12 -> 0 | J12: =K12*$B$29 -> 0 | K12: =I12*$B$26 -> 0 | L12: =M12*$B$29 -> 0 | M12: =K12*3.6 -> 0 | N12: =IFERROR(M12/$M$21,"-") -> 0 | O12: =FT12 -> 0 | CX12: =SUMIF(Transport!B:B,'Feed + carbon calculator'!A12,Transport!M:M) -> 0 | CY12: =IFERROR(CX12/$FV12*1000,0) -> 0 | DE12: 0 | DF12: =IFERROR(DE12/$FV$3*1000,0) -> 0 | DI12: =DI28*$N12 -> 0 | DJ12: =IFERROR(DI12/$FV$12*1000,0) -> 0 | DL12: =$DL$21*$N12 -> 0 | DM12: =IFERROR(DL12/$FV$12*1000,0) -> 0 | DO12: =$DO$21*$N12 -> 0 | DP12: =IFERROR(DO12/$FV$5*1000,0) -> 0 | DR12: =$DR$21*$N12 -> 0 | DS12: =IFERROR(DR12/$FV$5*1000,0) -> 0 | DU12: =$DU$21*$N12 -> 0 | DV12: =IFERROR(DU12/$FV$6*1000,0) -> 0 | DX12: =$DX$21*$N12 -> 0 | DY12: =IFERROR(DX12/$FV$6*1000,0) -> 0 | ED12: =$ED$21*$N12 -> 0 | EE12: =IFERROR(ED12/$FV$5*1000,0) -> 0 | EG12: =$I$28*7.5%*N12*$EG$24 -> 0 | EH12: =IFERROR(EG12/$FV$12*1000,0) -> 0 | EJ12: =IFERROR(DI12+DL12+DO12+DR12+DU12+DX12+EA12+ED12+EG12,0) -> 0 | EK12: =IFERROR(EJ12/$FV$3*1000,0) -> 0 | EM12: =$EM$21*N12 -> 0 | EN12: =IFERROR(EM12/$FV$12*1000,0) -> 0 | FD12: =$FD$21*$N12 -> 0 | FE12: =IFERROR(FD12/$FV$12*1000,0) -> 0 | FG12: =IFERROR(EM12+FD12,0) -> 0 | FH12: =IFERROR(FG12/$FV$3*1000,0) -> 0 | FJ12: 0 | FK12: =IFERROR(FJ12/$FV$3*1000,0) -> 0 | FM12: =IFERROR(-$I$28*N12*$FN$23,0) -> 0 | FN12: =IFERROR(FM12/$FV$3*1000,0) -> 0 | FP12: =IFERROR(-$I$28*N12*$FQ$23,0) -> 0 | FQ12: =IFERROR(FP12/$FV12*1000,0) -> 0 | FS12: =CU12+CX12+DB12+DE12+EJ12+FG12+FJ12+FM12+FP12+EM12+FD12 -> 0 | FT12: =CV12+CY12+DC12+DF12+EK12+FH12+FK12+FN12+FQ12+FE12+EN12 -> 0 | FV12: =$FV$21*N12 -> 0 | FW12: =FV12/$B$29 -> 0
H13: =IFERROR(I13/F13,0) -> 0 | I13: =C13*D13*E13*G13 -> 0 | J13: =K13*$B$29 -> 0 | K13: =I13*$B$26 -> 0 | L13: =M13*$B$29 -> 0 | M13: =K13*3.6 -> 0 | N13: =IFERROR(M13/$M$21,"-") -> 0 | O13: =FT13 -> 0 | CX13: =SUMIF(Transport!B:B,'Feed + carbon calculator'!A13,Transport!M:M) -> 0 | CY13: =IFERROR(CX13/$FV13*1000,0) -> 0 | DE13: 0 | DF13: =IFERROR(DE13/$FV$3*1000,0) -> 0 | DI13: =DI29*$N13 -> 0 | DJ13: =IFERROR(DI13/$FV$13*1000,0) -> 0 | DL13: =$DL$21*$N13 -> 0 | DM13: =IFERROR(DL13/$FV$13*1000,0) -> 0 | DO13: =$DO$21*$N13 -> 0 | DP13: =IFERROR(DO13/$FV$5*1000,0) -> 0 | DR13: =$DR$21*$N13 -> 0 | DS13: =IFERROR(DR13/$FV$5*1000,0) -> 0 | DU13: =$DU$21*$N13 -> 0 | DV13: =IFERROR(DU13/$FV$6*1000,0) -> 0 | DX13: =$DX$21*$N13 -> 0 | DY13: =IFERROR(DX13/$FV$6*1000,0) -> 0 | ED13: =$ED$21*$N13 -> 0 | EE13: =IFERROR(ED13/$FV$13*1000,0) -> 0 | EG13: =$I$28*7.5%*N13*$EG$24 -> 0 | EH13: =IFERROR(EG13/$FV$13*1000,0) -> 0 | EJ13: =IFERROR(DI13+DL13+DO13+DR13+DU13+DX13+EA13+ED13+EG13,0) -> 0 | EK13: =IFERROR(EJ13/$FV$3*1000,0) -> 0 | EM13: =$EM$21*N13 -> 0 | EN13: =IFERROR(EM13/$FV$13*1000,0) -> 0 | FD13: =$FD$21*$N13 -> 0 | FE13: =IFERROR(FD13/$FV$13*1000,0) -> 0 | FG13: =IFERROR(EM13+FD13,0) -> 0 | FH13: =IFERROR(FG13/$FV$3*1000,0) -> 0 | FJ13: 0 | FK13: =IFERROR(FJ13/$FV$3*1000,0) -> 0 | FM13: =IFERROR(-$I$28*N13*$FN$23,0) -> 0 | FN13: =IFERROR(FM13/$FV$3*1000,0) -> 0 | FP13: =IFERROR(-$I$28*N13*$FQ$23,0) -> 0 | FQ13: =IFERROR(FP13/$FV13*1000,0) -> 0 | FS13: =CU13+CX13+DB13+DE13+EJ13+FG13+FJ13+FM13+FP13+EM13+FD13 -> 0 | FT13: =CV13+CY13+DC13+DF13+EK13+FH13+FK13+FN13+FQ13+FE13+EN13 -> 0 | FV13: =$FV$21*N13 -> 0 | FW13: =FV13/$B$29 -> 0
H14: =IFERROR(I14/F14,0) -> 0 | I14: =C14*D14*E14*G14 -> 0 | J14: =K14*$B$29 -> 0 | K14: =I14*$B$26 -> 0 | L14: =M14*$B$29 -> 0 | M14: =K14*3.6 -> 0 | N14: =IFERROR(M14/$M$21,"-") -> 0 | O14: =FT14 -> 0 | CX14: =SUMIF(Transport!B:B,'Feed + carbon calculator'!A14,Transport!M:M) -> 0 | CY14: =IFERROR(CX14/$FV14*1000,0) -> 0 | DE14: 0 | DF14: =IFERROR(DE14/$FV$3*1000,0) -> 0 | DI14: =DI30*$N14 -> 0 | DJ14: =IFERROR(DI14/$FV$14*1000,0) -> 0 | DL14: =$DL$21*$N14 -> 0 | DM14: =IFERROR(DL14/$FV$14*1000,0) -> 0 | DO14: =$DO$21*$N14 -> 0 | DP14: =IFERROR(DO14/$FV$5*1000,0) -> 0 | DR14: =$DR$21*$N14 -> 0 | DS14: =IFERROR(DR14/$FV$5*1000,0) -> 0 | DU14: =$DU$21*$N14 -> 0 | DV14: =IFERROR(DU14/$FV$6*1000,0) -> 0 | DX14: =$DX$21*$N14 -> 0 | DY14: =IFERROR(DX14/$FV$6*1000,0) -> 0 | ED14: =$ED$21*$N14 -> 0 | EE14: =IFERROR(ED14/$FV$14*1000,0) -> 0 | EG14: =$I$28*7.5%*N14*$EG$24 -> 0 | EH14: =IFERROR(EG14/$FV$14*1000,0) -> 0 | EJ14: =IFERROR(DI14+DL14+DO14+DR14+DU14+DX14+EA14+ED14+EG14,0) -> 0 | EK14: =IFERROR(EJ14/$FV$3*1000,0) -> 0 | EM14: =$EM$21*N14 -> 0 | EN14: =IFERROR(EM14/$FV$14*1000,0) -> 0 | FD14: =$FD$21*$N14 -> 0 | FE14: =IFERROR(FD14/$FV$14*1000,0) -> 0 | FG14: =IFERROR(EM14+FD14,0) -> 0 | FH14: =IFERROR(FG14/$FV$3*1000,0) -> 0 | FJ14: 0 | FK14: =IFERROR(FJ14/$FV$3*1000,0) -> 0 | FM14: =IFERROR(-$I$28*N14*$FN$23,0) -> 0 | FN14: =IFERROR(FM14/$FV$3*1000,0) -> 0 | FP14: =IFERROR(-$I$28*N14*$FQ$23,0) -> 0 | FQ14: =IFERROR(FP14/$FV14*1000,0) -> 0 | FS14: =CU14+CX14+DB14+DE14+EJ14+FG14+FJ14+FM14+FP14+EM14+FD14 -> 0 | FT14: =CV14+CY14+DC14+DF14+EK14+FH14+FK14+FN14+FQ14+FE14+EN14 -> 0 | FV14: =$FV$21*N14 -> 0 | FW14: =FV14/$B$29 -> 0
H15: =IFERROR(I15/F15,0) -> 0 | I15: =C15*D15*E15*G15 -> 0 | J15: =K15*$B$29 -> 0 | K15: =I15*$B$26 -> 0 | L15: =M15*$B$29 -> 0 | M15: =K15*3.6 -> 0 | N15: =IFERROR(M15/$M$21,"-") -> 0 | O15: =FT15 -> 0 | CX15: =SUMIF(Transport!B:B,'Feed + carbon calculator'!A15,Transport!M:M) -> 0 | CY15: =IFERROR(CX15/$FV15*1000,0) -> 0 | DE15: 0 | DF15: =IFERROR(DE15/$FV$3*1000,0) -> 0 | DI15: =DI31*$N15 -> 0 | DJ15: =IFERROR(DI15/$FV$15*1000,0) -> 0 | DL15: =$DL$21*$N15 -> 0 | DM15: =IFERROR(DL15/$FV$15*1000,0) -> 0 | DO15: =$DO$21*$N15 -> 0 | DP15: =IFERROR(DO15/$FV$5*1000,0) -> 0 | DR15: =$DR$21*$N15 -> 0 | DS15: =IFERROR(DR15/$FV$15*1000,0) -> 0 | DU15: =$DU$21*$N15 -> 0 | DV15: =IFERROR(DU15/$FV$15*1000,0) -> 0 | DX15: =$DX$21*$N15 -> 0 | DY15: =IFERROR(DX15/$FV$15*1000,0) -> 0 | ED15: =$ED$21*$N15 -> 0 | EE15: =IFERROR(ED15/$FV$15*1000,0) -> 0 | EG15: =$I$28*7.5%*N15*$EG$24 -> 0 | EH15: =IFERROR(EG15/$FV$15*1000,0) -> 0 | EJ15: =IFERROR(DI15+DL15+DO15+DR15+DU15+DX15+EA15+ED15+EG15,0) -> 0 | EK15: =IFERROR(EJ15/$FV$3*1000,0) -> 0 | EM15: =$EM$21*N15 -> 0 | EN15: =IFERROR(EM15/$FV$15*1000,0) -> 0 | FD15: =$FD$21*$N15 -> 0 | FE15: =IFERROR(FD15/$FV$15*1000,0) -> 0 | FG15: =IFERROR(EM15+FD15,0) -> 0 | FH15: =IFERROR(FG15/$FV$3*1000,0) -> 0 | FJ15: 0 | FK15: =IFERROR(FJ15/$FV$3*1000,0) -> 0 | FM15: =IFERROR(-$I$28*N15*$FN$23,0) -> 0 | FN15: =IFERROR(FM15/$FV$3*1000,0) -> 0 | FP15: =IFERROR(-$I$28*N15*$FQ$23,0) -> 0 | FQ15: =IFERROR(FP15/$FV15*1000,0) -> 0 | FS15: =CU15+CX15+DB15+DE15+EJ15+FG15+FJ15+FM15+FP15+EM15+FD15 -> 0 | FT15: =CV15+CY15+DC15+DF15+EK15+FH15+FK15+FN15+FQ15+FE15+EN15 -> 0 | FV15: =$FV$21*N15 -> 0 | FW15: =FV15/$B$29 -> 0
H16: =IFERROR(I16/F16,0) -> 0 | I16: =C16*D16*E16*G16 -> 0 | J16: =K16*$B$29 -> 0 | K16: =I16*$B$26 -> 0 | L16: =M16*$B$29 -> 0 | M16: =K16*3.6 -> 0 | N16: =IFERROR(M16/$M$21,"-") -> 0 | O16: =FT16 -> 0 | CX16: =SUMIF(Transport!B:B,'Feed + carbon calculator'!A16,Transport!M:M) -> 0 | CY16: =IFERROR(CX16/$FV16*1000,0) -> 0 | DE16: 0 | DF16: =IFERROR(DE16/$FV$3*1000,0) -> 0 | DI16: =DI32*$N16 -> 0 | DJ16: =IFERROR(DI16/$FV$16*1000,0) -> 0 | DL16: =$DL$21*$N16 -> 0 | DM16: =IFERROR(DL16/$FV$16*1000,0) -> 0 | DO16: =$DO$21*$N16 -> 0 | DP16: =IFERROR(DO16/$FV$5*1000,0) -> 0 | DR16: =$DR$21*$N16 -> 0 | DS16: =IFERROR(DR16/$FV$16*1000,0) -> 0 | DU16: =$DU$21*$N16 -> 0 | DV16: =IFERROR(DU16/$FV$16*1000,0) -> 0 | DX16: =$DX$21*$N16 -> 0 | DY16: =IFERROR(DX16/$FV$16*1000,0) -> 0 | ED16: =$ED$21*$N16 -> 0 | EE16: =IFERROR(ED16/$FV$16*1000,0) -> 0 | EG16: =$I$28*7.5%*N16*$EG$24 -> 0 | EH16: =IFERROR(EG16/$FV$16*1000,0) -> 0 | EJ16: =IFERROR(DI16+DL16+DO16+DR16+DU16+DX16+EA16+ED16+EG16,0) -> 0 | EK16: =IFERROR(EJ16/$FV$3*1000,0) -> 0 | EM16: =$EM$21*N16 -> 0 | EN16: =IFERROR(EM16/$FV$16*1000,0) -> 0 | FD16: =$FD$21*$N16 -> 0 | FE16: =IFERROR(FD16/$FV$16*1000,0) -> 0 | FG16: =IFERROR(EM16+FD16,0) -> 0 | FH16: =IFERROR(FG16/$FV$3*1000,0) -> 0 | FJ16: 0 | FK16: =IFERROR(FJ16/$FV$3*1000,0) -> 0 | FM16: =IFERROR(-$I$28*N16*$FN$23,0) -> 0 | FN16: =IFERROR(FM16/$FV$3*1000,0) -> 0 | FP16: =IFERROR(-$I$28*N16*$FQ$23,0) -> 0 | FQ16: =IFERROR(FP16/$FV16*1000,0) -> 0 | FS16: =CU16+CX16+DB16+DE16+EJ16+FG16+FJ16+FM16+FP16+EM16+FD16 -> 0 | FT16: =CV16+CY16+DC16+DF16+EK16+FH16+FK16+FN16+FQ16+FE16+EN16 -> 0 | FV16: =$FV$21*N16 -> 0 | FW16: =FV16/$B$29 -> 0
H17: =IFERROR(I17/F17,0) -> 0 | I17: =C17*D17*E17*G17 -> 0 | J17: =K17*$B$29 -> 0 | K17: =I17*$B$26 -> 0 | L17: =M17*$B$29 -> 0 | M17: =K17*3.6 -> 0 | N17: =IFERROR(M17/$M$21,"-") -> 0 | O17: =FT17 -> 0 | CX17: =SUMIF(Transport!B:B,'Feed + carbon calculator'!A17,Transport!M:M) -> 0 | CY17: =IFERROR(CX17/$FV17*1000,0) -> 0 | DE17: 0 | DF17: =IFERROR(DE17/$FV$3*1000,0) -> 0 | DI17: =DI33*$N17 -> 0 | DJ17: =IFERROR(DI17/$FV$17*1000,0) -> 0 | DL17: =$DL$21*$N17 -> 0 | DM17: =IFERROR(DL17/$FV$17*1000,0) -> 0 | DO17: =$DO$21*$N17 -> 0 | DP17: =IFERROR(DO17/$FV$17*1000,0) -> 0 | DR17: =$DR$21*$N17 -> 0 | DS17: =IFERROR(DR17/$FV$17*1000,0) -> 0 | DU17: =$DU$21*$N17 -> 0 | DV17: =IFERROR(DU17/$FV$17*1000,0) -> 0 | DX17: =$DX$21*$N17 -> 0 | DY17: =IFERROR(DX17/$FV$17*1000,0) -> 0 | ED17: =$ED$21*$N17 -> 0 | EE17: =IFERROR(ED17/$FV$17*1000,0) -> 0 | EG17: =$I$28*7.5%*N17*$EG$24 -> 0 | EH17: =IFERROR(EG17/$FV$17*1000,0) -> 0 | EJ17: =IFERROR(DI17+DL17+DO17+DR17+DU17+DX17+EA17+ED17+EG17,0) -> 0 | EK17: =IFERROR(EJ17/$FV$3*1000,0) -> 0 | EM17: =$EM$21*N17 -> 0 | EN17: =IFERROR(EM17/$FV$17*1000,0) -> 0 | FD17: =$FD$21*$N17 -> 0 | FE17: =IFERROR(FD17/$FV$17*1000,0) -> 0 | FG17: =IFERROR(EM17+FD17,0) -> 0 | FH17: =IFERROR(FG17/$FV$3*1000,0) -> 0 | FJ17: 0 | FK17: =IFERROR(FJ17/$FV$3*1000,0) -> 0 | FM17: =IFERROR(-$I$28*N17*$FN$23,0) -> 0 | FN17: =IFERROR(FM17/$FV$3*1000,0) -> 0 | FP17: =IFERROR(-$I$28*N17*$FQ$23,0) -> 0 | FQ17: =IFERROR(FP17/$FV17*1000,0) -> 0 | FS17: =CU17+CX17+DB17+DE17+EJ17+FG17+FJ17+FM17+FP17+EM17+FD17 -> 0 | FT17: =CV17+CY17+DC17+DF17+EK17+FH17+FK17+FN17+FQ17+FE17+EN17 -> 0 | FV17: =$FV$21*N17 -> 0 | FW17: =FV17/$B$29 -> 0
H18: =IFERROR(I18/F18,0) -> 0 | I18: =C18*D18*E18*G18 -> 0 | J18: =K18*$B$29 -> 0 | K18: =I18*$B$26 -> 0 | L18: =M18*$B$29 -> 0 | M18: =K18*3.6 -> 0 | N18: =IFERROR(M18/$M$21,"-") -> 0 | O18: =FT18 -> 0 | CX18: =SUMIF(Transport!B:B,'Feed + carbon calculator'!A18,Transport!M:M) -> 0 | CY18: =IFERROR(CX18/$FV18*1000,0) -> 0 | DE18: 0 | DF18: =IFERROR(DE18/$FV$3*1000,0) -> 0 | DI18: =DI34*$N18 -> 0 | DJ18: =IFERROR(DI18/$FV$18*1000,0) -> 0 | DL18: =$DL$21*$N18 -> 0 | DM18: =IFERROR(DL18/$FV$18*1000,0) -> 0 | DO18: =$DO$21*$N18 -> 0 | DP18: =IFERROR(DO18/$FV$18*1000,0) -> 0 | DR18: =$DR$21*$N18 -> 0 | DS18: =IFERROR(DR18/$FV$18*1000,0) -> 0 | DU18: =$DU$21*$N18 -> 0 | DV18: =IFERROR(DU18/$FV$18*1000,0) -> 0 | DX18: =$DX$21*$N18 -> 0 | DY18: =IFERROR(DX18/$FV$18*1000,0) -> 0 | ED18: =$ED$21*$N18 -> 0 | EE18: =IFERROR(ED18/$FV$18*1000,0) -> 0 | EG18: =$I$28*7.5%*N18*$EG$24 -> 0 | EH18: =IFERROR(EG18/$FV$18*1000,0) -> 0 | EJ18: =IFERROR(DI18+DL18+DO18+DR18+DU18+DX18+EA18+ED18+EG18,0) -> 0 | EK18: =IFERROR(EJ18/$FV$3*1000,0) -> 0 | EM18: =$EM$21*N18 -> 0 | EN18: =IFERROR(EM18/$FV$18*1000,0) -> 0 | FD18: =$FD$21*$N18 -> 0 | FE18: =IFERROR(FD18/$FV$18*1000,0) -> 0 | FG18: =IFERROR(EM18+FD18,0) -> 0 | FH18: =IFERROR(FG18/$FV$3*1000,0) -> 0 | FJ18: 0 | FK18: =IFERROR(FJ18/$FV$3*1000,0) -> 0 | FM18: =IFERROR(-$I$28*N18*$FN$23,0) -> 0 | FN18: =IFERROR(FM18/$FV$3*1000,0) -> 0 | FP18: =IFERROR(-$I$28*N18*$FQ$23,0) -> 0 | FQ18: =IFERROR(FP18/$FV18*1000,0) -> 0 | FS18: =CU18+CX18+DB18+DE18+EJ18+FG18+FJ18+FM18+FP18+EM18+FD18 -> 0 | FT18: =CV18+CY18+DC18+DF18+EK18+FH18+FK18+FN18+FQ18+FE18+EN18 -> 0 | FV18: =$FV$21*N18 -> 0 | FW18: =FV18/$B$29 -> 0
H19: =IFERROR(I19/F19,0) -> 0 | I19: =C19*D19*E19*G19 -> 0 | J19: =K19*$B$29 -> 0 | K19: =I19*$B$26 -> 0 | L19: =M19*$B$29 -> 0 | M19: =K19*3.6 -> 0 | N19: =IFERROR(M19/$M$21,"-") -> 0 | O19: =FT19 -> 0 | CX19: =SUMIF(Transport!B:B,'Feed + carbon calculator'!A19,Transport!M:M) -> 0 | CY19: =IFERROR(CX19/$FV19*1000,0) -> 0 | DE19: 0 | DF19: =IFERROR(DE19/$FV$3*1000,0) -> 0 | DI19: =DI35*$N19 -> 0 | DJ19: =IFERROR(DI19/$FV$19*1000,0) -> 0 | DL19: =$DL$21*$N19 -> 0 | DM19: =IFERROR(DL19/$FV$19*1000,0) -> 0 | DO19: =$DO$21*$N19 -> 0 | DP19: =IFERROR(DO19/$FV$19*1000,0) -> 0 | DR19: =$DR$21*$N19 -> 0 | DS19: =IFERROR(DR19/$FV$19*1000,0) -> 0 | DU19: =$DU$21*$N19 -> 0 | DV19: =IFERROR(DU19/$FV$19*1000,0) -> 0 | DX19: =$DX$21*$N19 -> 0 | DY19: =IFERROR(DX19/$FV$19*1000,0) -> 0 | ED19: =$ED$21*$N19 -> 0 | EE19: =IFERROR(ED19/$FV$19*1000,0) -> 0 | EG19: =$I$28*7.5%*N19*$EG$24 -> 0 | EH19: =IFERROR(EG19/$FV$19*1000,0) -> 0 | EJ19: =IFERROR(DI19+DL19+DO19+DR19+DU19+DX19+EA19+ED19+EG19,0) -> 0 | EK19: =IFERROR(EJ19/$FV$3*1000,0) -> 0 | EM19: =$EM$21*N19 -> 0 | EN19: =IFERROR(EM19/$FV$19*1000,0) -> 0 | FD19: =$FD$21*$N19 -> 0 | FE19: =IFERROR(FD19/$FV$19*1000,0) -> 0 | FG19: =IFERROR(EM19+FD19,0) -> 0 | FH19: =IFERROR(FG19/$FV$3*1000,0) -> 0 | FJ19: 0 | FK19: =IFERROR(FJ19/$FV$3*1000,0) -> 0 | FM19: =IFERROR(-$I$28*N19*$FN$23,0) -> 0 | FN19: =IFERROR(FM19/$FV$3*1000,0) -> 0 | FP19: =IFERROR(-$I$28*N19*$FQ$23,0) -> 0 | FQ19: =IFERROR(FP19/$FV19*1000,0) -> 0 | FS19: =CU19+CX19+DB19+DE19+EJ19+FG19+FJ19+FM19+FP19+EM19+FD19 -> 0 | FT19: =CV19+CY19+DC19+DF19+EK19+FH19+FK19+FN19+FQ19+FE19+EN19 -> 0 | FV19: =$FV$21*N19 -> 0 | FW19: =FV19/$B$29 -> 0
H20: =IFERROR(I20/F20,0) -> 0 | I20: =C20*D20*E20*G20 -> 0 | J20: =K20*$B$29 -> 0 | K20: =I20*$B$26 -> 0 | L20: =M20*$B$29 -> 0 | M20: =K20*3.6 -> 0 | N20: =IFERROR(M20/$M$21,"-") -> 0 | O20: =FT20 -> 0 | CX20: =SUMIF(Transport!B:B,'Feed + carbon calculator'!A20,Transport!M:M) -> 0 | CY20: =IFERROR(CX20/$FV20*1000,0) -> 0 | DE20: 0 | DF20: =IFERROR(DE20/$FV$3*1000,0) -> 0 | DI20: =DI36*$N20 -> 0 | DJ20: =IFERROR(DI20/$FV$20*1000,0) -> 0 | DL20: =$DL$21*$N20 -> 0 | DM20: =IFERROR(DL20/$FV$20*1000,0) -> 0 | DO20: =$DO$21*$N20 -> 0 | DP20: =IFERROR(DO20/$FV$20*1000,0) -> 0 | DR20: =$DR$21*$N20 -> 0 | DS20: =IFERROR(DR20/$FV$20*1000,0) -> 0 | DU20: =$DU$21*$N20 -> 0 | DV20: =IFERROR(DU20/$FV$20*1000,0) -> 0 | DX20: =$DX$21*$N20 -> 0 | DY20: =IFERROR(DX20/$FV$20*1000,0) -> 0 | ED20: =$ED$21*$N20 -> 0 | EE20: =IFERROR(ED20/$FV$20*1000,0) -> 0 | EG20: =$I$28*7.5%*N20*$EG$24 -> 0 | EH20: =IFERROR(EG20/$FV$20*1000,0) -> 0 | EJ20: =IFERROR(DI20+DL20+DO20+DR20+DU20+DX20+EA20+ED20+EG20,0) -> 0 | EK20: =IFERROR(EJ20/$FV$3*1000,0) -> 0 | EM20: =$EM$21*N20 -> 0 | EN20: =IFERROR(EM20/$FV$20*1000,0) -> 0 | FD20: =$FD$21*$N20 -> 0 | FE20: =IFERROR(FD20/$FV$20*1000,0) -> 0 | FG20: =IFERROR(EM20+FD20,0) -> 0 | FH20: =IFERROR(FG20/$FV$3*1000,0) -> 0 | FJ20: 0 | FK20: =IFERROR(FJ20/$FV$3*1000,0) -> 0 | FM20: =IFERROR(-$I$28*N20*$FN$23,0) -> 0 | FN20: =IFERROR(FM20/$FV$3*1000,0) -> 0 | FP20: =IFERROR(-$I$28*N20*$FQ$23,0) -> 0 | FQ20: =IFERROR(FP20/$FV20*1000,0) -> 0 | FS20: =CU20+CX20+DB20+DE20+EJ20+FG20+FJ20+FM20+FP20+EM20+FD20 -> 0 | FT20: =CV20+CY20+DC20+DF20+EK20+FH20+FK20+FN20+FQ20+FE20+EN20 -> 0 | FV20: =$FV$21*N20 -> 0 | FW20: =FV20/$B$29 -> 0
C21: =SUM(C3:C20) -> 91000 | D21: =SUM(D3:D20) -> 2.9288 | E21: =SUM(E3:E20) -> 6.1856 | F21: =SUM(F3:F20) -> 3.898 | G21: =SUM(G3:G20) -> 1973 | H21: =SUM(H3:H20) -> 20217255 | I21: =SUM(I3:I20) -> 11584224 | J21: =SUM(J3:J20) -> 1.2807003e+08 | ... N21: =SUM(N3:N20) -> 1 | O21: =FT21 -> -16.636702 | X21: Digestate application rate - application 1 | Y21: 1 | Z21: Digestate application rate - application 2 | AA21: 1 | CR21: =SUM(CR3:CR20) -> 50251.021 | CS21: =IFERROR(CR21/$FV$21*1000,0) -> 0.13011721 | CU21: =SUM(CU3:CU20) -> 588698.46 | CV21: =IFERROR(CU21/$FV$21*1000,0) -> 1.5243432 | CX21: =SUM(CX3:CX20) -> 159110.84 | CY21: =IFERROR(CX21/$FV$21*1000,0) -> 0.41199282 | DB21: =SUM(DB3:DB20) -> 0 | DC21: =IFERROR(DB21/$FV$21*1000,0) -> 0 | DE21: =SUM(DE3:DE20) -> 0 | DF21: =IFERROR(DE21/$FV$21*1000,0) -> 0 | DI21: =SUM('Energy centre'!H18:H21)*DI24 -> 0 | DL21: =SUM('Energy centre'!H42:H44)*DL24 -> 341408.1 | DM21: =IFERROR(DL21/$FV$21*1000,0) -> 0.88402326 | DO21: =SUM('Energy centre'!H58:H60)*DO24 -> 4301487.1 | DP21: =IFERROR(DO21/$FV$21*1000,0) -> 11.138033 | DR21: =SUM('Energy centre'!H74:H76)*DR24 -> 0 | DS21: =IFERROR(DR21/$FV$21*1000,0) -> 0 | DU21: =SUM('Energy centre'!H26:H28)*DU24 -> 272063.7 | DV21: =IFERROR(DU21/$FV$21*1000,0) -> 0.70446669 | DX21: =-('Energy centre'!AI19+'Energy centre'!AI26) -> -625407.83 | DY21: =IFERROR(DX21/$FV$21*1000,0) -> -1.6193964 | ED21: ='Energy centre'!N14*EnergyConversions!$B$11*GHG_Conversions!$D$6 -> 802998.71 | EE21: =IFERROR(ED21/$FV$21*1000,0) -> 2.0792404 | EG21: =SUM(EG3:EG20) -> 0 | EH21: =IFERROR(EG21/$FV$21*1000,0) -> 0 | EJ21: =SUM(EJ3:EJ20) -> 5092549.7 | EK21: =IFERROR(EJ21/$FV$21*1000,0) -> 13.186367 | EM21: =SUM(Transport!M16:M24) -> 359544.81 | EN21: =EM21/$M$21*1000 -> 0.86696799 | EP21: =150*8760 -> 1314000 | EQ21: 3.6 | ER21: =EP21*EQ21 -> 4730400 | ES21: =GHG_Emissions!$E$12 -> 57.513889 | ET21: =ER21*ES21/1000 -> 272063.7 | EU21: =25%*M24 -> 0.25 | EV21: =ET21*EU21 -> 68015.925 | EW21: =1000*365 -> 365000 | EX21: =EnergyConversions!$B$24 -> 10.480045 | EY21: =EW21*EX21 -> 3825216.5 | EZ21: =GHG_Emissions!$E$10+GHG_Emissions!$E$11 -> 65.586111 | FA21: =EY21*EZ21/1000 -> 250881.07 | FB21: =25%*M24 -> 0.25 | FC21: =FA21*FB21 -> 62720.268 | FD21: =EV21+FC21 -> 130736.19 | FE21: =FD21/$M$21*1000 -> 0.31524331 | FG21: =SUM(FG3:FG20) -> 490281 | FH21: =IFERROR(FG21/$FV$21*1000,0) -> 1.2695065 | FJ21: =SUM(FJ3:FJ20) -> 0 | FK21: =IFERROR(FJ21/$FV$21*1000,0) -> 0 | FM21: =SUM(FM3:FM20) -> 0 | FN21: =IFERROR(FM21/$FV$21*1000,0) -> 0 | FP21: =SUM(FP3:FP20) -> -12755703 | FQ21: =IFERROR(FP21/$FV$21*1000,0) -> -33.028911 | FS21: =SUM(FS3:FS20) -> -5934781.7 | FT21: =CV21+CY21+DC21+DF21+EK21+FH21+FK21+FN21+FQ21 -> -16.636702 | FV21: ='Energy centre'!U13 -> 3.861981e+08 | FW21: ='Energy centre'!U14 -> 3.4738422e+08
B22: Waste/Residue % | C22: =SUMIF(B3:B20,"Waste/Residue",N3:N16)/$N$21 -> 0.6095507 | I22: 10868678 | K22: =K21*B29 -> 1.2807003e+08 | M22: =M21*B29 -> 4.610521e+08 | N22: =SUM(N3:N20) -> 1 | FV22: =FV21/3.6 -> 1.0727725e+08 | FW22: =FW21/3.6 -> 96495618
I23: =I21/I22 -> 1.0658356 | CX23: =CX21*(1-78.5%) -> 34208.832 | CY23: If Biomethane | DE23: Manure Credits on? | DF23: 0 | FM23: CO2 storage | FN23: 0 | FP23: CO2 utilisation | FQ23: 1 | FS23: =-FW21*GHG_Emissions!E10/1000 -> -19553872 | FV23: =SUM(FV3:FV16)=FV21 -> TRUE | FW23: =SUM(FW3:FW16)=FW21 -> TRUE
A24: Key assumptions & conversions | M24: 1 | CP24: Input at 100% (kWh NCV) | CX24: =CX21-CX23 -> 124902.01 | CY24: Savings if Biomethane | DE24: Manure credits rate (gCO2e/MJ) | DF24: 111 | DI24: 0 | DL24: 1 | DO24: 1 | DR24: 1 | DU24: 1 | DX24: N.B. Surplus energy should be taken into account in Ofgem methodology. | EA24: N/A as all methane slip taken into account as downstream | ED24: ='Energy centre'!P5 -> 0.005 | EG24: 0 | FS24: =FS21+FS23 -> -25488654 | FV24: =FV21/3.6/1000 -> 107277.25 | FW24: =FW21/3.6/1000 -> 96495.618
A25: MJ per Nm3 (LHV) | B25: 35.8 | H25: Feedstock hourly biogas production (Nm3/h) | I25: =H21/8760 -> 2307.9058 | CX25: =(CX23-CX21)/CX21 -> -0.785 | CY25: % Savings if Biomethane
A26: kWh per Nm3 (LHV) | B26: =B25/3.6 -> 9.9444444 | H26: Feedstock hourly biomethane production (Nm3/h) | I26: =I21/8760 -> 1322.4 | FS26: Notes:
A27: MJ per Nm3 (HHV) | B27: 39.8 | H27: Theoretical CO2 (Nm3/y) | I27: =H21-I21 -> 8633030.8 | FS27: Emissions can be reduced further if shared with co-products (e.g., digestate)
A28: kWh per Nm3 (HHV) | B28: =B27/3.6 -> 11.055556 | H28: Actual CO2 (kg/y) | I28: ='Energy centre'!U26*1000 -> 12755703 | FS28: Emissions can be reduced further based on 'technological option' for biomethane production (e.g., is digestate closed or open? Are membrane upgraders used? What happens to off-gas?) - see e.g., p.118 of REDII
A29: HHV/LHV conversion | B29: =B27/B25 -> 1.1117318 | H29: Methane % | I29: =I26/I25 -> 0.57298698 | CU29: 1462609 | CX29: 124330 | EJ29: =48973+1880+3941824+306944 -> 4299621 | EM29: 81168 | FD29: 283708 | FG29: =EM29+FD29 -> 364876 | FP29: =-21672448 -> -21672448 | FS29: Emissions can be reduced further by use of more biogas in production process
A30: Sm3 per Nm3 | B30: =1*(273.15+15)/(273.15) -> 1.0549149
A31: % of annual feed mix | B31: 1
FU32: MJ injected | FV32: =FV21 -> 3.861981e+08
FU33: MJ in CHP 1 | FV33: ='Energy centre'!H36*3.6 -> 72913305
FU34: MJ in methane slip | FV34: ='Energy centre'!N14*EnergyConversions!B23*3.6 -> 1940694
FU35: MJ in feedstock | FV35: =FV32+FV33+FV34 -> 4.610521e+08
FV36: =L21=FV35 -> TRUE
D37: Wholecrop Silage
D38: Maize Silage | FS38: -27639205
D39: Poutry Litter | FS39: =FS38-FS24 -> -2150551.2
D40: Farm Yard Manure | FS40: =FS24+FS39 -> -27639205
...

Sheet Energy centre
B2: Spring Grove | D2: For FID: 1 x CHP running on Biogas and 1 x CHP running on natural gas, with external power connection, and Biogas boiler for redundancy | AB2: Carbon intensity (gCO2e/MJ) | AC2: Digesters (kWh/year) | AD2: Pasteuriser (kWh/year) | AE2: Biogas Upgrader (kWh/year) | AF2: CO2 Upgrader (kWh/year) | AG2: Compressors (kWh/year) | AH2: Other (kWh/year) | AI2: Surplus (kWh/year) | AJ2: Total (kWh/year) | AK2: Check
B3: CH4% | C3: ='Feed + carbon calculator'!I29 -> 0.57298698 | D3: all values in Nm3 and GCV except where indicated | AA3: Heat requirement (MWh p.a.) | AC3: =C12 -> 4285000 | AD3: =N18 -> 5733634 | AE3: =N10 -> 0 | AF3: =S25 -> 0 | AG3: =S10 -> 0 | AH3: =N22 -> 0 | AJ3: =SUM(AC3:AI3) -> 10018634 | AK3: =AJ3=N32 -> TRUE | AO3: Spring Grove carbon calculator key outputs | AS3: Longmorn carbon calculator key assumptions
B4: Scenario | C4: AVERAGE | D4: =N34/8760 -> 1913.5833 | E4: power demand | P4: Losses | AA4: Heat from boiler | AB4: =SUM(F18:F21) -> 0.23655914 | AC4: =MIN($H$17,AC3) -> 0 | AD4: =MIN($H$17-AC4,AD3) -> 0 | AE4: =MIN($H$17-SUM(AC4:AD4),AE3) -> 0 | AF4: =MIN($H$17-SUM(AC4:AE4),AF3) -> 0 | AG4: =MIN($H$17-SUM(AC4:AF4),AG3) -> 0 | AH4: =MIN($H$17-SUM(AC4:AG4),AH3) -> 0 | AI4: =H17-SUM(AC4:AG4) -> 0 | AJ4: =SUM(AC4:AI4) -> 0 | AK4: =AJ4=H17 -> TRUE | AO4: Biogas production | AP4: =E8*8760 -> 20217255 | AQ4: Nm3 of biogas | AS4: 0.1829 | AT4: kgCO2e/kWh natural gas emissions (Scope 1, gross CV) | AY4: =AS4/3.6*1000 -> 50.805556 | AZ4: gCO2e/MJ (gross CV)
B5: Uptime | C5: 1 | P5: 0.005 | U5: Biomethane Production | W5: Biomethane Transport | AA5: Heat from CHP 1 | AB5: =SUM(F42:F44) -> 1.8366931 | AC5: =MAX(0,MIN(AC3-AC4,$H$38)) -> 4285000 | AD5: =MAX(0,MIN(AD3-AD4,$H$38-AC5)) -> 4477929.5 | AE5: {=MAX(0,MIN(AE3-AE4,$H$38-AC5:AD5))} -> 0 | AF5: {=MAX(0,MIN(AF3-AF4,$H$38-AC5:AE5))} -> 0 | AG5: {=MAX(0,MIN(AG3-AG4,$H$38-AC5:AF5))} -> 0 | AH5: {=MAX(0,MIN(AH3-AH4,$H$38-AC5:AG5))} -> 0 | AI5: =H38-SUM(AC5:AG5) -> 0 | AJ5: =SUM(AC5:AI5) -> 8762929.5 | AK5: =AJ5=H38 -> TRUE | AO5: Energy injected into the grid | AP5: =U11 -> 1.0727725e+08 | AQ5: kWh/year | AS5: 0.03021 | AT5: kgCO2e/kWh natural gas emissions (Scope 3, gross CV) | AY5: =AS5/3.6*1000 -> 8.3916667 | AZ5: gCO2e/MJ (gross CV)
E6: 0 | F6: Losses | AA6: Heat from CHP 2 | AB6: =SUM(F58:F60) -> 23.140961 | AC6: {=MAX(0,MIN(AC3-AC4:AC5,$H$54))} -> 0 | AD6: {=MAX(0,MIN(AD3-AD4:AD5,$H$54-AC6))} -> 1255704.5 | AE6: {=MAX(0,MIN(AE3-AE4:AE5,$H$54-AC6:AD6))} -> 0 | AF6: {=MAX(0,MIN(AF3-AF4:AF5,$H$54-AC6:AE6))} -> 0 | AG6: {=MAX(0,MIN(AG3-AG4:AG5,$H$54-AC6:AF6))} -> 0 | AH6: {=MAX(0,MIN(AH3-AH4:AH5,$H$54-AC6:AG6))} -> 0 | AI6: =H54-SUM(AC6:AG6) -> 7507224.9 | AJ6: =SUM(AC6:AI6) -> 8762929.5 | AK6: =AJ6=H54 -> TRUE | AO6: Total CO2 intensity biomethane | AP6: ='Feed + carbon calculator'!FS21 -> -5934781.7 | AQ6: kg CO2e annually | AS6: =AS4+AS5 -> 0.21311 | AT6: kgCO2e/kWh natural gas emissions (Scope 1 + Scope 3) | AY6: =AY4+AY5 -> 59.197222 | AZ6: gCO2e/MJ (gross CV)
B7: BioGest | C7: =VLOOKUP(B7,Inputs!A4:F7,2,FALSE) -> 489.15525 | D7: Biogas | E7: =E8*8760 -> 20217255 | K7: =K9/C3 -> 17019987 | M7: Biogas Upgrader | P7: =K9-N14+N13 -> 9996036.9 | R7: HP Compressors | U7: =P7*(100%-S12)-U17 -> 9996036.9 | W7: 1 | AA7: Heat from CHP 3 | AB7: =SUM(F74:F76) -> 23.140961 | AC7: {=MAX(0,MIN(AC4-AC5:AC6,$H$54))} -> 0 | AD7: {=MAX(0,MIN(AD3-AD4:AD6,$H$70-AC7))} -> 0 | AE7: {=MAX(0,MIN(AE4-AE5:AE6,$H$54-AC7:AD7))} -> 0 | AF7: {=MAX(0,MIN(AF4-AF5:AF6,$H$54-AC7:AE7))} -> 0 | AG7: {=MAX(0,MIN(AG4-AG5:AG6,$H$54-AC7:AF7))} -> 0 | AH7: {=MAX(0,MIN(AH4-AH5:AH6,$H$54-AC7:AG7))} -> 0 | AI7: =H70-SUM(AC7:AG7) -> 0 | AJ7: =SUM(AC7:AI7) -> 0 | AK7: =AJ7=H70 -> TRUE | AO7: CO2 that would have been emitted natural gas | AP7: =AS6*AP5 -> 22861855 | AQ7: kg CO2e annually | AS7: =7000*0.2686/1000 -> 1.8802 | AT7: t/y/car
C8: ='Power requirements'!F31+'Power requirements'!F32+'Power requirements'!F30 -> 519.08333 | E8: ='Feed + carbon calculator'!I25 -> 2307.9058 | K8: =K7/8760 -> 1942.9209 | M8: Bright | N8: =VLOOKUP(M8,Inputs!A1:F55,5,FALSE) -> 0 | P8: =P7/8760 -> 1141.1001 | R8: IMW | S8: =VLOOKUP(R8,Inputs!A1:F55,5,FALSE) -> 0 | U8: =U7/8760/1 -> 1141.1001 | W8: =8998*W7 -> 8998 | AA8: Heat from other | AJ8: =SUM(AC8:AI8) -> 0 | AO8: Saving vs natural gas | AP8: =(AP6-AP7)/AP7 -> -1.2595932 | AS8: 25 | AT8: kg/y/tree
