Workbook
Name _: [1]Upgraders!#REF!
Name _: [2]UPGRADERS!#REF!
Name _: [2]UPGRADERS!#REF!
Name _: [3]Upgraders!#REF!
Name _: [1]Upgraders!#REF!
Name _1: [2]UPGRADERS!#REF!
Name _1: [2]UPGRADERS!#REF!
Name _1: [3]Upgraders!#REF!
Name _1: [1]Upgraders!#REF!
Name _1_CAPEX_3: '[2]1_CH4_UPGRADE'!$H$38
Name _1_CAPEX_3: '[2]1_CH4_UPGRADE'!$H$38
Name _1_CAPEX_3: '[3]1_CH4_UPGRADE'!$H$38
Name _1_CAPEX_3: '[1]1_CH4_UPGRADE'!$H$38
Name _1_OPEX_3: '[2]1_CH4_UPGRADE'!$H$58
Name _1_OPEX_3: '[2]1_CH4_UPGRADE'!$H$58
Name _1_OPEX_3: '[3]1_CH4_UPGRADE'!$H$58
Name _1_OPEX_3: '[1]1_CH4_UPGRADE'!$H$58
Name _2_CAPEX_3: '[2]2_CO2_UPGRADE'!$H$23
Name _2_CAPEX_3: '[2]2_CO2_UPGRADE'!$H$23
Name _2_CAPEX_3: '[3]2_CO2_UPGRADE'!$H$23
Name _2_CAPEX_3: '[1]2_CO2_UPGRADE'!$H$23
Name _2_OPEX_3: '[2]2_CO2_UPGRADE'!$H$31
Name _2_OPEX_3: '[2]2_CO2_UPGRADE'!$H$31
Name _2_OPEX_3: '[3]2_CO2_UPGRADE'!$H$31
Name _2_OPEX_3: '[1]2_CO2_UPGRADE'!$H$31
Name _3_CAPEX_3: '[2]3_COMPRESSION'!$H$33
Name _3_CAPEX_3: '[2]3_COMPRESSION'!$H$33
Name _3_CAPEX_3: '[3]3_COMPRESSION'!$H$33
Name _3_CAPEX_3: '[1]3_COMPRESSION'!$H$33
Name _3_OPEX_3: '[2]3_COMPRESSION'!$H$41
Name _3_OPEX_3: '[2]3_COMPRESSION'!$H$41
Name _3_OPEX_3: '[3]3_COMPRESSION'!$H$41
Name _3_OPEX_3: '[1]3_COMPRESSION'!$H$41
Name _4_CAPEX_3: '[2]4_CIVILS'!$H$10
Name _4_CAPEX_3: '[2]4_CIVILS'!$H$10
Name _4_CAPEX_3: '[3]4_CIVILS'!$H$10
Name _4_CAPEX_3: '[1]4_CIVILS'!$H$10
Name _5_CAPEX_6: '[2]5_VIRTUAL-PIPELINE_Budds'!$H$24
Name _5_CAPEX_6: '[2]5_VIRTUAL-PIPELINE_Budds'!$H$24
Name _5_CAPEX_6: '[3]5_VIRTUAL-PIPELINE_Budds'!$H$24
Name _5_CAPEX_6: '[1]5_VIRTUAL-PIPELINE_Budds'!$H$24
Name _5_CAPEX_6b: '[4]5_VIRTUAL-PIPELINE'!$J$24
Name _5_CAPEX_YORKS_1: #REF!
Name _5_CAPEX_YORKS_1: #REF!
Name _5_CAPEX_YORKS_1: #REF!
Name _5_CAPEX_YORKS_1: #REF!
Name _5_OPEX_3a: '[2]5_VIRTUAL-PIPELINE'!$H$30
Name _5_OPEX_3a: '[2]5_VIRTUAL-PIPELINE'!$H$30
Name _5_OPEX_3a: '[3]5_VIRTUAL-PIPELINE'!$H$30
Name _5_OPEX_3a: '[1]5_VIRTUAL-PIPELINE'!$H$30
Name _5_OPEX_3b: '[4]5_VIRTUAL-PIPELINE'!$J$30
Name _6_CAPEX_3: '[2]6_INJECTION-HUB'!$I$13
Name _6_CAPEX_3: '[2]6_INJECTION-HUB'!$I$13
Name _6_CAPEX_3: '[3]6_INJECTION-HUB'!$I$13
Name _6_CAPEX_3: '[1]6_INJECTION-HUB'!$I$13
Name _6_OPEX_3: '[2]6_INJECTION-HUB'!$I$23
Name _6_OPEX_3: '[2]6_INJECTION-HUB'!$I$23
Name _6_OPEX_3: '[3]6_INJECTION-HUB'!$I$23
Name _6_OPEX_3: '[1]6_INJECTION-HUB'!$I$23
Name _ANNUAL_BIOGAS_FLOW_1: '[2]1_CH4_UPGRADE'!#REF!

Sheet Summary
B3: Ashton Keynes- carbon calculator key outputs | F3: Ashton Keynes - carbon calculator key assumptions
B4: Biogas production | C4: ='Energy centre'!E7 -> 20217255 | D4: Nm3 of biogas | F4: 0.1829 | G4: kgCO2e/kWh natural gas emissions (Scope 1, gross CV) | L4: =F4/3.6*1000 -> 50.805556 | M4: gCO2e/MJ (gross CV)
B5: Total Upgraded Biogas supplied | C5: ='Energy centre'!U7 -> 9996036.9 | D5: Nm3 of biomethane | F5: =0.03021-F18 -> 0.029202 | G5: kgCO2e/kWh natural gas emissions (Scope 3, gross CV) | L5: =F5/3.6*1000 -> 8.1116667 | M5: gCO2e/MJ (gross CV)
B6: Energy injected into the grid | C6: ='Energy centre'!U11 -> 1.0727725e+08 | D6: kWh/year (GCV) | F6: =F4+F5 -> 0.212102 | G6: kgCO2e/kWh natural gas emissions (Scope 1 + Scope 3) | L6: =L4+L5 -> 58.917222 | M6: gCO2e/MJ (gross CV)
B7: Total CO2 intensity biomethane | C7: ='Feed + carbon calculator'!FS21 -> -5934781.7 | D7: kg CO2e annually | F7: =7000*0.2686/1000 -> 1.8802 | G7: t/y/car
B8: CO2 that would have been emitted natural gas | C8: =F6*C6 -> 22753719 | D8: kg CO2e annually | F8: 25 | G8: kg/y/tree
B9: results in GHG savings of | C9: =C7-C8 -> -28688501 | D9: kg CO2e annually | F9: =F8/1000 -> 0.025 | G9: t/y/tree
B10: Saving vs natural gas | C10: =(C7-C8)/C8 -> -1.2608269 | F10: 11500 | G10: kWh/y heat demand per average UK household
B11: equivalent to the CO2 sequestered by | C11: =-C9/$F$8 -> 1147540 | D11: mature trees | F11: =100000*0.25*15 -> 375000 | G11: kWh/y per HGV
B12: football pitch = 7700m2; average 1750 trees per hectare = 1348 trees per football field | C12: =C11/1348 -> 851.29084 | D12: football pitches | F12: 87.64 | G12: gCO2eq/MJ diesel emissions
B13: equivalent to the CO2e emissions of | C13: =-C9/$F$7/1000 -> 15258.218 | D13: cars | F13: 2.9 | G13: MWhe/y per household
B14: households heating requirement | C14: =C6/$F$10 -> 9328.4566 | D14: households | F14: 0.499 | G14: Gas to power conversion
B15: if used to generate power | C15: =C6*F14/F13/1000 -> 18459.086 | D15: households
F16: 0.01 | G16: gCH4/MJ
F17: =F16*GHG_Emissions!E46 -> 0.28 | G17: gCO2e/MJ transmission losses
B18: Toggle CO2 capture % (utilisation) | C18: 1 | F18: =F17*3.6/1000 -> 0.001008 | G18: kgCO2e/kWh transmission losses
C21: =C8/C6 -> 0.212102

Sheet Feed + carbon calculator
A1: Ashton Keynes - Carbon Calculator | N1: Sn: Share of feedstock n, in fraction of input to the digester | S1: NPK requirement per hectare of cultivation | V1: Acorn digestate | AM1: N fertiliser embodied emissions (mineral fertiliser requirement after digestate) | AR1: P2O5 fertiliser embodied emissions (mineral fertiliser requirement after digestate) | AW1: K2O fertiliser embodied emissions (mineral fertiliser requirement after digestate) | BB1: Direct N2O emissions | BH1: Indirect N2O emissions | BO1: Lime fertiliser (CaO) | BT1: Seeds | BY1: Pesticide | CD1: On-farm fuel use (assuming diesel) | CJ1: Harvesting of Feedstocks (assuming diesel) | CP1: Ensiling Process | CU1: Eec: emissions from the extraction or cultivation of feedstock n | CX1: Etd,feedstock: emissions from transport of feedstock n to the digester; | DA1: El: annualised emissions from carbon stock changes caused by land-use change, for feedstock n; | DE1: Esca: emission savings from soil carbon accumulation via improved agricultural management | DI1: Biogas Boiler emissions | DL1: CHP1 emissions | DO1: CHP2 emissions | DR1: CHP3 emissions | DU1: Imported Power emissions | DX1: Surplus Energy emissions | EA1: Methane Slip upstream | ED1: Methane Slip downstream | EG1: CO2 Slip downstream | EJ1: Ep: emissions from processing | EM1: Transport to Point of Use | EP1: Injection at Hub | FG1: Etd, product: emissions from transport and distribution of biogas and/or biomethane | FJ1: Eu: emissions from the fuel in use | FM1: Eccs: emission savings from CO2 capture and geological storage | FP1: Eccr: emission savings from CO2 capture and replacement | FS1: E: total emissions from the production of the biogas or biomethane before energy conversion | FV1: Biomethane injected (GCV) | FW1: Biomethane injected (NCV)
A2: Feedstock (Inputs) | B2: Category | C2: Feedstock Mass Input (tonnes) | D2: Dry Matter (%) | E2: Volatile Solids (%) | F2: Methane Content (%) | G2: Specific Methane Yield (Nm3 CH4/tVS) | H2: Biogas Production (Nm3) | I2: Methane Production (Nm3) | J2: kWh (GCV) of Biomethane from feedstocks | K2: kWh (NCV) of Biomethane from feedstocks | L2: MJ (GCV) of Biomethane from feedstocks | M2: MJ (NCV) of Biomethane from feedstocks | N2: % of total | O2: gCO2e/MJ | Q2: Crop yield (tonnes of feedstock per hectare) | R2: Hectares of cultivation | S2: Crop N requirement | T2: Crop P requirement | U2: Crop K requirement | V2: Own Digestate used tonnes/ha | W2: Total digestate used tonnes/y | X2: Total N in own digestate kg/t | Y2: Own digestate used in application 1 tonnes/ha | Z2: N use efficiency in application 1 | AA2: Own digestate used in application 2 tonnes/ha | AB2: N use efficiency in application 2 | AC2: N from own digestate (CAN?) kg/ha | AD2: P in own digestate kg/t | AE2: Available to crop | AF2: Readily available P kg/t | AG2: P from own digestate kg/ha | AH2: K in own digestate kg/t | AI2: Available to crop | AJ2: Readily available K kg/t | AK2: K from own digestate kg/ha | AM2: kg/ha | AN2: kg/year | AO2: kgCO2-eq/kg | AP2: kgCO2e/yr | AQ2: gCO2e/MJ | AR2: kg/ha | AS2: kg/year | AT2: kgCO2-eq/kg | AU2: kgCO2e/yr | AV2: gCO2e/MJ | AW2: kg/ha | AX2: kg/year | AY2: kgCO2-eq/kg | AZ2: kgCO2e/yr | BA2: gCO2e/MJ | BB2: Total synthetic N fertiliser (Kg N/ha) | BC2: Total organic N fertiliser (Kg N/ha) | BD2: Emission factor (kg N2O/kg N.ha) | BE2: CO2e emissions from N2O (kg/yr) | BF2: Emissions (kgCO2e/ton feedstock) | BG2: Emissions (gCO2e/MJ fuel) | BH2: Total synthetic N fertiliser (Kg N/ha) | BI2: Total organic N fertiliser (Kg N/ha) | BJ2: Total N2O Emisssions (kg N2O/ha. yr) | BK2: Annual emissions (kgCO2e/yr) | BL2: Emissions (kgCO2e/ton feedstock) | BM2: Emissions (gCO2e/MJ fuel) | BO2: kg/ha | BP2: kg/year | BQ2: kgCO2-eq/kg | BR2: kgCO2-eq/yr | BS2: gCO2e/MJ | BT2: kg/ha | BU2: kg/year | BV2: kgCO2-eq/kg | BW2: kgCO2-eq/yr | BX2: gCO2e/MJ | BY2: kg/ha | BZ2: kg/year | CA2: kgCO2-eq/kg | CB2: kgCO2-eq/yr | CC2: gCO2e/MJ | CD2: litres/ha | CE2: litres of diesel/year | CF2: kgCO2-eq/litre | CG2: kgCO2-eq/yr | CH2: gCO2e/MJ | CJ2: MJ/tonne of feedstock | CK2: litres of diesel/year | CL2: kgCO2-eq/litre | CM2: kgCO2-eq/yr | CN2: gCO2e/MJ | CP2: MJ per tonne of feedstock | CQ2: gCO2-eq/MJ | CR2: Emissions kgCO2e/y | CS2: gCO2e/MJ | CU2: Emissions kgCO2e/y | CV2: gCO2e/ MJ | CX2: Emissions kgCO2e/y | CY2: gCO2e/ MJ | DA2: Land use change? | DB2: Emissions kgCO2e/y | DC2: gCO2e/ MJ | DE2: Emissions kgCO2e/y | DF2: gCO2e/ MJ | DI2: Emissions kgCO2e/y | DJ2: gCO2e/MJ | DL2: Emissions kgCO2e/y | DM2: gCO2e/MJ | DO2: Emissions kgCO2e/y | DP2: gCO2e/MJ | DR2: Emissions kgCO2e/y | DS2: gCO2e/MJ | DU2: Emissions kgCO2e/y | DV2: gCO2e/MJ | DX2: Emissions kgCO2e/y | DY2: gCO2e/MJ | EA2: Emissions kgCO2e/y | EB2: gCO2e/MJ | ED2: Emissions kgCO2e/y | EE2: gCO2e/MJ | EG2: Emissions kgCO2e/y | EH2: gCO2e/MJ | EJ2: Emissions kgCO2e/y | EK2: gCO2e/ MJ | EM2: Emissions kgCO2e/y | EN2: gCO2e/MJ | EP2: Power requirement at hub kWh/year | EQ2: MJ per kWh | ER2: Power requirement at hub MJ/year | ES2: gCO2-eq/MJ | ET2: Overall hub emissions kgCO2e/year | EU2: Proportion of emissions to this project | EV2: Emissions related to Injection at Hub kgCO2e/year | EW2: Gas supply requirement at hub Sm3/year | EX2: MJth per Sm3 of natural gas (HHV) | EY2: Heat requirement at hub MJ/year | EZ2: gCO2-eq/MJ | FA2: Emissions kgCO2e/y | FB2: Proportion of emissions to this project | FC2: Emissions related to Injection at Hub kgCO2e/y | FD2: Emissions kgCO2e/y | FE2: gCO2e/MJ | FG2: Emissions kgCO2e/y | FH2: gCO2e/ MJ | FJ2: Emissions kgCO2e/y | FK2: gCO2e/ MJ | FM2: Emissions kgCO2e/y | FN2: gCO2e/ MJ | FP2: Emissions kgCO2e/y | FQ2: gCO2e/ MJ | FS2: Emissions kgCO2e/y | FT2: gCO2e/ MJ | FV2: MJ | FW2: MJ
A3: Rye Silage | B3: Product | C3: 15000 | D3: 0.35 | E3: 0.95 | F3: 0.523 | G3: 340 | H3: =IFERROR(I3/F3,0) -> 3242351.8 | I3: =C3*D3*E3*G3 -> 1695750 | J3: =K3*$B$29 -> 18747458 | K3: =I3*$B$26 -> 16863292 | L3: =M3*$B$29 -> 67490850 | M3: =K3*3.6 -> 60707850 | N3: =IFERROR(M3/$M$21,"-") -> 0.14638443 | O3: =FT3 -> -13.02306 | Q3: =(32+40)/2 -> 36 | R3: =C3/Q3 -> 416.66667 | S3: 120 | T3: 85 | U3: 190 | V3: =Y3+AA3 -> 32 | W3: =R3*V3 -> 13333.333 | X3: 7.5 | Y3: =22*$Y$21 -> 22 | Z3: 0.49 | AA3: 10 | AB3: 0.53 | AC3: 120.6 | AD3: 2.6 | AE3: 0.49230769 | AF3: =AD3*AE3 -> 1.28 | AG3: =V3*AF3 -> 40.96 | AH3: 4.6 | AI3: =103/115 -> 0.89565217 | AJ3: =AH3*AI3 -> 4.12 | AK3: =V3*AJ3 -> 131.84 | AM3: =MAX(S3-AC3,0) -> 0 | AN3: =AM3*R3 -> 0 | AO3: =GHG_Emissions!$E$24/1000 -> 5.8806 | AP3: =AN3*AO3 -> 0 | AQ3: =IFERROR((AP3*1000/$FV$3),0) -> 0 | AR3: =MAX(T3-AG3,0) -> 44.04 | AS3: =AR3*R3 -> 18350 | AT3: =GHG_Emissions!$E$25/1000 -> 1.0107 | AU3: =AS3*AT3 -> 18546.345 | AV3: =IFERROR((AU3*1000/$FV$3),0) -> 0.32806002 | AW3: =MAX(U3-AK3,0) -> 58.16 | AX3: =AW3*R3 -> 24233.333 | AY3: =GHG_Emissions!$E$26/1000 -> 0.5761 | AZ3: =AX3*AY3 -> 13960.823 | BA3: =IFERROR((AZ3*1000/$FV$3),0) -> 0.24694828 | BB3: =AM3 -> 0 | BC3: =AC3 -> 120.6 | BD3: =(BB3+BC3)*GHG_Emissions!$E$38*AH3 -> 5.5476 | BE3: =BD3*(44*265/28) -> 2310.1791 | BF3: =BE3/($C3*$D3) -> 0.44003412 | BG3: =IFERROR((BE3*1000/$FV$3),0) -> 0.040863977 | BH3: =AM3 -> 0 | BI3: =AC3 -> 120.6 | BJ3: =(BH3*GHG_Emissions!$E$41+BI3*GHG_Emissions!$E$42)*GHG_Emissions!$E$39+(BH3+BI3)*GHG_Emissions!$E$43*GHG_Emissions!$E$40 -> 0.51255 | BK3: =BJ3*(44/28)*265 -> 213.44046 | BL3: =BK3/($C3*$D3) -> 0.040655327 | BM3: =IFERROR((BK3*1000/$FV$3),0) -> 0.0037754761 | BO3: 0 | BP3: =BO3*$R3 -> 0 | BQ3: =GHG_Emissions!$E$28/1000 -> 0.1295 | BR3: =BP3*BQ3 -> 0 | BS3: =IFERROR((BR3*1000/$FV$3),0) -> 0 | BT3: 120 | BU3: =BT3*$R3 -> 50000 | BV3: =GHG_Emissions!$E$30/1000 -> 0.02899 | BW3: =BU3*BV3 -> 1449.5 | BX3: =IFERROR((BW3*1000/$FV$3),0) -> 0.025639715 | BY3: 4.55 | BZ3: =BY3*$R3 -> 1895.8333 | CA3: =GHG_Emissions!$E$29/1000 -> 10.9713 | CB3: =BZ3*CA3 -> 20799.756 | CC3: =IFERROR((CB3*1000/$FV$3),0) -> 0.36791985 | CD3: 79.18 | CE3: =CD3*$R3 -> 32991.667 | CF3: =EnergyConversions!$B$52*(GHG_Emissions!$C$4+GHG_Emissions!$C$5) -> 3.1220784 | CG3: =CE3*CF3 -> 103002.57 | CH3: =IFERROR((CG3*1000/$FV$3),0) -> 1.8219776 | CJ3: 21.96 | CK3: =CJ3*C3/GHG_Conversions!$G$11 -> 9185.9272 | CL3: =EnergyConversions!$B$52*(GHG_Emissions!$C$4+GHG_Emissions!$C$5) -> 3.1220784 | CM3: =CK3*CL3 -> 28679.185 | CN3: =IFERROR(CM3*1000/$FV$3,0) -> 0.50729639 | CP3: 13.97 | CQ3: =(GHG_Emissions!$E$4+GHG_Emissions!$E$5) -> 87.733333 | CR3: =C3*CP3*CQ3/1000 -> 18384.52 | CS3: =IFERROR((CR3*1000/$FV$3),0) -> 0.32519755 | CU3: =BE3+BK3+AP3+AU3+AZ3+BR3+BW3+CB3+CG3+CM3+CR3 -> 207346.32 | CV3: =IFERROR((CU3*1000/$FV$3),0) -> 3.6676789 | CX3: =SUMIF(Transport!B:B,'Feed + carbon calculator'!A3,Transport!M:M) -> 34643.242 | CY3: =IFERROR(CX3/$FV3*1000,0) -> 0.61279258 | DA3: No | DB3: 0 | DC3: 0 | DE3: 0 | DF3: =IFERROR(DE3/$FV$3*1000,0) -> 0 | DI3: =DI21*$N3 -> 0 | DJ3: =IFERROR(DI3/$FV$3*1000,0) -> 0 | DL3: =$DL$21*$N3 -> 49976.831 | DM3: =IFERROR(DL3/$FV$3*1000,0) -> 0.88402326 | DO3: =$DO$21*$N3 -> 629670.74 | DP3: =IFERROR(DO3/$FV$3*1000,0) -> 11.138033 | DR3: =$DR$21*$N3 -> 0 | DS3: =IFERROR(DR3/$FV$3*1000,0) -> 0 | DU3: =$DU$21*$N3 -> 39825.89 | DV3: =IFERROR(DU3/$FV$3*1000,0) -> 0.70446669 | DX3: =$DX$21*$N3 -> -91549.97 | DY3: =IFERROR(DX3/$FV$3*1000,0) -> -1.6193964 | ED3: =$ED$21*$N3 -> 117546.51 | EE3: =IFERROR(ED3/$FV$3*1000,0) -> 2.0792404 | EG3: =$I$28*7.5%*N3*$EG$24 -> 0 | EH3: =IFERROR(EG3/$FV$3*1000,0) -> 0 | EJ3: =IFERROR(DI3+DL3+DO3+DR3+DU3+DX3+EA3+ED3+EG3,0) -> 745470 | EK3: =IFERROR(EJ3/$FV$3*1000,0) -> 13.186367 | EM3: =$EM$21*N3 -> 52631.763 | EN3: =IFERROR(EM3/$FV$3*1000,0) -> 0.93098544 | FD3: =$FD$21*$N3 -> 19137.743 | FE3: =IFERROR(FD3/$FV$3*1000,0) -> 0.33852106 | FG3: =IFERROR(EM3+FD3,0) -> 71769.506 | FH3: =IFERROR(FG3/$FV$3*1000,0) -> 1.2695065 | FJ3: 0 | FK3: =IFERROR(FJ3/$FV$3*1000,0) -> 0 | FM3: =IFERROR(-$I$28*N3*$FN$23,0) -> 0 | FN3: =IFERROR(FM3/$FV$3*1000,0) -> 0 | FP3: =IFERROR(-$I$28*N3*$FQ$23,0) -> -1867236.3 | FQ3: =IFERROR(FP3/$FV3*1000,0) -> -33.028911 | FS3: =CU3+CX3+DB3+DE3+EJ3+FG3+FJ3+FM3+FP3+EM3+FD3 -> -736237.72 | FT3: =CV3+CY3+DC3+DF3+EK3+FH3+FK3+FN3+FQ3+FE3+EN3 -> -13.02306 | FV3: =$FV$21*N3 -> 56533390 | FW3: =FV3/$B$29 -> 50851642
A4: Maize | B4: Product | C4: 12000 | D4: 0.32 | E4: 0.97 | F4: 0.52 | G4: 370 | H4: =IFERROR(I4/F4,0) -> 2650338.5 | I4: =C4*D4*E4*G4 -> 1378176 | J4: =K4*$B$29 -> 15236501 | K4: =I4*$B$26 -> 13705195 | L4: =M4*$B$29 -> 54851405 | M4: =K4*3.6 -> 49338701 | N4: =IFERROR(M4/$M$21,"-") -> 0.11897008 | O4: =FT4 -> -17.212844 | Q4: =(38+48)/2 -> 43 | R4: =C4/Q4 -> 279.06977 | S4: 100 | T4: 85 | U4: 205 | V4: =Y4+AA4 -> 25 | W4: =R4*V4 -> 6976.7442 | X4: 7.5 | Y4: 25 | Z4: 0.53 | AA4: 0 | AB4: 0 | AC4: 100.011 | AD4: 3.6 | AE4: 0.49230769 | AF4: =AD4*AE4 -> 1.7723077 | AG4: =V4*AF4 -> 44.307692 | AH4: 5.6 | AI4: =103/115 -> 0.89565217 | AJ4: =AH4*AI4 -> 5.0156522 | AK4: =V4*AJ4 -> 125.3913 | AM4: =MAX(S4-AC4,0) -> 0 | AN4: =AM4*R4 -> 0 | AO4: =GHG_Emissions!$E$24/1000 -> 5.8806 | AP4: =AN4*AO4 -> 0 | AQ4: =IFERROR((AP4*1000/$FV$3),0) -> 0 | AR4: =MAX(T4-AG4,0) -> 40.692308 | AS4: =AR4*R4 -> 11355.993 | AT4: =GHG_Emissions!$E$25/1000 -> 1.0107 | AU4: =AS4*AT4 -> 11477.502 | AV4: =IFERROR((AU4*1000/$FV$3),0) -> 0.20302165 | AW4: =MAX(U4-AK4,0) -> 79.608696 | AX4: =AW4*R4 -> 22216.38 | AY4: =GHG_Emissions!$E$26/1000 -> 0.5761 | AZ4: =AX4*AY4 -> 12798.857 | BA4: =IFERROR((AZ4*1000/$FV$3),0) -> 0.22639464 | BB4: =AM4 -> 0 | BC4: =AC4 -> 100.011 | BD4: =(BB4+BC4)*GHG_Emissions!$E$38*AH4 -> 5.600616 | BE4: =BD4*(44*265/28) -> 2332.2565 | BF4: =BE4/($C4*$D4) -> 0.60735847 | BG4: =IFERROR((BE4*1000/$FV$3),0) -> 0.041254496 | BH4: =AM4 -> 0 | BI4: =AC4 -> 100.011 | BJ4: =(BH4*GHG_Emissions!$E$41+BI4*GHG_Emissions!$E$42)*GHG_Emissions!$E$39+(BH4+BI4)*GHG_Emissions!$E$43*GHG_Emissions!$E$40 -> 0.42504675 | BK4: =BJ4*(44/28)*265 -> 177.00161 | BL4: =BK4/($C4*$D4) -> 0.04609417 | BM4: =IFERROR((BK4*1000/$FV$3),0) -> 0.0031309216 | BO4: 0 | BP4: =BO4*$R4 -> 0 | BQ4: =GHG_Emissions!$E$28/1000 -> 0.1295 | BR4: =BP4*BQ4 -> 0 | BS4: =IFERROR((BR4*1000/$FV$3),0) -> 0 | BT4: 25 | BU4: =BT4*$R4 -> 6976.7442 | BV4: =GHG_Emissions!$E$30/1000 -> 0.02899 | BW4: =BU4*BV4 -> 202.25581 | BX4: =IFERROR((BW4*1000/$FV$3),0) -> 0.0035776346 | BY4: 6.7 | BZ4: =BY4*$R4 -> 1869.7674 | CA4: =GHG_Emissions!$E$29/1000 -> 10.9713 | CB4: =BZ4*CA4 -> 20513.78 | CC4: =IFERROR((CB4*1000/$FV$3),0) -> 0.3628613 | CD4: 60.1 | CE4: =CD4*$R4 -> 16772.093 | CF4: =EnergyConversions!$B$52*(GHG_Emissions!$C$4+GHG_Emissions!$C$5) -> 3.1220784 | CG4: =CE4*CF4 -> 52363.789 | CH4: =IFERROR((CG4*1000/$FV$3),0) -> 0.92624535 | CJ4: 21.96 | CK4: =CJ4*C4/GHG_Conversions!$G$11 -> 7348.7417 | CL4: =EnergyConversions!$B$52*(GHG_Emissions!$C$4+GHG_Emissions!$C$5) -> 3.1220784 | CM4: =CK4*CL4 -> 22943.348 | CN4: =IFERROR(CM4*1000/$FV$3,0) -> 0.40583712 | CP4: 13.97 | CQ4: =(GHG_Emissions!$E$4+GHG_Emissions!$E$5) -> 87.733333 | CR4: =C4*CP4*CQ4/1000 -> 14707.616 | CS4: =IFERROR((CR4*1000/$FV$3),0) -> 0.26015804 | CU4: =BE4+BK4+AP4+AU4+AZ4+BR4+BW4+CB4+CG4+CM4+CR4 -> 137516.41 | CV4: =IFERROR((CU4*1000/$FV$3),0) -> 2.4324812 | CX4: =SUMIF(Transport!B:B,'Feed + carbon calculator'!A4,Transport!M:M) -> 27714.594 | CY4: =IFERROR(CX4/$FV4*1000,0) -> 0.60319902 | DA4: No | DB4: 0 | DC4: 0 | DE4: 0 | DF4: =IFERROR(DE4/$FV$3*1000,0) -> 0 | DI4: =DI22*$N4 -> 0 | DJ4: =IFERROR(DI4/$FV$3*1000,0) -> 0 | DL4: =$DL$21*$N4 -> 40617.349 | DM4: =IFERROR(DL4/$FV$3*1000,0) -> 0.71846654 | DO4: =$DO$21*$N4 -> 511748.25 | DP4: =IFERROR(DO4/$FV$3*1000,0) -> 9.0521417 | DR4: =$DR$21*$N4 -> 0 | DS4: =IFERROR(DR4/$FV$3*1000,0) -> 0 | DU4: =$DU$21*$N4 -> 32367.44 | DV4: =IFERROR(DU4/$FV$3*1000,0) -> 0.57253669 | DX4: =$DX$21*$N4 -> -74404.819 | DY4: =IFERROR(DX4/$FV$3*1000,0) -> -1.3161217 | ED4: =$ED$21*$N4 -> 95532.819 | EE4: =IFERROR(ED4/$FV$3*1000,0) -> 1.6898477 | EG4: =$I$28*7.5%*N4*$EG$24 -> 0 | EH4: =IFERROR(EG4/$FV$3*1000,0) -> 0 | EJ4: =IFERROR(DI4+DL4+DO4+DR4+DU4+DX4+EA4+ED4+EG4,0) -> 605861.04 | EK4: =IFERROR(EJ4/$FV$3*1000,0) -> 10.716871 | EM4: =$EM$21*N4 -> 42775.074 | EN4: =IFERROR(EM4/$FV$3*1000,0) -> 0.75663381 | FD4: =$FD$21*$N4 -> 15553.695 | FE4: =IFERROR(FD4/$FV$3*1000,0) -> 0.27512405 | FG4: =IFERROR(EM4+FD4,0) -> 58328.77 | FH4: =IFERROR(FG4/$FV$3*1000,0) -> 1.0317579 | FJ4: 0 | FK4: =IFERROR(FJ4/$FV$3*1000,0) -> 0 | FM4: =IFERROR(-$I$28*N4*$FN$23,0) -> 0 | FN4: =IFERROR(FM4/$FV$3*1000,0) -> 0 | FP4: =IFERROR(-$I$28*N4*$FQ$23,0) -> -1517547 | FQ4: =IFERROR(FP4/$FV4*1000,0) -> -33.028911 | FS4: =CU4+CX4+DB4+DE4+EJ4+FG4+FJ4+FM4+FP4+EM4+FD4 -> -629797.37 | FT4: =CV4+CY4+DC4+DF4+EK4+FH4+FK4+FN4+FQ4+FE4+EN4 -> -17.212844 | FV4: =$FV$21*N4 -> 45946019 | FW4: =FV4/$B$29 -> 41328328
A5: Grass Silage | B5: Product | C5: 14000 | D5: 0.35 | E5: 0.93 | F5: 0.53 | G5: 318 | H5: =IFERROR(I5/F5,0) -> 2734200 | I5: =C5*D5*E5*G5 -> 1449126 | J5: =K5*$B$29 -> 16020893 | K5: =I5*$B$26 -> 14410753 | L5: =M5*$B$29 -> 57675215 | M5: =K5*3.6 -> 51878711 | N5: =IFERROR(M5/$M$21,"-") -> 0.12509479 | O5: =FT5 -> -14.472772 | Q5: =(55+75)/2 -> 65 | R5: =C5/Q5 -> 215.38462 | S5: 300 | T5: 70 | U5: 100 | V5: =Y5+AA5 -> 33 | W5: =R5*V5 -> 7107.6923 | X5: 7.5 | Y5: 18 | Z5: 0.63 | AA5: 15 | AB5: 0.66 | AC5: 159.3 | AD5: 4.6 | AE5: 0.51282051 | AF5: =AD5*AE5 -> 2.3589744 | AG5: =V5*AF5 -> 77.846154 | AH5: 6.6 | AI5: =103/115 -> 0.89565217 | AJ5: =AH5*AI5 -> 5.9113043 | AK5: =V5*AJ5 -> 195.07304 | AM5: =MAX(S5-AC5,0) -> 140.7 | AN5: =AM5*R5 -> 30304.615 | AO5: =GHG_Emissions!$E$24/1000 -> 5.8806 | AP5: =AN5*AO5 -> 178209.32 | AQ5: =IFERROR((AP5*1000/$FV$3),0) -> 3.1522844 | AR5: =MAX(T5-AG5,0) -> 0 | AS5: =AR5*R5 -> 0 | AT5: =GHG_Emissions!$E$25/1000 -> 1.0107 | AU5: =AS5*AT5 -> 0 | AV5: =IFERROR((AU5*1000/$FV$3),0) -> 0 | AW5: =MAX(U5-AK5,0) -> 0 | AX5: =AW5*R5 -> 0 | AY5: =GHG_Emissions!$E$26/1000 -> 0.5761 | AZ5: =AX5*AY5 -> 0 | BA5: =IFERROR((AZ5*1000/$FV$3),0) -> 0 | BB5: =AM5 -> 140.7 | BC5: =AC5 -> 159.3 | BD5: =(BB5+BC5)*GHG_Emissions!$E$38*AH5 -> 19.8 | BE5: =BD5*(44*265/28) -> 8245.2857 | BF5: =BE5/($C5*$D5) -> 1.6827114 | BG5: =IFERROR((BE5*1000/$FV$3),0) -> 0.14584807 | BH5: =AM5 -> 140.7 | BI5: =AC5 -> 159.3 | BJ5: =(BH5*GHG_Emissions!$E$41+BI5*GHG_Emissions!$E$42)*GHG_Emissions!$E$39+(BH5+BI5)*GHG_Emissions!$E$43*GHG_Emissions!$E$40 -> 1.1343 | BK5: =BJ5*(44/28)*265 -> 472.35493 | BL5: =BK5/($C5*$D5) -> 0.096398965 | BM5: =IFERROR((BK5*1000/$FV$3),0) -> 0.0083553265 | BO5: 200 | BP5: =BO5*$R5 -> 43076.923 | BQ5: =GHG_Emissions!$E$28/1000 -> 0.1295 | BR5: =BP5*BQ5 -> 5578.4615 | BS5: =IFERROR((BR5*1000/$FV$3),0) -> 0.098675518 | BT5: 3.3 | BU5: =BT5*$R5 -> 710.76923 | BV5: =GHG_Emissions!$E$30/1000 -> 0.02899 | BW5: =BU5*BV5 -> 20.6052 | BX5: =IFERROR((BW5*1000/$FV$3),0) -> 0.00036447841 | BY5: 0.72 | BZ5: =BY5*$R5 -> 155.07692 | CA5: =GHG_Emissions!$E$29/1000 -> 10.9713 | CB5: =BZ5*CA5 -> 1701.3954 | CC5: =IFERROR((CB5*1000/$FV$3),0) -> 0.030095408 | CD5: 8.45 | CE5: =CD5*$R5 -> 1820 | CF5: =EnergyConversions!$B$52*(GHG_Emissions!$C$4+GHG_Emissions!$C$5) -> 3.1220784 | CG5: =CE5*CF5 -> 5682.1827 | CH5: =IFERROR((CG5*1000/$FV$3),0) -> 0.10051021 | CJ5: 21.96 | CK5: =CJ5*C5/GHG_Conversions!$G$11 -> 8573.532 | CL5: =EnergyConversions!$B$52*(GHG_Emissions!$C$4+GHG_Emissions!$C$5) -> 3.1220784 | CM5: =CK5*CL5 -> 26767.239 | CN5: =IFERROR(CM5*1000/$FV$3,0) -> 0.47347663 | CP5: 13.97 | CQ5: =(GHG_Emissions!$E$4+GHG_Emissions!$E$5) -> 87.733333 | CR5: =C5*CP5*CQ5/1000 -> 17158.885 | CS5: =IFERROR((CR5*1000/$FV$3),0) -> 0.30351772 | CU5: =BE5+BK5+AP5+AU5+AZ5+BR5+BW5+CB5+CG5+CM5+CR5 -> 243835.73 | CV5: =IFERROR((CU5*1000/$FV$3),0) -> 4.3131277 | CX5: =SUMIF(Transport!B:B,'Feed + carbon calculator'!A5,Transport!M:M) -> 32333.693 | CY5: =IFERROR(CX5/$FV5*1000,0) -> 0.66927708 | DA5: No | DB5: 0 | DC5: 0 | DE5: 0 | DF5: =IFERROR(DE5/$FV$3*1000,0) -> 0 | DI5: =DI22*$N5 -> 0 | DJ5: =IFERROR(DI5/$FV$5*1000,0) -> 0 | DL5: =$DL$21*$N5 -> 42708.374 | DM5: =IFERROR(DL5/$FV$5*1000,0) -> 0.88402326 | DO5: =$DO$21*$N5 -> 538093.61 | DP5: =IFERROR(DO5/$FV$5*1000,0) -> 11.138033 | DR5: =$DR$21*$N5 -> 0 | DS5: =IFERROR(DR5/$FV$5*1000,0) -> 0 | DU5: =$DU$21*$N5 -> 34033.751 | DV5: =IFERROR(DU5/$FV$5*1000,0) -> 0.70446669 | DX5: =$DX$21*$N5 -> -78235.26 | DY5: =IFERROR(DX5/$FV$5*1000,0) -> -1.6193964 | ED5: =$ED$21*$N5 -> 100450.95 | EE5: =IFERROR(ED5/$FV$5*1000,0) -> 2.0792404 | EG5: =$I$28*7.5%*N5*$EG$24 -> 0 | EH5: =IFERROR(EG5/$FV$5*1000,0) -> 0 | EJ5: =IFERROR(DI5+DL5+DO5+DR5+DU5+DX5+EA5+ED5+EG5,0) -> 637051.43 | EK5: =IFERROR(EJ5/$FV$3*1000,0) -> 11.268587 | EM5: =$EM$21*N5 -> 44977.182 | EN5: =IFERROR(EM5/$FV$5*1000,0) -> 0.93098544 | FD5: =$FD$21*$N5 -> 16354.416 | FE5: =IFERROR(FD5/$FV$3*1000,0) -> 0.28928773 | FG5: =IFERROR(EM5+FD5,0) -> 61331.598 | FH5: =IFERROR(FG5/$FV$3*1000,0) -> 1.0848739 | FJ5: 0 | FK5: =IFERROR(FJ5/$FV$3*1000,0) -> 0 | FM5: =IFERROR(-$I$28*N5*$FN$23,0) -> 0 | FN5: =IFERROR(FM5/$FV$3*1000,0) -> 0 | FP5: =IFERROR(-$I$28*N5*$FQ$23,0) -> -1595671.9 | FQ5: =IFERROR(FP5/$FV5*1000,0) -> -33.028911 | FS5: =CU5+CX5+DB5+DE5+EJ5+FG5+FJ5+FM5+FP5+EM5+FD5 -> -559787.87 | FT5: =CV5+CY5+DC5+DF5+EK5+FH5+FK5+FN5+FQ5+FE5+EN5 -> -14.472772 | FV5: =$FV$21*N5 -> 48311370 | FW5: =FV5/$B$29 -> 43455956
A6: Straw | B6: Waste/Residue | C6: 20000 | D6: 0.8688 | E6: 0.9156 | F6: 0.61 | G6: 300 | H6: =IFERROR(I6/F6,0) -> 7824327.3 | I6: =C6*D6*E6*G6 -> 4772839.7 | J6: =K6*$B$29 -> 52766394 | K6: =I6*$B$26 -> 47463239 | L6: =M6*$B$29 -> 1.8995902e+08 | M6: =K6*3.6 -> 1.7086766e+08 | N6: =IFERROR(M6/$M$21,"-") -> 0.41201204 | O6: =FT6 -> 11.818839 | CX6: =SUMIF(Transport!B:B,'Feed + carbon calculator'!A6,Transport!M:M) -> 22485.75 | CY6: =IFERROR(CX6/$FV6*1000,0) -> 0.1413147 | DA6: No | DB6: 0 | DC6: 0 | DE6: 0 | DF6: =IFERROR(DE6/$FV$3*1000,0) -> 0 | DI6: =DI23*$N6 -> 0 | DJ6: =IFERROR(DI6/$FV$5*1000,0) -> 0 | DL6: =$DL$21*$N6 -> 140664.25 | DM6: =IFERROR(DL6/$FV$5*1000,0) -> 2.9116179 | DO6: =$DO$21*$N6 -> 1772264.5 | DP6: =IFERROR(DO6/$FV$5*1000,0) -> 36.684211 | DR6: =$DR$21*$N6 -> 0 | DS6: =IFERROR(DR6/$FV$5*1000,0) -> 0 | DU6: =$DU$21*$N6 -> 112093.52 | DV6: =IFERROR(DU6/$FV$6*1000,0) -> 0.70446669 | DX6: =$DX$21*$N6 -> -257675.56 | DY6: =IFERROR(DX6/$FV$6*1000,0) -> -1.6193964 | ED6: =$ED$21*$N6 -> 330845.14 | EE6: =IFERROR(ED6/$FV$5*1000,0) -> 6.8481838 | EG6: =$I$28*7.5%*N6*$EG$24 -> 0 | EH6: =IFERROR(EG6/$FV$6*1000,0) -> 0 | EJ6: =IFERROR(DI6+DL6+DO6+DR6+DU6+DX6+EA6+ED6+EG6,0) -> 2098191.8 | EK6: =IFERROR(EJ6/$FV$3*1000,0) -> 37.114205 | EM6: =$EM$21*N6 -> 148136.79 | EN6: =IFERROR(EM6/$FV$5*1000,0) -> 3.0662925 | FD6: =$FD$21*$N6 -> 53864.886 | FE6: =IFERROR(FD6/$FV$3*1000,0) -> 0.95279774 | FG6: =IFERROR(EM6+FD6,0) -> 202001.68 | FH6: =IFERROR(FG6/$FV$3*1000,0) -> 3.5731393 | FJ6: 0 | FK6: =IFERROR(FJ6/$FV$3*1000,0) -> 0 | FM6: =IFERROR(-$I$28*N6*$FN$23,0) -> 0 | FN6: =IFERROR(FM6/$FV$3*1000,0) -> 0 | FP6: =IFERROR(-$I$28*N6*$FQ$23,0) -> -5255503.2 | FQ6: =IFERROR(FP6/$FV6*1000,0) -> -33.028911 | FS6: =CU6+CX6+DB6+DE6+EJ6+FG6+FJ6+FM6+FP6+EM6+FD6 -> -2730822.2 | FT6: =CV6+CY6+DC6+DF6+EK6+FH6+FK6+FN6+FQ6+FE6+EN6 -> 11.818839 | FV6: =$FV$21*N6 -> 1.5911827e+08 | FW6: =FV6/$B$29 -> 1.4312648e+08
A7: Farm Yard Manure | B7: Waste/Residue | C7: 10000 | D7: 0.25 | E7: 0.8 | F7: 0.525 | G7: 248 | H7: =IFERROR(I7/F7,0) -> 944761.9 | I7: =C7*D7*E7*G7 -> 496000 | J7: =K7*$B$29 -> 5483555.6 | K7: =I7*$B$26 -> 4932444.4 | L7: =M7*$B$29 -> 19740800 | M7: =K7*3.6 -> 17756800 | N7: =IFERROR(M7/$M$21,"-") -> 0.042816853 | O7: =FT7 -> -27.114803 | CX7: =SUMIF(Transport!B:B,'Feed + carbon calculator'!A7,Transport!M:M) -> 20969.929 | CY7: =IFERROR(CX7/$FV7*1000,0) -> 1.2681542 | DA7: No | DB7: 0 | DC7: 0 | DE7: 0 | DF7: =IFERROR(DE7/$FV$3*1000,0) -> 0 | DI7: =DI24*$N7 -> 0 | DJ7: =IFERROR(DI7/$FV$5*1000,0) -> 0 | DL7: =$DL$21*$N7 -> 14618.021 | DM7: =IFERROR(DL7/$FV$5*1000,0) -> 0.3025793 | DO7: =$DO$21*$N7 -> 184176.14 | DP7: =IFERROR(DO7/$FV$5*1000,0) -> 3.8122732 | DR7: =$DR$21*$N7 -> 0 | DS7: =IFERROR(DR7/$FV$5*1000,0) -> 0 | DU7: =$DU$21*$N7 -> 11648.911 | DV7: =IFERROR(DU7/$FV$6*1000,0) -> 0.073209138 | DX7: =$DX$21*$N7 -> -26777.995 | DY7: =IFERROR(DX7/$FV$6*1000,0) -> -0.16828988 | ED7: =$ED$21*$N7 -> 34381.877 | EE7: =IFERROR(ED7/$FV$5*1000,0) -> 0.71167259 | EJ7: =IFERROR(DI7+DL7+DO7+DR7+DU7+DX7+EA7+ED7+EG7,0) -> 218046.95 | EK7: =IFERROR(EJ7/$FV$3*1000,0) -> 3.8569587 | EM7: =$EM$21*N7 -> 15394.577 | EN7: =IFERROR(EM7/$FV$5*1000,0) -> 0.3186533 | FD7: =$FD$21*$N7 -> 5597.7123 | FE7: =IFERROR(FD7/$FV$3*1000,0) -> 0.099016039 | FG7: =IFERROR(EM7+FD7,0) -> 20992.29 | FH7: =IFERROR(FG7/$FV$3*1000,0) -> 0.37132551 | FJ7: 0 | FK7: =IFERROR(FJ7/$FV$3*1000,0) -> 0 | FM7: =IFERROR(-$I$28*N7*$FN$23,0) -> 0 | FN7: =IFERROR(FM7/$FV$3*1000,0) -> 0 | FP7: =IFERROR(-$I$28*N7*$FQ$23,0) -> -546159.05 | FQ7: =IFERROR(FP7/$FV7*1000,0) -> -33.028911 | FS7: =CU7+CX7+DB7+DE7+EJ7+FG7+FJ7+FM7+FP7+EM7+FD7 -> -265157.59 | FT7: =CV7+CY7+DC7+DF7+EK7+FH7+FK7+FN7+FQ7+FE7+EN7 -> -27.114803 | FV7: =$FV$21*N7 -> 16535787 | FW7: =FV7/$B$29 -> 14873899
A8: Poultry Manure | B8: Waste/Residue | C8: 15000 | D8: 0.68 | E8: 0.72 | F8: 0.64 | G8: 233 | H8: =IFERROR(I8/F8,0) -> 2673675 | I8: =C8*D8*E8*G8 -> 1711152 | J8: =K8*$B$29 -> 18917736 | K8: =I8*$B$26 -> 17016456 | L8: =M8*$B$29 -> 68103850 | M8: =K8*3.6 -> 61259242 | N8: =IFERROR(M8/$M$21,"-") -> 0.147714 | O8: =FT8 -> -16.727939 | CX8: =SUMIF(Transport!B:B,'Feed + carbon calculator'!A8,Transport!M:M) -> 15567.058 | CY8: =IFERROR(CX8/$FV8*1000,0) -> 0.27288191 | DE8: 0 | DF8: =IFERROR(DE8/$FV$3*1000,0) -> 0 | DI8: =DI25*$N8 -> 0 | DJ8: =IFERROR(DI8/$FV$5*1000,0) -> 0 | DL8: =$DL$21*$N8 -> 50430.756 | DM8: =IFERROR(DL8/$FV$5*1000,0) -> 1.0438693 | DO8: =$DO$21*$N8 -> 635389.85 | DP8: =IFERROR(DO8/$FV$5*1000,0) -> 13.151974 | DR8: =$DR$21*$N8 -> 0 | DS8: =IFERROR(DR8/$FV$5*1000,0) -> 0 | DU8: =$DU$21*$N8 -> 40187.617 | DV8: =IFERROR(DU8/$FV$6*1000,0) -> 0.25256444 | DX8: =$DX$21*$N8 -> -92381.492 | DY8: =IFERROR(DX8/$FV$6*1000,0) -> -0.58058381 | ED8: =$ED$21*$N8 -> 118614.15 | EE8: =IFERROR(ED8/$FV$5*1000,0) -> 2.4552016 | EG8: =$I$28*7.5%*N8*$EG$24 -> 0 | EH8: =IFERROR(EG8/$FV$8*1000,0) -> 0 | EJ8: =IFERROR(DI8+DL8+DO8+DR8+DU8+DX8+EA8+ED8+EG8,0) -> 752240.89 | EK8: =IFERROR(EJ8/$FV$3*1000,0) -> 13.306134 | EM8: =$EM$21*N8 -> 53109.802 | EN8: =IFERROR(EM8/$FV$5*1000,0) -> 1.099323 | FD8: =$FD$21*$N8 -> 19311.566 | FE8: =IFERROR(FD8/$FV$3*1000,0) -> 0.34159575 | FG8: =IFERROR(EM8+FD8,0) -> 72421.368 | FH8: =IFERROR(FG8/$FV$3*1000,0) -> 1.2810371 | FJ8: 0 | FK8: =IFERROR(FJ8/$FV$3*1000,0) -> 0 | FM8: =IFERROR(-$I$28*N8*$FN$23,0) -> 0 | FN8: =IFERROR(FM8/$FV$3*1000,0) -> 0 | FP8: =IFERROR(-$I$28*N8*$FQ$23,0) -> -1884195.9 | FQ8: =IFERROR(FP8/$FV8*1000,0) -> -33.028911 | FS8: =CU8+CX8+DB8+DE8+EJ8+FG8+FJ8+FM8+FP8+EM8+FD8 -> -971545.18 | FT8: =CV8+CY8+DC8+DF8+EK8+FH8+FK8+FN8+FQ8+FE8+EN8 -> -16.727939 | FV8: =$FV$21*N8 -> 57046866 | FW8: =FV8/$B$29 -> 51313513
A9: Dairy Slurry | B9: Waste/Residue | C9: 5000 | D9: 0.11 | E9: 0.9 | F9: 0.55 | G9: 164 | H9: =IFERROR(I9/F9,0) -> 147600 | I9: =C9*D9*E9*G9 -> 81180 | J9: =K9*$B$29 -> 897490 | K9: =I9*$B$26 -> 807290 | L9: =M9*$B$29 -> 3230964 | M9: =K9*3.6 -> 2906244 | N9: =IFERROR(M9/$M$21,"-") -> 0.0070078067 | O9: =FT9 -> -30.274505 | CX9: =SUMIF(Transport!B:B,'Feed + carbon calculator'!A9,Transport!M:M) -> 5396.58 | CY9: =IFERROR(CX9/$FV9*1000,0) -> 1.9940056 | DE9: 0 | DF9: =IFERROR(DE9/$FV$3*1000,0) -> 0 | DI9: =DI26*$N9 -> 0 | DJ9: =IFERROR(DI9/$FV$5*1000,0) -> 0 | DL9: =$DL$21*$N9 -> 2392.522 | DM9: =IFERROR(DL9/$FV$5*1000,0) -> 0.049522959 | DO9: =$DO$21*$N9 -> 30143.99 | DP9: =IFERROR(DO9/$FV$5*1000,0) -> 0.62395229 | DR9: =$DR$21*$N9 -> 0 | DS9: =IFERROR(DR9/$FV$5*1000,0) -> 0 | DU9: =$DU$21*$N9 -> 1906.5698 | DV9: =IFERROR(DU9/$FV$6*1000,0) -> 0.011982092 | DX9: =$DX$21*$N9 -> -4382.7372 | DY9: =IFERROR(DX9/$FV$6*1000,0) -> -0.027543897 | ED9: =$ED$21*$N9 -> 5627.2597 | EE9: =IFERROR(ED9/$FV$5*1000,0) -> 0.11647899 | EG9: =$I$28*7.5%*N9*$EG$24 -> 0 | EH9: =IFERROR(EG9/$FV$9*1000,0) -> 0 | EJ9: =IFERROR(DI9+DL9+DO9+DR9+DU9+DX9+EA9+ED9+EG9,0) -> 35687.604 | EK9: =IFERROR(EJ9/$FV$3*1000,0) -> 0.63126595 | EM9: =$EM$21*N9 -> 2519.6205 | EN9: =IFERROR(EM9/$FV$5*1000,0) -> 0.05215378 | FD9: =$FD$21*$N9 -> 916.17397 | FE9: =IFERROR(FD9/$FV$3*1000,0) -> 0.016205891 | FG9: =IFERROR(EM9+FD9,0) -> 3435.7945 | FH9: =IFERROR(FG9/$FV$3*1000,0) -> 0.060774606 | FJ9: 0 | FK9: =IFERROR(FJ9/$FV$3*1000,0) -> 0 | FM9: =IFERROR(-$I$28*N9*$FN$23,0) -> 0 | FN9: =IFERROR(FM9/$FV$3*1000,0) -> 0 | FP9: =IFERROR(-$I$28*N9*$FQ$23,0) -> -89389.499 | FQ9: =IFERROR(FP9/$FV9*1000,0) -> -33.028911 | FS9: =CU9+CX9+DB9+DE9+EJ9+FG9+FJ9+FM9+FP9+EM9+FD9 -> -41433.726 | FT9: =CV9+CY9+DC9+DF9+EK9+FH9+FK9+FN9+FQ9+FE9+EN9 -> -30.274505 | FV9: =$FV$21*N9 -> 2706401.6 | FW9: =FV9/$B$29 -> 2434401.5
H10: =IFERROR(I10/F10,0) -> 0 | I10: =C10*D10*E10*G10 -> 0 | J10: =K10*$B$29 -> 0 | K10: =I10*$B$26 -> 0 | L10: =M10*$B$29 -> 0 | M10: =K10*3.6 -> 0 | N10: =IFERROR(M10/$M$21,"-") -> 0 | O10: =FT10 -> 0 | CX10: =SUMIF(Transport!B:B,'Feed + carbon calculator'!A10,Transport!M:M) -> 0 | CY10: =IFERROR(CX10/$FV10*1000,0) -> 0 | DE10: 0 | DF10: =IFERROR(DE10/$FV$3*1000,0) -> 0 | DI10: =DI27*$N10 -> 0 | DJ10: =IFERROR(DI10/$FV$5*1000,0) -> 0 | DL10: =$DL$21*$N10 -> 0 | DM10: =IFERROR(DL10/$FV$5*1000,0) -> 0 | DO10: =$DO$21*$N10 -> 0 | DP10: =IFERROR(DO10/$FV$5*1000,0) -> 0 | DR10: =$DR$21*$N10 -> 0 | DS10: =IFERROR(DR10/$FV$5*1000,0) -> 0 | DU10: =$DU$21*$N10 -> 0 | DV10: =IFERROR(DU10/$FV$6*1000,0) -> 0 | DX10: =$DX$21*$N10 -> 0 | DY10: =IFERROR(DX10/$FV$6*1000,0) -> 0 | ED10: =$ED$21*$N10 -> 0 | EE10: =IFERROR(ED10/$FV$5*1000,0) -> 0 | EG10: =$I$28*7.5%*N10*$EG$24 -> 0 | EH10: =IFERROR(EG10/$FV$10*1000,0) -> 0 | EJ10: =IFERROR(DI10+DL10+DO10+DR10+DU10+DX10+EA10+ED10+EG10,0) -> 0 | EK10: =IFERROR(EJ10/$FV$3*1000,0) -> 0 | EM10: =$EM$21*N10 -> 0 | EN10: =IFERROR(EM10/$FV$5*1000,0) -> 0 | FD10: =$FD$21*$N10 -> 0 | FE10: =IFERROR(FD10/$FV$10*1000,0) -> 0 | FG10: =IFERROR(EM10+FD10,0) -> 0 | FH10: =IFERROR(FG10/$FV$3*1000,0) -> 0 | FJ10: 0 | FK10: =IFERROR(FJ10/$FV$3*1000,0) -> 0 | FM10: =IFERROR(-$I$28*N10*$FN$23,0) -> 0 | FN10: =IFERROR(FM10/$FV$3*1000,0) -> 0 | FP10: =IFERROR(-$I$28*N10*$FQ$23,0) -> 0 | FQ10: =IFERROR(FP10/$FV10*1000,0) -> 0 | FS10: =CU10+CX10+DB10+DE10+EJ10+FG10+FJ10+FM10+FP10+EM10+FD10 -> 0 | FT10: =CV10+CY10+DC10+DF10+EK10+FH10+FK10+FN10+FQ10+FE10+EN10 -> 0 | FV10: =$FV$21*N10 -> 0 | FW10: =FV10/$B$29 -> 0
H11: =IFERROR(I11/F11,0) -> 0 | I11: =C11*D11*E11*G11 -> 0 | J11: =K11*$B$29 -> 0 | K11: =I11*$B$26 -> 0 | L11: =M11*$B$29 -> 0 | M11: =K11*3.6 -> 0 | N11: =IFERROR(M11/$M$21,"-") -> 0 | O11: =FT11 -> 0 | CX11: =SUMIF(Transport!B:B,'Feed + carbon calculator'!A11,Transport!M:M) -> 0 | CY11: =IFERROR(CX11/$FV11*1000,0) -> 0 | DE11: 0 | DF11: =IFERROR(DE11/$FV$3*1000,0) -> 0 | DI11: =DI27*$N11 -> 0 | DJ11: =IFERROR(DI11/$FV$11*1000,0) -> 0 | DL11: =$DL$21*$N11 -> 0 | DM11: =IFERROR(DL11/$FV$5*1000,0) -> 0 | DO11: =$DO$21*$N11 -> 0 | DP11: =IFERROR(DO11/$FV$5*1000,0) -> 0 | DR11: =$DR$21*$N11 -> 0 | DS11: =IFERROR(DR11/$FV$5*1000,0) -> 0 | DU11: =$DU$21*$N11 -> 0 | DV11: =IFERROR(DU11/$FV$6*1000,0) -> 0 | DX11: =$DX$21*$N11 -> 0 | DY11: =IFERROR(DX11/$FV$6*1000,0) -> 0 | ED11: =$ED$21*$N11 -> 0 | EE11: =IFERROR(ED11/$FV$5*1000,0) -> 0 | EG11: =$I$28*7.5%*N11*$EG$24 -> 0 | EH11: =IFERROR(EG11/$FV$11*1000,0) -> 0 | EJ11: =IFERROR(DI11+DL11+DO11+DR11+DU11+DX11+EA11+ED11+EG11,0) -> 0 | EK11: =IFERROR(EJ11/$FV$3*1000,0) -> 0 | EM11: =$EM$21*N11 -> 0 | EN11: =IFERROR(EM11/$FV$11*1000,0) -> 0 | FD11: =$FD$21*$N11 -> 0 | FE11: =IFERROR(FD11/$FV$11*1000,0) -> 0 | FG11: =IFERROR(EM11+FD11,0) -> 0 | FH11: =IFERROR(FG11/$FV$3*1000,0) -> 0 | FJ11: 0 | FK11: =IFERROR(FJ11/$FV$3*1000,0) -> 0 | FM11: =IFERROR(-$I$28*N11*$FN$23,0) -> 0 | FN11: =IFERROR(FM11/$FV$3*1000,0) -> 0 | FP11: =IFERROR(-$I$28*N11*$FQ$23,0) -> 0 | FQ11: =IFERROR(FP11/$FV11*1000,0) -> 0 | FS11: =CU11+CX11+DB11+DE11+EJ11+FG11+FJ11+FM11+FP11+EM11+FD11 -> 0 | FT11: =CV11+CY11+DC11+DF11+EK11+FH11+FK11+FN11+FQ11+FE11+EN11 -> 0 | FV11: =$FV$21*N11 -> 0 | FW11: =FV11/$B$29 -> 0
H12: =IFERROR(I12/F12,0) -> 0 | I12: =C12*D12*E12*G12 -> 0 | J12: =K12*$B$29 -> 0 | K12: =I12*$B$26 -> 0 | L12: =M12*$B$29 -> 0 | M12: =K12*3.6 -> 0 | N12: =IFERROR(M12/$M$21,"-") -> 0 | O12: =FT12 -> 0 | CX12: =SUMIF(Transport!B:B,'Feed + carbon calculator'!A12,Transport!M:M) -> 0 | CY12: =IFERROR(CX12/$FV12*1000,0) -> 0 | DE12: 0 | DF12: =IFERROR(DE12/$FV$3*1000,0) -> 0 | DI12: =DI28*$N12 -> 0 | DJ12: =IFERROR(DI12/$FV$12*1000,0) -> 0 | DL12: =$DL$21*$N12 -> 0 | DM12: =IFERROR(DL12/$FV$12*1000,0) -> 0 | DO12: =$DO$21*$N12 -> 0 | DP12: =IFERROR(DO12/$FV$5*1000,0) -> 0 | DR12: =$DR$21*$N12 -> 0 | DS12: =IFERROR(DR12/$FV$5*1000,0) -> 0 | DU12: =$DU$21*$N12 -> 0 | DV12: =IFERROR(DU12/$FV$6*1000,0) -> 0 | DX12: =$DX$21*$N12 -> 0 | DY12: =IFERROR(DX12/$FV$6*1000,0) -> 0 | ED12: =$ED$21*$N12 -> 0 | EE12: =IFERROR(ED12/$FV$5*1000,0) -> 0 | EG12: =$I$28*7.5%*N12*$EG$24 -> 0 | EH12: =IFERROR(EG12/$FV$12*1000,0) -> 0 | EJ12: =IFERROR(DI12+DL12+DO12+DR12+DU12+DX12+EA12+ED12+EG12,0) -> 0 | EK12: =IFERROR(EJ12/$FV$3*1000,0) -> 0 | EM12: =$EM$21*N12 -> 0 | EN12: =IFERROR(EM12/$FV$12*1000,0) -> 0 | FD12: =$FD$21*$N12 -> 0 | FE12: =IFERROR(FD12/$FV$12*1000,0) -> 0 | FG12: =IFERROR(EM12+FD12,0) -> 0 | FH12: =IFERROR(FG12/$FV$3*1000,0) -> 0 | FJ12: 0 | FK12: =IFERROR(FJ12/$FV$3*1000,0) -> 0 | FM12: =IFERROR(-$I$28*N12*$FN$23,0) -> 0 | FN12: =IFERROR(FM12/$FV$3*1000,0) -> 0 | FP12: =IFERROR(-$I$28*N12*$FQ$23,0) -> 0 | FQ12: =IFERROR(FP12/$FV12*1000,0) -> 0 | FS12: =CU12+CX12+DB12+DE12+EJ12+FG12+FJ12+FM12+FP12+EM12+FD12 -> 0 | FT12: =CV12+CY12+DC12+DF12+EK12+FH12+FK12+FN12+FQ12+FE12+EN12 -> 0 | FV12: =$FV$21*N12 -> 0 | FW12: =FV12/$B$29 -> 0
H13: =IFERROR(I13/F13,0) -> 0 | I13: =C13*D13*E13*G13 -> 0 | J13: =K13*$B$29 -> 0 | K13: =I13*$B$26 -> 0 | L13: =M13*$B$29 -> 0 | M13: =K13*3.6 -> 0 | N13: =IFERROR(M13/$M$21,"-") -> 0 | O13: =FT13 -> 0 | CX13: =SUMIF(Transport!B:B,'Feed + carbon calculator'!A13,Transport!M:M) -> 0 | CY13: =IFERROR(CX13/$FV13*1000,0) -> 0 | DE13: 0 | DF13: =IFERROR(DE13/$FV$3*1000,0) -> 0 | DI13: =DI29*$N13 -> 0 | DJ13: =IFERROR(DI13/$FV$13*1000,0) -> 0 | DL13: =$DL$21*$N13 -> 0 | DM13: =IFERROR(DL13/$FV$13*1000,0) -> 0 | DO13: =$DO$21*$N13 -> 0 | DP13: =IFERROR(DO13/$FV$5*1000,0) -> 0 | DR13: =$DR$21*$N13 -> 0 | DS13: =IFERROR(DR13/$FV$5*1000,0) -> 0 | DU13: =$DU$21*$N13 -> 0 | DV13: =IFERROR(DU13/$FV$6*1000,0) -> 0 | DX13: =$DX$21*$N13 -> 0 | DY13: =IFERROR(DX13/$FV$6*1000,0) -> 0 | ED13: =$ED$21*$N13 -> 0 | EE13: =IFERROR(ED13/$FV$13*1000,0) -> 0 | EG13: =$I$28*7.5%*N13*$EG$24 -> 0 | EH13: =IFERROR(EG13/$FV$13*1000,0) -> 0 | EJ13: =IFERROR(DI13+DL13+DO13+DR13+DU13+DX13+EA13+ED13+EG13,0) -> 0 | EK13: =IFERROR(EJ13/$FV$3*1000,0) -> 0 | EM13: =$EM$21*N13 -> 0 | EN13: =IFERROR(EM13/$FV$13*1000,0) -> 0 | FD13: =$FD$21*$N13 -> 0 | FE13: =IFERROR(FD13/$FV$13*1000,0) -> 0 | FG13: =IFERROR(EM13+FD13,0) -> 0 | FH13: =IFERROR(FG13/$FV$3*1000,0) -> 0 | FJ13: 0 | FK13: =IFERROR(FJ13/$FV$3*1000,0) -> 0 | FM13: =IFERROR(-$I$28*N13*$FN$23,0) -> 0 | FN13: =IFERROR(FM13/$FV$3*1000,0) -> 0 | FP13: =IFERROR(-$I$28*N13*$FQ$23,0) -> 0 | FQ13: =IFERROR(FP13/$FV13*1000,0) -> 0 | FS13: =CU13+CX13+DB13+DE13+EJ13+FG13+FJ13+FM13+FP13+EM13+FD13 -> 0 | FT13: =CV13+CY13+DC13+DF13+EK13+FH13+FK13+FN13+FQ13+FE13+EN13 -> 0 | FV13: =$FV$21*N13 -> 0 | FW13: =FV13/$B$29 -> 0
H14: =IFERROR(I14/F14,0) -> 0 | I14: =C14*D14*E14*G14 -> 0 | J14: =K14*$B$29 -> 0 | K14: =I14*$B$26 -> 0 | L14: =M14*$B$29 -> 0 | M14: =K14*3.6 -> 0 | N14: =IFERROR(M14/$M$21,"-") -> 0 | O14: =FT14 -> 0 | CX14: =SUMIF(Transport!B:B,'Feed + carbon calculator'!A14,Transport!M:M) -> 0 | CY14: =IFERROR(CX14/$FV14*1000,0) -> 0 | DE14: 0 | DF14: =IFERROR(DE14/$FV$3*1000,0) -> 0 | DI14: =DI30*$N14 -> 0 | DJ14: =IFERROR(DI14/$FV$14*1000,0) -> 0 | DL14: =$DL$21*$N14 -> 0 | DM14: =IFERROR(DL14/$FV$14*1000,0) -> 0 | DO14: =$DO$21*$N14 -> 0 | DP14: =IFERROR(DO14/$FV$5*1000,0) -> 0 | DR14: =$DR$21*$N14 -> 0 | DS14: =IFERROR(DR14/$FV$5*1000,0) -> 0 | DU14: =$DU$21*$N14 -> 0 | DV14: =IFERROR(DU14/$FV$6*1000,0) -> 0 | DX14: =$DX$21*$N14 -> 0 | DY14: =IFERROR(DX14/$FV$6*1000,0) -> 0 | ED14: =$ED$21*$N14 -> 0 | EE14: =IFERROR(ED14/$FV$14*1000,0) -> 0 | EG14: =$I$28*7.5%*N14*$EG$24 -> 0 | EH14: =IFERROR(EG14/$FV$14*1000,0) -> 0 | EJ14: =IFERROR(DI14+DL14+DO14+DR14+DU14+DX14+EA14+ED14+EG14,0) -> 0 | EK14: =IFERROR(EJ14/$FV$3*1000,0) -> 0 | EM14: =$EM$21*N14 -> 0 | EN14: =IFERROR(EM14/$FV$14*1000,0) -> 0 | FD14: =$FD$21*$N14 -> 0 | FE14: =IFERROR(FD14/$FV$14*1000,0) -> 0 | FG14: =IFERROR(EM14+FD14,0) -> 0 | FH14: =IFERROR(FG14/$FV$3*1000,0) -> 0 | FJ14: 0 | FK14: =IFERROR(FJ14/$FV$3*1000,0) -> 0 | FM14: =IFERROR(-$I$28*N14*$FN$23,0) -> 0 | FN14: =IFERROR(FM14/$FV$3*1000,0) -> 0 | FP14: =IFERROR(-$I$28*N14*$FQ$23,0) -> 0 | FQ14: =IFERROR(FP14/$FV14*1000,0) -> 0 | FS14: =CU14+CX14+DB14+DE14+EJ14+FG14+FJ14+FM14+FP14+EM14+FD14 -> 0 | FT14: =CV14+CY14+DC14+DF14+EK14+FH14+FK14+FN14+FQ14+FE14+EN14 -> 0 | FV14: =$FV$21*N14 -> 0 | FW14: =FV14/$B$29 -> 0
H15: =IFERROR(I15/F15,0) -> 0 | I15: =C15*D15*E15*G15 -> 0 | J15: =K15*$B$29 -> 0 | K15: =I15*$B$26 -> 0 | L15: =M15*$B$29 -> 0 | M15: =K15*3.6 -> 0 | N15: =IFERROR(M15/$M$21,"-") -> 0 | O15: =FT15 -> 0 | CX15: =SUMIF(Transport!B:B,'Feed + carbon calculator'!A15,Transport!M:M) -> 0 | CY15: =IFERROR(CX15/$FV15*1000,0) -> 0 | DE15: 0 | DF15: =IFERROR(DE15/$FV$3*1000,0) -> 0 | DI15: =DI31*$N15 -> 0 | DJ15: =IFERROR(DI15/$FV$15*1000,0) -> 0 | DL15: =$DL$21*$N15 -> 0 | DM15: =IFERROR(DL15/$FV$15*1000,0) -> 0 | DO15: =$DO$21*$N15 -> 0 | DP15: =IFERROR(DO15/$FV$5*1000,0) -> 0 | DR15: =$DR$21*$N15 -> 0 | DS15: =IFERROR(DR15/$FV$15*1000,0) -> 0 | DU15: =$DU$21*$N15 -> 0 | DV15: =IFERROR(DU15/$FV$15*1000,0) -> 0 | DX15: =$DX$21*$N15 -> 0 | DY15: =IFERROR(DX15/$FV$15*1000,0) -> 0 | ED15: =$ED$21*$N15 -> 0 | EE15: =IFERROR(ED15/$FV$15*1000,0) -> 0 | EG15: =$I$28*7.5%*N15*$EG$24 -> 0 | EH15: =IFERROR(EG15/$FV$15*1000,0) -> 0 | EJ15: =IFERROR(DI15+DL15+DO15+DR15+DU15+DX15+EA15+ED15+EG15,0) -> 0 | EK15: =IFERROR(EJ15/$FV$3*1000,0) -> 0 | EM15: =$EM$21*N15 -> 0 | EN15: =IFERROR(EM15/$FV$15*1000,0) -> 0 | FD15: =$FD$21*$N15 -> 0 | FE15: =IFERROR(FD15/$FV$15*1000,0) -> 0 | FG15: =IFERROR(EM15+FD15,0) -> 0 | FH15: =IFERROR(FG15/$FV$3*1000,0) -> 0 | FJ15: 0 | FK15: =IFERROR(FJ15/$FV$3*1000,0) -> 0 | FM15: =IFERROR(-$I$28*N15*$FN$23,0) -> 0 | FN15: =IFERROR(FM15/$FV$3*1000,0) -> 0 | FP15: =IFERROR(-$I$28*N15*$FQ$23,0) -> 0 | FQ15: =IFERROR(FP15/$FV15*1000,0) -> 0 | FS15: =CU15+CX15+DB15+DE15+EJ15+FG15+FJ15+FM15+FP15+EM15+FD15 -> 0 | FT15: =CV15+CY15+DC15+DF15+EK15+FH15+FK15+FN15+FQ15+FE15+EN15 -> 0 | FV15: =$FV$21*N15 -> 0 | FW15: =FV15/$B$29 -> 0
H16: =IFERROR(I16/F16,0) -> 0 | I16: =C16*D16*E16*G16 -> 0 | J16: =K16*$B$29 -> 0 | K16: =I16*$B$26 -> 0 | L16: =M16*$B$29 -> 0 | M16: =K16*3.6 -> 0 | N16: =IFERROR(M16/$M$21,"-") -> 0 | O16: =FT16 -> 0 | CX16: =SUMIF(Transport!B:B,'Feed + carbon calculator'!A16,Transport!M:M) -> 0 | CY16: =IFERROR(CX16/$FV16*1000,0) -> 0 | DE16: 0 | DF16: =IFERROR(DE16/$FV$3*1000,0) -> 0 | DI16: =DI32*$N16 -> 0 | DJ16: =IFERROR(DI16/$FV$16*1000,0) -> 0 | DL16: =$DL$21*$N16 -> 0 | DM16: =IFERROR(DL16/$FV$16*1000,0) -> 0 | DO16: =$DO$21*$N16 -> 0 | DP16: =IFERROR(DO16/$FV$5*1000,0) -> 0 | DR16: =$DR$21*$N16 -> 0 | DS16: =IFERROR(DR16/$FV$16*1000,0) -> 0 | DU16: =$DU$21*$N16 -> 0 | DV16: =IFERROR(DU16/$FV$16*1000,0) -> 0 | DX16: =$DX$21*$N16 -> 0 | DY16: =IFERROR(DX16/$FV$16*1000,0) -> 0 | ED16: =$ED$21*$N16 -> 0 | EE16: =IFERROR(ED16/$FV$16*1000,0) -> 0 | EG16: =$I$28*7.5%*N16*$EG$24 -> 0 | EH16: =IFERROR(EG16/$FV$16*1000,0) -> 0 | EJ16: =IFERROR(DI16+DL16+DO16+DR16+DU16+DX16+EA16+ED16+EG16,0) -> 0 | EK16: =IFERROR(EJ16/$FV$3*1000,0) -> 0 | EM16: =$EM$21*N16 -> 0 | EN16: =IFERROR(EM16/$FV$16*1000,0) -> 0 | FD16: =$FD$21*$N16 -> 0 | FE16: =IFERROR(FD16/$FV$16*1000,0) -> 0 | FG16: =IFERROR(EM16+FD16,0) -> 0 | FH16: =IFERROR(FG16/$FV$3*1000,0) -> 0 | FJ16: 0 | FK16: =IFERROR(FJ16/$FV$3*1000,0) -> 0 | FM16: =IFERROR(-$I$28*N16*$FN$23,0) -> 0 | FN16: =IFERROR(FM16/$FV$3*1000,0) -> 0 | FP16: =IFERROR(-$I$28*N16*$FQ$23,0) -> 0 | FQ16: =IFERROR(FP16/$FV16*1000,0) -> 0 | FS16: =CU16+CX16+DB16+DE16+EJ16+FG16+FJ16+FM16+FP16+EM16+FD16 -> 0 | FT16: =CV16+CY16+DC16+DF16+EK16+FH16+FK16+FN16+FQ16+FE16+EN16 -> 0 | FV16: =$FV$21*N16 -> 0 | FW16: =FV16/$B$29 -> 0
H17: =IFERROR(I17/F17,0) -> 0 | I17: =C17*D17*E17*G17 -> 0 | J17: =K17*$B$29 -> 0 | K17: =I17*$B$26 -> 0 | L17: =M17*$B$29 -> 0 | M17: =K17*3.6 -> 0 | N17: =IFERROR(M17/$M$21,"-") -> 0 | O17: =FT17 -> 0 | CX17: =SUMIF(Transport!B:B,'Feed + carbon calculator'!A17,Transport!M:M) -> 0 | CY17: =IFERROR(CX17/$FV17*1000,0) -> 0 | DE17: 0 | DF17: =IFERROR(DE17/$FV$3*1000,0) -> 0 | DI17: =DI33*$N17 -> 0 | DJ17: =IFERROR(DI17/$FV$17*1000,0) -> 0 | DL17: =$DL$21*$N17 -> 0 | DM17: =IFERROR(DL17/$FV$17*1000,0) -> 0 | DO17: =$DO$21*$N17 -> 0 | DP17: =IFERROR(DO17/$FV$17*1000,0) -> 0 | DR17: =$DR$21*$N17 -> 0 | DS17: =IFERROR(DR17/$FV$17*1000,0) -> 0 | DU17: =$DU$21*$N17 -> 0 | DV17: =IFERROR(DU17/$FV$17*1000,0) -> 0 | DX17: =$DX$21*$N17 -> 0 | DY17: =IFERROR(DX17/$FV$17*1000,0) -> 0 | ED17: =$ED$21*$N17 -> 0 | EE17: =IFERROR(ED17/$FV$17*1000,0) -> 0 | EG17: =$I$28*7.5%*N17*$EG$24 -> 0 | EH17: =IFERROR(EG17/$FV$17*1000,0) -> 0 | EJ17: =IFERROR(DI17+DL17+DO17+DR17+DU17+DX17+EA17+ED17+EG17,0) -> 0 | EK17: =IFERROR(EJ17/$FV$3*1000,0) -> 0 | EM17: =$EM$21*N17 -> 0 | EN17: =IFERROR(EM17/$FV$17*1000,0) -> 0 | FD17: =$FD$21*$N17 -> 0 | FE17: =IFERROR(FD17/$FV$17*1000,0) -> 0 | FG17: =IFERROR(EM17+FD17,0) -> 0 | FH17: =IFERROR(FG17/$FV$3*1000,0) -> 0 | FJ17: 0 | FK17: =IFERROR(FJ17/$FV$3*1000,0) -> 0 | FM17: =IFERROR(-$I$28*N17*$FN$23,0) -> 0 | FN17: =IFERROR(FM17/$FV$3*1000,0) -> 0 | FP17: =IFERROR(-$I$28*N17*$FQ$23,0) -> 0 | FQ17: =IFERROR(FP17/$FV17*1000,0) -> 0 | FS17: =CU17+CX17+DB17+DE17+EJ17+FG17+FJ17+FM17+FP17+EM17+FD17 -> 0 | FT17: =CV17+CY17+DC17+DF17+EK17+FH17+FK17+FN17+FQ17+FE17+EN17 -> 0 | FV17: =$FV$21*N17 -> 0 | FW17: =FV17/$B$29 -> 0
H18: =IFERROR(I18/F18,0) -> 0 | I18: =C18*D18*E18*G18 -> 0 | J18: =K18*$B$29 -> 0 | K18: =I18*$B$26 -> 0 | L18: =M18*$B$29 -> 0 | M18: =K18*3.6 -> 0 | N18: =IFERROR(M18/$M$21,"-") -> 0 | O18: =FT18 -> 0 | CX18: =SUMIF(Transport!B:B,'Feed + carbon calculator'!A18,Transport!M:M) -> 0 | CY18: =IFERROR(CX18/$FV18*1000,0) -> 0 | DE18: 0 | DF18: =IFERROR(DE18/$FV$3*1000,0) -> 0 | DI18: =DI34*$N18 -> 0 | DJ18: =IFERROR(DI18/$FV$18*1000,0) -> 0 | DL18: =$DL$21*$N18 -> 0 | DM18: =IFERROR(DL18/$FV$18*1000,0) -> 0 | DO18: =$DO$21*$N18 -> 0 | DP18: =IFERROR(DO18/$FV$18*1000,0) -> 0 | DR18: =$DR$21*$N18 -> 0 | DS18: =IFERROR(DR18/$FV$18*1000,0) -> 0 | DU18: =$DU$21*$N18 -> 0 | DV18: =IFERROR(DU18/$FV$18*1000,0) -> 0 | DX18: =$DX$21*$N18 -> 0 | DY18: =IFERROR(DX18/$FV$18*1000,0) -> 0 | ED18: =$ED$21*$N18 -> 0 | EE18: =IFERROR(ED18/$FV$18*1000,0) -> 0 | EG18: =$I$28*7.5%*N18*$EG$24 -> 0 | EH18: =IFERROR(EG18/$FV$18*1000,0) -> 0 | EJ18: =IFERROR(DI18+DL18+DO18+DR18+DU18+DX18+EA18+ED18+EG18,0) -> 0 | EK18: =IFERROR(EJ18/$FV$3*1000,0) -> 0 | EM18: =$EM$21*N18 -> 0 | EN18: =IFERROR(EM18/$FV$18*1000,0) -> 0 | FD18: =$FD$21*$N18 -> 0 | FE18: =IFERROR(FD18/$FV$18*1000,0) -> 0 | FG18: =IFERROR(EM18+FD18,0) -> 0 | FH18: =IFERROR(FG18/$FV$3*1000,0) -> 0 | FJ18: 0 | FK18: =IFERROR(FJ18/$FV$3*1000,0) -> 0 | FM18: =IFERROR(-$I$28*N18*$FN$23,0) -> 0 | FN18: =IFERROR(FM18/$FV$3*1000,0) -> 0 | FP18: =IFERROR(-$I$28*N18*$FQ$23,0) -> 0 | FQ18: =IFERROR(FP18/$FV18*1000,0) -> 0 | FS18: =CU18+CX18+DB18+DE18+EJ18+FG18+FJ18+FM18+FP18+EM18+FD18 -> 0 | FT18: =CV18+CY18+DC18+DF18+EK18+FH18+FK18+FN18+FQ18+FE18+EN18 -> 0 | FV18: =$FV$21*N18 -> 0 | FW18: =FV18/$B$29 -> 0
H19: =IFERROR(I19/F19,0) -> 0 | I19: =C19*D19*E19*G19 -> 0 | J19: =K19*$B$29 -> 0 | K19: =I19*$B$26 -> 0 | L19: =M19*$B$29 -> 0 | M19: =K19*3.6 -> 0 | N19: =IFERROR(M19/$M$21,"-") -> 0 | O19: =FT19 -> 0 | CX19: =SUMIF(Transport!B:B,'Feed + carbon calculator'!A19,Transport!M:M) -> 0 | CY19: =IFERROR(CX19/$FV19*1000,0) -> 0 | DE19: 0 | DF19: =IFERROR(DE19/$FV$3*1000,0) -> 0 | DI19: =DI35*$N19 -> 0 | DJ19: =IFERROR(DI19/$FV$19*1000,0) -> 0 | DL19: =$DL$21*$N19 -> 0 | DM19: =IFERROR(DL19/$FV$19*1000,0) -> 0 | DO19: =$DO$21*$N19 -> 0 | DP19: =IFERROR(DO19/$FV$19*1000,0) -> 0 | DR19: =$DR$21*$N19 -> 0 | DS19: =IFERROR(DR19/$FV$19*1000,0) -> 0 | DU19: =$DU$21*$N19 -> 0 | DV19: =IFERROR(DU19/$FV$19*1000,0) -> 0 | DX19: =$DX$21*$N19 -> 0 | DY19: =IFERROR(DX19/$FV$19*1000,0) -> 0 | ED19: =$ED$21*$N19 -> 0 | EE19: =IFERROR(ED19/$FV$19*1000,0) -> 0 | EG19: =$I$28*7.5%*N19*$EG$24 -> 0 | EH19: =IFERROR(EG19/$FV$19*1000,0) -> 0 | EJ19: =IFERROR(DI19+DL19+DO19+DR19+DU19+DX19+EA19+ED19+EG19,0) -> 0 | EK19: =IFERROR(EJ19/$FV$3*1000,0) -> 0 | EM19: =$EM$21*N19 -> 0 | EN19: =IFERROR(EM19/$FV$19*1000,0) -> 0 | FD19: =$FD$21*$N19 -> 0 | FE19: =IFERROR(FD19/$FV$19*1000,0) -> 0 | FG19: =IFERROR(EM19+FD19,0) -> 0 | FH19: =IFERROR(FG19/$FV$3*1000,0) -> 0 | FJ19: 0 | FK19: =IFERROR(FJ19/$FV$3*1000,0) -> 0 | FM19: =IFERROR(-$I$28*N19*$FN$23,0) -> 0 | FN19: =IFERROR(FM19/$FV$3*1000,0) -> 0 | FP19: =IFERROR(-$I$28*N19*$FQ$23,0) -> 0 | FQ19: =IFERROR(FP19/$FV19*1000,0) -> 0 | FS19: =CU19+CX19+DB19+DE19+EJ19+FG19+FJ19+FM19+FP19+EM19+FD19 -> 0 | FT19: =CV19+CY19+DC19+DF19+EK19+FH19+FK19+FN19+FQ19+FE19+EN19 -> 0 | FV19: =$FV$21*N19 -> 0 | FW19: =FV19/$B$29 -> 0
H20: =IFERROR(I20/F20,0) -> 0 | I20: =C20*D20*E20*G20 -> 0 | J20: =K20*$B$29 -> 0 | K20: =I20*$B$26 -> 0 | L20: =M20*$B$29 -> 0 | M20: =K20*3.6 -> 0 | N20: =IFERROR(M20/$M$21,"-") -> 0 | O20: =FT20 -> 0 | CX20: =SUMIF(Transport!B:B,'Feed + carbon calculator'!A20,Transport!M:M) -> 0 | CY20: =IFERROR(CX20/$FV20*1000,0) -> 0 | DE20: 0 | DF20: =IFERROR(DE20/$FV$3*1000,0) -> 0 | DI20: =DI36*$N20 -> 0 | DJ20: =IFERROR(DI20/$FV$20*1000,0) -> 0 | DL20: =$DL$21*$N20 -> 0 | DM20: =IFERROR(DL20/$FV$20*1000,0) -> 0 | DO20: =$DO$21*$N20 -> 0 | DP20: =IFERROR(DO20/$FV$20*1000,0) -> 0 | DR20: =$DR$21*$N20 -> 0 | DS20: =IFERROR(DR20/$FV$20*1000,0) -> 0 | DU20: =$DU$21*$N20 -> 0 | DV20: =IFERROR(DU20/$FV$20*1000,0) -> 0 | DX20: =$DX$21*$N20 -> 0 | DY20: =IFERROR(DX20/$FV$20*1000,0) -> 0 | ED20: =$ED$21*$N20 -> 0 | EE20: =IFERROR(ED20/$FV$20*1000,0) -> 0 | EG20: =$I$28*7.5%*N20*$EG$24 -> 0 | EH20: =IFERROR(EG20/$FV$20*1000,0) -> 0 | EJ20: =IFERROR(DI20+DL20+DO20+DR20+DU20+DX20+EA20+ED20+EG20,0) -> 0 | EK20: =IFERROR(EJ20/$FV$3*1000,0) -> 0 | EM20: =$EM$21*N20 -> 0 | EN20: =IFERROR(EM20/$FV$20*1000,0) -> 0 | FD20: =$FD$21*$N20 -> 0 | FE20: =IFERROR(FD20/$FV$20*1000,0) -> 0 | FG20: =IFERROR(EM20+FD20,0) -> 0 | FH20: =IFERROR(FG20/$FV$3*1000,0) -> 0 | FJ20: 0 | FK20: =IFERROR(FJ20/$FV$3*1000,0) -> 0 | FM20: =IFERROR(-$I$28*N20*$FN$23,0) -> 0 | FN20: =IFERROR(FM20/$FV$3*1000,0) -> 0 | FP20: =IFERROR(-$I$28*N20*$FQ$23,0) -> 0 | FQ20: =IFERROR(FP20/$FV20*1000,0) -> 0 | FS20: =CU20+CX20+DB20+DE20+EJ20+FG20+FJ20+FM20+FP20+EM20+FD20 -> 0 | FT20: =CV20+CY20+DC20+DF20+EK20+FH20+FK20+FN20+FQ20+FE20+EN20 -> 0 | FV20: =$FV$21*N20 -> 0 | FW20: =FV20/$B$29 -> 0
C21: =SUM(C3:C20) -> 91000 | D21: =SUM(D3:D20) -> 2.9288 | E21: =SUM(E3:E20) -> 6.1856 | F21: =SUM(F3:F20) -> 3.898 | G21: =SUM(G3:G20) -> 1973 | H21: =SUM(H3:H20) -> 20217255 | I21: =SUM(I3:I20) -> 11584224 | J21: =SUM(J3:J20) -> 1.2807003e+08 | ... N21: =SUM(N3:N20) -> 1 | O21: =FT21 -> -16.636702 | X21: Digestate application rate - application 1 | Y21: 1 | Z21: Digestate application rate - application 2 | AA21: 1 | CR21: =SUM(CR3:CR20) -> 50251.021 | CS21: =IFERROR(CR21/$FV$21*1000,0) -> 0.13011721 | CU21: =SUM(CU3:CU20) -> 588698.46 | CV21: =IFERROR(CU21/$FV$21*1000,0) -> 1.5243432 | CX21: =SUM(CX3:CX20) -> 159110.84 | CY21: =IFERROR(CX21/$FV$21*1000,0) -> 0.41199282 | DB21: =SUM(DB3:DB20) -> 0 | DC21: =IFERROR(DB21/$FV$21*1000,0) -> 0 | DE21: =SUM(DE3:DE20) -> 0 | DF21: =IFERROR(DE21/$FV$21*1000,0) -> 0 | DI21: =SUM('Energy centre'!H18:H21)*DI24 -> 0 | DL21: =SUM('Energy centre'!H42:H44)*DL24 -> 341408.1 | DM21: =IFERROR(DL21/$FV$21*1000,0) -> 0.88402326 | DO21: =SUM('Energy centre'!H58:H60)*DO24 -> 4301487.1 | DP21: =IFERROR(DO21/$FV$21*1000,0) -> 11.138033 | DR21: =SUM('Energy centre'!H74:H76)*DR24 -> 0 | DS21: =IFERROR(DR21/$FV$21*1000,0) -> 0 | DU21: =SUM('Energy centre'!H26:H28)*DU24 -> 272063.7 | DV21: =IFERROR(DU21/$FV$21*1000,0) -> 0.70446669 | DX21: =-('Energy centre'!AI19+'Energy centre'!AI26) -> -625407.83 | DY21: =IFERROR(DX21/$FV$21*1000,0) -> -1.6193964 | ED21: ='Energy centre'!N14*EnergyConversions!$B$11*GHG_Conversions!$D$6 -> 802998.71 | EE21: =IFERROR(ED21/$FV$21*1000,0) -> 2.0792404 | EG21: =SUM(EG3:EG20) -> 0 | EH21: =IFERROR(EG21/$FV$21*1000,0) -> 0 | EJ21: =SUM(EJ3:EJ20) -> 5092549.7 | EK21: =IFERROR(EJ21/$FV$21*1000,0) -> 13.186367 | EM21: =SUM(Transport!M16:M24) -> 359544.81 | EN21: =EM21/$M$21*1000 -> 0.86696799 | EP21: =150*8760 -> 1314000 | EQ21: 3.6 | ER21: =EP21*EQ21 -> 4730400 | ES21: =GHG_Emissions!$E$12 -> 57.513889 | ET21: =ER21*ES21/1000 -> 272063.7 | EU21: =25%*M24 -> 0.25 | EV21: =ET21*EU21 -> 68015.925 | EW21: =1000*365 -> 365000 | EX21: =EnergyConversions!$B$24 -> 10.480045 | EY21: =EW21*EX21 -> 3825216.5 | EZ21: =GHG_Emissions!$E$10+GHG_Emissions!$E$11 -> 65.586111 | FA21: =EY21*EZ21/1000 -> 250881.07 | FB21: =25%*M24 -> 0.25 | FC21: =FA21*FB21 -> 62720.268 | FD21: =EV21+FC21 -> 130736.19 | FE21: =FD21/$M$21*1000 -> 0.31524331 | FG21: =SUM(FG3:FG20) -> 490281 | FH21: =IFERROR(FG21/$FV$21*1000,0) -> 1.2695065 | FJ21: =SUM(FJ3:FJ20) -> 0 | FK21: =IFERROR(FJ21/$FV$21*1000,0) -> 0 | FM21: =SUM(FM3:FM20) -> 0 | FN21: =IFERROR(FM21/$FV$21*1000,0) -> 0 | FP21: =SUM(FP3:FP20) -> -12755703 | FQ21: =IFERROR(FP21/$FV$21*1000,0) -> -33.028911 | FS21: =SUM(FS3:FS20) -> -5934781.7 | FT21: =CV21+CY21+DC21+DF21+EK21+FH21+FK21+FN21+FQ21 -> -16.636702 | FV21: ='Energy centre'!U13 -> 3.861981e+08 | FW21: ='Energy centre'!U14 -> 3.4738422e+08
B22: Waste/Residue % | C22: =SUMIF(B3:B20,"Waste/Residue",N3:N16)/$N$21 -> 0.6095507 | I22: 10868678 | K22: =K21*B29 -> 1.2807003e+08 | M22: =M21*B29 -> 4.610521e+08 | N22: =SUM(N3:N20) -> 1 | FV22: =FV21/3.6 -> 1.0727725e+08 | FW22: =FW21/3.6 -> 96495618
I23: =I21/I22 -> 1.0658356 | CX23: =CX21*(1-78.5%) -> 34208.832 | CY23: If Biomethane | DE23: Manure Credits on? | DF23: 0 | FM23: CO2 storage | FN23: 0 | FP23: CO2 utilisation | FQ23: 1 | FS23: =-FW21*GHG_Emissions!E10/1000 -> -19553872 | FV23: =SUM(FV3:FV16)=FV21 -> TRUE | FW23: =SUM(FW3:FW16)=FW21 -> TRUE
A24: Key assumptions & conversions | M24: 1 | CP24: Input at 100% (kWh NCV) | CX24: =CX21-CX23 -> 124902.01 | CY24: Savings if Biomethane | DE24: Manure credits rate (gCO2e/MJ) | DF24: 111 | DI24: 0 | DL24: 1 | DO24: 1 | DR24: 1 | DU24: 1 | DX24: N.B. Surplus energy should be taken into account in Ofgem methodology. | EA24: N/A as all methane slip taken into account as downstream | ED24: ='Energy centre'!P5 -> 0.005 | EG24: 0 | FS24: =FS21+FS23 -> -25488654 | FV24: =FV21/3.6/1000 -> 107277.25 | FW24: =FW21/3.6/1000 -> 96495.618
A25: MJ per Nm3 (LHV) | B25: 35.8 | H25: Feedstock hourly biogas production (Nm3/h) | I25: =H21/8760 -> 2307.9058 | CX25: =(CX23-CX21)/CX21 -> -0.785 | CY25: % Savings if Biomethane
A26: kWh per Nm3 (LHV) | B26: =B25/3.6 -> 9.9444444 | H26: Feedstock hourly biomethane production (Nm3/h) | I26: =I21/8760 -> 1322.4 | FS26: Notes:
A27: MJ per Nm3 (HHV) | B27: 39.8 | H27: Theoretical CO2 (Nm3/y) | I27: =H21-I21 -> 8633030.8 | FS27: Emissions can be reduced further if shared with co-products (e.g., digestate)
A28: kWh per Nm3 (HHV) | B28: =B27/3.6 -> 11.055556 | H28: Actual CO2 (kg/y) | I28: ='Energy centre'!U26*1000 -> 12755703 | FS28: Emissions can be reduced further based on 'technological option' for biomethane production (e.g., is digestate closed or open? Are membrane upgraders used? What happens to off-gas?) - see e.g., p.118 of REDII
A29: HHV/LHV conversion | B29: =B27/B25 -> 1.1117318 | H29: Methane % | I29: =I26/I25 -> 0.57298698 | CU29: 1462609 | CX29: 124330 | EJ29: =48973+1880+3941824+306944 -> 4299621 | EM29: 81168 | FD29: 283708 | FG29: =EM29+FD29 -> 364876 | FP29: =-21672448 -> -21672448 | FS29: Emissions can be reduced further by use of more biogas in production process
A30: Sm3 per Nm3 | B30: =1*(273.15+15)/(273.15) -> 1.0549149
A31: % of annual feed mix | B31: 1
FU32: MJ injected | FV32: =FV21 -> 3.861981e+08
FU33: MJ in CHP 1 | FV33: ='Energy centre'!H36*3.6 -> 72913305
FU34: MJ in methane slip | FV34: ='Energy centre'!N14*EnergyConversions!B23*3.6 -> 1940694
FU35: MJ in feedstock | FV35: =FV32+FV33+FV34 -> 4.610521e+08
FV36: =L21=FV35 -> TRUE
D37: Wholecrop Silage
D38: Maize Silage | FS38: -27639205
D39: Poutry Litter | FS39: =FS38-FS24 -> -2150551.2
D40: Farm Yard Manure | FS40: =FS24+FS39 -> -27639205
D41: Straw

Sheet Energy centre
B2: Spring Grove | D2: For FID: 1 x CHP running on Biogas and 1 x CHP running on natural gas, with external power connection, and Biogas boiler for redundancy | AB2: Carbon intensity (gCO2e/MJ) | AC2: Digesters (kWh/year) | AD2: Pasteuriser (kWh/year) | AE2: Biogas Upgrader (kWh/year) | AF2: CO2 Upgrader (kWh/year) | AG2: Compressors (kWh/year) | AH2: Other (kWh/year) | AI2: Surplus (kWh/year) | AJ2: Total (kWh/year) | AK2: Check
B3: CH4% | C3: ='Feed + carbon calculator'!I29 -> 0.57298698 | D3: all values in Nm3 and GCV except where indicated | AA3: Heat requirement (MWh p.a.) | AC3: =C12 -> 4285000 | AD3: =N18 -> 5733634 | AE3: =N10 -> 0 | AF3: =S25 -> 0 | AG3: =S10 -> 0 | AH3: =N22 -> 0 | AJ3: =SUM(AC3:AI3) -> 10018634 | AK3: =AJ3=N32 -> TRUE | AO3: Spring Grove carbon calculator key outputs | AS3: Longmorn carbon calculator key assumptions
B4: Scenario | C4: AVERAGE | D4: =N34/8760 -> 1913.5833 | E4: power demand | P4: Losses | AA4: Heat from boiler | AB4: =SUM(F18:F21) -> 0.23655914 | AC4: =MIN($H$17,AC3) -> 0 | AD4: =MIN($H$17-AC4,AD3) -> 0 | AE4: =MIN($H$17-SUM(AC4:AD4),AE3) -> 0 | AF4: =MIN($H$17-SUM(AC4:AE4),AF3) -> 0 | AG4: =MIN($H$17-SUM(AC4:AF4),AG3) -> 0 | AH4: =MIN($H$17-SUM(AC4:AG4),AH3) -> 0 | AI4: =H17-SUM(AC4:AG4) -> 0 | AJ4: =SUM(AC4:AI4) -> 0 | AK4: =AJ4=H17 -> TRUE | AO4: Biogas production | AP4: =E8*8760 -> 20217255 | AQ4: Nm3 of biogas | AS4: 0.1829 | AT4: kgCO2e/kWh natural gas emissions (Scope 1, gross CV) | AY4: =AS4/3.6*1000 -> 50.805556 | AZ4: gCO2e/MJ (gross CV)
B5: Uptime | C5: 1 | P5: 0.005 | U5: Biomethane Production | W5: Biomethane Transport | AA5: Heat from CHP 1 | AB5: =SUM(F42:F44) -> 1.8366931 | AC5: =MAX(0,MIN(AC3-AC4,$H$38)) -> 4285000 | AD5: =MAX(0,MIN(AD3-AD4,$H$38-AC5)) -> 4477929.5 | AE5: {=MAX(0,MIN(AE3-AE4,$H$38-AC5:AD5))} -> 0 | AF5: {=MAX(0,MIN(AF3-AF4,$H$38-AC5:AE5))} -> 0 | AG5: {=MAX(0,MIN(AG3-AG4,$H$38-AC5:AF5))} -> 0 | AH5: {=MAX(0,MIN(AH3-AH4,$H$38-AC5:AG5))} -> 0 | AI5: =H38-SUM(AC5:AG5) -> 0 | AJ5: =SUM(AC5:AI5) -> 8762929.5 | AK5: =AJ5=H38 -> TRUE | AO5: Energy injected into the grid | AP5: =U11 -> 1.0727725e+08 | AQ5: kWh/year | AS5: 0.03021 | AT5: kgCO2e/kWh natural gas emissions (Scope 3, gross CV) | AY5: =AS5/3.6*1000 -> 8.3916667 | AZ5: gCO2e/MJ (gross CV)
E6: 0 | F6: Losses | AA6: Heat from CHP 2 | AB6: =SUM(F58:F60) -> 23.140961 | AC6: {=MAX(0,MIN(AC3-AC4:AC5,$H$54))} -> 0 | AD6: {=MAX(0,MIN(AD3-AD4:AD5,$H$54-AC6))} -> 1255704.5 | AE6: {=MAX(0,MIN(AE3-AE4:AE5,$H$54-AC6:AD6))} -> 0 | AF6: {=MAX(0,MIN(AF3-AF4:AF5,$H$54-AC6:AE6))} -> 0 | AG6: {=MAX(0,MIN(AG3-AG4:AG5,$H$54-AC6:AF6))} -> 0 | AH6: {=MAX(0,MIN(AH3-AH4:AH5,$H$54-AC6:AG6))} -> 0 | AI6: =H54-SUM(AC6:AG6) -> 7507224.9 | AJ6: =SUM(AC6:AI6) -> 8762929.5 | AK6: =AJ6=H54 -> TRUE | AO6: Total CO2 intensity biomethane | AP6: ='Feed + carbon calculator'!FS21 -> -5934781.7 | AQ6: kg CO2e annually | AS6: =AS4+AS5 -> 0.21311 | AT6: kgCO2e/kWh natural gas emissions (Scope 1 + Scope 3) | AY6: =AY4+AY5 -> 59.197222 | AZ6: gCO2e/MJ (gross CV)
B7: BioGest | C7: =VLOOKUP(B7,Inputs!A4:F7,2,FALSE) -> 489.15525 | D7: Biogas | E7: =E8*8760 -> 20217255 | K7: =K9/C3 -> 17019987 | M7: Biogas Upgrader | P7: =K9-N14+N13 -> 9996036.9 | R7: HP Compressors | U7: =P7*(100%-S12)-U17 -> 9996036.9 | W7: 1 | AA7: Heat from CHP 3 | AB7: =SUM(F74:F76) -> 23.140961 | AC7: {=MAX(0,MIN(AC4-AC5:AC6,$H$54))} -> 0 | AD7: {=MAX(0,MIN(AD3-AD4:AD6,$H$70-AC7))} -> 0 | AE7: {=MAX(0,MIN(AE4-AE5:AE6,$H$54-AC7:AD7))} -> 0 | AF7: {=MAX(0,MIN(AF4-AF5:AF6,$H$54-AC7:AE7))} -> 0 | AG7: {=MAX(0,MIN(AG4-AG5:AG6,$H$54-AC7:AF7))} -> 0 | AH7: {=MAX(0,MIN(AH4-AH5:AH6,$H$54-AC7:AG7))} -> 0 | AI7: =H70-SUM(AC7:AG7) -> 0 | AJ7: =SUM(AC7:AI7) -> 0 | AK7: =AJ7=H70 -> TRUE | AO7: CO2 that would have been emitted natural gas | AP7: =AS6*AP5 -> 22861855 | AQ7: kg CO2e annually | AS7: =7000*0.2686/1000 -> 1.8802 | AT7: t/y/car
C8: ='Power requirements'!F31+'Power requirements'!F32+'Power requirements'!F30 -> 519.08333 | E8: ='Feed + carbon calculator'!I25 -> 2307.9058 | K8: =K7/8760 -> 1942.9209 | M8: Bright | N8: =VLOOKUP(M8,Inputs!A1:F55,5,FALSE) -> 0 | P8: =P7/8760 -> 1141.1001 | R8: IMW | S8: =VLOOKUP(R8,Inputs!A1:F55,5,FALSE) -> 0 | U8: =U7/8760/1 -> 1141.1001 | W8: =8998*W7 -> 8998 | AA8: Heat from other | AJ8: =SUM(AC8:AI8) -> 0 | AO8: Saving vs natural gas | AP8: =(AP6-AP7)/AP7 -> -1.2595932 | AS8: 25 | AT8: kg/y/tree
D9: CH4 | E9: =E7*C3 -> 11584224 | K9: =(E9-H13-H34) -> 9752231.1 | N9: =N11/K7 -> 0.32682751 | P9: =K9-N14 -> 9703469.9 | S9: =S11/P7 -> 0.16650599 | U9: =P9*(100%-S12)-U17 -> 9703469.9 | W9: =W8/EnergyConversions!B11 -> 12567.039 | Y9: Hub | AA9: Unmet requirement | AC9: =AC3-SUM(AC4:AC8) -> 0 | AD9: =AD3-SUM(AD4:AD8) -> 0 | AE9: =AE3-SUM(AE4:AE8) -> 0 | AF9: =AF3-SUM(AF4:AF8) -> 0 | AG9: =AG3-SUM(AG4:AG8) -> 0 | AJ9: =SUM(AC9:AI9) -> 0 | AO9: results in GHG savings of | AP9: =AP7-AP6 -> 28796637 | AQ9: kg CO2e annually | AS9: =AS8/1000 -> 0.025 | AT9: t/y/tree
E10: =E8*C3 -> 1322.4 | H10: Biogas Boiler | K10: =K8*C3 -> 1113.2684 | M10: Heat | N10: =K7*N8/1000 -> 0 | P10: =P9/8760 -> 1107.702 | R10: Heat | S10: 0 | U10: =U9/8760 -> 1107.702 | W10: per load | AA10: Power requirement (MWh p.a.) | AC10: =C13 -> 4547170 | AD10: =N19 -> 0 | AE10: =N11 -> 5562600 | AF10: =S26 -> 3819360 | AG10: =S11 -> 1664400 | AH10: =N23 -> 1169460 | AJ10: =SUM(AC10:AI10) -> 16762990 | AK10: =AJ10=N34 -> TRUE | AO10: equivalent to the CO2 sequestered by | AP10: =AP9/$AS$8 -> 1151865.5 | AQ10: mature trees | AS10: 11500 | AT10: kWh/y heat demand per average UK household
D11: Energy | E11: =E9*EnergyConversions!$B$23 -> 1.2807003e+08 | G11: Biogas input | H11: =H13/C3 -> 0 | K11: =K9*EnergyConversions!$B$23 -> 1.0781633e+08 | M11: Power | N11: =(HLOOKUP($C$4,'Power requirements'!$F$28:$G$38,6)*8760) -> 5562600 | P11: =P9*EnergyConversions!$B$23 -> 1.0727725e+08 | R11: Power | S11: =(HLOOKUP($C$4,'Power requirements'!$F$28:$G$38,8)*8760) -> 1664400 | U11: =U9*EnergyConversions!$B$23 -> 1.0727725e+08 | W11: =U15/365/W8 -> 2.1154425 | AA11: Power from CHP 1 | AB11: =SUM(G42:G44) -> 10.193647 | AC11: =MIN($H$39,AC10) -> 4547170 | AD11: =MIN($H$39-AC11,AD10) -> 0 | AE11: =MIN($H$39-SUM(AC11:AD11),AE10) -> 3177325 | AF11: =MIN($H$39-SUM(AC11:AE11),AF10) -> 0 | AG11: =MIN($H$39-SUM(AC11:AF11),AG10) -> 0 | AH11: =MIN($H$39-SUM(AC11:AG11),AH10) -> 0 | AJ11: =SUM(AC11:AI11) -> 7724495 | AK11: =H39=AJ11 -> TRUE | AO11: football pitch = 7700m2; average 1750 trees per hectare = 1348 trees per football field | AP11: =AP10/1348 -> 854.4996 | AQ11: football pitches | AS11: =100000*0.25*15 -> 375000 | AT11: kWh/y per HGV
B12: Heat (ave) | C12: =C7*8760 -> 4285000 | E12: =E11/8760 -> 14619.866 | H12: =H11/8760 -> 0 | K12: =K11/8760 -> 12307.801 | M12: Inerts | N12: 0.97 | P12: =P11/8760 -> 12246.262 | R12: Losses | S12: 0 | U12: =U11/8760 -> 12246.262 | W12: =ROUNDUP(W11*7,0) -> 15 | AA12: Imported power | AB12: =GHG_Emissions!E12 -> 57.513889 | AC12: =MAX(0,MIN(AC10-AC11,$H$24)) -> 0 | AD12: =MAX(0,MIN(AD10-AD11,$H$24-AC12)) -> 0 | AE12: =MAX(0,MIN(AE10-AE11,$H$24-SUM(AC12:AD12))) -> 1314000 | AF12: =MAX(0,MIN(AF10-AF11,$H$24-SUM(AC12:AE12))) -> 0 | AG12: =MAX(0,MIN(AG10-AG11,$H$24-SUM(AC12:AF12))) -> 0 | AH12: =MAX(0,MIN(AH10-AH11,$H$24-SUM(AC12:AG12))) -> 0 | AJ12: =SUM(AC12:AI12) -> 1314000 | AK12: =AJ12=H24 -> TRUE | AO12: cars | AP12: =AP9/$AS$7/1000 -> 15315.731 | AQ12: cars | AS12: 87.64 | AT12: gCO2eq/MJ diesel emissions
B13: Power (ave) | C13: =(HLOOKUP($C$4,'Power requirements'!$F$28:$G$38,3)*8760)+(HLOOKUP($C$4,'Power requirements'!$F$28:$G$38,4)*8760)+(HLOOKUP($C$4,'Power requirements'!$F$28:$G$38,5)*8760) -> 4547170 | G13: Methane input | H13: =H15/EnergyConversions!$B$23 -> 0 | M13: CO2 in Upgraded Biogas | N13: =K9*(1-N12) -> 292566.93 | O13: =N13/8760 -> 33.398052 | U13: =U11*3.6 -> 3.861981e+08 | V13: GCV | W13: =ROUNDUP(W11*365,0) -> 773 | AA13: Power from CHP 2 | AB13: =SUM(G58:G60) -> 128.43233 | AC13: {=MAX(0,MIN(AC10-AC11:AC12,$H$55))} -> 0 | AD13: =MAX(0,MIN((AD10-SUM(AD11:AD12)),($H$55-AC13))) -> 0 | AE13: =MAX(0,MIN(AE10-SUM(AE11:AE12),$H$55-SUM(AC13:AD13))) -> 1071275 | AF13: =MAX(0,MIN(AF10-SUM(AF11:AF12),$H$55-SUM(AC13:AE13))) -> 3819360 | AG13: =MAX(0,MIN(AG10-SUM(AG11:AG12),$H$55-SUM(AC13:AF13))) -> 1664400 | AH13: =MAX(0,MIN(AH10-SUM(AH11:AH12),$H$55-SUM(AC13:AG13))) -> 1169460 | AJ13: =SUM(AC13:AI13) -> 7724495 | AK13: =AJ13=H55 -> TRUE | AO13: households heating requirement | AP13: =AP5/$AS$10 -> 9328.4566 | AQ13: households | AS13: 2.9 | AT13: MWhe/y per household
B14: Includes straw pre-treatment | H14: =H13/8760 -> 0 | M14: Methane slip | N14: =K9*P5 -> 48761.155 | O14: =N14/8760 -> 5.5663419 | U14: =U13/EnergyConversions!B5 -> 3.4738422e+08 | V14: NCV | AA14: Power from CHP 3 | AB14: =SUM(G74:G76) -> 128.43233 | AC14: {=MAX(0,MIN(AC10-AC11:AC13,$H$71))} -> 0 | AD14: =MAX(0,MIN((AD10-SUM(AD11:AD13)),($H$71-AC14))) -> 0 | AE14: =MAX(0,MIN(AE10-SUM(AE11:AE13),$H$71-SUM(AC14:AD14))) -> 0 | AF14: =MAX(0,MIN(AF10-SUM(AF11:AF13),$H$71-SUM(AC14:AE14))) -> 0 | AG14: =MAX(0,MIN(AG10-SUM(AG11:AG13),$H$71-SUM(AC14:AF14))) -> 0 | AH14: =MAX(0,MIN(AH10-SUM(AH11:AH13),$H$71-SUM(AC14:AG14))) -> 0 | AJ14: =SUM(AC14:AI14) -> 0 | AK14: =AJ14=H71 -> TRUE | AO14: if used to generate power | AP14: =AP5*AS14/AS13/1000 -> 18459.086 | AQ14: households | AS14: 0.499 | AT14: Gas to power conversion
E15: =H16/400/0.95 -> 0 | H15: =H17/G17 -> 0 | I15: =H15/8760 -> 0 | U15: =U9*EnergyConversions!$B$11 -> 6947684.5 | AA15: Power from generator | AJ15: =SUM(AC15:AI15) -> 0
F16: % of AD heat | G16: 0 | H16: =H15/8760/$C$5 -> 0 | AA16: Methane loss (kg p.a.) | AC16: =(E9*0%)*EnergyConversions!B47 -> 0 | AE16: =N14*EnergyConversions!B47 -> 96400.804 | AJ16: =SUM(AC16:AI16) -> 96400.804 | AS16: 0.1 | AT16: gCH4/MJ
F17: Heat | G17: 0.93 | H17: =C12*G16 -> 0 | M17: Pasteuriser | R17: Dispensing | U17: =60000*0 -> 0 | W17: 80 | AS17: =AS16*GHG_Emissions!E46 -> 2.8 | AT17: gCO2e/MJ transmission losses
E18: Emissions (Scope 1) gCO2e/MJ | F18: =(0.00022*1000)/G17 -> 0.23655914 | H18: =F18*3600*$H$17/1000000 -> 0 | I18: =IFERROR(H18/($H$15*3.6)*1000,0) -> 0 | K18: =SUM(H18:H21) -> 0 | M18: Heat | N18: =Agraferm!AC4 -> 5733634 | R18: ca. 10 tonnes buffer storage. When buffer storage is full, upgraded biogas is diverted into CHP2 | U18: =U17/8760 -> 0 | W18: per fuelling | AC18: Digesters | AD18: Pasteuriser | AE18: Biogas Upgrader | AF18: CO2 Upgrader | AG18: Compressors | AH18: Other | AI18: Surplus | AJ18: Total | AS18: =AS17*3.6/1000 -> 0.01008 | AT18: kgCO2e/kWh transmission losses
E19: Emissions (Scope 2) gCO2e/MJ | H19: =F19*3600*$H$17/1000000 -> 0 | I19: =IFERROR(H19/($H$15*3.6)*1000,0) -> 0 | M19: Power | N19: 0 | U19: =U17*EnergyConversions!$B$23 -> 0 | W19: =U22/W17/52 -> 0 | AA19: CO2e emissions from heat (kg/year) | AC19: =SUM(AC20:AC25) -> 28332.828 | AD19: =SUM(AD20:AD25) -> 134218.05 | AE19: =SUM(AE20:AE25) -> 0 | AF19: =SUM(AF20:AF25) -> 0 | AG19: =SUM(AG20:AG25) -> 0 | AH19: =SUM(AH20:AH25) -> 0 | AI19: =SUM(AI20:AI25) -> 625407.83 | AJ19: =SUM(AJ20:AJ25) -> 787958.71
E20: Emissions (Scope 3) gCO2e/MJ | H20: =F20*3600*$H$17/1000000 -> 0 | I20: =IFERROR(H20/($H$15*3.6)*1000,0) -> 0 | U20: =U19/8760 -> 0 | AA20: =AA4 -> Heat from boiler | AC20: =AC4*3600*$AB4/1000000 -> 0 | AD20: =AD4*3600*$AB4/1000000 -> 0 | AE20: =AE4*3600*$AB4/1000000 -> 0 | AF20: =AF4*3600*$AB4/1000000 -> 0 | AG20: =AG4*3600*$AB4/1000000 -> 0 | AH20: =AH4*3600*$AB4/1000000 -> 0 | AI20: =-AI4*3600*$AB4/1000000 -> 0 | AJ20: =SUM(AC20:AI20) -> 0
E21: Emissions (Out of Scope) gCO2e/MJ | F21: =2750/GHG_Conversions!$D$17/G17*J21 -> 0 | H21: =F21*3600*$H$17/1000000 -> 0 | I21: =IFERROR(H21/($H$15*3.6)*1000,0) -> 0 | J21: 0 | M21: Other site requirements | U21: =U19*3.6 -> 0 | AA21: =AA5 -> Heat from CHP 1 | AC21: =AC5*3600*$AB5/1000000 -> 28332.828 | AD21: =AD5*3600*$AB5/1000000 -> 29608.496 | AE21: =AE5*3600*$AB5/1000000 -> 0 | AF21: =AF5*3600*$AB5/1000000 -> 0 | AG21: =AG5*3600*$AB5/1000000 -> 0 | AH21: =AH5*3600*$AB5/1000000 -> 0 | AI21: =AI5*3600*$AB5/1000000 -> 0 | AJ21: =SUM(AC21:AI21) -> 57941.323
M22: Heat | N22: =Agraferm!AC8/1000 -> 0 | R22: CO2 Upgrader | U22: =U17*EnergyConversions!$B$11 -> 0 | AA22: =AA6 -> Heat from CHP 2 | AC22: =AC6*3600*$AB6/1000000 -> 0 | AD22: =AD6*3600*$AB6/1000000 -> 104609.55 | AE22: =AE6*3600*$AB6/1000000 -> 0 | AF22: =AF6*3600*$AB6/1000000 -> 0 | AG22: =AG6*3600*$AB6/1000000 -> 0 | AH22: =AH6*3600*$AB6/1000000 -> 0 | AI22: =AI6*3600*$AB6/1000000 -> 625407.83 | AJ22: =SUM(AC22:AI22) -> 730017.39 | AL22: =AI6*3600*AB6/1000000 -> 625407.83
H23: Imported Power | M23: Power | N23: =(HLOOKUP($C$4,'Power requirements'!$F$28:$G$38,9)*8760)+(HLOOKUP($C$4,'Power requirements'!$F$28:$G$38,10)*8760)+(HLOOKUP($C$4,'Power requirements'!$F$28:$G$38,11)*8760) -> 1169460 | R23: Bright LCO2 | S23: 0 | AA23: =AA7 -> Heat from CHP 3 | AC23: =AC7*3600*$AB7/1000000 -> 0 | AD23: =AD7*3600*$AB7/1000000 -> 0 | AE23: =AE7*3600*$AB7/1000000 -> 0 | AF23: =AF7*3600*$AB7/1000000 -> 0 | AG23: =AG7*3600*$AB7/1000000 -> 0 | AH23: =AH7*3600*$AB7/1000000 -> 0 | AI23: =AI7*3600*$AB7/1000000 -> 0 | AJ23: =SUM(AC23:AI23) -> 0
F24: running at % of size | G24: 0.25 | H24: =H25*G24*8760 -> 1314000 | I24: =H24/8760 -> 150 | S24: =IFERROR(S26/P26,0) -> 276.96694 | AA24: =AA8 -> Heat from other | AC24: =AC8*3600*$AB8/1000000 -> 0 | AD24: =AD8*3600*$AB8/1000000 -> 0 | AE24: =AE8*3600*$AB8/1000000 -> 0 | AF24: =AF8*3600*$AB8/1000000 -> 0 | AG24: =AG8*3600*$AB8/1000000 -> 0 | AH24: =AH8*3600*$AB8/1000000 -> 0 | AI24: =-AI8*3600*$AB8/1000000 -> 0 | AJ24: =SUM(AC24:AI24) -> 0
G25: Connection capacity | H25: 600 | P25: =K7-K9-N13 -> 6975189.1 | R25: Heat | S25: 0 | U25: CO2 Production | W25: CO2 Transport | AA25: =AA9 -> Unmet requirement | AC25: =AC9*3600*$AB9/1000000 -> 0 | AD25: =AD9*3600*$AB9/1000000 -> 0 | AE25: =AE9*3600*$AB9/1000000 -> 0 | AF25: =AF9*3600*$AB9/1000000 -> 0 | AG25: =AG9*3600*$AB9/1000000 -> 0 | AH25: =AH9*3600*$AB9/1000000 -> 0 | AI25: =-AI9*3600*$AB9/1000000 -> 0 | AJ25: =SUM(AC25:AI25) -> 0
E26: Emissions (Scope 1) gCO2e/MJ | I26: =H26/($H$24*3.6)*1000 -> 0 | K26: =SUM(H26:H29) -> 272063.7 | P26: =P25*EnergyConversions!$B$47/1000*P27 -> 13789.949 | R26: Power | S26: =(HLOOKUP($C$4,'Power requirements'!$F$28:$G$38,7)*8760)*P27 -> 3819360 | U26: =P26*(1-S27) -> 12755.703 | W26: 27660 | AA26: CO2e emissions from power (kg/year) | AC26: =SUM(AC27:AC31) -> 166868.08 | AD26: =SUM(AD27:AD31) -> 0 | AE26: =SUM(AE27:AE31) -> 883973.25 | AF26: =SUM(AF27:AF31) -> 1765905.5 | AG26: =SUM(AG27:AG31) -> 769545.99 | AH26: =SUM(AH27:AH31) -> 540707.31 | AI26: =SUM(AI27:AI31) -> 0 | AJ26: =SUM(AJ27:AJ31) -> 4127000.2
E27: Emissions (Scope 2) gCO2e/MJ | G27: =GHG_Emissions!E12 -> 57.513889 | H27: =$H$24*3600*G27/1000000 -> 272063.7 | I27: =H27/($H$24*3.6)*1000 -> 57.513889 | O27: Uptime | P27: 1 | R27: Losses | S27: 0.075 | U27: =U26/365 -> 34.947131 | W27: per load | AA27: =AA11 -> Power from CHP 1 | AC27: =AC11*3600*$AB11/1000000 -> 166868.08 | AD27: =AD11*3600*$AB11/1000000 -> 0 | AE27: =AE11*3600*$AB11/1000000 -> 116598.7 | AF27: =AF11*3600*$AB11/1000000 -> 0 | AG27: =AG11*3600*$AB11/1000000 -> 0 | AH27: =AH11*3600*$AB11/1000000 -> 0 | AI27: =-AI11*3600*$AB11/1000000 -> 0 | AJ27: =SUM(AC27:AI27) -> 283466.78 | AK27: =(AJ21+AJ27) -> 341408.1 | AL27: =AK27=SUM(H42:H45) -> TRUE
E28: Emissions (Scope 3) gCO2e/MJ | I28: =H28/($H$24*3.6)*1000 -> 0 | W28: =U26*1000/W26/52 -> 8.8684734 | AA28: =AA12 -> Imported power | AC28: =AC12*3600*$AB12/1000000 -> 0 | AD28: =AD12*3600*$AB12/1000000 -> 0 | AE28: =AE12*3600*$AB12/1000000 -> 272063.7 | AF28: =AF12*3600*$AB12/1000000 -> 0 | AG28: =AG12*3600*$AB12/1000000 -> 0 | AH28: =AH12*3600*$AB12/1000000 -> 0 | AI28: =-AI12*3600*$AB12/1000000 -> 0 | AJ28: =SUM(AC28:AI28) -> 272063.7 | AK28: =(AJ28) -> 272063.7 | AL28: =AK28=SUM(H26:H29) -> TRUE
E29: Emissions (Out of Scope) gCO2e/MJ | I29: =H29/($H$24*3.6)*1000 -> 0 | W29: =W28/7 -> 1.2669248 | AA29: =AA13 -> Power from CHP 2 | AC29: =AC13*3600*$AB13/1000000 -> 0 | AD29: =AD13*3600*$AB13/1000000 -> 0 | AE29: =AE13*3600*$AB13/1000000 -> 495310.85 | AF29: =AF13*3600*$AB13/1000000 -> 1765905.5 | AG29: =AG13*3600*$AB13/1000000 -> 769545.99 | AH29: =AH13*3600*$AB13/1000000 -> 540707.31 | AI29: =-AI13*3600*$AB13/1000000 -> 0 | AJ29: =SUM(AC29:AI29) -> 3571469.7 | AK29: =(AJ22+AJ29) -> 4301487.1 | AL29: =AK29=SUM(H58:H61) -> TRUE
W30: =W28*52 -> 461.16062 | AA30: =AA14 -> Power from CHP 3 | AC30: =AC14*3600*$AB14/1000000 -> 0 | AD30: =AD14*3600*$AB14/1000000 -> 0 | AE30: =AE14*3600*$AB14/1000000 -> 0 | AF30: =AF14*3600*$AB14/1000000 -> 0 | AG30: =AG14*3600*$AB14/1000000 -> 0 | AH30: =AH14*3600*$AB14/1000000 -> 0 | AI30: =-AI14*3600*$AB14/1000000 -> 0 | AJ30: =SUM(AC30:AI30) -> 0
H31: CHP1 (biogas) | N31: Summary: | P31: =P30*N12 -> 0 | AA31: =AA15 -> Power from generator | AC31: =AC15*3600*$AB15/1000000 -> 0 | AD31: =AD15*3600*$AB15/1000000 -> 0 | AE31: =AE15*3600*$AB15/1000000 -> 0 | AF31: =AF15*3600*$AB15/1000000 -> 0 | AG31: =AG15*3600*$AB15/1000000 -> 0 | AH31: =AH15*3600*$AB15/1000000 -> 0 | AI31: =-AI15*3600*$AB15/1000000 -> 0 | AJ31: =SUM(AC31:AI31) -> 0
G32: Model | H32: Quanto 1200 | M32: Total heat | N32: =C12+N18+S10+N10+S25 -> 10018634 | P32: =P31*(1-S27) -> 0 | AA32: CO2e emissions from methane (kg/year) | AC32: =AC16*GHG_Conversions!$D$6 -> 0 | AD32: =AD16*GHG_Conversions!$D$6 -> 0 | AE32: =AE16*GHG_Conversions!$D$6 -> 2217218.5 | AF32: =AF16*GHG_Conversions!$D$6 -> 0 | AG32: =AG16*GHG_Conversions!$D$6 -> 0 | AH32: =AH16*GHG_Conversions!$D$6 -> 0 | AJ32: =SUM(AC32:AI32) -> 2217218.5
G33: Nominal size | H33: =VLOOKUP(H32,CHP!C3:K39,7,FALSE) -> 1200 | M33: Total power (excl. import) | N33: =C13+N19+N11+S11+S26+N23-H24 -> 15448990 | AC33: =AC19+AC26+AC32 -> 195200.91 | AD33: =AD19+AD26+AD32 -> 134218.05 | AE33: =AE19+AE26+AE32 -> 3101191.7 | AF33: =AF19+AF26+AF32 -> 1765905.5 | AG33: =AG19+AG26+AG32 -> 769545.99 | AH33: =AH19+AH26+AH32 -> 540707.31 | AI33: =AI19+AI26+AI32 -> 625407.83 | AJ33: =AJ19+AJ26+AJ32 -> 7132177.4 | AK33: kg/a | AL33: =AJ33/U14*1000 -> 20.531092 | AM33: g CO2e/MJ
G34: Methane input | H34: =H37/EnergyConversions!$B$21 -> 1831992.6 | M34: Total power (incl. import) | N34: =N33+H24 -> 16762990 | AJ34: =AJ33-AJ32 -> 4914958.9
H35: =H34/8760 -> 209.13157 | M35: Surplus heat | N35: =H17+H38+H54-N32 -> 7507224.9
F36: % of remaining power demand | G36: 0.5 | H36: =H37*EnergyConversions!$B$5 -> 20253696 | I36: =H36/8760 -> 2312.0657 | M36: Surplus power | N36: =H39+H55+H24-N34 -> 0
F37: running at % of size | G37: =H40/H33 -> 0.73482639 | H37: =H39/G39 -> 18218149 | M37: Parasitics | N37: =(I15+I36+I52+I24)/E12 -> 0.32655097
F38: Heat | G38: =VLOOKUP(H32,CHP!C3:S39,16,FALSE) -> 0.481 | H38: =H37*G38 -> 8762929.5 | M38: Output temp of CHP | N38: =273+60 -> 333 | O38: Kelvins
F39: Power | G39: =VLOOKUP(H32,CHP!C3:S39,14,FALSE) -> 0.424 | H39: =N33*G36 -> 7724495
F40: uptime | G40: 1 | H40: =H39/8760/G40 -> 881.79167 | I40: =H40*EnergyConversions!$B$5 -> 980.31588
G41: Total efficiency | H41: =(H38+H39)/H37 -> 0.905
E42: Emissions (Scope 1) gCO2e/MJ | F42: =(GHG_Emissions!$E$7/G38)*(((($N$38-273)/$N$38)*G38)/(G39+((($N$38-273)/$N$38)*G38))) -> 0.022542124 | G42: =(GHG_Emissions!$E$7/G39)*(G39/(G39+((($N$38-273)/$N$38)*G38))) -> 0.12510879 | H42: =(H38*3600*F42+H39*3600*G42)/1000000 -> 4190.1742 | I42: =H42/($H$37*3.6)*1000 -> 0.063888889 | K42: =SUM(H42:H45) -> 341408.1
E43: Emissions (Scope 2) gCO2e/MJ | H43: =(H38*3600*F43+H39*3600*G43)/1000000 -> 0 | I43: =H43/($H$37*3.6)*1000 -> 0
E44: Emissions (Scope 3) gCO2e/MJ | F44: =(GHG_Emissions!$E$8/G38)*(((($N$38-273)/$N$38)*G38)/(G39+((($N$38-273)/$N$38)*G38))) -> 1.814151 | G44: =(GHG_Emissions!$E$8/G39)*(G39/(G39+((($N$38-273)/$N$38)*G38))) -> 10.068538 | H44: =(H38*3600*F44+H39*3600*G44)/1000000 -> 337217.93 | I44: =H44/($H$37*3.6)*1000 -> 5.1416667
E45: Emissions (Out of Scope) gCO2e/MJ | H45: =(H38*3600*F45+H39*3600*G45)/1000000 -> 0 | I45: =H45/($H$37*3.6)*1000 -> 0
H47: CHP2 (natural gas)
G48: Model | H48: Quanto 1200
G49: Nominal size | H49: =VLOOKUP(H48,CHP!C3:K39,7,FALSE) -> 1200
G50: Methane input | H50: =H53/EnergyConversions!$B$21 -> 1831992.6
H51: =H50/8760 -> 209.13157
F52: % of remaining power demand | G52: =1-G36 -> 0.5 | H52: =H53*EnergyConversions!$B$5 -> 20253696 | I52: =H52/8760 -> 2312.0657
F53: running at % of size | G53: =H56/H49 -> 0.73482639 | H53: =H55/G55 -> 18218149
F54: Heat | G54: =VLOOKUP(H48,CHP!C3:S39,16,FALSE) -> 0.481 | H54: =H53*G54 -> 8762929.5
F55: Power | G55: =VLOOKUP(H48,CHP!C3:S39,14,FALSE) -> 0.424 | H55: =N33*G52 -> 7724495
F56: uptime | G56: 1 | H56: =H55/8760/G56 -> 881.79167 | I56: =H56*EnergyConversions!$B$5 -> 980.31588
G57: Total efficiency | H57: =(H54+H55)/H53 -> 0.905
E58: Emissions (Scope 1) gCO2e/MJ | F58: =(GHG_Emissions!$E$10/G54)*(((($N$38-273)/$N$38)*G54)/(G55+((($N$38-273)/$N$38)*G54))) -> 19.860592 | G58: =(GHG_Emissions!$E$10/G55)*(G55/(G55+((($N$38-273)/$N$38)*G54))) -> 110.22628 | H58: =(H54*3600*F58+H55*3600*G58)/1000000 -> 3691725.6 | I58: =H58/($H$53*3.6)*1000 -> 56.288889 | K58: =SUM(H58:H61) -> 4301487.1
E59: Emissions (Scope 2) gCO2e/MJ | H59: =(H54*3600*F59+H55*3600*G59)/1000000 -> 0 | I59: =H59/($H$53*3.6)*1000 -> 0
E60: Emissions (Scope 3) gCO2e/MJ | F60: =(GHG_Emissions!$E$11/G54)*(((($N$38-273)/$N$38)*G54)/(G55+((($N$38-273)/$N$38)*G54))) -> 3.2803691 | G60: =(GHG_Emissions!$E$11/G55)*(G55/(G55+((($N$38-273)/$N$38)*G54))) -> 18.206049 | H60: =(H54*3600*F60+H55*3600*G60)/1000000 -> 609761.43 | I60: =H60/($H$53*3.6)*1000 -> 9.2972222
E61: Emissions (Out of Scope) gCO2e/MJ | H61: =(H54*3600*F61+H55*3600*G61)/1000000 -> 0 | I61: =H61/($H$53*3.6)*1000 -> 0
H63: CHP3 (natural gas)
G64: Model | H64: Quanto 1200
G65: Nominal size | H65: =VLOOKUP(H64,CHP!C19:K55,7,FALSE) -> 1200
G66: Methane input | H66: =H69/EnergyConversions!$B$21 -> 0
H67: =H66/8760 -> 0
F68: % of remaining power demand | G68: 0 | H68: =H69*EnergyConversions!$B$5 -> 0 | I68: =H68/8760 -> 0
F69: running at % of size | G69: =H72/H65 -> 0 | H69: =H71/G71 -> 0
F70: Heat | G70: =VLOOKUP(H64,CHP!C19:S55,16,FALSE) -> 0.481 | H70: =H69*G70 -> 0
F71: Power | G71: =VLOOKUP(H64,CHP!C19:S55,14,FALSE) -> 0.424 | H71: =N33*G68 -> 0
F72: uptime | G72: 1 | H72: =H71/8760/G72 -> 0 | I72: =H72*EnergyConversions!$B$5 -> 0
G73: Total efficiency | H73: =IFERROR((H70+H71)/H69,0) -> 0
E74: Emissions (Scope 1) gCO2e/MJ | F74: =(GHG_Emissions!$E$10/G70)*(((($N$38-273)/$N$38)*G70)/(G71+((($N$38-273)/$N$38)*G70))) -> 19.860592 | G74: =(GHG_Emissions!$E$10/G71)*(G71/(G71+((($N$38-273)/$N$38)*G70))) -> 110.22628 | H74: =(H70*3600*F74+H71*3600*G74)/1000000 -> 0 | I74: =H74/($H$53*3.6)*1000 -> 0 | K74: =SUM(H74:H77) -> 0
E75: Emissions (Scope 2) gCO2e/MJ | H75: =(H70*3600*F75+H71*3600*G75)/1000000 -> 0 | I75: =H75/($H$53*3.6)*1000 -> 0
E76: Emissions (Scope 3) gCO2e/MJ | F76: =(GHG_Emissions!$E$11/G70)*(((($N$38-273)/$N$38)*G70)/(G71+((($N$38-273)/$N$38)*G70))) -> 3.2803691 | G76: =(GHG_Emissions!$E$11/G71)*(G71/(G71+((($N$38-273)/$N$38)*G70))) -> 18.206049 | H76: =(H70*3600*F76+H71*3600*G76)/1000000 -> 0 | I76: =H76/($H$53*3.6)*1000 -> 0
E77: Emissions (Out of Scope) gCO2e/MJ | H77: =(H70*3600*F77+H71*3600*G77)/1000000 -> 0 | I77: =H77/($H$53*3.6)*1000 -> 0

Sheet Power requirements
B1: 2200m3 per hour
B2: Item | C2: Consumed energy per day (kWh) | D2: Continuous power demand - based on all equipment operating at nominal load (kW) | F2: Continuous power demand - averaged over a representative day, and incorporating % uptime (kW) | G2: Maximum power Demand (kWh)
A3: OK | B3: AD plant (w/o BUU, CNG and ST3) | C3: =#REF! -> #REF! | D3: =#REF! -> #REF! | G3: =#REF! -> #REF!
A5: ST1 is used in Energy Centre as per decision 22 May 2023 = 160.75 kW of supply | B5: ST3- Straw treatment (Impact and extruder x2, no crane) | C5: =SUM(C6:C26) -> 7370.16 | D5: =SUM(D6:D26) -> 371.00667 | G5: =SUM(G6:G26) -> 485.8
B6: Conveyor section 1 | C6: =D6*24 -> 87.12 | D6: =G6*0.66 -> 3.63 | G6: 5.5
B7: Conveyor section 2 | C7: =D7*24 -> 87.12 | D7: =G7*0.66 -> 3.63 | G7: 5.5
B8: Conveyor section 3 | C8: =D8*24 -> 87.12 | D8: =G8*0.66 -> 3.63 | G8: 5.5
B9: String removal and bale opening | C9: 243 | D9: =C9/24 -> 10.125 | G9: 19
B10: Hopper 4 horizontal screws 4 | C10: 104 | D10: =C10/24 -> 4.3333333 | G10: 9
B11: Discharge screw 4 | C11: 29 | D11: =C11/24 -> 1.2083333 | G11: 3.5
B12: Grinder feed-in screw 4 | C12: 33 | D12: =C12/24 -> 1.375 | G12: 4
B13: Bio-Grinder | C13: =D13*24 -> 2652 | D13: =G13*0.85 -> 110.5 | G13: 130
B14: Grinder discharge screw 4 | C14: 66 | D14: =C14/24 -> 2.75 | G14: 8
B15: Alarm Light 4 | C15: 2 | D15: =C15/24 -> 0.083333333 | G15: 2
B16: Hopper horizontal screws 5 | C16: 121 | D16: =C16/24 -> 5.0416667 | G16: 9
B17: Discharge screw 5 | C17: 34 | D17: =C17/24 -> 1.4166667 | G17: 3.5
B18: Straw feeder system | C18: =D18*24 -> 712.8 | D18: =G18*0.66 -> 29.7 | G18: =15*3 -> 45
B19: Extruder feed-in screw 5 | C19: 38 | D19: =C19/24 -> 1.5833333 | G19: 4
B20: Extruder 1 | C20: 1477 | D20: =G20*0.85 -> 93.5 | G20: 110
B21: Extruder discharge screw 5 | C21: 38 | D21: =C21/24 -> 1.5833333 | G21: 4
B22: Alarm light 5 | C22: 3 | D22: =C22/24 -> 0.125 | G22: 0.15
B23: Extruder feed-in screw 5 | C23: 38 | D23: =C23/24 -> 1.5833333 | G23: 4
B24: Extruder 2 | C24: 1477 | D24: =G24*0.85 -> 93.5 | G24: 110
B25: Extruder discharge screw 5 | C25: 38 | D25: =C25/24 -> 1.5833333 | G25: 4
B26: Alarm light 5 | C26: 3 | D26: =C26/24 -> 0.125 | G26: 0.15
B27: 2200m3 per hour
B28: 1 | D28: CONTINUOUS | F28: AVERAGE | G28: MAXIMUM
B29: =B2 -> Item | C29: =C2 -> Consumed energy per day (kWh) | D29: =D2 -> Continuous power demand - based on all equipment operating at nominal load (kW) | E29: % uptime | F29: =F2 -> Continuous power demand - averaged over a representative day, and incorporating % uptime (kW) | G29: =G2 -> Maximum power Demand (kWh) | H29: Continuous energy demand - averaged over the year (kWh) As of 21.03.2024 | I29: Continuous energy demand - averaged over the year (kWh) Value in original Acorn Energy Centre model | J29: Increase (decrease) vs original Energy Centre | K29: % change | L29: Source | M29: Comments
A30: As in cell A107 above, ST1 is used in Energy Centre; ST3 is 210.26 kW higher continuous demand than ST1 | B30: Straw treatment ST3 | C30: 0 | D30: 0 | E30: 0.5 | F30: 0 | G30: =G5*0 -> 0 | H30: =F30*8760 -> 0 | I30: 1408170 | J30: =H30-I30 -> -1408170 | K30: =J30/I30 -> -1 | L30: Based on value from BioGest. | M30: Included in AD Plant value
A31: Why is it increased by 10%? | B31: AD plant | C31: 12458 | D31: =C31/24 -> 519.08333 | E31: 1 | F31: =D31*E31 -> 519.08333 | G31: =F31*2 -> 1038.1667 | H31: =F31*8760 -> 4547170 | I31: 2423782.5 | J31: =H31-I31 -> 2123387.5 | K31: =J31/I31 -> 0.87606355 | L31: Based on value from BioGest. | M31: Includes Straw Treatment as above. Note: Max value is 200% of continuous value in absence of exact value from BioGest.
B32: AD plant contingency | C32: 0 | D32: 0 | E32: 0 | F32: =D32*E32 -> 0 | G32: =D32 -> 0 | H32: =F32*8760 -> 0 | I32: 0 | J32: =H32-I32 -> 0 | K32: N/A | L32: Acorn estimate | M32: All items included in above so no contingency required.
A33: This is higher than 0.29 kWh/Nm3 in Bright datasheet (rounded up to 0.3 kWh/Nm3 in Energy Centre). 2189Nm3/h * 0.29 = 635kW continuous demand. | B33: Biogas Upgrading Unit | C33: =D33*24 -> 15240 | D33: 635 | E33: 1 | F33: =D33*E33 -> 635 | G33: =855+22+114+7.41+7.5+0.37+0.37+1+15+2+2+1.1+1.1+1.1+1.1 -> 1031.05 | H33: =F33*8760 -> 5562600 | I33: 5710366 | J33: =H33-I33 -> -147766 | K33: =J33/I33 -> -0.0258768 | L33: Datasheet and PSCA from Bright (equipment supplier) | M33: 0.3 kWh/Nm3 value in Bright datasheet (used in original Energy Centre) is based on peak input to BUU. When input flow is less than max. the power demand per Nm3 will increase. PSCA from Bright takes into account fluctuations in input flow across the year
A34: OK | B34: CO2 Liquefaction | C34: =D34*24 -> 10464 | D34: 436 | E34: =Summary!C18 -> 1 | F34: =D34*E34 -> 436 | G34: 436 | H34: =F34*8760 -> 3819360 | I34: 3448631 | J34: =H34-I34 -> 370729 | K34: =J34/I34 -> 0.10750034 | L34: Datasheet and PSCA from Bright (equipment supplier) | M34: Max 2,000 kg/h
A35: OK | B35: CNG Compression | C35: =D35*24 -> 4800 | D35: 200 | E35: 0.95 | F35: =D35*E35 -> 190 | G35: =250+2.9+2.2+1.8+2.1+0.1+1+1.8+10+1+10+22 -> 304.9 | H35: =F35*8760 -> 1664400 | I35: 2078069 | J35: =H35-I35 -> -413669 | K35: =J35/I35 -> -0.19906413 | L35: Datasheet and PSCA from IMW (equipment supplier)
A36: Not included in Energy Centre model | B36: Odour treatment | C36: =D36*24 -> 804 | D36: 33.5 | E36: 1 | F36: =D36*E36 -> 33.5 | G36: =D36*1.33 -> 44.555 | H36: =F36*8760 -> 293460 | I36: 0 | J36: =H36-I36 -> 293460 | K36: N/A | L36: Acorn estimate | M36: Conservative estimate based on max figure
A37: Not included in Energy Centre model | B37: Site Power Demand (Lighting etc.) | C37: =D37*24 -> 2400 | D37: 100 | E37: 0.5 | F37: =D37*E37 -> 50 | G37: =D37 -> 100 | H37: =F37*8760 -> 438000 | I37: 0 | J37: =H37-I37 -> 438000 | K37: N/A | L37: Acorn estimate
A38: Contingency | B38: Contingency | C38: =D38*24 -> 2400 | D38: 100 | E38: 0.5 | F38: =D38*E38 -> 50 | G38: =D38 -> 100 | H38: =F38*8760 -> 438000 | I38: 0 | J38: =H38-I38 -> 438000 | K38: N/A | L38: Acorn estimate
B39: TOTAL | D39: =SUM(D30:D38) -> 2023.5833 | F39: =SUM(F30:F38) -> 1913.5833 | G39: =SUM(G30:G38) -> 3054.6717 | H39: =SUM(H30:H38) -> 16762990 | I39: =SUM(I30:I38) -> 15069018 | J39: =SUM(J30:J38) -> 1693971.5 | K39: =J39/I39 -> 0.11241419

Sheet Transport
K2: 100% Laden | L2: 0% Laden
B3: Transported Material | C3: Quantity of Material (Tonnes) | D3: Distance from the spoke (km) | E3: Distance from the spoke (miles) | F3: Average direction from A303 West | G3: Vehicle type | H3: Mass per load (tonnes) | I3: Mode of Transport | J3: Number of trips | K3: Emissions factor out (kg CO2e/mile) | L3: Emissions factor back (kg CO2e/mile) | M3: Total Emissions (kg CO2e)
B4: Imports
B5: ='Feed + carbon calculator'!A3 -> Rye Silage | C5: 2250 | D5: =1.6*E5 -> 16 | E5: 10 | F5: 60 | G5: HGV | H5: =IF(G5="HGV",24,14) -> 24 | I5: Full both ways | J5: =C5/H5 -> 93.75 | K5: =IF(G5="","",_xlfn.XLOOKUP(G5&" 100% Laden",$C$34:$C$38,$D$34:$D$38)) -> 1.68059 | L5: =IF(G5="","",IF(I5="Full both ways",K5,_xlfn.XLOOKUP(G5&" 0% Laden",$C$34:$C$38,$D$34:$D$38))) -> 1.68059 | M5: =IFERROR(($K5+$L5)*$E5*J5,0) -> 3151.1063
B6: ='Feed + carbon calculator'!A3 -> Rye Silage | C6: 12750 | D6: =1.6*E6 -> 16 | E6: 10 | F6: 60 | G6: Tractor | H6: =IF(G6="HGV",24,14) -> 14 | I6: Full both ways | J6: =C6/H6 -> 910.71429 | K6: =IF(G6="","",_xlfn.XLOOKUP(G6&" 100% Laden",$C$34:$C$38,$D$34:$D$38)) -> 1.72898 | L6: =IF(G6="","",IF(I6="Full both ways",K6,_xlfn.XLOOKUP(G6&" 0% Laden",$C$34:$C$38,$D$34:$D$38))) -> 1.72898 | M6: =IFERROR(($K6+$L6)*$E6*J6,0) -> 31492.136
B7: ='Feed + carbon calculator'!A4 -> Maize | C7: 1800 | D7: =1.6*E7 -> 16 | E7: 10 | G7: HGV | H7: =IF(G7="HGV",24,14) -> 24 | I7: Full both ways | J7: =C7/H7 -> 75 | K7: =IF(G7="","",_xlfn.XLOOKUP(G7&" 100% Laden",$C$34:$C$38,$D$34:$D$38)) -> 1.68059 | L7: =IF(G7="","",IF(I7="Full both ways",K7,_xlfn.XLOOKUP(G7&" 0% Laden",$C$34:$C$38,$D$34:$D$38))) -> 1.68059 | M7: =IFERROR(($K7+$L7)*$E7*J7,0) -> 2520.885
B8: ='Feed + carbon calculator'!A4 -> Maize | C8: 10200 | D8: =1.6*E8 -> 16 | E8: 10 | G8: Tractor | H8: =IF(G8="HGV",24,14) -> 14 | I8: Full both ways | J8: =C8/H8 -> 728.57143 | K8: =IF(G8="","",_xlfn.XLOOKUP(G8&" 100% Laden",$C$34:$C$38,$D$34:$D$38)) -> 1.72898 | L8: =IF(G8="","",IF(I8="Full both ways",K8,_xlfn.XLOOKUP(G8&" 0% Laden",$C$34:$C$38,$D$34:$D$38))) -> 1.72898 | M8: =IFERROR(($K8+$L8)*$E8*J8,0) -> 25193.709
B9: ='Feed + carbon calculator'!A5 -> Grass Silage | C9: 2100 | D9: =1.6*E9 -> 16 | E9: 10 | F9: 60 | G9: HGV | H9: =IF(G9="HGV",24,14) -> 24 | I9: Full both ways | J9: =C9/H9 -> 87.5 | K9: =IF(G9="","",_xlfn.XLOOKUP(G9&" 100% Laden",$C$34:$C$38,$D$34:$D$38)) -> 1.68059 | L9: =IF(G9="","",IF(I9="Full both ways",K9,_xlfn.XLOOKUP(G9&" 0% Laden",$C$34:$C$38,$D$34:$D$38))) -> 1.68059 | M9: =IFERROR(($K9+$L9)*$E9*J9,0) -> 2941.0325
B10: Grass Silage | C10: 11900 | D10: =1.6*E10 -> 16 | E10: 10 | G10: Tractor | H10: =IF(G10="HGV",24,14) -> 14 | I10: Full both ways | J10: =C10/H10 -> 850 | K10: =IF(G10="","",_xlfn.XLOOKUP(G10&" 100% Laden",$C$34:$C$38,$D$34:$D$38)) -> 1.72898 | L10: =IF(G10="","",IF(I10="Full both ways",K10,_xlfn.XLOOKUP(G10&" 0% Laden",$C$34:$C$38,$D$34:$D$38))) -> 1.72898 | M10: =IFERROR(($K10+$L10)*$E10*J10,0) -> 29392.66
B11: ='Feed + carbon calculator'!A6 -> Straw | C11: ='Feed + carbon calculator'!C6 -> 20000 | D11: =1.6*E11 -> 16 | E11: 10 | F11: 60 | G11: HGV | H11: =IF(G11="HGV",24,14) -> 24 | I11: full one way empty the other | J11: =C11/H11 -> 833.33333 | K11: =IF(G11="","",_xlfn.XLOOKUP(G11&" 100% Laden",$C$34:$C$38,$D$34:$D$38)) -> 1.68059 | L11: =IF(G11="","",IF(I11="Full both ways",K11,_xlfn.XLOOKUP(G11&" 0% Laden",$C$34:$C$38,$D$34:$D$38))) -> 1.0177 | M11: =IFERROR(($K11+$L11)*$E11*J11,0) -> 22485.75
B12: ='Feed + carbon calculator'!A7 -> Farm Yard Manure | C12: ='Feed + carbon calculator'!C7 -> 10000 | D12: =1.6*E12 -> 16 | E12: 10 | F12: 75 | G12: Tractor | H12: =IF(G12="HGV",24,14) -> 14 | I12: Full one way empty the other | J12: =C12/H12 -> 714.28571 | K12: =IF(G12="","",_xlfn.XLOOKUP(G12&" 100% Laden",$C$34:$C$38,$D$34:$D$38)) -> 1.72898 | L12: =IF(G12="","",IF(I12="Full both ways",K12,_xlfn.XLOOKUP(G12&" 0% Laden",$C$34:$C$38,$D$34:$D$38))) -> 1.20681 | M12: =IFERROR(($K12+$L12)*$E12*J12,0) -> 20969.929
B13: ='Feed + carbon calculator'!A8 -> Poultry Manure | C13: ='Feed + carbon calculator'!C8 -> 15000 | D13: =1.6*E13 -> 16 | E13: 10 | F13: 75 | G13: HGV | H13: 26 | I13: Full one way empty the other | J13: =C13/H13 -> 576.92308 | K13: =IF(G13="","",_xlfn.XLOOKUP(G13&" 100% Laden",$C$34:$C$38,$D$34:$D$38)) -> 1.68059 | L13: =IF(G13="","",IF(I13="Full both ways",K13,_xlfn.XLOOKUP(G13&" 0% Laden",$C$34:$C$38,$D$34:$D$38))) -> 1.0177 | M13: =IFERROR(($K13+$L13)*$E13*J13,0) -> 15567.058
B14: ='Feed + carbon calculator'!A9 -> Dairy Slurry | C14: ='Feed + carbon calculator'!C9 -> 5000 | D14: =1.6*E14 -> 16 | E14: 10 | F14: 75 | G14: HGV | H14: 25 | I14: Full one way empty the other | J14: =C14/H14 -> 200 | K14: =IF(G14="","",_xlfn.XLOOKUP(G14&" 100% Laden",$C$34:$C$38,$D$34:$D$38)) -> 1.68059 | L14: =IF(G14="","",IF(I14="Full both ways",K14,_xlfn.XLOOKUP(G14&" 0% Laden",$C$34:$C$38,$D$34:$D$38))) -> 1.0177 | M14: =IFERROR(($K14+$L14)*$E14*J14,0) -> 5396.58
B15: Exports
B16: Liquid Digestate | C16: 50676 | D16: =1.6*E16 -> 16 | E16: 10 | F16: 70 | G16: HGV | H16: 27 | I16: Full one way empty the other | J16: =IFERROR(C16/H16,0) -> 1876.8889 | K16: =IF(G16="","",_xlfn.XLOOKUP(G16&" 100% Laden",$C$34:$C$38,$D$34:$D$38)) -> 1.68059 | L16: =IF(G16="","",IF(I16="Full both ways",K16,_xlfn.XLOOKUP(G16&" 0% Laden",$C$34:$C$38,$D$34:$D$38))) -> 1.0177 | M16: =($K16+$L16)*$E16*J16 -> 50643.905
B17: Liquid Digestate | C17: 16892 | D17: =1.6*E17 -> 16 | E17: 10 | F17: 70 | G17: Tractor | H17: 14 | I17: Full one way empty the other | J17: =IFERROR(C17/H17,0) -> 1206.5714 | K17: =IF(G17="","",_xlfn.XLOOKUP(G17&" 100% Laden",$C$34:$C$38,$D$34:$D$38)) -> 1.72898 | L17: =IF(G17="","",IF(I17="Full both ways",K17,_xlfn.XLOOKUP(G17&" 0% Laden",$C$34:$C$38,$D$34:$D$38))) -> 1.20681 | M17: =($K17+$L17)*$E17*J17 -> 35422.403
B18: Fibre Digestate | C18: 17414 | D18: =1.6*E18 -> 16 | E18: 10 | G18: HGV | H18: 24 | I18: Full one way empty the other | J18: =IFERROR(C18/H18,0) -> 725.58333 | K18: =IF(G18="","",_xlfn.XLOOKUP(G18&" 100% Laden",$C$34:$C$38,$D$34:$D$38)) -> 1.68059 | L18: =IF(G18="","",IF(I18="Full both ways",K18,_xlfn.XLOOKUP(G18&" 0% Laden",$C$34:$C$38,$D$34:$D$38))) -> 1.0177 | M18: =($K18+$L18)*$E18*J18 -> 19578.343
B19: Fibre Digestate | C19: 32341 | D19: =1.6*E19 -> 16 | E19: 10 | F19: 70 | G19: Tractor | H19: 14 | I19: Full one way empty the other | J19: =IFERROR(C19/H19,0) -> 2310.0714 | K19: =IF(G19="","",_xlfn.XLOOKUP(G19&" 100% Laden",$C$34:$C$38,$D$34:$D$38)) -> 1.72898 | L19: =IF(G19="","",IF(I19="Full both ways",K19,_xlfn.XLOOKUP(G19&" 0% Laden",$C$34:$C$38,$D$34:$D$38))) -> 1.20681 | M19: =($K19+$L19)*$E19*J19 -> 67818.846
B20: Gases
B21: Biomethane | C21: 9815904 | D21: =E21*1.6 -> 80 | E21: 50 | F21: 0 | G21: HGV | H21: 12500 | I21: Full one way empty the other | J21: =C21/H21 -> 785.27232 | K21: =IF(G21="","",_xlfn.XLOOKUP(G21&" 100% Laden",$C$34:$C$38,$D$34:$D$38)) -> 1.68059 | L21: =IF(G21="","",IF(I21="Full both ways",K21,_xlfn.XLOOKUP(G21&" 0% Laden",$C$34:$C$38,$D$34:$D$38))) -> 1.0177 | M21: =($K21+$L21)*$E21*J21 -> 105944.62
B22: CO2 | C22: 13714103 | D22: =E22*1.6 -> 80 | E22: 50 | F22: 25 | G22: HGV | H22: 25 | I22: Full one way empty the other | J22: =(C22/1000)/H22 -> 548.56412 | K22: =IF(G22="","",_xlfn.XLOOKUP(G22&" 100% Laden",$C$34:$C$38,$D$34:$D$38)) -> 1.68059 | L22: =IF(G22="","",IF(I22="Full both ways",K22,_xlfn.XLOOKUP(G22&" 0% Laden",$C$34:$C$38,$D$34:$D$38))) -> 1.0177 | M22: =($K22+$L22)*$E22*J22 -> 74009.254
B23: Staffing
B24: Employees & Visitors | D24: 10 | E24: =$D24/1.6 -> 6.25 | G24: Car | H24: =C24/J24 -> 0 | I24: Full both ways | J24: 1825 | K24: =IF(G24="Car",$D$38,IF(G24="","",_xlfn.XLOOKUP(G24&" 100% Laden",#REF!,#REF!))) -> 0.2686 | L24: =IF(G24="Car",$D$38,IF(G24="","",_xlfn.XLOOKUP(G24&" 100% Laden",#REF!,#REF!))) -> 0.2686 | M24: =($K24+$L24)*$E24*J24 -> 6127.4375
B33: Vehicle type | C33: Mode of Transport | D33: Total kg CO2e per Mile | E33: Source (with link)
B34: HGV | C34: HGV 100% Laden | D34: 1.68059 | E34: Articulated HGV, >33t, 100% Laden, Total kg CO2e per Mile (see 'Delivery Vehicles' if Scope 1 or 'Freighting goods' if Scope 3, values are same for both)
B35: HGV | C35: HGV 0% Laden | D35: 1.0177 | E35: Articulated HGV, >33t, 0% Laden, Total kg CO2e per Mile (see 'Freighting goods')
B36: Tractor | C36: Tractor 100% Laden | D36: 1.72898 | E36: Rigid HGV, >17t, 100% Laden, Total kg CO2e per Mile (see 'Freighting goods')
B37: Tractor | C37: Tractor 0% Laden | D37: 1.20681 | E37: Rigid HGV, >17t, 0% Laden, Total kg CO2e per Mile (see 'Freighting goods')
B38: Car | C38: Average Car', 'Unknown Fuel Type' | D38: 0.2686 | E38: Average Car', 'Unknown Fuel Type' (see 'Passenger Vehicles' tab)
B39: Source: https://www.gov.uk/government/publications/greenhouse-gas-reporting-conversion-factors-2024

Sheet Transport SFLD2
B5: Feedstock Distribution (Miles) | C5: 1 | D5: 2 | E5: 3 | F5: 4 | G5: 5 | H5: 6 | I5: 7 | J5: 8 | K5: 9 | L5: 10 | M5: 11 | N5: 12 | O5: 13 | P5: 14 | Q5: 15 | R5: 16 | S5: 17 | T5: 18 | U5: 19 | V5: 20 | W5: 21 | X5: 22 | Y5: 23 | Z5: 24 | AA5: 25 | AB5: 26 | AC5: 27 | AD5: 28 | AE5: 29 | AF5: 30 | AG5: 31 | AH5: 32 | AI5: 33 | AJ5: 34 | AK5: 35 | AL5: 36 | AM5: 37 | AN5: 38 | AO5: 39 | AP5: 40 | AQ5: 41 | AR5: 42 | AS5: 43 | AT5: 44 | AU5: 45 | AV5: 46 | AW5: 47 | AX5: 48 | AY5: 49 | AZ5: 50 | BA5: 51 | BB5: 52 | BC5: 53 | BF5: Feedstocks | BG5: Tonnage | BH5: Mode | BI5: Tonnes per load | BJ5: Total annual vehicle trips | BK5: Tonnage of digestate in return journeys | BL5: Annual vehicle trips with return @ 100% load | BM5: Annual vehicle trips with return @ 100% load as % of total trips | BN5: Annual vehicle trips with return @ 0% load | BO5: Annual vehicle trips with return @ 0% load as % of total trips | BP5: CO2 Intensity (kg CO2e) | BS5: Tonnage of digestate in return journeys | BT5: Number of trips @ 100% load | BU5: Tonnage of digestate transported
B6: Rye Silage | C6: 0.1 | D6: 0.1 | E6: 0.1 | F6: 0.1 | G6: 0.1 | H6: 0.1 | I6: 0.1 | J6: 0.1 | K6: 0.1 | L6: 0.1 | M6: 0 | N6: 0 | O6: 0 | P6: 0 | Q6: 0 | R6: 0 | S6: 0 | T6: 0 | U6: 0 | V6: 0 | W6: 0 | X6: 0 | Y6: 0 | Z6: 0 | AA6: 0 | AB6: 0 | AC6: 0 | AD6: 0 | AE6: 0 | AF6: 0 | AG6: 0 | AH6: 0 | AI6: 0 | AJ6: 0 | AK6: 0 | AL6: 0 | AM6: 0 | AN6: 0 | AO6: 0 | AP6: 0 | AQ6: 0 | AR6: 0 | AS6: 0 | AT6: 0 | AU6: 0 | AV6: 0 | AW6: 0 | AX6: 0 | AY6: 0 | AZ6: 0 | BA6: 0 | BB6: 0 | BC6: 0 | BD6: =SUM(C6:BC6) -> 1 | BF6: Rye Silage (total) | BG6: ='Feed + carbon calculator'!C3*1 -> 15000 | BS6: 0
B7: Straw | C7: 0.1 | D7: 0.1 | E7: 0.1 | F7: 0.1 | G7: 0.1 | H7: 0.1 | I7: 0.1 | J7: 0.1 | K7: 0.1 | L7: 0.1 | M7: 0 | N7: 0 | O7: 0 | P7: 0 | Q7: 0 | R7: 0 | S7: 0 | T7: 0 | U7: 0 | V7: 0 | W7: 0 | X7: 0 | Y7: 0 | Z7: 0 | AA7: 0 | AB7: 0 | AC7: 0 | AD7: 0 | AE7: 0 | AF7: 0 | AG7: 0 | AH7: 0 | AI7: 0 | AJ7: 0 | AK7: 0 | AL7: 0 | AM7: 0 | AN7: 0 | AO7: 0 | AP7: 0 | AQ7: 0 | AR7: 0 | AS7: 0 | AT7: 0 | AU7: 0 | AV7: 0 | AW7: 0 | AX7: 0 | AY7: 0 | AZ7: 0 | BA7: 0 | BB7: 0 | BC7: 0 | BD7: =SUM(C7:BC7) -> 1 | BF7: Rye Silage | BG7: =BG6/2 -> 7500 | BH7: HGV | BI7: 24 | BJ7: =ROUNDUP(BG7/BI7,0) -> 313 | BN7: =ROUND(BJ7-BT7,0) -> 313 | BO7: =IFERROR(BN7/$BJ7,0) -> 1 | BP7: =IFERROR(SUM(C54:BC54,C74:BC74),0) -> 4646.0448 | BR7: =BI7*BJ7 -> 7512 | BT7: =MIN(BJ7,BS6/BI7) -> 0 | BU7: =BT7*BI7 -> 0 | BV7: =BK7/BL7 -> #DIV/0!
B8: Draff 1 | C8: 1 | D8: 0 | E8: 0 | F8: 0 | G8: 0 | H8: 0 | I8: 0 | J8: 0 | K8: 0 | L8: 0 | M8: 0 | N8: 0 | O8: 0 | P8: 0 | Q8: 0 | R8: 0 | S8: 0 | T8: 0 | U8: 0 | V8: 0 | W8: 0 | X8: 0 | Y8: 0 | Z8: 0 | AA8: 0 | AB8: 0 | AC8: 0 | AD8: 0 | AE8: 0 | AF8: 0 | AG8: 0 | AH8: 0 | AI8: 0 | AJ8: 0 | AK8: 0 | AL8: 0 | AM8: 0 | AN8: 0 | AO8: 0 | AP8: 0 | AQ8: 0 | AR8: 0 | AS8: 0 | AT8: 0 | AU8: 0 | AV8: 0 | AW8: 0 | AX8: 0 | AY8: 0 | AZ8: 0 | BA8: 0 | BB8: 0 | BC8: 0 | BD8: =SUM(C8:BC8) -> 1 | BF8: Rye Silage | BG8: =BG6/2 -> 7500 | BH8: Tractor | BI8: 14 | BJ8: =ROUNDUP(BG8/BI8,0) -> 536 | BN8: =ROUND(BJ8-BT8,0) -> 536 | BO8: =IFERROR(BN8/$BJ8,0) -> 1 | BP8: =IFERROR(SUM(C63:BC63,C83:BC83),0) -> 8619.1139 | BR8: =BI8*BJ8 -> 7504 | BT8: =BU8/BI8 -> 0 | BU8: =MIN(BJ8*BI8,BS6-BU7) -> 0 | BV8: =BK8/BL8 -> #DIV/0!
B9: Draff 2 | C9: 0 | D9: 0 | E9: 0 | F9: 0 | G9: 0 | H9: 1 | I9: 0 | J9: 0 | K9: 0 | L9: 0 | M9: 0 | N9: 0 | O9: 0 | P9: 0 | Q9: 0 | R9: 0 | S9: 0 | T9: 0 | U9: 0 | V9: 0 | W9: 0 | X9: 0 | Y9: 0 | Z9: 0 | AA9: 0 | AB9: 0 | AC9: 0 | AD9: 0 | AE9: 0 | AF9: 0 | AG9: 0 | AH9: 0 | AI9: 0 | AJ9: 0 | AK9: 0 | AL9: 0 | AM9: 0 | AN9: 0 | AO9: 0 | AP9: 0 | AQ9: 0 | AR9: 0 | AS9: 0 | AT9: 0 | AU9: 0 | AV9: 0 | AW9: 0 | AX9: 0 | AY9: 0 | AZ9: 0 | BA9: 0 | BB9: 0 | BC9: 0 | BD9: =SUM(C9:BC9) -> 1 | BF9: Grass Silage (total) | BG9: 0 | BR9: =BI9*BJ9 -> 0 | BS9: 0
B10: Draff 3 | C10: 0 | D10: 0 | E10: 0 | F10: 0 | G10: 0 | H10: 0 | I10: 0 | J10: 0 | K10: 0 | L10: 0 | M10: 1 | N10: 0 | O10: 0 | P10: 0 | Q10: 0 | R10: 0 | S10: 0 | T10: 0 | U10: 0 | V10: 0 | W10: 0 | X10: 0 | Y10: 0 | Z10: 0 | AA10: 0 | AB10: 0 | AC10: 0 | AD10: 0 | AE10: 0 | AF10: 0 | AG10: 0 | AH10: 0 | AI10: 0 | AJ10: 0 | AK10: 0 | AL10: 0 | AM10: 0 | AN10: 0 | AO10: 0 | AP10: 0 | AQ10: 0 | AR10: 0 | AS10: 0 | AT10: 0 | AU10: 0 | AV10: 0 | AW10: 0 | AX10: 0 | AY10: 0 | AZ10: 0 | BA10: 0 | BB10: 0 | BC10: 0 | BD10: =SUM(C10:BC10) -> 1 | BF10: Grass Silage | BG10: 0 | BH10: HGV | BI10: 24 | BJ10: =ROUNDUP(BG10/BI10,0) -> 0 | BN10: =ROUND(BJ10-BT10,0) -> 0 | BO10: =BN10/$BJ10 -> #DIV/0! | BP10: =SUM(C55:BC55,C75:BC75) -> #DIV/0! | BR10: =BI10*BJ10 -> 0 | BT10: =MIN(BJ10,BS9/BI10) -> 0 | BU10: =BT10*BI10 -> 0 | BV10: =BK10/BL10 -> #DIV/0!
B11: Draff 4 | C11: 0 | D11: 0 | E11: 0 | F11: 0 | G11: 0 | H11: 0 | I11: 0 | J11: 0 | K11: 0 | L11: 0 | M11: 0 | N11: 0 | O11: 0 | P11: 0 | Q11: 1 | R11: 0 | S11: 0 | T11: 0 | U11: 0 | V11: 0 | W11: 0 | X11: 0 | Y11: 0 | Z11: 0 | AA11: 0 | AB11: 0 | AC11: 0 | AD11: 0 | AE11: 0 | AF11: 0 | AG11: 0 | AH11: 0 | AI11: 0 | AJ11: 0 | AK11: 0 | AL11: 0 | AM11: 0 | AN11: 0 | AO11: 0 | AP11: 0 | AQ11: 0 | AR11: 0 | AS11: 0 | AT11: 0 | AU11: 0 | AV11: 0 | AW11: 0 | AX11: 0 | AY11: 0 | AZ11: 0 | BA11: 0 | BB11: 0 | BC11: 0 | BD11: =SUM(C11:BC11) -> 1 | BF11: Grass Silage | BG11: 0 | BH11: Tractor | BI11: 14 | BJ11: =ROUNDUP(BG11/BI11,0) -> 0 | BN11: =ROUND(BJ11-BT11,0) -> 0 | BO11: =BN11/$BJ11 -> #DIV/0! | BP11: =SUM(C64:BC64,C84:BC84) -> #DIV/0! | BR11: =BI11*BJ11 -> 0 | BT11: =BU11/BI11 -> 0 | BU11: =MIN(BJ11*BI11,BS9-BU10) -> 0 | BV11: =BK11/BL11 -> #DIV/0!
B12: Pot Ale Syrup | C12: 0.25 | D12: 0 | E12: 0 | F12: 0 | G12: 0 | H12: 0.25 | I12: 0 | J12: 0 | K12: 0 | L12: 0 | M12: 0.25 | N12: 0 | O12: 0 | P12: 0 | Q12: 0.25 | R12: 0 | S12: 0 | T12: 0 | U12: 0 | V12: 0 | W12: 0 | X12: 0 | Y12: 0 | Z12: 0 | AA12: 0 | AB12: 0 | AC12: 0 | AD12: 0 | AE12: 0 | AF12: 0 | AG12: 0 | AH12: 0 | AI12: 0 | AJ12: 0 | AK12: 0 | AL12: 0 | AM12: 0 | AN12: 0 | AO12: 0 | AP12: 0 | AQ12: 0 | AR12: 0 | AS12: 0 | AT12: 0 | AU12: 0 | AV12: 0 | AW12: 0 | AX12: 0 | AY12: 0 | AZ12: 0 | BA12: 0 | BB12: 0 | BC12: 0 | BD12: =SUM(C12:BC12) -> 1 | BF12: Draff (total) | BG12: ='Feed + carbon calculator'!C6 -> 20000 | BR12: =BI12*BJ12 -> 0 | BS12: 0
BF13: Draff 1 | BG13: 24000 | BH13: HGV | BI13: 24 | BJ13: =ROUNDUP(BG13/BI13,0) -> 1000 | BN13: =ROUND(BJ13-BT13,0) -> 1000 | BO13: =BN13/$BJ13 -> 1 | BP13: =SUM(C58:BC58,C78:BC78) -> 10746.762 | BR13: =BI13*BJ13 -> 24000 | BT13: =MIN(BJ17,BS12/BI17) -> 0 | BU13: =BT13*BI17 -> 0 | BV13: =BK17/BL17 -> #DIV/0!
B14: Trips in Distance Zone HGV | BF14: Draff 2 | BG14: 8667 | BH14: HGV | BI14: 24 | BJ14: =ROUNDUP(BG14/BI14,0) -> 362 | BN14: =ROUND(BJ14-BT14,0) -> 362 | BO14: =BN14/$BJ14 -> 1 | BP14: =SUM(C59:BC59,C79:BC79) -> 14654.675 | BR14: =BI14*BJ14 -> 8688 | BT14: =BU14/BI18 -> 0 | BU14: =MIN(BJ18*BI18,BS12-BU13) -> 0 | BV14: =BK18/BL18 -> #DIV/0!
B15: =B6 -> Rye Silage | C15: =$BJ$7*C6 -> 31.3 | D15: =$BJ$7*D6 -> 31.3 | E15: =$BJ$7*E6 -> 31.3 | F15: =$BJ$7*F6 -> 31.3 | G15: =$BJ$7*G6 -> 31.3 | H15: =$BJ$7*H6 -> 31.3 | I15: =$BJ$7*I6 -> 31.3 | J15: =$BJ$7*J6 -> 31.3 | ... BC15: =$BJ$7*BC6 -> 0 | BF15: Draff 3 | BG15: 8667 | BH15: HGV | BI15: 24 | BJ15: =ROUNDUP(BG15/BI15,0) -> 362 | BN15: =ROUND(BJ15-BT15,0) -> 362 | BO15: =BN15/$BJ15 -> 1 | BP15: =SUM(C60:BC60,C80:BC80) -> 25048.564 | BR15: =BI15*BJ15 -> 8688
B16: =B7 -> Straw | C16: =$BJ$19*C7 -> 20.9 | D16: =$BJ$19*D7 -> 20.9 | E16: =$BJ$19*E7 -> 20.9 | F16: =$BJ$19*F7 -> 20.9 | G16: =$BJ$19*G7 -> 20.9 | H16: =$BJ$19*H7 -> 20.9 | I16: =$BJ$19*I7 -> 20.9 | J16: =$BJ$19*J7 -> 20.9 | ... Q16: =$BJ$19*Q7 -> 0 | R16: =$BJ$10*R7 -> 0 | S16: =$BJ$10*S7 -> 0 | T16: =$BJ$10*T7 -> 0 | U16: =$BJ$10*U7 -> 0 | V16: =$BJ$10*V7 -> 0 | W16: =$BJ$10*W7 -> 0 | X16: =$BJ$10*X7 -> 0 | Y16: =$BJ$10*Y7 -> 0 | ... BC16: =$BJ$10*BC7 -> 0 | BF16: Draff 4 | BG16: 8667 | BH16: HGV | BI16: 24 | BJ16: =ROUNDUP(BG16/BI16,0) -> 362 | BN16: =ROUND(BJ16-BT16,0) -> 362 | BO16: =BN16/$BJ16 -> 1 | BP16: =SUM(C61:BC61,C81:BC81) -> 0 | BR16: =BI16*BJ16 -> 8688
B17: =B8 -> Draff 1 | C17: =$BJ$13*C8 -> 1000 | D17: =$BJ$13*D8 -> 0 | E17: =$BJ$13*E8 -> 0 | F17: =$BJ$13*F8 -> 0 | G17: =$BJ$13*G8 -> 0 | H17: =$BJ$13*H8 -> 0 | I17: =$BJ$13*I8 -> 0 | J17: =$BJ$13*J8 -> 0 | ... Q17: =$BJ$13*Q8 -> 0 | R17: =$BJ$17*R8 -> 0 | S17: =$BJ$17*S8 -> 0 | T17: =$BJ$17*T8 -> 0 | U17: =$BJ$17*U8 -> 0 | V17: =$BJ$17*V8 -> 0 | W17: =$BJ$17*W8 -> 0 | X17: =$BJ$17*X8 -> 0 | Y17: =$BJ$17*Y8 -> 0 | ... BC17: =$BJ$17*BC8 -> 0 | BF17: Draff 5 | BG17: =BG12/2 -> 10000 | BH17: HGV | BI17: 24 | BJ17: =BG17/BI17 -> 416.66667 | BN17: =ROUND(BJ17-BT13,0) -> 417 | BO17: =IFERROR(BN17/$BJ17,0) -> 1.0008 | BP17: =IFERROR(SUM(C56:BC56,C76:BC76),0) -> 2698.8352 | BR17: =BI17*BJ17 -> 10000
B18: =B9 -> Draff 2 | C18: =$BJ$14*C9 -> 0 | D18: =$BJ$14*D9 -> 0 | E18: =$BJ$14*E9 -> 0 | F18: =$BJ$14*F9 -> 0 | G18: =$BJ$14*G9 -> 0 | H18: =$BJ$14*H9 -> 362 | I18: =$BJ$14*I9 -> 0 | J18: =$BJ$14*J9 -> 0 | ... Q18: =$BJ$14*Q9 -> 0 | R18: =$BJ$19*R9 -> 0 | S18: =$BJ$19*S9 -> 0 | T18: =$BJ$19*T9 -> 0 | U18: =$BJ$19*U9 -> 0 | V18: =$BJ$19*V9 -> 0 | W18: =$BJ$19*W9 -> 0 | X18: =$BJ$19*X9 -> 0 | Y18: =$BJ$19*Y9 -> 0 | ... BC18: =$BJ$19*BC9 -> 0 | BF18: Draff 6 | BG18: =BG12-BG17 -> 10000 | BH18: HGV | BI18: 24 | BJ18: =ROUNDUP(BG18/BI18,0) -> 417 | BN18: =ROUND(BJ18-BT14,0) -> 417 | BO18: =IFERROR(BN18/$BJ18,0) -> 1 | BP18: =IFERROR(SUM(C65:BC65,C85:BC85),0) -> 1219.5904 | BR18: =BI18*BJ18 -> 10008
B19: =B10 -> Draff 3 | C19: =$BJ$15*C10 -> 0 | D19: =$BJ$15*D10 -> 0 | E19: =$BJ$15*E10 -> 0 | F19: =$BJ$15*F10 -> 0 | G19: =$BJ$15*G10 -> 0 | H19: =$BJ$15*H10 -> 0 | I19: =$BJ$15*I10 -> 0 | J19: =$BJ$15*J10 -> 0 | ... Q19: =$BJ$15*Q10 -> 0 | R19: =$BJ$20*R10 -> 0 | S19: =$BJ$20*S10 -> 0 | T19: =$BJ$20*T10 -> 0 | U19: =$BJ$20*U10 -> 0 | V19: =$BJ$20*V10 -> 0 | W19: =$BJ$20*W10 -> 0 | X19: =$BJ$20*X10 -> 0 | Y19: =$BJ$20*Y10 -> 0 | ... BC19: =$BJ$20*BC10 -> 0 | BF19: Straw | BG19: ='Feed + carbon calculator'!C9*1 -> 5000 | BH19: HGV | BI19: 24 | BJ19: =ROUNDUP(BG19/BI19,0) -> 209 | BN19: =BJ19 -> 209 | BO19: =IFERROR(BN19/$BJ19,0) -> 1 | BP19: =SUM(C57:BC57,C77:BC77) -> 5861.87 | BR19: =BI19*BJ19 -> 5016
B20: =B11 -> Draff 4 | C20: =$BJ$16*C11 -> 0 | D20: =$BJ$16*D11 -> 0 | E20: =$BJ$16*E11 -> 0 | F20: =$BJ$16*F11 -> 0 | G20: =$BJ$16*G11 -> 0 | H20: =$BJ$16*H11 -> 0 | I20: =$BJ$16*I11 -> 0 | J20: =$BJ$16*J11 -> 0 | ... Q20: =$BJ$16*Q11 -> 362 | R20: =$BJ$23*R11 -> 0 | S20: =$BJ$23*S11 -> 0 | T20: =$BJ$23*T11 -> 0 | U20: =$BJ$23*U11 -> 0 | V20: =$BJ$23*V11 -> 0 | W20: =$BJ$23*W11 -> 0 | X20: =$BJ$23*X11 -> 0 | Y20: =$BJ$23*Y11 -> 0 | ... BC20: =$BJ$23*BC11 -> 0 | BF20: Pot Ale Syrup | BG20: 27000 | BH20: HGV | BI20: 24 | BJ20: =ROUNDUP(BG20/BI20,0) -> 1125 | BN20: =BJ20 -> 1125 | BO20: =BN20/$BJ20 -> 1 | BP20: =SUM(C58:BC58,C78:BC78) -> 10746.762 | BR20: =BI20*BJ20 -> 27000
B21: =B12 -> Pot Ale Syrup | C21: =$BJ$20*C12 -> 281.25 | D21: =$BJ$20*D12 -> 0 | E21: =$BJ$20*E12 -> 0 | F21: =$BJ$20*F12 -> 0 | G21: =$BJ$20*G12 -> 0 | H21: =$BJ$20*H12 -> 281.25 | I21: =$BJ$20*I12 -> 0 | J21: =$BJ$20*J12 -> 0 | ... Q21: =$BJ$20*Q12 -> 281.25 | R21: =$BJ$24*R12 -> 0 | S21: =$BJ$24*S12 -> 0 | T21: =$BJ$24*T12 -> 0 | U21: =$BJ$24*U12 -> 0 | V21: =$BJ$24*V12 -> 0 | W21: =$BJ$24*W12 -> 0 | X21: =$BJ$24*X12 -> 0 | Y21: =$BJ$24*Y12 -> 0 | ... BC21: =$BJ$24*BC12 -> 0 | BF21: Pot Ale Syrup (total) | BG21: ='Feed + carbon calculator'!C10 -> 0 | BR21: =BI21*BJ21 -> 0
BF22: Pot Ale Syrup | BG22: =BG21*100% -> 0 | BH22: Tractor | BI22: 14 | BJ22: =ROUNDUP(BG22/BI22,0) -> 0 | BN22: =BJ22 -> 0 | BO22: =BN22/$BJ22 -> #DIV/0! | BP22: =SUM(C68:BC68,C88:BC88) -> 0 | BR22: =BI22*BJ22 -> 0
B23: Trips in Distance Zone Tractor | BF23: Pot Ale Syrup | BG23: 0 | BH23: HGV | BI23: 24 | BJ23: =ROUNDUP(BG23/BI23,0) -> 0 | BP23: =SUM(C59:BC59,C79:BC79) -> 14654.675 | BR23: =BI23*BJ23 -> 0
B24: =B6 -> Rye Silage | C24: =$BJ$8*C6 -> 53.6 | D24: =$BJ$8*D6 -> 53.6 | E24: =$BJ$8*E6 -> 53.6 | F24: =$BJ$8*F6 -> 53.6 | G24: =$BJ$8*G6 -> 53.6 | H24: =$BJ$8*H6 -> 53.6 | I24: =$BJ$8*I6 -> 53.6 | J24: =$BJ$8*J6 -> 53.6 | ... BC24: =$BJ$8*BC6 -> 0 | BF24: Slurry | BG24: 0 | BH24: HGV | BI24: 26 | BJ24: =ROUNDUP(BG24/BI24,0) -> 0 | BN24: =BJ24 -> 0 | BO24: =IFERROR(BN24/$BJ24,0) -> 0 | BP24: =SUM(C80:BC80,C60:BC60) -> 25048.564 | BR24: =BI24*BJ24 -> 0
B25: =B7 -> Straw | C25: =$BJ$11*C7 -> 0 | D25: =$BJ$11*D7 -> 0 | E25: =$BJ$11*E7 -> 0 | F25: =$BJ$11*F7 -> 0 | G25: =$BJ$11*G7 -> 0 | H25: =$BJ$11*H7 -> 0 | I25: =$BJ$11*I7 -> 0 | J25: =$BJ$11*J7 -> 0 | ... BC25: =$BJ$11*BC7 -> 0 | BF25: Total | BG25: =BG6+BG9+SUM(BG12:BG18)+BG19+BG20+BG21+BG24 -> 137001 | BJ25: =SUM(BJ6:BJ24) -> 5102.6667 | BK25: =SUM(BK6:BK24) -> 0 | BP25: =SUM(BP6:BP24) -> #DIV/0!
B26: =B8 -> Draff 1 | C26: =$BJ$18*C8 -> 417 | D26: =$BJ$18*D8 -> 0 | E26: =$BJ$18*E8 -> 0 | F26: =$BJ$18*F8 -> 0 | G26: =$BJ$18*G8 -> 0 | H26: =$BJ$18*H8 -> 0 | I26: =$BJ$18*I8 -> 0 | J26: =$BJ$18*J8 -> 0 | ... BC26: =$BJ$18*BC8 -> 0
B27: =B9 -> Draff 2 | C27: 0 | D27: 0 | E27: 0 | F27: 0 | G27: 0 | H27: 0 | I27: 0 | J27: 0 | K27: 0 | L27: 0 | M27: 0 | N27: 0 | O27: 0 | P27: 0 | Q27: 0 | R27: 0 | S27: 0 | T27: 0 | U27: 0 | V27: 0 | W27: 0 | X27: 0 | Y27: 0 | Z27: 0 | AA27: 0 | AB27: 0 | AC27: 0 | AD27: 0 | AE27: 0 | AF27: 0 | AG27: 0 | AH27: 0 | AI27: 0 | AJ27: 0 | AK27: 0 | AL27: 0 | AM27: 0 | AN27: 0 | AO27: 0 | AP27: 0 | AQ27: 0 | AR27: 0 | AS27: 0 | AT27: 0 | AU27: 0 | AV27: 0 | AW27: 0 | AX27: 0 | AY27: 0 | AZ27: 0 | BA27: 0 | BB27: 0 | BC27: 0 | BF27: Mode of Transport | BG27: Total kg CO2e per Mile | BH27: Source
B28: =B10 -> Draff 3 | C28: 0 | D28: 0 | E28: 0 | F28: 0 | G28: 0 | H28: 0 | I28: 0 | J28: 0 | K28: 0 | L28: 0 | M28: 0 | N28: 0 | O28: 0 | P28: 0 | Q28: 0 | R28: 0 | S28: 0 | T28: 0 | U28: 0 | V28: 0 | W28: 0 | X28: 0 | Y28: 0 | Z28: 0 | AA28: 0 | AB28: 0 | AC28: 0 | AD28: 0 | AE28: 0 | AF28: 0 | AG28: 0 | AH28: 0 | AI28: 0 | AJ28: 0 | AK28: 0 | AL28: 0 | AM28: 0 | AN28: 0 | AO28: 0 | AP28: 0 | AQ28: 0 | AR28: 0 | AS28: 0 | AT28: 0 | AU28: 0 | AV28: 0 | AW28: 0 | AX28: 0 | AY28: 0 | AZ28: 0 | BA28: 0 | BB28: 0 | BC28: 0 | BF28: HGV 100% Laden | BG28: =BF42 -> 1.6809326 | BH28: Articulated HGV, >33t, 100% Laden, Total kg CO2e per Mile
B29: =B11 -> Draff 4 | C29: =$BJ$22*C11 -> 0 | D29: =$BJ$22*D11 -> 0 | E29: =$BJ$22*E11 -> 0 | F29: =$BJ$22*F11 -> 0 | G29: =$BJ$22*G11 -> 0 | H29: =$BJ$22*H11 -> 0 | I29: =$BJ$22*I11 -> 0 | J29: =$BJ$22*J11 -> 0 | ... BC29: =$BJ$22*BC11 -> 0 | BF29: HGV 0% Laden | BG29: =BF43 -> 1.0179026 | BH29: Articulated HGV, >33t, 0% Laden, Total kg CO2e per Mile
B30: =B12 -> Pot Ale Syrup | C30: 0 | D30: 0 | E30: 0 | F30: 0 | G30: 0 | H30: 0 | I30: 0 | J30: 0 | K30: 0 | L30: 0 | M30: 0 | N30: 0 | O30: 0 | P30: 0 | Q30: 0 | R30: 0 | S30: 0 | T30: 0 | U30: 0 | V30: 0 | W30: 0 | X30: 0 | Y30: 0 | Z30: 0 | AA30: 0 | AB30: 0 | AC30: 0 | AD30: 0 | AE30: 0 | AF30: 0 | AG30: 0 | AH30: 0 | AI30: 0 | AJ30: 0 | AK30: 0 | AL30: 0 | AM30: 0 | AN30: 0 | AO30: 0 | AP30: 0 | AQ30: 0 | AR30: 0 | AS30: 0 | AT30: 0 | AU30: 0 | AV30: 0 | AW30: 0 | AX30: 0 | AY30: 0 | AZ30: 0 | BA30: 0 | BB30: 0 | BC30: 0 | BF30: Tractor 100% Laden | BG30: =BF45 -> 1.7218579 | BH30: Rigid HGV, >17t, 100% Laden, Total kg CO2e per Mile
BF31: Tractor 0% Laden | BG31: =BF46 -> 1.2018579 | BH31: Rigid HGV, >17t, 0% Laden, Total kg CO2e per Mile
B33: Distance travelled per Zone HGV (Miles)
B34: =B6 -> Rye Silage | C34: =C15*C5 -> 31.3 | D34: =D15*D5 -> 62.6 | E34: =E15*E5 -> 93.9 | F34: =F15*F5 -> 125.2 | G34: =G15*G5 -> 156.5 | H34: =H15*H5 -> 187.8 | I34: =I15*I5 -> 219.1 | J34: =J15*J5 -> 250.4 | ... BC34: =BC15*BC5 -> 0
B35: =B7 -> Straw | C35: =C16*C5 -> 20.9 | D35: =D16*D5 -> 41.8 | E35: =E16*E5 -> 62.7 | F35: =F16*F5 -> 83.6 | G35: =G16*G5 -> 104.5 | H35: =H16*H5 -> 125.4 | I35: =I16*I5 -> 146.3 | J35: =J16*J5 -> 167.2 | ... BC35: =BC16*BC5 -> 0
B36: =B8 -> Draff 1 | C36: =C17*C5 -> 1000 | D36: =D17*D5 -> 0 | E36: =E17*E5 -> 0 | F36: =F17*F5 -> 0 | G36: =G17*G5 -> 0 | H36: =H17*H5 -> 0 | I36: =I17*I5 -> 0 | J36: =J17*J5 -> 0 | ... BC36: =BC17*BC5 -> 0
B37: =B9 -> Draff 2 | C37: =C18*C5 -> 0 | D37: =D18*D5 -> 0 | E37: =E18*E5 -> 0 | F37: =F18*F5 -> 0 | G37: =G18*G5 -> 0 | H37: =H18*H5 -> 2172 | I37: =I18*I5 -> 0 | J37: =J18*J5 -> 0 | ... BC37: =BC18*BC5 -> 0
B38: =B10 -> Draff 3 | C38: =C19*C5 -> 0 | D38: =D19*D5 -> 0 | E38: =E19*E5 -> 0 | F38: =F19*F5 -> 0 | G38: =G19*G5 -> 0 | H38: =H19*H5 -> 0 | I38: =I19*I5 -> 0 | J38: =J19*J5 -> 0 | ... BC38: =BC19*BC5 -> 0
B39: =B11 -> Draff 4 | C39: =C20*C5 -> 0 | D39: =D20*D5 -> 0 | E39: =E20*E5 -> 0 | F39: =F20*F5 -> 0 | G39: =G20*G5 -> 0 | H39: =H20*H5 -> 0 | I39: =I20*I5 -> 0 | J39: =J20*J5 -> 0 | ... BC39: =BC20*BC5 -> 0
B40: =B12 -> Pot Ale Syrup | C40: =C21*C5 -> 281.25 | D40: =D21*D5 -> 0 | E40: =E21*E5 -> 0 | F40: =F21*F5 -> 0 | G40: =G21*G5 -> 0 | H40: =H21*H5 -> 1687.5 | I40: =I21*I5 -> 0 | J40: =J21*J5 -> 0 | ... BC40: =BC21*BC5 -> 0 | BF40: Carbon
BF41: Carbon Intensity of HGV (Total kg CO2e per mile)
B42: Distance travelled per Zone Tractor (Miles) | BF42: 1.6809326 | BG42: 100% Laden
B43: =B6 -> Rye Silage | C43: =C24*C5 -> 53.6 | D43: =D24*D5 -> 107.2 | E43: =E24*E5 -> 160.8 | F43: =F24*F5 -> 214.4 | G43: =G24*G5 -> 268 | H43: =H24*H5 -> 321.6 | I43: =I24*I5 -> 375.2 | J43: =J24*J5 -> 428.8 | ... BC43: =BC24*BC5 -> 0 | BF43: 1.0179026 | BG43: 0% Laden
B44: =B7 -> Straw | C44: =C25*C5 -> 0 | D44: =D25*D5 -> 0 | E44: =E25*E5 -> 0 | F44: =F25*F5 -> 0 | G44: =G25*G5 -> 0 | H44: =H25*H5 -> 0 | I44: =I25*I5 -> 0 | J44: =J25*J5 -> 0 | ... BC44: =BC25*BC5 -> 0 | BF44: Carbon Intensity of Tractor (Total kg CO2e per mile)
B45: =B8 -> Draff 1 | C45: =C26*C5 -> 417 | D45: =D26*D5 -> 0 | E45: =E26*E5 -> 0 | F45: =F26*F5 -> 0 | G45: =G26*G5 -> 0 | H45: =H26*H5 -> 0 | I45: =I26*I5 -> 0 | J45: =J26*J5 -> 0 | ... BC45: =BC26*BC5 -> 0 | BF45: 1.7218579 | BG45: 100% Laden
B46: =B9 -> Draff 2 | C46: =C27*C5 -> 0 | D46: =D27*D5 -> 0 | E46: =E27*E5 -> 0 | F46: =F27*F5 -> 0 | G46: =G27*G5 -> 0 | H46: =H27*H5 -> 0 | I46: =I27*I5 -> 0 | J46: =J27*J5 -> 0 | ... BC46: =BC27*BC5 -> 0 | BF46: 1.2018579 | BG46: 0% Laden
B47: =B10 -> Draff 3 | C47: =C28*C5 -> 0 | D47: =D28*D5 -> 0 | E47: =E28*E5 -> 0 | F47: =F28*F5 -> 0 | G47: =G28*G5 -> 0 | H47: =H28*H5 -> 0 | I47: =I28*I5 -> 0 | J47: =J28*J5 -> 0 | ... BC47: =BC28*BC5 -> 0
B48: =B11 -> Draff 4 | C48: =C29*C5 -> 0 | D48: =D29*D5 -> 0 | E48: =E29*E5 -> 0 | F48: =F29*F5 -> 0 | G48: =G29*G5 -> 0 | H48: =H29*H5 -> 0 | I48: =I29*I5 -> 0 | J48: =J29*J5 -> 0 | ... BC48: =BC29*BC5 -> 0
B49: =B12 -> Pot Ale Syrup | C49: =C30*C5 -> 0 | D49: =D30*D5 -> 0 | E49: =E30*E5 -> 0 | F49: =F30*F5 -> 0 | G49: =G30*G5 -> 0 | H49: =H30*H5 -> 0 | I49: =I30*I5 -> 0 | J49: =J30*J5 -> 0 | ... BC49: =BC30*BC5 -> 0
B52: Outward Trip
B53: HGV Carbon Emitted Per Zone (kg CO2e)
B54: =B6 -> Rye Silage | C54: =C34*$BF$42 -> 52.61319 | D54: =D34*$BF$42 -> 105.22638 | E54: =E34*$BF$42 -> 157.83957 | F54: =F34*$BF$42 -> 210.45276 | G54: =G34*$BF$42 -> 263.06595 | H54: =H34*$BF$42 -> 315.67914 | I54: =I34*$BF$42 -> 368.29233 | J54: =J34*$BF$42 -> 420.90552 | ... BC54: =BC34*$BF$42 -> 0
B55: =B7 -> Straw | C55: =C35*$BF$42 -> 35.131491 | D55: =D35*$BF$42 -> 70.262982 | E55: =E35*$BF$42 -> 105.39447 | F55: =F35*$BF$42 -> 140.52596 | G55: =G35*$BF$42 -> 175.65746 | H55: =H35*$BF$42 -> 210.78895 | I55: =I35*$BF$42 -> 245.92044 | J55: =J35*$BF$42 -> 281.05193 | ... BC55: =BC35*$BF$42 -> 0
B56: =B8 -> Draff 1 | C56: =C36*$BF$42 -> 1680.9326 | D56: =D36*$BF$42 -> 0 | E56: =E36*$BF$42 -> 0 | F56: =F36*$BF$42 -> 0 | G56: =G36*$BF$42 -> 0 | H56: =H36*$BF$42 -> 0 | I56: =I36*$BF$42 -> 0 | J56: =J36*$BF$42 -> 0 | ... BC56: =BC36*$BF$42 -> 0
B57: =B9 -> Draff 2 | C57: =C37*$BF$42 -> 0 | D57: =D37*$BF$42 -> 0 | E57: =E37*$BF$42 -> 0 | F57: =F37*$BF$42 -> 0 | G57: =G37*$BF$42 -> 0 | H57: =H37*$BF$42 -> 3650.9856 | I57: =I37*$BF$42 -> 0 | J57: =J37*$BF$42 -> 0 | ... BC57: =BC37*$BF$42 -> 0
B58: =B10 -> Draff 3 | C58: =C38*$BF$42 -> 0 | D58: =D38*$BF$42 -> 0 | E58: =E38*$BF$42 -> 0 | F58: =F38*$BF$42 -> 0 | G58: =G38*$BF$42 -> 0 | H58: =H38*$BF$42 -> 0 | I58: =I38*$BF$42 -> 0 | J58: =J38*$BF$42 -> 0 | ... BC58: =BC38*$BF$42 -> 0
B59: =B11 -> Draff 4 | C59: =C39*$BF$42 -> 0 | D59: =D39*$BF$42 -> 0 | E59: =E39*$BF$42 -> 0 | F59: =F39*$BF$42 -> 0 | G59: =G39*$BF$42 -> 0 | H59: =H39*$BF$42 -> 0 | I59: =I39*$BF$42 -> 0 | J59: =J39*$BF$42 -> 0 | ... BC59: =BC39*$BF$42 -> 0
B60: =B12 -> Pot Ale Syrup | C60: =C40*$BF$42 -> 472.76229 | D60: =D40*$BF$42 -> 0 | E60: =E40*$BF$42 -> 0 | F60: =F40*$BF$42 -> 0 | G60: =G40*$BF$42 -> 0 | H60: =H40*$BF$42 -> 2836.5737 | I60: =I40*$BF$42 -> 0 | J60: =J40*$BF$42 -> 0 | ... BC60: =BC40*$BF$42 -> 0
B62: Tractor Carbon Emitted Per Zone (kg CO2e)
B63: =B6 -> Rye Silage | C63: =C43*$BF$45 -> 92.291581 | D63: =D43*$BF$45 -> 184.58316 | E63: =E43*$BF$45 -> 276.87474 | F63: =F43*$BF$45 -> 369.16632 | G63: =G43*$BF$45 -> 461.45791 | H63: =H43*$BF$45 -> 553.74949 | I63: =I43*$BF$45 -> 646.04107 | J63: =J43*$BF$45 -> 738.33265 | ... BC63: =BC43*$BF$45 -> 0
B64: =B7 -> Straw | C64: =C44*$BF$45 -> 0 | D64: =D44*$BF$45 -> 0 | E64: =E44*$BF$45 -> 0 | F64: =F44*$BF$45 -> 0 | G64: =G44*$BF$45 -> 0 | H64: =H44*$BF$45 -> 0 | I64: =I44*$BF$45 -> 0 | J64: =J44*$BF$45 -> 0 | ... BC64: =BC44*$BF$45 -> 0
B65: =B8 -> Draff 1 | C65: =C45*$BF$45 -> 718.01473 | D65: =D45*$BF$45 -> 0 | E65: =E45*$BF$45 -> 0 | F65: =F45*$BF$45 -> 0 | G65: =G45*$BF$45 -> 0 | H65: =H45*$BF$45 -> 0 | I65: =I45*$BF$45 -> 0 | J65: =J45*$BF$45 -> 0 | ... BC65: =BC45*$BF$45 -> 0
B66: =B9 -> Draff 2 | C66: =C46*$BF$45 -> 0 | D66: =D46*$BF$45 -> 0 | E66: =E46*$BF$45 -> 0 | F66: =F46*$BF$45 -> 0 | G66: =G46*$BF$45 -> 0 | H66: =H46*$BF$45 -> 0 | I66: =I46*$BF$45 -> 0 | J66: =J46*$BF$45 -> 0 | ... BC66: =BC46*$BF$45 -> 0
B67: =B10 -> Draff 3 | C67: =C47*$BF$45 -> 0 | D67: =D47*$BF$45 -> 0 | E67: =E47*$BF$45 -> 0 | F67: =F47*$BF$45 -> 0 | G67: =G47*$BF$45 -> 0 | H67: =H47*$BF$45 -> 0 | I67: =I47*$BF$45 -> 0 | J67: =J47*$BF$45 -> 0 | ... BC67: =BC47*$BF$45 -> 0
B68: =B11 -> Draff 4 | C68: =C48*$BF$45 -> 0 | D68: =D48*$BF$45 -> 0 | E68: =E48*$BF$45 -> 0 | F68: =F48*$BF$45 -> 0 | G68: =G48*$BF$45 -> 0 | H68: =H48*$BF$45 -> 0 | I68: =I48*$BF$45 -> 0 | J68: =J48*$BF$45 -> 0 | ... BC68: =BC48*$BF$45 -> 0
B69: =B12 -> Pot Ale Syrup | C69: =C49*$BF$45 -> 0 | D69: =D49*$BF$45 -> 0 | E69: =E49*$BF$45 -> 0 | F69: =F49*$BF$45 -> 0 | G69: =G49*$BF$45 -> 0 | H69: =H49*$BF$45 -> 0 | I69: =I49*$BF$45 -> 0 | J69: =J49*$BF$45 -> 0 | ... BC69: =BC49*$BF$45 -> 0
B72: Return Trip
B73: HGV Carbon Emitted Per Zone (kg CO2e)
B74: =B6 -> Rye Silage | C74: =C34*(($BF$42*$BM$7)+($BF$43*$BO$7)) -> 31.860351 | D74: =D34*(($BF$42*$BM$7)+($BF$43*$BO$7)) -> 63.720702 | E74: =E34*(($BF$42*$BM$7)+($BF$43*$BO$7)) -> 95.581053 | F74: =F34*(($BF$42*$BM$7)+($BF$43*$BO$7)) -> 127.4414 | G74: =G34*(($BF$42*$BM$7)+($BF$43*$BO$7)) -> 159.30176 | H74: =H34*(($BF$42*$BM$7)+($BF$43*$BO$7)) -> 191.16211 | I74: =I34*(($BF$42*$BM$7)+($BF$43*$BO$7)) -> 223.02246 | J74: =J34*(($BF$42*$BM$7)+($BF$43*$BO$7)) -> 254.88281 | ... BC74: =BC34*(($BF$42*$BM$7)+($BF$43*$BO$7)) -> 0
B75: =B7 -> Straw | C75: =C35*(($BF$42*$BM$19)+($BF$43*$BO$19)) -> 21.274164 | D75: =D35*(($BF$42*$BM$19)+($BF$43*$BO$19)) -> 42.548328 | E75: =E35*(($BF$42*$BM$19)+($BF$43*$BO$19)) -> 63.822492 | F75: =F35*(($BF$42*$BM$19)+($BF$43*$BO$19)) -> 85.096657 | G75: =G35*(($BF$42*$BM$19)+($BF$43*$BO$19)) -> 106.37082 | H75: =H35*(($BF$42*$BM$19)+($BF$43*$BO$19)) -> 127.64498 | I75: =I35*(($BF$42*$BM$19)+($BF$43*$BO$19)) -> 148.91915 | J75: =J35*(($BF$42*$BM$19)+($BF$43*$BO$19)) -> 170.19331 | ... Q75: =Q35*(($BF$42*$BM$19)+($BF$43*$BO$19)) -> 0 | R75: =R35*(($BF$42*$BM$10)+($BF$43*$BO$10)) -> #DIV/0! | S75: =S35*(($BF$42*$BM$10)+($BF$43*$BO$10)) -> #DIV/0! | T75: =T35*(($BF$42*$BM$10)+($BF$43*$BO$10)) -> #DIV/0! | U75: =U35*(($BF$42*$BM$10)+($BF$43*$BO$10)) -> #DIV/0! | V75: =V35*(($BF$42*$BM$10)+($BF$43*$BO$10)) -> #DIV/0! | W75: =W35*(($BF$42*$BM$10)+($BF$43*$BO$10)) -> #DIV/0! | X75: =X35*(($BF$42*$BM$10)+($BF$43*$BO$10)) -> #DIV/0! | Y75: =Y35*(($BF$42*$BM$10)+($BF$43*$BO$10)) -> #DIV/0! | ... BC75: =BC35*(($BF$42*$BM$10)+($BF$43*$BO$10)) -> #DIV/0!
B76: =B8 -> Draff 1 | C76: =C36*(($BF$42*$BM$13)+($BF$43*$BO$13)) -> 1017.9026 | D76: =D36*(($BF$42*$BM$13)+($BF$43*$BO$13)) -> 0 | E76: =E36*(($BF$42*$BM$13)+($BF$43*$BO$13)) -> 0 | F76: =F36*(($BF$42*$BM$13)+($BF$43*$BO$13)) -> 0 | G76: =G36*(($BF$42*$BM$13)+($BF$43*$BO$13)) -> 0 | H76: =H36*(($BF$42*$BM$13)+($BF$43*$BO$13)) -> 0 | I76: =I36*(($BF$42*$BM$13)+($BF$43*$BO$13)) -> 0 | J76: =J36*(($BF$42*$BM$13)+($BF$43*$BO$13)) -> 0 | ... Q76: =Q36*(($BF$42*$BM$13)+($BF$43*$BO$13)) -> 0 | R76: =R36*(($BF$42*$BM$17)+($BF$43*$BO$17)) -> 0 | S76: =S36*(($BF$42*$BM$17)+($BF$43*$BO$17)) -> 0 | T76: =T36*(($BF$42*$BM$17)+($BF$43*$BO$17)) -> 0 | U76: =U36*(($BF$42*$BM$17)+($BF$43*$BO$17)) -> 0 | V76: =V36*(($BF$42*$BM$17)+($BF$43*$BO$17)) -> 0 | W76: =W36*(($BF$42*$BM$17)+($BF$43*$BO$17)) -> 0 | X76: =X36*(($BF$42*$BM$17)+($BF$43*$BO$17)) -> 0 | Y76: =Y36*(($BF$42*$BM$17)+($BF$43*$BO$17)) -> 0 | ... BC76: =BC36*(($BF$42*$BM$17)+($BF$43*$BO$17)) -> 0
B77: =B9 -> Draff 2 | C77: =C37*(($BF$42*$BM$13)+($BF$43*$BO$13)) -> 0 | D77: =D37*(($BF$42*$BM$13)+($BF$43*$BO$13)) -> 0 | E77: =E37*(($BF$42*$BM$13)+($BF$43*$BO$13)) -> 0 | F77: =F37*(($BF$42*$BM$13)+($BF$43*$BO$13)) -> 0 | G77: =G37*(($BF$42*$BM$13)+($BF$43*$BO$13)) -> 0 | H77: =H37*(($BF$42*$BM$13)+($BF$43*$BO$13)) -> 2210.8844 | I77: =I37*(($BF$42*$BM$13)+($BF$43*$BO$13)) -> 0 | J77: =J37*(($BF$42*$BM$13)+($BF$43*$BO$13)) -> 0 | ... Q77: =Q37*(($BF$42*$BM$13)+($BF$43*$BO$13)) -> 0 | R77: =R37*$BF$43 -> 0 | S77: =S37*$BF$43 -> 0 | T77: =T37*$BF$43 -> 0 | U77: =U37*$BF$43 -> 0 | V77: =V37*$BF$43 -> 0 | W77: =W37*$BF$43 -> 0 | X77: =X37*$BF$43 -> 0 | Y77: =Y37*$BF$43 -> 0 | ... BC77: =BC37*$BF$43 -> 0
B78: =B10 -> Draff 3 | C78: =C38*(($BF$42*$BM$13)+($BF$43*$BO$13)) -> 0 | D78: =D38*(($BF$42*$BM$13)+($BF$43*$BO$13)) -> 0 | E78: =E38*(($BF$42*$BM$13)+($BF$43*$BO$13)) -> 0 | F78: =F38*(($BF$42*$BM$13)+($BF$43*$BO$13)) -> 0 | G78: =G38*(($BF$42*$BM$13)+($BF$43*$BO$13)) -> 0 | H78: =H38*(($BF$42*$BM$13)+($BF$43*$BO$13)) -> 0 | I78: =I38*(($BF$42*$BM$13)+($BF$43*$BO$13)) -> 0 | J78: =J38*(($BF$42*$BM$13)+($BF$43*$BO$13)) -> 0 | ... Q78: =Q38*(($BF$42*$BM$13)+($BF$43*$BO$13)) -> 0 | R78: =R38*$BF$43 -> 0 | S78: =S38*$BF$43 -> 0 | T78: =T38*$BF$43 -> 0 | U78: =U38*$BF$43 -> 0 | V78: =V38*$BF$43 -> 0 | W78: =W38*$BF$43 -> 0 | X78: =X38*$BF$43 -> 0 | Y78: =Y38*$BF$43 -> 0 | ... BC78: =BC38*$BF$43 -> 0
B79: =B11 -> Draff 4 | C79: =C39*(($BF$42*$BM$13)+($BF$43*$BO$13)) -> 0 | D79: =D39*(($BF$42*$BM$13)+($BF$43*$BO$13)) -> 0 | E79: =E39*(($BF$42*$BM$13)+($BF$43*$BO$13)) -> 0 | F79: =F39*(($BF$42*$BM$13)+($BF$43*$BO$13)) -> 0 | G79: =G39*(($BF$42*$BM$13)+($BF$43*$BO$13)) -> 0 | H79: =H39*(($BF$42*$BM$13)+($BF$43*$BO$13)) -> 0 | I79: =I39*(($BF$42*$BM$13)+($BF$43*$BO$13)) -> 0 | J79: =J39*(($BF$42*$BM$13)+($BF$43*$BO$13)) -> 0 | ... Q79: =Q39*(($BF$42*$BM$13)+($BF$43*$BO$13)) -> 5527.2111 | R79: =R39*$BF$43 -> 0 | S79: =S39*$BF$43 -> 0 | T79: =T39*$BF$43 -> 0 | U79: =U39*$BF$43 -> 0 | V79: =V39*$BF$43 -> 0 | W79: =W39*$BF$43 -> 0 | X79: =X39*$BF$43 -> 0 | Y79: =Y39*$BF$43 -> 0 | ... BC79: =BC39*$BF$43 -> 0
B80: =B12 -> Pot Ale Syrup | C80: =C40*$BF$43 -> 286.2851 | D80: =D40*$BF$43 -> 0 | E80: =E40*$BF$43 -> 0 | F80: =F40*$BF$43 -> 0 | G80: =G40*$BF$43 -> 0 | H80: =H40*$BF$43 -> 1717.7106 | I80: =I40*$BF$43 -> 0 | J80: =J40*$BF$43 -> 0 | ... BC80: =BC40*$BF$43 -> 0
B82: Tractor Carbon Emitted Per Zone (kg CO2e)
B83: =B6 -> Rye Silage | C83: =C43*(($BF$45*$BM$7)+($BF$46*$BO$7)) -> 64.419581 | D83: =D43*(($BF$45*$BM$7)+($BF$46*$BO$7)) -> 128.83916 | E83: =E43*(($BF$45*$BM$7)+($BF$46*$BO$7)) -> 193.25874 | F83: =F43*(($BF$45*$BM$7)+($BF$46*$BO$7)) -> 257.67832 | G83: =G43*(($BF$45*$BM$7)+($BF$46*$BO$7)) -> 322.09791 | H83: =H43*(($BF$45*$BM$7)+($BF$46*$BO$7)) -> 386.51749 | I83: =I43*(($BF$45*$BM$7)+($BF$46*$BO$7)) -> 450.93707 | J83: =J43*(($BF$45*$BM$7)+($BF$46*$BO$7)) -> 515.35665 | ... BC83: =BC43*(($BF$45*$BM$7)+($BF$46*$BO$7)) -> 0
B84: =B7 -> Straw | C84: =C44*(($BF$45*$BM$19)+($BF$46*$BO$19)) -> 0 | D84: =D44*(($BF$45*$BM$19)+($BF$46*$BO$19)) -> 0 | E84: =E44*(($BF$45*$BM$19)+($BF$46*$BO$19)) -> 0 | F84: =F44*(($BF$45*$BM$19)+($BF$46*$BO$19)) -> 0 | G84: =G44*(($BF$45*$BM$19)+($BF$46*$BO$19)) -> 0 | H84: =H44*(($BF$45*$BM$19)+($BF$46*$BO$19)) -> 0 | I84: =I44*(($BF$45*$BM$19)+($BF$46*$BO$19)) -> 0 | J84: =J44*(($BF$45*$BM$19)+($BF$46*$BO$19)) -> 0 | ... Q84: =Q44*(($BF$45*$BM$19)+($BF$46*$BO$19)) -> 0 | R84: =R44*(($BF$45*$BM$10)+($BF$46*$BO$10)) -> #DIV/0! | S84: =S44*(($BF$45*$BM$10)+($BF$46*$BO$10)) -> #DIV/0! | T84: =T44*(($BF$45*$BM$10)+($BF$46*$BO$10)) -> #DIV/0! | U84: =U44*(($BF$45*$BM$10)+($BF$46*$BO$10)) -> #DIV/0! | V84: =V44*(($BF$45*$BM$10)+($BF$46*$BO$10)) -> #DIV/0! | W84: =W44*(($BF$45*$BM$10)+($BF$46*$BO$10)) -> #DIV/0! | X84: =X44*(($BF$45*$BM$10)+($BF$46*$BO$10)) -> #DIV/0! | Y84: =Y44*(($BF$45*$BM$10)+($BF$46*$BO$10)) -> #DIV/0! | ... BC84: =BC44*(($BF$45*$BM$10)+($BF$46*$BO$10)) -> #DIV/0!
B85: =B8 -> Draff 1 | C85: =C45*(($BF$45*$BM$17)+($BF$46*$BO$17)) -> 501.57567 | D85: =D45*(($BF$45*$BM$17)+($BF$46*$BO$17)) -> 0 | E85: =E45*(($BF$45*$BM$17)+($BF$46*$BO$17)) -> 0 | F85: =F45*(($BF$45*$BM$17)+($BF$46*$BO$17)) -> 0 | G85: =G45*(($BF$45*$BM$17)+($BF$46*$BO$17)) -> 0 | H85: =H45*(($BF$45*$BM$17)+($BF$46*$BO$17)) -> 0 | I85: =I45*(($BF$45*$BM$17)+($BF$46*$BO$17)) -> 0 | J85: =J45*(($BF$45*$BM$17)+($BF$46*$BO$17)) -> 0 | ... BC85: =BC45*(($BF$45*$BM$17)+($BF$46*$BO$17)) -> 0
B86: =B9 -> Draff 2 | C86: =C46*$BF$46 -> 0 | D86: =D46*$BF$46 -> 0 | E86: =E46*$BF$46 -> 0 | F86: =F46*$BF$46 -> 0 | G86: =G46*$BF$46 -> 0 | H86: =H46*$BF$46 -> 0 | I86: =I46*$BF$46 -> 0 | J86: =J46*$BF$46 -> 0 | ... BC86: =BC46*$BF$46 -> 0
B87: =B10 -> Draff 3 | C87: =C47*$BF$46 -> 0 | D87: =D47*$BF$46 -> 0 | E87: =E47*$BF$46 -> 0 | F87: =F47*$BF$46 -> 0 | G87: =G47*$BF$46 -> 0 | H87: =H47*$BF$46 -> 0 | I87: =I47*$BF$46 -> 0 | J87: =J47*$BF$46 -> 0 | ... BC87: =BC47*$BF$46 -> 0
B88: =B11 -> Draff 4 | C88: =C48*$BF$46 -> 0 | D88: =D48*$BF$46 -> 0 | E88: =E48*$BF$46 -> 0 | F88: =F48*$BF$46 -> 0 | G88: =G48*$BF$46 -> 0 | H88: =H48*$BF$46 -> 0 | I88: =I48*$BF$46 -> 0 | J88: =J48*$BF$46 -> 0 | ... BC88: =BC48*$BF$46 -> 0
B89: =B12 -> Pot Ale Syrup | C89: =C49*$BF$46 -> 0 | D89: =D49*$BF$46 -> 0 | E89: =E49*$BF$46 -> 0 | F89: =F49*$BF$46 -> 0 | G89: =G49*$BF$46 -> 0 | H89: =H49*$BF$46 -> 0 | I89: =I49*$BF$46 -> 0 | J89: =J49*$BF$46 -> 0 | ... BC89: =BC49*$BF$46 -> 0
B91: Total (kg CO2e) | C91: =SUM(C54:Q89) -> 76597.766
B93: Total kg CO2e
B94: =B6 -> Rye Silage | C94: =SUM(C83:BC83,C74:BC74,C63:BC63,C54:BC54) -> 13265.159 | F94: =C94/'Feed + carbon calculator'!FV3*1000 -> 0.2346429
B95: =B7 -> Straw | C95: =SUM(C55:Q55,C64:Q64,C75:Q75,C84:Q84) -> 3102.311 | F95: =C95/'Feed + carbon calculator'!FV9*1000 -> 1.1462863
B96: =B8 -> Draff 1 | C96: =SUM(C85:BC85,C76:BC76,C65:BC65,C56:BC56) -> 3918.4256 | D96: =SUM(C96:C99) -> 35181.732 | F96: =D96*1000/'Feed + carbon calculator'!FV14 -> #DIV/0!
B97: =B9 -> Draff 2 | C97: =SUM(C86:BC86,C77:BC77,C66:BC66,C57:BC57) -> 5861.87
B98: =B10 -> Draff 3 | C98: =SUM(C87:BC87,C78:BC78,C67:BC67,C58:BC58) -> 10746.762
B99: =B11 -> Draff 4 | C99: =SUM(C88:BC88,C79:BC79,C68:BC68,C59:BC59) -> 14654.675
B100: =B12 -> Pot Ale Syrup | C100: =SUM(C89:BC89,C80:BC80,C69:BC69,C60:BC60) -> 25048.564 | F100: =C100*1000/'Feed + carbon calculator'!FV16 -> #DIV/0! | G100: =((D96+C100)/('Feed + carbon calculator'!FV14+'Feed + carbon calculator'!FV16))*1000 -> #DIV/0! | H100: draff & PAS
C101: =SUM(C94:C100) -> 76597.766 | F101: =C101/'Feed + carbon calculator'!FV21*1000 -> 0.19833802
B104: =B6 -> Rye Silage
B105: =B7 -> Straw
B106: =B8 -> Draff 1
B107: =B9 -> Draff 2
B108: =B10 -> Draff 3
B109: =B11 -> Draff 4
B110: =B12 -> Pot Ale Syrup

Sheet EnergyConversions
A1: Energy conversion assumptions
A3: Normal conditions: 0 C and 1 atm, equal to 1.013 bar
A4: Standard conditions: 15 C and 1 atm, equal to 1.013 bar
A5: LHV/HHV conversion factor | B5: =B10/B8 -> 1.1117318
A6: Nm3 to Sm3 conversion factor | B6: =1*(273.15+15)/(273.15) -> 1.0549149 | D6: https://checalc.com/solved/volconv.html | E6: https://airpack.nl/tools/capacity/sm3-hr-nm3-hr-conversion/
A7: LHV of methane at Normal conditions | B7: 35.8 | C7: MJ/Nm3 | D7: https://www.engineeringtoolbox.com/fuels-higher-calorific-values-d_169.html
A8: LHV of methane at Standard conditions | B8: =B7/B6 -> 33.936387 | C8: MJ/Sm3 | D8: using Nm3 to Sm3 conversion factor
A9: HHV of methane at Normal conditions | B9: 39.8 | C9: MJ/Nm3 | D9: https://www.engineeringtoolbox.com/fuels-higher-calorific-values-d_169.html | E9: =1170/B6 -> 1109.0942
A10: HHV of methane at Standard conditions | B10: =B9/B6 -> 37.728162 | C10: MJ/Sm3 | D10: using Nm3 to Sm3 conversion factor
A11: kg of methane per m3 at Normal conditions | B11: 0.716 | C11: kg/Nm3 | D11: https://www.engineeringtoolbox.com/fuels-higher-calorific-values-d_169.html
A12: kg of methane per m3 at Standard conditions | B12: 0.678 | C12: kg/Sm3 | D12: https://cdm.unfccc.int/methodologies/inputsconsmeth/MGM_methane.pdf
A14: MJ of methane per kg (LHV - checked vs Nm3) | B14: =B7/B11 -> 50 | C14: MJ/kg | D14: consistent with https://www.engineeringtoolbox.com/fuels-higher-calorific-values-d_169.html, and BEIS value of 50 MJ
A15: MJ of methane per kg (LHV - checked vs Sm3) | B15: =B8/B12 -> 50.053669 | C15: MJ/kg | D15: consistent with https://www.engineeringtoolbox.com/fuels-higher-calorific-values-d_169.html, and BEIS value of 50 MJ
A16: MJ of methane per kg (HHV - checked vs Nm3) | B16: =B9/B11 -> 55.586592 | C16: MJ/kg | D16: consistent with https://www.engineeringtoolbox.com/fuels-higher-calorific-values-d_169.html, and close to BEIS value of 55.4 MJ
A17: MJ of methane per kg (HHV - checked vs Sm3) | B17: =B10/B12 -> 55.646257 | C17: MJ/kg | D17: consistent with https://www.engineeringtoolbox.com/fuels-higher-calorific-values-d_169.html, and close to BEIS value of 55.4 MJ
A19: ...in kWh
A20: MJ per kWh | B20: 3.6 | C20: MJ | D20: standard conversion
A21: LHV of methane at Normal conditions | B21: =B7/3.6 -> 9.9444444 | C21: kWh/Nm3
A22: LHV of methane at Standard conditions | B22: =B8/3.6 -> 9.4267742 | C22: kWh/Sm3
A23: HHV of methane at Normal conditions | B23: =B9/3.6 -> 11.055556 | C23: kWh/Nm3
A24: HHV of methane at Standard conditions | B24: =B10/3.6 -> 10.480045 | C24: kWh/Sm3
A26: kWh of methane per kg (LHV - checked vs Nm3) | B26: =B14/3.6 -> 13.888889 | C26: kWh/kg | D26: consistent with BEIS | FT26: {=(FO7-FO9)*_FV(EnergyConversions!B428,"951")/1000*FT27} -> #VALUE!
A27: kWh of methane per kg (LHV - checked vs Sm3) | B27: =B15/3.6 -> 13.903797 | C27: kWh/kg | D27: consistent with BEIS | E27: =
A29: kWh of methane per kg (HHV - checked vs Nm3) | B29: =B16/3.6 -> 15.44072 | C29: kWh/kg | D29: BEIS value is 15.39
A30: kWh of methane per kg (HHV - checked vs Sm3) | B30: =B17/3.6 -> 15.457294 | C30: kWh/kg | D30: BEIS value is 15.39
A32: therms per kWh | B32: 29.31 | C32: therms/kWh
A34: HHV of natural gas at Three Maids site (12 months average) | B34: 39.421858 | C34: MJ/Sm3
A35: HHV of natural gas at Three Maids site (12 months average) | B35: =B34/3.6 -> 10.950516 | C35: kWh/Sm3
A37: ..in mmBTU
A38: 1000 Sm3 = | B38: =1000/B6 -> 947.94378 | C38: Nm3 | D38: https://www.traditionaloven.com/conversions_of_measures/gas_flows_converter_tool.html
A39: MJ per mmBTU | B39: 1055 | C39: MJ | D39: standard conversion
A40: mmBTU per Sm3 | B40: =0.8834730288/24 -> 0.036811376 | C40: mmBTU | D40: https://www.traditionaloven.com/conversions_of_measures/gas_flows_converter_tool.html
A41: MJ per Sm3 | B41: =B40*B39 -> 38.836002 | C41: MJ
A42: mmBTU per Nm3 | B42: =0.9319888458/24 -> 0.038832869 | C42: mmBTU | D42: https://www.traditionaloven.com/conversions_of_measures/gas_flows_converter_tool.html
A43: MJ per Nm3 | B43: =B42*B39 -> 40.968676 | C43: MJ
B44: =B39/3.6 -> 293.05556 | C44: kWh per mmBTU
B45: =B44/1000 -> 0.29305556 | C45: MWh per mmBTU
A47: CO2 | B47: 1.977 | C47: kg per Nm3 | D47: https://www.engineeringtoolbox.com/CO2-carbon-dioxide-properties-d_2017.html
A49: Calorific Value of Grid Gas | B49: 39.6 | C49: MJ per Sm3
A50: Calorific Value of Grid Gas | B50: =B49/3.6 -> 11 | C50: kWh per Sm3
A52: kWh per litre of diesel (average biofuel blend) - Net CV | B52: 9.885 | C52: kWh/litre | D52: UK Government Department for Energy Security & Net Zero. Greenhouse gas reporting: conversion factors 2023. [Online]. GOV.UK. Last Updated: 28/06/2023. Available at: https://www.gov.uk/government/publications/greenhouse-gas-reporting-conversion-factors-2023, 'Fuel Properties' tab
A53: kWh per litre of diesel (average biofuel blend) - Gross CV | B53: 10.506 | C53: kWh/litre | D53: UK Government Department for Energy Security & Net Zero. Greenhouse gas reporting: conversion factors 2023. [Online]. GOV.UK. Last Updated: 28/06/2023. Available at: https://www.gov.uk/government/publications/greenhouse-gas-reporting-conversion-factors-2023, 'Fuel Properties' tab
B55: =2154*B29 -> 33259.311

Sheet GHG_Emissions
B2: Fuel emission factors
B3: Fuel | C3: Value | D3: Unit | E3: Value3 | F3: Unit2 | G3: Source
B4: Diesel (UK) - Scope 1 | C4: 0.25403 | D4: kgCO2eq/kWh | E4: =Table_12[[#This Row],[Value]]/3.6*1000 -> 70.563889 | F4: gCO2eq/MJ | G4: UK Government Department for Energy Security & Net Zero. Greenhouse gas reporting: conversion factors 2024. [Online]. GOV.UK. Last Updated: 11/11/2024. Available at: https://www.gov.uk/government/publications/greenhouse-gas-reporting-conversion-factors-2024
B5: Diesel (UK) - Scope 3 | C5: 0.06181 | D5: kgCO2eq/kWh | E5: =Table_12[[#This Row],[Value]]/3.6*1000 -> 17.169444 | F5: gCO2eq/MJ | G5: UK Government Department for Energy Security & Net Zero. Greenhouse gas reporting: conversion factors 2024. [Online]. GOV.UK. Last Updated: 11/11/2024. Available at: https://www.gov.uk/government/publications/greenhouse-gas-reporting-conversion-factors-2024
D6: kgCO2eq/litre | E6: =Table_12[[#This Row],[Value]]/3.6*1000 -> 0
B7: Biogas (UK) - Scope 1 | C7: 0.00023 | D7: kgCO2eq/kWh | E7: =Table_12[[#This Row],[Value]]/3.6*1000 -> 0.063888889 | F7: gCO2eq/MJ | G7: UK Government Department for Energy Security & Net Zero. Greenhouse gas reporting: conversion factors 2024. [Online]. GOV.UK. Last Updated: 11/11/2024. Available at: https://www.gov.uk/government/publications/greenhouse-gas-reporting-conversion-factors-2024
B8: Biogas (UK) - Scope 3 | C8: 0.01851 | D8: kgCO2eq/kWh | E8: =Table_12[[#This Row],[Value]]/3.6*1000 -> 5.1416667 | F8: gCO2eq/MJ | G8: UK Government Department for Energy Security & Net Zero. Greenhouse gas reporting: conversion factors 2024. [Online]. GOV.UK. Last Updated: 11/11/2024. Available at: https://www.gov.uk/government/publications/greenhouse-gas-reporting-conversion-factors-2024
B9: Biogas (UK) - Out of Scope | C9: 0.19902 | D9: kgCO2eq/kWh | E9: =Table_12[[#This Row],[Value]]/3.6*1000 -> 55.283333 | F9: gCO2eq/MJ | G9: UK Government Department for Energy Security & Net Zero. Greenhouse gas reporting: conversion factors 2024. [Online]. GOV.UK. Last Updated: 11/11/2024. Available at: https://www.gov.uk/government/publications/greenhouse-gas-reporting-conversion-factors-2024
B10: Natural Gas (UK) - Scope 1 | C10: 0.20264 | D10: kgCO2eq/kWh | E10: =Table_12[[#This Row],[Value]]/3.6*1000 -> 56.288889 | F10: gCO2eq/MJ | G10: UK Government Department for Energy Security & Net Zero. Greenhouse gas reporting: conversion factors 2024. [Online]. GOV.UK. Last Updated: 11/11/2024. Available at: https://www.gov.uk/government/publications/greenhouse-gas-reporting-conversion-factors-2024
B11: Natural Gas (UK) - Scope 3 | C11: 0.03347 | D11: kgCO2eq/kWh | E11: =Table_12[[#This Row],[Value]]/3.6*1000 -> 9.2972222 | F11: gCO2eq/MJ | G11: UK Government Department for Energy Security & Net Zero. Greenhouse gas reporting: conversion factors 2024. [Online]. GOV.UK. Last Updated: 11/11/2024. Available at: https://www.gov.uk/government/publications/greenhouse-gas-reporting-conversion-factors-2024
B12: Electricity (UK mix) | C12: 0.20705 | D12: kgCO2eq/kWh | E12: =Table_12[[#This Row],[Value]]/3.6*1000 -> 57.513889 | F12: gCO2eq/MJ | G12: UK Government Department for Energy Security & Net Zero. Greenhouse gas reporting: conversion factors 2024. [Online]. GOV.UK. Last Updated: 11/11/2024. Available at: https://www.gov.uk/government/publications/greenhouse-gas-reporting-conversion-factors-2024
B13: Propane | D13: kgCO2eq/kWh | E13: 0.15463 | F13: kgCO2eq/scf | G13: https://www.epa.gov/sites/production/files/2015-07/documents/emission-factors_2014.pdf
B14: Propane | D14: kgCO2eq/kWh | E14: 241.61707 | F14: gCO2eq/MJ | G14: Calculated
B15: HFO | D15: kgCO2eq/kWh | E15: 84.98 | F15: gCO2eq/MJ | G15: Biograce Version 4
B16: Natural Gas (EU) | D16: kgCO2eq/kWh | E16: 67.59 | F16: gCO2eq/MJ | G16: Biograce Version 4
B17: Natural Gas (Russia) | D17: kgCO2eq/kWh | E17: 66.2 | F17: gCO2eq/MJ | G17: Biograce Version 4
B18: Electricity (EU mix LV) | D18: kgCO2eq/kWh | E18: 53.7 | F18: gCO2eq/MJ | G18: Biograce Version 4
B19: Electricity (EU mix MV) | D19: kgCO2eq/kWh | E19: 127.65 | F19: gCO2eq/MJ | G19: Biograce Version 4
B21: Biogas | E21: 5.695873 | F21: gCO2eq/MJ | G21: Based on own biogas in this model
B23: Nitrous oxide emissions | E23: 1427.1 | F23: kgCO2eq/ha | G23: Biograce 4. Available at: http://www.biograce.net/content/ghgcalculationtools/standardvalues.
B24: N-fertiliser (kg N) | E24: 5880.6 | F24: gCO2-eq/kg | G24: Biograce 4. Available at: http://www.biograce.net/content/ghgcalculationtools/standardvalues.
B25: P2O5-fertiliser (kg P2O5) | E25: 1010.7 | F25: gCO2-eq/kg | G25: Biograce 4. Available at: http://www.biograce.net/content/ghgcalculationtools/standardvalues.
B26: K2O-fertiliser (kg K2O) | E26: 576.1 | F26: gCO2-eq/kg | G26: Biograce 4. Available at: http://www.biograce.net/content/ghgcalculationtools/standardvalues.
B27: Digestate | E27: 0 | F27: gCO2-eq/kg
B28: CaO-fertiliser (kg CaO) | E28: 129.5 | F28: gCO2-eq/kg | G28: Biograce 4. Available at: http://www.biograce.net/content/ghgcalculationtools/standardvalues.
B29: Pesticides | E29: 10971.3 | F29: gCO2-eq/kg | G29: Biograce 4. Available at: http://www.biograce.net/content/ghgcalculationtools/standardvalues.
B30: Rye seeds | E30: 28.99 | F30: gCO2-eq/kg
B31: Grass seeds | E31: =0.292432*100 -> 29.2432 | F31: gCO2-eq/kg
B32: Maize seeds | E32: =0.1375*100 -> 13.75 | F32: gCO2-eq/kg
B33: Soil N2O emissions - unspecified mineral N fertiliser on arable | E33: 5.191 | F33: kgCO2-eq/kg N fertiliser | G33: IPCC guidelines for national GHG investories
B34: Soil N2O emissions - unspecified mineral N fertiliser on grassland | E34: 7.526 | F34: kgCO2-eq/kg N fertiliser | G34: IPCC guidelines for national GHG investories
B35: Soil N2O emissions - digestate | E35: 4.772 | F35: kgCO2-eq/kg N fertiliser | G35: IPCC guidelines for national GHG investories
B36: CH4 to CO2e conversion factor | E36: 28 | F36: kgCO2-eq/kg CH4 | G36: IPCC guidelines for national GHG investories
B37: N2O to CO2e convertion factor | E37: 265 | F37: kgCO2-eq/kg N2O | G37: IPCC guidelines for national GHG investories
B38: N2O to N convertion factor | E38: 0.01 | F38: kg N2O -N/kg N | G38: IPCC guidelines for national GHG investories
B39: N2O to NH3 convertion factor | E39: 0.01 | F39: kg N2O -N/kg NH3v+ NOx | G39: IPCC guidelines for national GHG investories
B40: N2O to NH3 convertion factor | E40: 0.0075 | F40: kg N2O -N/kg N leached | G40: IPCC guidelines for national GHG investories
B41: N2O to NH3 convertion factor | E41: 0.1 | F41: kg N volatilised/kg N applied | G41: IPCC guidelines for national GHG investories
B42: N2O to NH3 convertion factor | E42: 0.2 | F42: kg N volatilised/kg N deposited | G42: IPCC guidelines for national GHG investories
B43: N2O to NH3 convertion factor | E43: 0.3 | F43: kg N/kg N additions | G43: IPCC guidelines for national GHG investories
B44: Global Warming Potential (GWP) values for 100-year time horizon, according to Intergovernmental Panel on Climate Change (IPCC) Fifth Assessment Report (AR5), so that the Conversion Factors are consistent with current national and international reporting requirements.
B45: Carbon Dioxide | E45: 1
B46: Methane | E46: 28
B47: Nitrous Oxide | E47: 265

Sheet GHG_Conversions
B1: Conversion Factors
B3: Global warming potentials
B4: Gas | C4: Unit | D4: Value | E4: Source
B5: CO2 | C5: gCO2eq/g | D5: 1 | E5: Biograce Version 4
B6: CH4 | C6: gCO2eq/g | D6: 23 | E6: Biograce Version 4
B7: N2O | C7: gCO2eq/g | D7: 296 | E7: Biograce Version 4
B9: Fuel Heating Values (All LHV except where noted)
B10: Fuel | C10: Unit | D10: Value | E10: Source | F10: Unit[2] | G10: Value[2] | H10: Source[2]
B11: Diesel | C11: MJ/kg | D11: 43.1 | E11: Biograce Version 4 | F11: MJ/l | G11: =D11*D25/1000 -> 35.8592 | H11: Biograce Version 4
B12: HFO | C12: MJ/kg | D12: 40.5 | E12: Biograce Version 4 | F12: MJ/l | G12: =D12*D26/1000 -> 39.285 | H12: Biograce Version 4
B13: Gasoline | C13: MJ/kg | D13: 43.2 | E13: Biograce Version 4 | F13: MJ/l | G13: =D13*D27/1000 -> 32.184 | H13: Biograce Version 4
B14: Methanol | C14: MJ/kg | D14: 20 | E14: Renewable Energy Directive | F14: MJ/l | G14: 16 | H14: Renewable Energy Directive
B15: Natural Gas (LHV) | C15: MJ/m3 | D15: 35.7 | E15: https://www.gov.uk/government/statistics/dukes-calorific-values
B16: Natural Gas (HHV) | C16: MJ/m3 | D16: 39.6 | E16: https://www.gov.uk/government/statistics/dukes-calorific-values
B17: Methane | C17: MJ/kg | D17: 50 | E17: http://www.engineeringtoolbox.com/fuels-higher-calorific-values-d_169.html | F17: MJ/m3 | G17: 35.8 | H17: http://www.engineeringtoolbox.com/fuels-higher-calorific-values-d_169.html
B18: Methane (HHV) | C18: MJ/kg | D18: 55.53 | E18: http://www.engineeringtoolbox.com/fuels-higher-calorific-values-d_169.html
B19: Propane | C19: MJ/kg | D19: 45.4 | E19: http://www.engineeringtoolbox.com/fuels-higher-calorific-values-d_169.html | F19: kWh/kg | G19: 12.88
B20: Hydrogen | C20: MJ/kg | D20: 121 | E20: http://www.engineeringtoolbox.com/fuels-higher-calorific-values-d_169.html
B21: Ethanol | C21: MJ/kg | D21: 26.81 | E21: Biograce Version 4
B23: Fuel Densities
B24: Fuel | C24: Unit | D24: Value | E24: Source
B25: Diesel | C25: kg/m3 | D25: 832 | E25: Biograce Version 4
B26: HFO | C26: kg/m3 | D26: 970 | E26: Biograce Version 4
B27: Gasoline | C27: kg/m3 | D27: 745 | E27: Biograce Version 4
B28: Natural gas | C28: kg/m3 | D28: 793 | E28: Biograce Version 4
B29: Biomethane | C29: kg/m3
B30: Methane | C30: kg/m3 | D30: 0.668 | E30: http://www.engineeringtoolbox.com/gas-density-d_158.html
B31: Propane | C31: kg/m3 | D31: 0.498 | E31: http://www.engineeringtoolbox.com/fuels-higher-calorific-values-d_169.html
B33: Transport Fuel Consumption Factors (Loaded)
B34: Mode | C34: Unit | D34: Value | E34: Source
B35: Truck | C35: l/km | D35: 0.49 | E35: ISCC 205
B37: Transport Fuel Consumption Factors (Unloaded)
B38: Mode | C38: Unit | D38: Value | E38: Source
B39: Truck | C39: l/km | D39: 0.25 | E39: ISCC 205
B41: Unit Conversion
B42: Unit Conversion | C42: Value
B43: MJ per MWh | C43: 3600
B44: lb per kg | C44: 2.205
B45: scf per m3 | C45: 35.328
B46: Btu per kWh | C46: 3412.142
B47: Btu per MJ | C47: 947.817
B48: MJ/Btu | C48: =1/C47 -> 0.001055056
B49: US Gallons per m3 | C49: 264.172
B50: SM3 per NM3 | C50: 1.0549129
B57: Feedstock (Inputs) | C57: Category | D57: Dry Matter | E57: Volatile Solids | F57: Methane Content | G57: Specific Methane Yield
D58: (%) | E58: (%) | F58: (%) | G58: (Nm3 CH4/tVS)
B59: Rye Silage | C59: Product | D59: 0.35 | E59: 0.95 | F59: 0.523 | G59: 340
B60: Maize Silage | C60: Product | D60: 0.32 | E60: 0.97 | F60: 0.52 | G60: 370
B61: Grass Silage | C61: Product | D61: 0.35 | E61: 0.93 | F61: 0.53 | G61: 318
B62: Wholecrop Silage | C62: Product | D62: 0.35 | E62: 0.93 | F62: 0.53 | G62: 318
B63: Straw | C63: Waste/Residue | D63: 0.8688 | E63: 0.9156 | F63: 0.61 | G63: 300
B64: Farm Yard Manure | C64: Waste/Residue | D64: 0.25 | E64: 0.8 | F64: 0.525 | G64: 248
B65: Cattle Slurry | C65: Waste/Residue | D65: 0.11 | E65: 0.9 | F65: 0.55 | G65: 164
B66: Chicken Slurry | C66: Waste/Residue | D66: 0.61 | E66: 0.87 | F66: 0.68 | G66: 323
B67: Pig Slurry | C67: Waste/Residue | D67: 0.06 | E67: 0.8 | F67: 0.6 | G67: 420
B68: Draff | C68: Waste/Residue | D68: 0.2114 | E68: 0.9709 | F68: 0.64 | G68: 413
B69: Pot Ale | C69: Waste/Residue | D69: 0.0502 | E69: 0.9219 | F69: 0.63 | G69: 443
B70: Pot Ale Syrup | C70: Waste/Residue | D70: 0.4113 | E70: 0.9124 | F70: 0.31 | G70: 432
... B74: Misc 2 | C74: Waste/Residue | D74: 0.08 | E74: 0.87 | F74: 0.55 | G74: 180

Sheet CHP
A1: Manufacturer | B1: Block | C1: Model | D1: Fuel | E1: Input (kW) | F1: Input (Nm3 p/h) at 100% | G1: 10% loss of efficiency factor | H1: Efficiency kWh(E) @ 100% | I1: Output kWh(E) | J1: Efficiency kWh(t) | K1: Output kWh(t) | L1: Link | M1: Constants | P1: Efficiency kWh(E) | Q1: Efficiency kWh(E) | R1: Efficiency kWh(t) | S1: Efficiency kWh(t)
J2: @100% | P2: @75% | Q2: @50% | R2: @75% | S2: @50%
A3: Jennbacher | B3: Jennbacher | C3: JMS 312 GS-B.L | D3: Natural Gas | E3: 1581 | F3: =(E3/N3) -> 139.17254 | G3: =F3*1.1 -> 153.08979 | H3: 0.402 | I3: 635 | J3: 0.44 | K3: 695 | L3: Acorn Bioenergy Shared Files - JMS312GS-BL.pdf - All Documents (sharepoint.com) | M3: Natural Gas | N3: 11.36 | O3: kWh m3 | P3: 0.391 | Q3: 0.369 | R3: 0.463 | S3: 0.491
A4: Jennbacher | B4: Jennbacher | C4: JMS 316 GS-B.L | D4: Natural Gas | E4: 2113 | F4: =(E4/N3) -> 186.00352 | G4: =F4*1.1 -> 204.60387 | H4: 0.403 | I4: 851 | J4: 0.445 | K4: 940 | L4: Acorn Bioenergy Shared Files - JMS316GS-BL.pdf - All Documents (sharepoint.com) | M4: Biogas methane content | N4: 0.55 | P4: 0.396 | Q4: 0.372 | R4: 0.448 | S4: 0.471
A5: Jennbacher | B5: Jennbacher | C5: JMS 320 GS-B.L | D5: Natural Gas | E5: 2622 | F5: =E5/N3 -> 230.80986 | G5: =F5*1.1 -> 253.89085 | H5: 0.407 | I5: 1067 | J5: 0.439 | K5: 1152 | L5: Acorn Bioenergy Shared Files - JMS320GS-BL.pdf - All Documents (sharepoint.com) | P5: 0.396 | Q5: 0.372 | R5: 0.453 | S5: 0.48
A6: Jennbacher | B6: Jennbacher | C6: JMS 412 GS-B.L | D6: Natural Gas | E6: 2114 | F6: =E6/N3 -> 186.09155 | G6: =F6*1.1 -> 204.7007 | H6: 0.426 | I6: 900 | J6: 0.43 | K6: 908 | L6: Acorn Bioenergy Shared Files - JMS412GS-BL.pdf - All Documents (sharepoint.com) | N6: =(G8*N3)*H8 -> 1647.7076 | P6: 0.413 | Q6: 0.389 | R6: 0.438 | S6: 0.46
A7: Jennbacher | B7: Jennbacher | C7: JMS 416 GS-B.L | D7: Natural Gas | E7: 2810 | F7: =E7/N3 -> 247.35915 | G7: =F7*1.1 -> 272.09507 | H7: 0.428 | I7: 1202 | J7: 0.43 | K7: 1207 | L7: Acorn Bioenergy Shared Files - JMS416GS-BL.pdf - All Documents (sharepoint.com) | P7: 0.416 | Q7: 0.393 | R7: 0.438 | S7: 0.46
A8: Jennbacher | B8: Jennbacher | C8: JMS 420 GS-B.L | D8: Natural Gas | E8: 3508 | F8: =E8/N3 -> 308.80282 | G8: =F8*1.1 -> 339.6831 | H8: 0.427 | I8: 1499 | J8: 0.429 | K8: 1506 | L8: Acorn Bioenergy Shared Files - JMS420GS-BL.pdf - All Documents (sharepoint.com) | P8: 0.415 | Q8: 0.391 | R8: 0.439 | S8: 0.461
A9: Jennbacher | B9: Jennbacher | C9: JMS 612 GS-B.L | D9: Natural Gas | E9: 4142 | F9: =E9/N3 -> 364.61268 | G9: =F9*1.1 -> 401.07394 | H9: 0.439 | I9: 1817 | J9: 0.413 | K9: 1711 | L9: Acorn Bioenergy Shared Files - JMS612GS-BL.pdf - All Documents (sharepoint.com) | P9: 0.424 | Q9: 0.398 | R9: 0.428 | S9: 0.446
A10: Jennbacher | B10: Jennbacher | C10: JMS 616 GS-B.L | D10: Natural Gas | E10: 5523 | F10: =E10/N3 -> 486.17958 | G10: =F10*1.1 -> 534.79754 | H10: 0.44 | I10: 2430 | J10: 0.413 | K10: 2283 | L10: Acorn Bioenergy Shared Files - JMS616GS-BL.pdf - All Documents (sharepoint.com) | P10: 0.426 | Q10: 0.399 | R10: 0.428 | S10: 0.446
A11: 2G | B11: Liebherr | C11: Avus 1000plus EG | D11: Natural Gas | E11: 2429 | F11: =E11/N3 -> 213.82042 | G11: =F11*1.1 -> 235.20246 | H11: 0.412 | I11: 1000 | J11: 0.436 | K11: 1060 | L11: Acorn Bioenergy Shared Files - TSP_ct80-1_50Hz_400V_250NOx__2263462.pdf - All Documents (sharepoint.com) | P11: 0.4 | Q11: 0.377 | R11: 0.437 | S11: 0.452
A12: 2G | B12: MTU | C12: Avus 1200e | D12: Natural Gas | E12: 3557 | F12: =E12/N3 -> 313.1162 | G12: =F12*1.1 -> 344.42782 | H12: 0.428 | I12: 1521 | J12: 0.452 | K12: 828 | L12: Acorn Bioenergy Shared Files - TSP_12V4000 L64FNER_50Hz_400V_250NOx_MZ70__2686765.pdf - All Documents (sharepoint.com) | P12: 0.418 | Q12: 0.397 | R12: 0.463 | S12: 0.489
A13: Tedom | B13: MAN | C13: Flexi 530 | D13: Natural Gas | E13: 1313 | F13: =E13/N3 -> 115.58099 | G13: =F13*1.1 -> 127.13908 | H13: 0.402 | I13: 528 | J13: 0.445 | K13: 584 | L13: Acorn Bioenergy Shared Files - Supporting Docs Flexi 530.zip - All Documents (sharepoint.com) | P13: 0.387 | Q13: 0.366 | R13: 0.449 | S13: 0.467
A14: Tedom | B14: MWM | C14: Quanto 600 | D14: Natural Gas | E14: 1405 | F14: =E14/N3 -> 123.67958 | G14: =F14*1.1 -> 136.04754 | H14: 0.43 | I14: 600 | J14: 0.436 | K14: 613 | L14: Acorn Bioenergy Shared Files - TS_CHP_Quanto_600_MWM_NG_OM_SE_C_LB_50Hz_S_500_EN.pdf - All Documents (sharepoint.com) | P14: 0.41 | Q14: 0.384 | R14: 0.449 | S14: 0.467
A15: Tedom | B15: MWM | C15: Quanto 800 NG | D15: Natural Gas | E15: 1856 | F15: =E15/N3 -> 163.38028 | G15: =F15*1.1 -> 179.71831 | H15: 0.431 | I15: 800 | J15: 0.44 | K15: 843 | L15: Acorn Bioenergy Shared Files - Acorn. 1051040 - 800kWe BIO.pdf - All Documents (sharepoint.com) | P15: 0.416 | Q15: 0.396 | R15: 0.448 | S15: 0.466
A16: Tedom | B16: MWM | C16: Quanto 1000 NG | D16: Natural Gas | E16: 2345 | F16: =E16/N3 -> 206.42606 | G16: =F16*1.1 -> 227.06866 | H16: 0.426 | I16: 999 | J16: 0.464 | K16: 1089 | L16: Acorn Bioenergy Shared Files - Supporting Docs Flexi 530.zip - All Documents (sharepoint.com) | P16: 0.387 | Q16: 0.366 | R16: 0.449 | S16: 0.467
A17: Tedom | B17: MWM | C17: Quanto 1200 | D17: Natural Gas | E17: 2750 | H17: 0.436 | I17: 1200 | J17: 0.472 | K17: 1297 | P17: 0.424 | Q17: 0.402 | R17: 0.481 | S17: 0.497
A18: Tedom | B18: MWM | C18: Quanto 1600 | D18: Natural Gas | E18: 3696 | F18: =E18/N3 -> 325.35211 | G18: =F18*1.1 -> 357.88732 | H18: 0.426 | I18: 1560 | J18: 0.484 | K18: 1700 | L18: Acorn Bioenergy Shared Files - Supporting Docs Quanto 1600.zip - All Documents (sharepoint.com) | P18: 0.411 | Q18: 0.39 | R18: 0.492 | S18: 0.51
A19: Tedom | B19: MWM | C19: Quanto 1800 | D19: Natural Gas | E19: 4221 | F19: =E19/N3 -> 371.5669 | G19: =F19*1.1 -> 408.72359 | H19: 0.436 | I19: 1840 | J19: 0.473 | K19: 1996 | L19: Acorn Bioenergy Shared Files - Supporting Docs Quanto 1800.zip - All Documents (sharepoint.com) | P19: 0.423 | Q19: 0.398 | R19: 0.484 | S19: 0.502
A20: Tedom | B20: MWM | C20: Quanto 2000 | D20: Natural Gas | E20: 4577 | F20: =E20/N3 -> 402.90493 | G20: =F20*1.1 -> 443.19542 | H20: 0.437 | I20: 2000 | J20: 0.471 | K20: 2154
A21: Tedom | B21: MWM | C21: Quanto 2300 | D21: Natural Gas | E21: 5115 | F21: =E21/N3 -> 450.26408 | G21: =F21*1.1 -> 495.29049 | H21: 0.45 | I21: 2300 | J21: 0.46 | K21: 2354
A23: Jennbacher | B23: Jennbacher | C23: JMS 312 GS-B.L | D23: Biogas (55%) | E23: 1581 | F23: =F3/0.55 -> 253.04097 | G23: =F23*1.1 -> 278.34507 | H23: 0.402 | I23: 635 | J23: 0.44 | K23: 695 | L23: Acorn Bioenergy Shared Files - JMS312GS-BL.pdf - All Documents (sharepoint.com) | P23: 0.391 | Q23: 0.369 | R23: 0.463 | S23: 0.491
A24: Jennbacher | B24: Jennbacher | C24: JMS 316 GS-B.L | D24: Biogas (55%) | E24: 2113 | F24: =F4/0.55 -> 338.18822 | G24: =F24*1.1 -> 372.00704 | H24: 0.403 | I24: 851 | J24: =J4 -> 0.445 | K24: 940 | L24: Acorn Bioenergy Shared Files - JMS316GS-BL.pdf - All Documents (sharepoint.com) | P24: 0.396 | Q24: 0.372 | R24: 0.448 | S24: 0.471
A25: Jennbacher | B25: Jennbacher | C25: JMS 320 GS-B.L | D25: Biogas (55%) | E25: 2622 | F25: =F5/0.55 -> 419.65429 | G25: =F25*1.1 -> 461.61972 | H25: 0.407 | I25: 1067 | J25: =J5 -> 0.439 | K25: 1152 | L25: Acorn Bioenergy Shared Files - JMS320GS-BL.pdf - All Documents (sharepoint.com) | P25: 0.396 | Q25: 0.372 | R25: 0.453 | S25: 0.48
A26: Jennbacher | B26: Jennbacher | C26: JMS 412 GS-B.L | D26: Biogas (55%) | E26: 2114 | F26: =F6/0.55 -> 338.34827 | G26: =F26*1.1 -> 372.1831 | H26: 0.426 | I26: 900 | J26: =J6 -> 0.43 | K26: 908 | L26: Acorn Bioenergy Shared Files - JMS412GS-BL.pdf - All Documents (sharepoint.com) | P26: 0.413 | Q26: 0.389 | R26: 0.438 | S26: 0.46
A27: Jennbacher | B27: Jennbacher | C27: JMS 416 GS-B.L | D27: Biogas (55%) | E27: 2810 | F27: =F7/0.55 -> 449.74392 | G27: =F27*1.1 -> 494.71831 | H27: 0.428 | I27: 1202 | J27: =J7 -> 0.43 | K27: 1207 | L27: Acorn Bioenergy Shared Files - JMS416GS-BL.pdf - All Documents (sharepoint.com) | P27: 0.416 | Q27: 0.393 | R27: 0.438 | S27: 0.46
A28: Jennbacher | B28: Jennbacher | C28: JMS 420 GS-B.L | D28: Biogas (55%) | E28: 3508 | F28: =F8/0.55 -> 561.45967 | G28: =F28*1.1 -> 617.60563 | H28: 0.427 | I28: 1499 | J28: =J8 -> 0.429 | K28: 1506 | L28: Acorn Bioenergy Shared Files - JMS420GS-BL.pdf - All Documents (sharepoint.com) | P28: 0.415 | Q28: 0.391 | R28: 0.439 | S28: 0.461
A29: Jennbacher | B29: Jennbacher | C29: JMS 612 GS-B.L | D29: Biogas (55%) | E29: 4142 | F29: =F9/0.55 -> 662.93214 | G29: =F29*1.1 -> 729.22535 | H29: 0.439 | I29: 1817 | J29: =J9 -> 0.413 | K29: 1711 | L29: Acorn Bioenergy Shared Files - JMS612GS-BL.pdf - All Documents (sharepoint.com) | P29: 0.424 | Q29: 0.398 | R29: 0.428 | S29: 0.446
A30: Jennbacher | B30: Jennbacher | C30: JMS 616 GS-B.L | D30: Biogas (55%) | E30: 5523 | F30: =F10/0.55 -> 883.96287 | G30: =F30*1.1 -> 972.35915 | H30: 0.44 | I30: 2430 | J30: =J10 -> 0.413 | K30: 2283 | L30: Acorn Bioenergy Shared Files - JMS616GS-BL.pdf - All Documents (sharepoint.com) | P30: 0.426 | Q30: 0.399 | R30: 0.428 | S30: 0.446
A31: Tedom | B31: MAN | C31: Flexi 530 | D31: Biogas (55%) | E31: 1313 | F31: =F13/0.55 -> 210.14725 | G31: =F31*1.1 -> 231.16197 | H31: 0.402 | I31: 528 | J31: 0.445 | K31: 584 | L31: Acorn Bioenergy Shared Files - Supporting Docs Flexi 530.zip - All Documents (sharepoint.com) | P31: 0.387 | Q31: 0.366 | R31: 0.449 | S31: 0.467
A32: Tedom | B32: MWM | C32: Quanto 600 | D32: Biogas (55%) | E32: 1405 | F32: =F14/0.55 -> 224.87196 | G32: =F32*1.1 -> 247.35915 | H32: 0.427 | I32: 600 | J32: 0.436 | K32: 613 | L32: Acorn Bioenergy Shared Files - TS_CHP_Quanto_600_MWM_NG_OM_SE_C_LB_50Hz_S_500_EN.pdf - All Documents (sharepoint.com) | P32: 0.387 | Q32: 0.366 | R32: 0.449 | S32: 0.467
A33: Tedom | B33: MWM | C33: Quanto 800 BG | D33: Biogas (55%) | E33: 1856 | F33: =F15/0.55 -> 297.05506 | G33: =F33*1.1 -> 326.76056 | H33: 0.431 | I33: 800 | J33: 0.433 | K33: 843 | L33: Acorn Bioenergy Shared Files - Acorn. 1051040 - 800kWe BIO.pdf - All Documents (sharepoint.com) | P33: 0.416 | Q33: 0.396 | R33: 0.448 | S33: 0.466
A34: Tedom | B34: MWM | C34: Quanto 1000 BG | D34: Biogas (55%) | E34: 2345 | F34: =F16/0.55 -> 375.3201 | G34: =F34*1.1 -> 412.85211 | H34: 0.426 | I34: 999 | J34: 0.464 | K34: 1089 | L34: Acorn Bioenergy Shared Files - Supporting Docs Flexi 530.zip - All Documents (sharepoint.com) | P34: 0.387 | Q34: 0.366 | R34: 0.449 | S34: 0.467
A35: Tedom | B35: MWM | C35: Quanto 1200 | D35: Biogas (55%) | E35: 2750 | H35: 0.436 | I35: 1200 | J35: 0.472 | K35: 1297 | P35: 0.424 | Q35: 0.402 | R35: 0.481 | S35: 0.497
A36: Tedom | B36: MWM | C36: Quanto 1600 | D36: Biogas (55%) | E36: 3696 | F36: =F18/0.55 -> 591.5493 | G36: =F36*1.1 -> 650.70423 | H36: 0.426 | I36: 1560 | J36: 0.484 | K36: 1700 | L36: Acorn Bioenergy Shared Files - Supporting Docs Quanto 1600.zip - All Documents (sharepoint.com) | P36: 0.411 | Q36: 0.39 | R36: 0.492 | S36: 0.51
A37: Tedom | B37: MWM | C37: Quanto 1800 | D37: Biogas (55%) | E37: =E19 -> 4221 | F37: =F19/0.55 -> 675.57618 | G37: =F37*1.1 -> 743.1338 | H37: =H19 -> 0.436 | I37: 1840 | J37: =J19 -> 0.473 | K37: =K19 -> 1996 | L37: Acorn Bioenergy Shared Files - Supporting Docs Quanto 1800.zip - All Documents (sharepoint.com) | P37: 0.423 | Q37: 0.398 | R37: 0.484 | S37: 0.502
A38: Tedom | B38: MWM | C38: Quanto 2000 | D38: Biogas (55%) | E38: 4577 | F38: =F20/0.55 -> 732.55442 | G38: =F38*1.1 -> 805.80986 | H38: 0.437 | I38: 2000 | J38: 0.471 | K38: 2154
A39: Tedom | B39: MWM | C39: Quanto 2300 | D39: Biogas (55%) | E39: 5115 | F39: =F21/0.55 -> 818.66197 | G39: =F39*1.1 -> 900.52817 | H39: 0.45 | I39: 2300 | J39: 0.46 | K39: 2354
A41: Viessman | B41: Vitoplex | C41: Vitoplex 300 | D41: Natural Gas | E41: 1075 | F41: =E41/N3 -> 94.630282 | G41: - | H41: - | I41: - | J41: 0.93 | K41: 1000 | L41: Acorn Bioenergy Shared Files - 5797355VDP00003_1-Data-Sheet-620-2000kW.pdf - All Documents (sharepoint.com)
A43: Viessman | B43: Vitoplex | C43: Vitoplex 300 | D43: Biogas | E43: 1075 | F43: =F41/0.55 -> 172.05506 | G43: - | H43: - | I43: - | J43: =J41 -> 0.93 | K43: 1000 | L43: Acorn Bioenergy Shared Files - 5797355VDP00003_1-Data-Sheet-620-2000kW.pdf - All Documents (sharepoint.com)
A45: Hampshire Generators | B45: Perkins | C45: 400 | D45: Diesel | E45: - | F45: - | G45: - | H45: - | I45: 400 | J45: - | K45: - | L45: 500kVA Open Generator | Perkins Diesel Generator 500kVA (hampshiregenerators.co.uk)
A46: Teksan | B46: Doosan | C46: 700 | D46: Diesel | E46: - | F46: - | G46: - | H46: - | I46: 700 | J46: - | K46: - | L46: TJ738DW5A TEKSAN DOOSAN GENERATOR 740KVA - UK Stocks (generatorsas.co.uk)
A47: YorPower | B47: Perkins | C47: 1000 | D47: Diesel | E47: - | F47: - | G47: - | H47: - | I47: =C47 -> 1000 | J47: - | L47: 1250kVA Silent Generator - YorPower
A48: YorPower | B48: Perkins | C48: 1320 | D48: Diesel | E48: - | F48: - | G48: - | H48: - | I48: =C48 -> 1320 | J48: - | L48: 1500kVA Perkins Diesel Generator (C) - YorPower
A50: Scenario 1 | B50: Biogas/Natural Gas CHP
A51: Jennbacher | B51: Jennbacher | C51: JMS 312 GS-B.L | D51: Biogas (55%) | E51: 1581 | F51: =F23 -> 253.04097 | H51: 0.402 | I51: 635 | K51: 695 | L51: Acorn Bioenergy Shared Files - JMS312GS-BL.pdf - All Documents (sharepoint.com)
A52: Jennbacher | B52: Jennbacher | C52: JMS 420 GS-B.L | D52: Natural Gas | E52: 3508 | F52: =E8/N3 -> 308.80282 | H52: 0.427 | I52: 1499 | K52: 1506 | L52: Acorn Bioenergy Shared Files - JMS420GS-BL.pdf - All Documents (sharepoint.com)
A53: Grid Connection | B53: Grid Connection | C53: Grid Connection | D53: Import | E53: 200 | F53: - | H53: - | I53: 200 | K53: -
A55: Scenario 2 | B55: Natural Gas CHP x2 (J320) & Biogas boiler
A56: Viessman | B56: Vitoplex | C56: 300 | D56: Biogas (55%) | E56: 1075 | F56: =F41/0.55 -> 172.05506 | H56: 0.93 | I56: - | K56: 1000 | L56: Acorn Bioenergy Shared Files - 5797355VDP00003_1-Data-Sheet-620-2000kW.pdf - All Documents (sharepoint.com)
A57: Jennbacher | B57: Jennbacher | C57: JMS 320 GS-B.L | D57: Natural Gas | E57: 2622 | F57: =F5 -> 230.80986 | H57: 0.407 | I57: 1067 | K57: 1152 | L57: Acorn Bioenergy Shared Files - JMS320GS-BL.pdf - All Documents (sharepoint.com)
A58: Jennbacher | B58: Jennbacher | C58: JMS 320 GS-B.L | D58: Natural Gas | E58: 2622 | F58: =F5 -> 230.80986 | H58: 0.407 | I58: 1067 | K58: 1152 | L58: Acorn Bioenergy Shared Files - JMS320GS-BL.pdf - All Documents (sharepoint.com)
A59: Grid Connection | B59: Grid Connection | C59: Grid Connection | D59: Import | E59: 200 | F59: - | H59: - | I59: 200 | K59: -
A61: Scenario 3 | B61: Biogas Boiler/Natural Gas CHP x1
A62: Viessman | B62: Vitoplex | C62: 300 | D62: Biogas (55%) | E62: 1075 | F62: =F56 -> 172.05506 | H62: - | I62: - | K62: 1000 | L62: Acorn Bioenergy Shared Files - 5797355VDP00003_1-Data-Sheet-620-2000kW.pdf - All Documents (sharepoint.com)
A63: Jennbacher | B63: Jennbacher | C63: JMS 616 GS-B.L | D63: Natural Gas | E63: 5523 | F63: =F10 -> 486.17958 | H63: 0.44 | I63: 2430 | K63: 2283 | L63: Acorn Bioenergy Shared Files - JMS616GS-BL.pdf - All Documents (sharepoint.com)
A64: Grid Connection | B64: Grid Connection | C64: Grid Connection | D64: Import | E64: 200 | F64: - | H64: - | I64: 200 | K64: -
A66: Scenario 4 | B66: All Biogas CHP
A67: Jennbacher | B67: Jennbacher | C67: JMS 416 GS-B.L | D67: Biogas (55%) | E67: 2810 | F67: =F27 -> 449.74392 | H67: 0.428 | I67: 1202 | K67: 1207 | L67: Acorn Bioenergy Shared Files - JMS416GS-BL.pdf - All Documents (sharepoint.com)
A68: Jennbacher | B68: Jennbacher | C68: JMS 416 GS-B.L | D68: Biogas (55%) | E68: 2810 | F68: =F27 -> 449.74392 | H68: 0.428 | I68: 1202 | K68: 1207 | L68: Acorn Bioenergy Shared Files - JMS416GS-BL.pdf - All Documents (sharepoint.com)
A69: Grid Connection | B69: Grid Connection | C69: Grid Connection | D69: Import | E69: 200 | F69: - | H69: - | I69: 200 | K69: -
A71: Scenario 5 | B71: Biogas/Natural Gas CHP & Biogas Boiler
A72: Jennbacher | B72: Jennbacher | C72: JMS 312 GS-B.L | D72: Biogas (55%) | E72: 1581 | F72: =F51 -> 253.04097 | H72: 0.402 | I72: 635 | K72: 695 | L72: Acorn Bioenergy Shared Files - JMS312GS-BL.pdf - All Documents (sharepoint.com)
A73: Jennbacher | B73: Jennbacher | C73: JMS 420 GS-B.L | D73: Natural Gas | E73: 3508 | F73: =F52 -> 308.80282 | H73: 0.427 | I73: 1499 | K73: 1506 | L73: Acorn Bioenergy Shared Files - JMS420GS-BL.pdf - All Documents (sharepoint.com)
A74: Viessman | B74: Vitoplex | C74: 300 | D74: Biogas (55%) | E74: 1075 | F74: =F62 -> 172.05506 | H74: - | I74: - | K74: 1000 | L74: Acorn Bioenergy Shared Files - 5797355VDP00003_1-Data-Sheet-620-2000kW.pdf - All Documents (sharepoint.com)
A75: Grid Connection | B75: Grid Connection | C75: Grid Connection | D75: Import | E75: 200 | F75: - | H75: - | I75: 200 | K75: -
A77: Scenario 6 | B77: Natural Gas CHP (J412) x2 & Biogas Boiler
A78: Jennbacher | B78: Jennbacher | C78: JMS 412 GS-B.L | D78: Natural Gas | E78: 2114 | F78: =F6 -> 186.09155 | H78: 0.426 | I78: 900 | K78: 908 | L78: Acorn Bioenergy Shared Files - JMS412GS-BL.pdf - All Documents (sharepoint.com)
A79: Jennbacher | B79: Jennbacher | C79: JMS 412 GS-B.L | D79: Natural Gas | E79: 2114 | F79: =F6 -> 186.09155 | H79: 0.426 | I79: 900 | K79: 908 | L79: Acorn Bioenergy Shared Files - JMS412GS-BL.pdf - All Documents (sharepoint.com)
A80: Viessman | B80: Vitoplex | C80: 300 | D80: Biogas (55%) | E80: 1075 | F80: =F62 -> 172.05506 | H80: - | I80: - | K80: 1000 | L80: Acorn Bioenergy Shared Files - 5797355VDP00003_1-Data-Sheet-620-2000kW.pdf - All Documents (sharepoint.com)
A81: Grid Connection | B81: Grid Connection | C81: Grid Connection | D81: Import | E81: 200 | F81: - | H81: - | I81: 200 | K81: -
A83: Scenario 7
A84: Jennbacher | B84: Jennbacher | C84: JMS 320 GS-B.L | D84: Biogas (55%) | E84: 2622 | F84: =F25 -> 419.65429 | H84: 0.407 | I84: 1067 | K84: 1152 | L84: Acorn Bioenergy Shared Files - JMS320GS-BL.pdf - All Documents (sharepoint.com)
A85: Jennbacher | B85: Jennbacher | C85: JMS 320 GS-B.L | D85: Biogas (55%) | E85: 2622 | F85: =F25 -> 419.65429 | H85: 0.407 | I85: 1067 | K85: 1152 | L85: Acorn Bioenergy Shared Files - JMS320GS-BL.pdf - All Documents (sharepoint.com)
A86: Viessman | B86: Vitoplex | C86: 300 | D86: Biogas (55%) | E86: 1075 | F86: =F74 -> 172.05506 | H86: - | I86: - | K86: 1000 | L86: Acorn Bioenergy Shared Files - 5797355VDP00003_1-Data-Sheet-620-2000kW.pdf - All Documents (sharepoint.com)
A87: Grid Connection | B87: Grid Connection | C87: Grid Connection | D87: Import | E87: 200 | F87: - | H87: - | I87: 200 | K87: -
A89: Scenario 8
A90: Jennbacher | B90: Jennbacher | C90: JMS 312 GS-B.L | D90: Biogas (55%) | E90: 1581 | F90: =F23 -> 253.04097 | H90: 0.402 | I90: 635 | K90: 695 | L90: Acorn Bioenergy Shared Files - JMS312GS-BL.pdf - All Documents (sharepoint.com)
A91: Jennbacher | B91: Jennbacher | C91: JMS 416 GS-B.L | D91: Natural Gas | E91: 2810 | F91: =F7 -> 247.35915 | H91: 0.428 | I91: 1202 | K91: 1207 | L91: Acorn Bioenergy Shared Files - JMS416GS-BL.pdf - All Documents (sharepoint.com)
A92: Viessman | B92: Vitoplex | C92: 300 | D92: Biogas | E92: 1075 | F92: =F86 -> 172.05506 | H92: 0.93 | I92: - | K92: 1000 | L92: Acorn Bioenergy Shared Files - 5797355VDP00003_1-Data-Sheet-620-2000kW.pdf - All Documents (sharepoint.com)
A93: Grid Connection | B93: Grid Connection | C93: Grid Connection | D93: Import | E93: 200 | F93: - | H93: - | I93: 200 | K93: -
A94: 500kVa generator | B94: Perkins | C94: XL500PO | D94: Diesel | E94: - | F94: - | H94: - | I94: 400 | L94: 500kVA Open Generator | Perkins Diesel Generator 500kVA (hampshiregenerators.co.uk)
A96: Scenario | B96: Biogas Production (Nm3 per hour) | C96: Natural Gas usage (Nm3 per hour) | D96: Biomethane Production (Nm3 per hour) | E96: Total Output (kWhE) | F96: Total Output (kWhT) | I96: Constants
A97: 1 | B97: =K97-F51 -> 1946.959 | C97: =F52 -> 308.80282 | D97: =B97*0.55 -> 1070.8275 | E97: =I51+I52 -> 2134 | F97: =K51+K52 -> 2201 | I97: Biogas Production | K97: 2200
A98: 2 | B98: =K97-F56 -> 2027.9449 | C98: =F57+F58 -> 461.61972 | D98: =B98*0.55 -> 1115.3697 | E98: =I57+I58 -> 2134 | F98: =K56+K57+K58 -> 3304 | I98: Biomethane Production | K98: =K97*0.55 -> 1210
A99: 3 | B99: =K97-F62 -> 2027.9449 | C99: =F63 -> 486.17958 | D99: =B99*0.55 -> 1115.3697 | E99: =I63 -> 2430 | F99: =K62+K63 -> 3283
A100: 4 | B100: =K97-(F67*2) -> 1300.5122 | C100: 0 | D100: =B100*0.55 -> 715.28169 | E100: =I67+I68 -> 2404 | F100: =K67+K68 -> 2414
A101: 5 | B101: =K97-F72-F74 -> 1774.904 | C101: =F73 -> 308.80282 | D101: =B101*0.55 -> 976.19718 | E101: =SUM(I72:I73) -> 2134 | F101: =SUM(K72:K74) -> 3201 | I101: =C104*11.36*365*24/1000 -> 24615.6 | K101: MWhs per year of gas consumed
A102: 6 | B102: =K97-F80 -> 2027.9449 | C102: =F78+F79 -> 372.1831 | D102: =B102*0.55 -> 1115.3697 | E102: =I78+I79+I81 -> 2000 | F102: =K78+K79+K80 -> 2816
A103: 7 | B103: =K97-F84-F85-F86 -> 1188.6364 | C103: 0 | D103: =B103*0.55 -> 653.75 | E103: =I84+I85 -> 2134 | F103: =K84+K85+K86 -> 3304
A104: 8 | B104: =K97-(F90+F92) -> 1774.904 | C104: =F91 -> 247.35915 | D104: =B104*0.55 -> 976.19718 | E104: =I90+I91+I93 -> 2037 | F104: =SUM(K90:K92) -> 2902
I107: =1202/0.428*365*24/1000 -> 24601.682

Sheet Inputs
A1: Tech provider | B1: Heat requirement (average) | C1: Power requirement (average) | D1: Assumed production | E1: Unit Heat requirement | F1: Unit Power requirement | G1: LCO2 power requirement
A3: AD plants
A4: Agraferm | B4: =Agraferm!N14/8760 -> 61.598174 | C4: =Agraferm!C119+Agraferm!C121 -> 437.4375
A5: BioGest | B5: =4285000/8760 -> 489.15525 | C5: =#REF! -> #REF!
A6: Entec | B6: 598 | C6: =#REF! -> #REF!
A7: Thoni | B7: =1400/8760*1000 -> 159.81735 | C7: =#REF! -> #REF!
A9: Biogas Upgrader
A10: Bright | B10: 0 | C10: =Agraferm!C170 -> 655 | D10: 2200 | F10: =C10/D10 -> 0.29772727 | G10: 220 | H10: https://acornbioenergy.sharepoint.com/:b:/s/AcornBioenergySharedFiles/EXCsOKZXYj9OmFjbM2BVSZgB3-rAhEfHHaNSa3l4U75eQA?e=ql41HD
A11: DMT | B11: 0 | C11: =5571000/8760 -> 635.9589 | D11: 2100 | F11: =C11/D11 -> 0.30283757 | G11: 220 | H11: https://acornbioenergy.sharepoint.com/:b:/s/AcornBioenergySharedFiles/EV4R0uS95oFKgBjiqM1tWlkBtat0Hn48I_JSq4sDXv9FDA?e=vxnSt9
A12: Wartsila
A14: HP compression
A15: IMW | C15: =Agraferm!C169 -> 239 | D15: 1250 | F15: =C15/D15 -> 0.1912 | H15: https://acornbioenergy.sharepoint.com/:b:/s/AcornBioenergySharedFiles/EW_awLvGbAFBkhlOUxcEaCoBmKIaVuifT5qBs6ld8YKY0Q?e=1qwnfV
A16: Bauer | C16: 152 | D16: 1160 | F16: =C16/D16 -> 0.13103448
A18: LCO2 liquefaction
A19: Bright LCO2 | B19: 0 | C19: =Agraferm!C171 -> 440

Sheet Agraferm
A1: Month | B1: Jan | C1: Feb | D1: Mar | E1: Apr | F1: May | G1: Jun | H1: Jul | I1: Aug | J1: Sep | K1: Oct | L1: Nov | M1: Dec | N1: Total | P1: Month | Q1: Jan | R1: Feb | S1: Mar | T1: Apr | U1: May | V1: Jun | W1: Jul | X1: Aug | Y1: Sep | Z1: Oct | AA1: Nov | AB1: Dec
A2: Days in Month | B2: 31 | C2: 28 | D2: 31 | E2: 30 | F2: 31 | G2: 30 | H2: 31 | I2: 31 | J2: 30 | K2: 31 | L2: 30 | M2: 31 | N2: =SUM(B2:M2) -> 365 | P2: Days in Month | Q2: 31 | R2: 28 | S2: 31 | T2: 30 | U2: 31 | V2: 30 | W2: 31 | X2: 31 | Y2: 30 | Z2: 31 | AA2: 30 | AB2: 31
A3: Primary Digester monthly heating (kWh) | B3: =55100/2 -> 27550 | C3: =49800/2 -> 24900 | D3: =42500/2 -> 21250 | E3: =21600/2 -> 10800 | F3: 0 | G3: 0 | H3: 0 | I3: 0 | J3: 0 | K3: =3000/2 -> 1500 | L3: =31700/2 -> 15850 | M3: =50600/2 -> 25300 | N3: =SUM(B3:M3) -> 127150 | P3: Total Demand (t) | Q3: 12170 | R3: 11480 | S3: 12710 | T3: 12300 | U3: 12710 | V3: 12300 | W3: 12710 | X3: 12710 | Y3: 12300 | Z3: 12710 | AA3: 12300 | AB3: 12710
A4: Primary Digester x1 Cooling (kWh) Monthly | F4: =3000/2 -> 1500 | G4: =24500/2 -> 12250 | H4: =41000/2 -> 20500 | I4: =37200/2 -> 18600 | J4: =20900/2 -> 10450 | N4: =SUM(B4:M4) -> 63300 | P4: Monthly heat demand (kWh) | Q4: 486966 | R4: 439840 | S4: 486966 | T4: 471258 | U4: 486966 | V4: 471258 | W4: 486966 | X4: 486966 | Y4: 471258 | Z4: 486966 | AA4: 471258 | AB4: 486966 | AC4: =SUM(Q4:AB4) -> 5733634
A5: Primary Digester x2 Monthly Heat (kWh) | B5: =B3*2 -> 55100 | C5: =C3*2 -> 49800 | D5: =D3*2 -> 42500 | E5: =E3*2 -> 21600 | F5: =F3*2 -> 0 | G5: =G3*2 -> 0 | H5: =H3*2 -> 0 | I5: =I3*2 -> 0 | ... M5: =M3*2 -> 50600 | N5: =SUM(B5:M5) -> 254300 | P5: Pasteuriser cont. heat demand (850kW during ramp) | Q5: =(Q4/Q2)/24 -> 654.52419 | R5: =(R4/R2)/24 -> 654.52381 | S5: =(S4/S2)/24 -> 654.52419 | T5: =(T4/T2)/24 -> 654.525 | U5: =(U4/U2)/24 -> 654.52419 | V5: =(V4/V2)/24 -> 654.525 | W5: =(W4/W2)/24 -> 654.52419 | X5: =(X4/X2)/24 -> 654.52419 | ... AB5: =(AB4/AB2)/24 -> 654.52419
A6: Primary Digester x2 Monthly Cooling (kWh) | B6: =B4*2 -> 0 | C6: =C4*2 -> 0 | D6: =D4*2 -> 0 | E6: =E4*2 -> 0 | F6: =F4*2 -> 3000 | G6: =G4*2 -> 24500 | H6: =H4*2 -> 41000 | I6: =I4*2 -> 37200 | ... M6: =M4*2 -> 0 | N6: =SUM(B6:M6) -> 126600
A7: Total Primary Digester heating capacity (kW) | B7: =(B5/B2)/24 -> 74.05914 | C7: =(C5/C2)/24 -> 74.107143 | D7: =(D5/D2)/24 -> 57.123656 | E7: =(E5/E2)/24 -> 30 | F7: =(F5/F2)/24 -> 0 | G7: =(G5/G2)/24 -> 0 | H7: =(H5/H2)/24 -> 0 | I7: =(I5/I2)/24 -> 0 | ... M7: =(M5/M2)/24 -> 68.010753 | N7: =SUM(B7:M7) -> 351.36073
A8: Total Primary Digester cooling capacity (kW) | B8: =(B6/B2)/24 -> 0 | C8: =(C6/C2)/24 -> 0 | D8: =(D6/D2)/24 -> 0 | E8: =(E6/E2)/24 -> 0 | F8: =(F6/F2)/24 -> 4.0322581 | G8: =(G6/G2)/24 -> 34.027778 | H8: =(H6/H2)/24 -> 55.107527 | I8: =(I6/I2)/24 -> 50 | ... M8: =(M6/M2)/24 -> 0 | N8: =SUM(B8:M8) -> 172.19534
A9: Secondary Digester monthly Heat Demand (kWh) | B9: =B10/3 -> 18133.333 | C9: =C10/3 -> 16366.667 | D9: =D10/3 -> 14900 | E9: =E10/3 -> 9366.6667 | F9: =F10/3 -> 3233.3333 | G9: =G10/3 -> 0 | H9: =H10/3 -> 0 | I9: =I10/3 -> 0 | ... M9: =M10/3 -> 16866.667 | N9: =SUM(B9:M9) -> 95100
A10: Secondary Digester monthly Heat x 3 (kWh) | B10: 54400 | C10: 49100 | D10: 44700 | E10: 28100 | F10: 9700 | G10: 0 | H10: 0 | I10: 0 | J10: 0 | K10: 13400 | L10: 35300 | M10: 50600 | N10: =SUM(B10:M10) -> 285300
A11: Secondary Digester Continous Cooling x 1 (kWh) | B11: =(B10/B2)/24 -> 73.11828 | C11: =(C10/C2)/24 -> 73.065476 | D11: =(D10/D2)/24 -> 60.080645 | E11: =(E10/E2)/24 -> 39.027778 | F11: =(F10/F2)/24 -> 13.037634 | G11: =(G10/G2)/24 -> 0 | H11: =(H10/H2)/24 -> 0 | I11: =(I10/I2)/24 -> 0 | ... M11: =(M10/M2)/24 -> 68.010753 | N11: =SUM(B11:M11) -> 393.3791
A12: Secondary Digester monthly Cooling x 3 (kWh) | B12: 0 | C12: 0 | D12: 0 | E12: 0 | F12: 0 | G12: 8000 | H12: 20100 | I12: 17200 | J12: 5100 | K12: 0 | L12: 0 | M12: 0 | N12: =SUM(B12:M12) -> 50400
N13: =SUM(B13:M13) -> 0
A14: Total AD Plant monthly Heating (kWh) | B14: =B5+B10 -> 109500 | C14: =C5+C10 -> 98900 | D14: =D5+D10 -> 87200 | E14: =E5+E10 -> 49700 | F14: =F5+F10 -> 9700 | G14: =G5+G10 -> 0 | H14: =H5+H10 -> 0 | I14: =I5+I10 -> 0 | ... M14: =M5+M10 -> 101200 | N14: =SUM(B14:M14) -> 539600
A15: Total AD plant monthly cooling (kWh) | B15: =B6+B12 -> 0 | C15: =C6+C12 -> 0 | D15: =D6+D12 -> 0 | E15: =E6+E12 -> 0 | F15: =F6+F12 -> 3000 | G15: =G6+G12 -> 32500 | H15: =H6+H12 -> 61100 | I15: =I6+I12 -> 54400 | ... M15: =M6+M12 -> 0 | N15: =SUM(B15:M15) -> 177000
A17: Equipment (agg.)- Three Maids (Straw treat inc. at end) | B17: Consumed energy per day (kWh) | C17: Continuous energy demand (kWh) | D17: Max Energy Demand (kWh)
A18: K.Pump feeder D1 | B18: =SUM(B19:B24) -> 381 | C18: =SUM(C19:C24) -> 15.875 | D18: =SUM(D19:D24) -> 142.87
A19: Hydraulic unit 1 | B19: 82 | C19: =B19/24 -> 3.4166667 | D19: 11
A20: Dosing roller 1 | B20: 117 | C20: =B20/24 -> 4.875 | D20: 22
A21: Discharge screw 1 | B21: 29 | C21: =B21/24 -> 1.2083333 | D21: 5.5
A22: Inclined Conveyor Screw 1 | B22: 111 | C22: =B22/24 -> 4.625 | D22: 29
A23: Infeed screw 1 | B23: 41 | C23: =B23/24 -> 1.7083333 | D23: =68.48+6.74 -> 75.22
A24: Alarm Light 1 | B24: 1 | C24: =B24/24 -> 0.041666667 | D24: 0.15
A25: K.Pump feeder D1 | B25: =SUM(B26:B31) -> 381 | C25: =SUM(C26:C31) -> 15.875 | D25: =SUM(D26:D31) -> 142.87
A26: Hydraulic unit 2 | B26: 82 | C26: =B26/24 -> 3.4166667 | D26: 11
A27: Dosing roller 2 | B27: 117 | C27: =B27/24 -> 4.875 | D27: 22
A28: Discharge screw 2 | B28: 29 | C28: =B28/24 -> 1.2083333 | D28: 5.5
A29: Inclined Conveyor Screw 2 | B29: 111 | C29: =B29/24 -> 4.625 | D29: 29
A30: Infeed screw 2 | B30: 41 | C30: =B30/24 -> 1.7083333 | D30: =68.48+6.74 -> 75.22
A31: Alarm Light 2 | B31: 1 | C31: =B31/24 -> 0.041666667 | D31: 0.15
A32: Huning feeder (liquid feed) | B32: =SUM(B33:B40) -> 266 | C32: =SUM(C33:C40) -> 11.083333 | D32: =SUM(D33:D40) -> 66.85
A33: Hydraulic unit 3 | B33: 34 | C33: =B33/24 -> 1.4166667 | D33: 7.5
A34: Dosing roller 3 | B34: 10 | C34: =B34/24 -> 0.41666667 | D34: 3
A35: Discharge screw 3 | B35: 13 | C35: =B35/24 -> 0.54166667 | D35: 4
A36: Liquid feed pump 3 | B36: 68 | C36: =B36/24 -> 2.8333333 | D36: 15
A37: PreMix Pump 3 | B37: 68 | C37: =B37/24 -> 2.8333333 | D37: 15
A38: Debris removal 3 | B38: 7 | C38: =B38/24 -> 0.29166667 | D38: 2.2
A39: Pump XCut 3 | B39: 65 | C39: =B39/24 -> 2.7083333 | D39: 20
A40: Alarm Light 3 | B40: 1 | C40: =B40/24 -> 0.041666667 | D40: 0.15
A41: Digester 1 | B41: =SUM(B42:B51) -> 983.1 | C41: =SUM(C42:C51) -> 40.9625 | D41: =SUM(D42:D51) -> 125.35
A42: D1 Agitator 1 | B42: 120 | C42: =B42/24 -> 5 | D42: 15
A43: D1 Agitator 2 | B43: 120 | C43: =B43/24 -> 5 | D43: 15
A44: D1 Agitator 3 | B44: 120 | C44: =B44/24 -> 5 | D44: 15
A45: D1 Agitator 4 | B45: 120 | C45: =B45/24 -> 5 | D45: 15
A46: D1 Agitator 5 | B46: 120 | C46: =B46/24 -> 5 | D46: 15
A47: D1 Agitator 6 | B47: 120 | C47: =B47/24 -> 5 | D47: 15
A48: D1 Agitator 7 | B48: 120 | C48: =B48/24 -> 5 | D48: 15
A49: Light Sight glass | B49: 0.1 | C49: =B49/24 -> 0.0041666667 | D49: 0.15
A50: Digester 1 Pump | B50: 77 | C50: =B50/24 -> 3.2083333 | D50: 9.2
A51: Digester 1 pump XCut | B51: 66 | C51: =B51/24 -> 2.75 | D51: 11
A52: Digester 2 | B52: =SUM(B53:B62) -> 983.1 | C52: =SUM(C53:C62) -> 40.9625 | D52: =SUM(D53:D62) -> 125.35
A53: D2 Agitator 1 | B53: 120 | C53: =B53/24 -> 5 | D53: 15
A54: D2 Agitator 2 | B54: 120 | C54: =B54/24 -> 5 | D54: 15
A55: D2 Agitator 3 | B55: 120 | C55: =B55/24 -> 5 | D55: 15
A56: D2 Agitator 4 | B56: 120 | C56: =B56/24 -> 5 | D56: 15
A57: D2 Agitator 5 | B57: 120 | C57: =B57/24 -> 5 | D57: 15
A58: D2 Agitator 6 | B58: 120 | C58: =B58/24 -> 5 | D58: 15
A59: D2 Agitator 7 | B59: 120 | C59: =B59/24 -> 5 | D59: 15
A60: Light Sight glass | B60: 0.1 | C60: =B60/24 -> 0.0041666667 | D60: 0.15
A61: Digester 2 Pump | B61: 77 | C61: =B61/24 -> 3.2083333 | D61: 9.2
A62: Digester 2 pump XCut | B62: 66 | C62: =B62/24 -> 2.75 | D62: 11
A63: Secondary Digester 1 | B63: =SUM(B64:B72) -> 945.1 | C63: =SUM(C64:C72) -> 39.379167 | D63: =SUM(D64:D72) -> 93.85
A64: Paddle agitator 1 | B64: 176 | C64: =B64/24 -> 7.3333333 | D64: 15
A65: Paddle agitator 2 | B65: 176 | C65: =B65/24 -> 7.3333333 | D65: 15
A66: Paddle agitator 3 | B66: 176 | C66: =B66/24 -> 7.3333333 | D66: 15
A67: Paddle agitator 4 | B67: 176 | C67: =B67/24 -> 7.3333333 | D67: 15
A68: Light Sight glass | B68: 0.1 | C68: =B68/24 -> 0.0041666667 | D68: 0.15
A69: Secondary digester pump | B69: 130 | C69: =B69/24 -> 5.4166667 | D69: 18.5
A70: Secondary digester Xcut | B70: 51 | C70: =B70/24 -> 2.125 | D70: 10.2
A71: Gas holder blower 1 | B71: 30 | C71: =B71/24 -> 1.25 | D71: 2.5
A72: Gas holder blower 2 | B72: 30 | C72: =B72/24 -> 1.25 | D72: 2.5
A73: Secondary Digester 2 | B73: =SUM(B74:B82) -> 945.1 | C73: =SUM(C74:C82) -> 39.379167 | D73: =SUM(D74:D82) -> 93.85
A74: Paddle agitator 1 | B74: 176 | C74: =B74/24 -> 7.3333333 | D74: 15
A75: Paddle agitator 2 | B75: 176 | C75: =B75/24 -> 7.3333333 | D75: 15
A76: Paddle agitator 3 | B76: 176 | C76: =B76/24 -> 7.3333333 | D76: 15
A77: Paddle agitator 4 | B77: 176 | C77: =B77/24 -> 7.3333333 | D77: 15
A78: Light Sight glass | B78: 0.1 | C78: =B78/24 -> 0.0041666667 | D78: 0.15
A79: Secondary digester pump | B79: 130 | C79: =B79/24 -> 5.4166667 | D79: 18.5
A80: Secondary digester Xcut | B80: 51 | C80: =B80/24 -> 2.125 | D80: 10.2
A81: Gas holder blower 1 | B81: 30 | C81: =B81/24 -> 1.25 | D81: 2.5
A82: Gas holder blower 2 | B82: 30 | C82: =B82/24 -> 1.25 | D82: 2.5
A83: After Digester 1 | B83: =SUM(B84:B90) -> 764.1 | C83: =SUM(C84:C90) -> 31.8375 | D83: =SUM(D84:D90) -> 65.15
A84: Paddle agitator 1 | B84: 176 | C84: =B84/24 -> 7.3333333 | D84: 15
A85: Paddle agitator 2 | B85: 176 | C85: =B85/24 -> 7.3333333 | D85: 15
A86: Paddle agitator 3 | B86: 176 | C86: =B86/24 -> 7.3333333 | D86: 15
A87: Paddle agitator 4 | B87: 176 | C87: =B87/24 -> 7.3333333 | D87: 15
A88: Light Sight glass | B88: 0.1 | C88: =B88/24 -> 0.0041666667 | D88: 0.15
A89: Gas holder blower 1 | B89: 30 | C89: =B89/24 -> 1.25 | D89: 2.5
A90: Gas holder blower 2 | B90: 30 | C90: =B90/24 -> 1.25 | D90: 2.5
A91: Separator 1 | B91: =SUM(B92:B93) -> 228 | C91: =SUM(C92:C93) -> 9.5 | D91: =SUM(D92:D93) -> 37
A92: Separator 1 pumping | B92: 96 | C92: =B92/24 -> 4 | D92: 15
A93: Separator 1 | B93: 132 | C93: =B93/24 -> 5.5 | D93: 22
A94: Separator 2 | B94: =SUM(B95:B96) -> 228 | C94: =SUM(C95:C96) -> 9.5 | D94: =SUM(D95:D96) -> 37
A95: Separator 1 pumping | B95: 96 | C95: =B95/24 -> 4 | D95: 15
A96: Separator 1 | B96: 132 | C96: =B96/24 -> 5.5 | D96: 22
A97: Emergency flare | B97: =SUM(B98:B99) -> 20 | C97: =SUM(C98:C99) -> 0.83333333 | D97: =SUM(D98:D99) -> 12
A98: Emergency flare | B98: 2 | C98: =B98/24 -> 0.083333333 | D98: 1
A99: Gas blower flare | B99: 18 | C99: =B99/24 -> 0.75 | D99: 11
A100: Gas blower | B100: =SUM(B101:B102) -> 116 | C100: =SUM(C101:C102) -> 4.8333333 | D100: =SUM(D101:D102) -> 6
A101: Gas blower 1 | B101: 58 | C101: =B101/24 -> 2.4166667 | D101: 3
...
